{"text_format":"1","workbook":"xlsx","n_sheets":2,"sheets":["REPORTE PMI","PRIORIZACION"],"not_rendered":{"charts":0,"images":0,"macros":1,"external_links":0,"defined_names":4,"comments":0,"pivot_tables":0},"unopened":[],"bounds":{"document_bytes":16777216,"sheet_cells":100000,"rows_first":2000,"rows_last":500,"rows_between":2000,"halvings":0,"cell_chars":16384,"cell_head_chars":4096},"cells_cut":0,"cells_raw":0,"read":"whole","date_system":"1900"}

{"sheet":"REPORTE PMI","index":0,"n_rows":3,"n_cols":19,"rows_kept":3,"cut":false,"hidden":false,"merged":[]}
["CARTERA DE INVERSIONES DEL PROGRAMA MULTIANUAL DE INVERSIONES 2020 - 2022"]
[]
["PRIORIDAD","CÓDIGO ÚNICO","CÓDIGO IDEA","CÓDIGO PROGRAMA","NOMBRE INVERSIÓN","TIPO DE INVERSIÓN","FUNCIÓN","PLIEGO/UE PRESUPUESTAL","CICLO DE INVERSIÓN","ORDEN DE PRELACIÓN","PUNTAJE","COSTO DE INVERSIÓN ACTUALIZADO (S/)","DEVENGADO ACUMULADO AL 31/12/2019 (S/)","PIM 2020 (S/)","SALDO PROGRAMABLE (S/)","PROGRAMACIÓN 2020 (S/)","PROGRAMACIÓN 2021 (S/)","PROGRAMACIÓN 2022 (S/)","SALDO PENDIENTE (S/)"]

{"sheet":"PRIORIZACION","index":1,"n_rows":3003,"n_cols":16,"rows_kept":3003,"cut":false,"hidden":false,"merged":[[0,0,0,15],[1,0,1,15],[9,0,10,0],[9,1,10,1],[9,15,10,15],[7,5,7,6],[7,7,7,9],[9,2,10,2],[7,3,7,4],[7,12,7,13],[5,3,5,6],[5,7,5,10],[5,11,5,14],[3,3,3,14],[3,2,5,2]]}
["PRIORIZACIÓN DE INVERSIONES EN LA FASE DE EJECUCIÓN"]
["CARTERA DE INVERSIONES DEL PROGRAMA MULTIANUAL DE INVERSIONES 2020 - 2022"]
[]
[null,null,"Orden de Prelación","Criterios de Priorización"]
[]
[null,null,null,"1. Cierre de Brechas",null,null,null,"2. Continuidad ",null,null,null,"3. Ejecutabilidad"]
[]
[null,null,1,2,null,3,null,4,null,null,5,6,7,null,8]
[]
["CÓD. ÚNICO","NOMBRE DE INVERSIÓN","Ordenar  inversiones por  prelación","BRECHAS PRIORITARIAS ",null,"MAYOR CIERRE DE BRECHAS",null,"MAYOR AVANCE",null,null,"CONTRAT. EN CURSO","PARALIZACIÓN","ASIGNACIÓN DE RECURSOS SUFICIENTES",null,"VIGENCIA DE CONVENIOS","INVERSIONES PRIORIZADAS"]
[null,null,null,"Servicio","¿Cierra la inversión una brecha prioritaria en mi territorio?","Contribución","Unidad de medida","Costo actualizado","Devengado acumulado al 2019","Porcentaje respecto al costo","¿Cuenta con contrato vigente  o Buena Pro consentida? o ¿No requiere contratación?","¿La obra está paralizada o tiene arbitraje?","Saldo pendiente de ejecución","¿Se podrá asignar los recursos suficientes?","Se requiere suscribir   convenio (s) para continuar ejecutando?"]
[]
[{"$f":"'REPORTE PMI'!B4","v":0},{"$f":"'REPORTE PMI'!E4","v":0},{"$f":"'REPORTE PMI'!J4","v":0},{"$f":"'REPORTE PMI'!G4","v":0},null,null,null,{"$f":"'REPORTE PMI'!L4","v":0},{"$f":"'REPORTE PMI'!M4","v":0},{"$f":"IFERROR(I13/H13, 0)","v":0},null,null,{"$f":"H13-I13","v":0},null,null,{"$f":"IF(E13=\"SI\",IF(J13>0%,IF(K13=\"SI\",IF(L13=\"NO\",IF(N13=\"SI\",IF(O13=\"NO\",\"SI\",\"NO\"),\"NO\"),\"NO\"),\"NO\"),\"NO\"),\"NO\")","v":"NO"}]
[{"$f":"'REPORTE PMI'!B5","v":0},{"$f":"'REPORTE PMI'!E5","v":0},{"$f":"'REPORTE PMI'!J5","v":0},{"$f":"'REPORTE PMI'!G5","v":0},null,null,null,{"$f":"'REPORTE PMI'!L5","v":0},{"$f":"'REPORTE PMI'!M5","v":0},0,null,null,0,null,null,"NO"]
[{"$f":"'REPORTE PMI'!B6","v":0},{"$f":"'REPORTE PMI'!E6","v":0},{"$f":"'REPORTE PMI'!J6","v":0},{"$f":"'REPORTE PMI'!G6","v":0},null,null,null,{"$f":"'REPORTE PMI'!L6","v":0},{"$f":"'REPORTE PMI'!M6","v":0},0,null,null,0,null,null,"NO"]
[{"$f":"'REPORTE PMI'!B7","v":0},{"$f":"'REPORTE PMI'!E7","v":0},{"$f":"'REPORTE PMI'!J7","v":0},{"$f":"'REPORTE PMI'!G7","v":0},null,null,null,{"$f":"'REPORTE PMI'!L7","v":0},{"$f":"'REPORTE PMI'!M7","v":0},0,null,null,0,null,null,"NO"]
[{"$f":"'REPORTE PMI'!B8","v":0},{"$f":"'REPORTE PMI'!E8","v":0},{"$f":"'REPORTE PMI'!J8","v":0},{"$f":"'REPORTE PMI'!G8","v":0},null,null,null,{"$f":"'REPORTE PMI'!L8","v":0},{"$f":"'REPORTE PMI'!M8","v":0},0,null,null,0,null,null,"NO"]
[{"$f":"'REPORTE PMI'!B9","v":0},{"$f":"'REPORTE PMI'!E9","v":0},{"$f":"'REPORTE PMI'!J9","v":0},{"$f":"'REPORTE PMI'!G9","v":0},null,null,null,{"$f":"'REPORTE PMI'!L9","v":0},{"$f":"'REPORTE PMI'!M9","v":0},0,null,null,0,null,null,"NO"]
[{"$f":"'REPORTE PMI'!B10","v":0},{"$f":"'REPORTE PMI'!E10","v":0},{"$f":"'REPORTE PMI'!J10","v":0},{"$f":"'REPORTE PMI'!G10","v":0},null,null,null,{"$f":"'REPORTE PMI'!L10","v":0},{"$f":"'REPORTE PMI'!M10","v":0},0,null,null,0,null,null,"NO"]
[{"$f":"'REPORTE PMI'!B11","v":0},{"$f":"'REPORTE PMI'!E11","v":0},{"$f":"'REPORTE PMI'!J11","v":0},{"$f":"'REPORTE PMI'!G11","v":0},null,null,null,{"$f":"'REPORTE PMI'!L11","v":0},{"$f":"'REPORTE PMI'!M11","v":0},0,null,null,0,null,null,"NO"]
[{"$f":"'REPORTE PMI'!B12","v":0},{"$f":"'REPORTE PMI'!E12","v":0},{"$f":"'REPORTE PMI'!J12","v":0},{"$f":"'REPORTE PMI'!G12","v":0},null,null,null,{"$f":"'REPORTE PMI'!L12","v":0},{"$f":"'REPORTE PMI'!M12","v":0},0,null,null,0,null,null,"NO"]
[{"$f":"'REPORTE PMI'!B13","v":0},{"$f":"'REPORTE PMI'!E13","v":0},{"$f":"'REPORTE PMI'!J13","v":0},{"$f":"'REPORTE PMI'!G13","v":0},null,null,null,{"$f":"'REPORTE PMI'!L13","v":0},{"$f":"'REPORTE PMI'!M13","v":0},0,null,null,0,null,null,"NO"]
[{"$f":"'REPORTE PMI'!B14","v":0},{"$f":"'REPORTE PMI'!E14","v":0},{"$f":"'REPORTE PMI'!J14","v":0},{"$f":"'REPORTE PMI'!G14","v":0},null,null,null,{"$f":"'REPORTE PMI'!L14","v":0},{"$f":"'REPORTE PMI'!M14","v":0},0,null,null,0,null,null,"NO"]
[{"$f":"'REPORTE PMI'!B15","v":0},{"$f":"'REPORTE PMI'!E15","v":0},{"$f":"'REPORTE PMI'!J15","v":0},{"$f":"'REPORTE PMI'!G15","v":0},null,null,null,{"$f":"'REPORTE PMI'!L15","v":0},{"$f":"'REPORTE PMI'!M15","v":0},0,null,null,0,null,null,"NO"]
[{"$f":"'REPORTE PMI'!B16","v":0},{"$f":"'REPORTE PMI'!E16","v":0},{"$f":"'REPORTE PMI'!J16","v":0},{"$f":"'REPORTE PMI'!G16","v":0},null,null,null,{"$f":"'REPORTE PMI'!L16","v":0},{"$f":"'REPORTE PMI'!M16","v":0},0,null,null,0,null,null,"NO"]
[{"$f":"'REPORTE PMI'!B17","v":0},{"$f":"'REPORTE PMI'!E17","v":0},{"$f":"'REPORTE PMI'!J17","v":0},{"$f":"'REPORTE PMI'!G17","v":0},null,null,null,{"$f":"'REPORTE PMI'!L17","v":0},{"$f":"'REPORTE PMI'!M17","v":0},0,null,null,0,null,null,"NO"]
[{"$f":"'REPORTE PMI'!B18","v":0},{"$f":"'REPORTE PMI'!E18","v":0},{"$f":"'REPORTE PMI'!J18","v":0},{"$f":"'REPORTE PMI'!G18","v":0},null,null,null,{"$f":"'REPORTE PMI'!L18","v":0},{"$f":"'REPORTE PMI'!M18","v":0},0,null,null,0,null,null,"NO"]
[{"$f":"'REPORTE PMI'!B19","v":0},{"$f":"'REPORTE PMI'!E19","v":0},{"$f":"'REPORTE PMI'!J19","v":0},{"$f":"'REPORTE PMI'!G19","v":0},null,null,null,{"$f":"'REPORTE PMI'!L19","v":0},{"$f":"'REPORTE PMI'!M19","v":0},0,null,null,0,null,null,"NO"]
[{"$f":"'REPORTE PMI'!B20","v":0},{"$f":"'REPORTE PMI'!E20","v":0},{"$f":"'REPORTE PMI'!J20","v":0},{"$f":"'REPORTE PMI'!G20","v":0},null,null,null,{"$f":"'REPORTE PMI'!L20","v":0},{"$f":"'REPORTE PMI'!M20","v":0},0,null,null,0,null,null,"NO"]
[{"$f":"'REPORTE PMI'!B21","v":0},{"$f":"'REPORTE PMI'!E21","v":0},{"$f":"'REPORTE PMI'!J21","v":0},{"$f":"'REPORTE PMI'!G21","v":0},null,null,null,{"$f":"'REPORTE PMI'!L21","v":0},{"$f":"'REPORTE PMI'!M21","v":0},0,null,null,0,null,null,"NO"]
[{"$f":"'REPORTE PMI'!B22","v":0},{"$f":"'REPORTE PMI'!E22","v":0},{"$f":"'REPORTE PMI'!J22","v":0},{"$f":"'REPORTE PMI'!G22","v":0},null,null,null,{"$f":"'REPORTE PMI'!L22","v":0},{"$f":"'REPORTE PMI'!M22","v":0},0,null,null,0,null,null,"NO"]
[{"$f":"'REPORTE PMI'!B23","v":0},{"$f":"'REPORTE PMI'!E23","v":0},{"$f":"'REPORTE PMI'!J23","v":0},{"$f":"'REPORTE PMI'!G23","v":0},null,null,null,{"$f":"'REPORTE PMI'!L23","v":0},{"$f":"'REPORTE PMI'!M23","v":0},0,null,null,0,null,null,"NO"]
[{"$f":"'REPORTE PMI'!B24","v":0},{"$f":"'REPORTE PMI'!E24","v":0},{"$f":"'REPORTE PMI'!J24","v":0},{"$f":"'REPORTE PMI'!G24","v":0},null,null,null,{"$f":"'REPORTE PMI'!L24","v":0},{"$f":"'REPORTE PMI'!M24","v":0},0,null,null,0,null,null,"NO"]
[{"$f":"'REPORTE PMI'!B25","v":0},{"$f":"'REPORTE PMI'!E25","v":0},{"$f":"'REPORTE PMI'!J25","v":0},{"$f":"'REPORTE PMI'!G25","v":0},null,null,null,{"$f":"'REPORTE PMI'!L25","v":0},{"$f":"'REPORTE PMI'!M25","v":0},0,null,null,0,null,null,"NO"]
[{"$f":"'REPORTE PMI'!B26","v":0},{"$f":"'REPORTE PMI'!E26","v":0},{"$f":"'REPORTE PMI'!J26","v":0},{"$f":"'REPORTE PMI'!G26","v":0},null,null,null,{"$f":"'REPORTE PMI'!L26","v":0},{"$f":"'REPORTE PMI'!M26","v":0},0,null,null,0,null,null,"NO"]
[{"$f":"'REPORTE PMI'!B27","v":0},{"$f":"'REPORTE PMI'!E27","v":0},{"$f":"'REPORTE PMI'!J27","v":0},{"$f":"'REPORTE PMI'!G27","v":0},null,null,null,{"$f":"'REPORTE PMI'!L27","v":0},{"$f":"'REPORTE PMI'!M27","v":0},0,null,null,0,null,null,"NO"]
[{"$f":"'REPORTE PMI'!B28","v":0},{"$f":"'REPORTE PMI'!E28","v":0},{"$f":"'REPORTE PMI'!J28","v":0},{"$f":"'REPORTE PMI'!G28","v":0},null,null,null,{"$f":"'REPORTE PMI'!L28","v":0},{"$f":"'REPORTE PMI'!M28","v":0},0,null,null,0,null,null,"NO"]
[{"$f":"'REPORTE PMI'!B29","v":0},{"$f":"'REPORTE PMI'!E29","v":0},{"$f":"'REPORTE PMI'!J29","v":0},{"$f":"'REPORTE PMI'!G29","v":0},null,null,null,{"$f":"'REPORTE PMI'!L29","v":0},{"$f":"'REPORTE PMI'!M29","v":0},0,null,null,0,null,null,"NO"]
[{"$f":"'REPORTE PMI'!B30","v":0},{"$f":"'REPORTE PMI'!E30","v":0},{"$f":"'REPORTE PMI'!J30","v":0},{"$f":"'REPORTE PMI'!G30","v":0},null,null,null,{"$f":"'REPORTE PMI'!L30","v":0},{"$f":"'REPORTE PMI'!M30","v":0},0,null,null,0,null,null,"NO"]
[{"$f":"'REPORTE PMI'!B31","v":0},{"$f":"'REPORTE PMI'!E31","v":0},{"$f":"'REPORTE PMI'!J31","v":0},{"$f":"'REPORTE PMI'!G31","v":0},null,null,null,{"$f":"'REPORTE PMI'!L31","v":0},{"$f":"'REPORTE PMI'!M31","v":0},0,null,null,0,null,null,"NO"]
[{"$f":"'REPORTE PMI'!B32","v":0},{"$f":"'REPORTE PMI'!E32","v":0},{"$f":"'REPORTE PMI'!J32","v":0},{"$f":"'REPORTE PMI'!G32","v":0},null,null,null,{"$f":"'REPORTE PMI'!L32","v":0},{"$f":"'REPORTE PMI'!M32","v":0},0,null,null,0,null,null,"NO"]
[{"$f":"'REPORTE PMI'!B33","v":0},{"$f":"'REPORTE PMI'!E33","v":0},{"$f":"'REPORTE PMI'!J33","v":0},{"$f":"'REPORTE PMI'!G33","v":0},null,null,null,{"$f":"'REPORTE PMI'!L33","v":0},{"$f":"'REPORTE PMI'!M33","v":0},0,null,null,0,null,null,"NO"]
[{"$f":"'REPORTE PMI'!B34","v":0},{"$f":"'REPORTE PMI'!E34","v":0},{"$f":"'REPORTE PMI'!J34","v":0},{"$f":"'REPORTE PMI'!G34","v":0},null,null,null,{"$f":"'REPORTE PMI'!L34","v":0},{"$f":"'REPORTE PMI'!M34","v":0},0,null,null,0,null,null,"NO"]
[{"$f":"'REPORTE PMI'!B35","v":0},{"$f":"'REPORTE PMI'!E35","v":0},{"$f":"'REPORTE PMI'!J35","v":0},{"$f":"'REPORTE PMI'!G35","v":0},null,null,null,{"$f":"'REPORTE PMI'!L35","v":0},{"$f":"'REPORTE PMI'!M35","v":0},0,null,null,0,null,null,"NO"]
[{"$f":"'REPORTE PMI'!B36","v":0},{"$f":"'REPORTE PMI'!E36","v":0},{"$f":"'REPORTE PMI'!J36","v":0},{"$f":"'REPORTE PMI'!G36","v":0},null,null,null,{"$f":"'REPORTE PMI'!L36","v":0},{"$f":"'REPORTE PMI'!M36","v":0},0,null,null,0,null,null,"NO"]
[{"$f":"'REPORTE PMI'!B37","v":0},{"$f":"'REPORTE PMI'!E37","v":0},{"$f":"'REPORTE PMI'!J37","v":0},{"$f":"'REPORTE PMI'!G37","v":0},null,null,null,{"$f":"'REPORTE PMI'!L37","v":0},{"$f":"'REPORTE PMI'!M37","v":0},0,null,null,0,null,null,"NO"]
[{"$f":"'REPORTE PMI'!B38","v":0},{"$f":"'REPORTE PMI'!E38","v":0},{"$f":"'REPORTE PMI'!J38","v":0},{"$f":"'REPORTE PMI'!G38","v":0},null,null,null,{"$f":"'REPORTE PMI'!L38","v":0},{"$f":"'REPORTE PMI'!M38","v":0},0,null,null,0,null,null,"NO"]
[{"$f":"'REPORTE PMI'!B39","v":0},{"$f":"'REPORTE PMI'!E39","v":0},{"$f":"'REPORTE PMI'!J39","v":0},{"$f":"'REPORTE PMI'!G39","v":0},null,null,null,{"$f":"'REPORTE PMI'!L39","v":0},{"$f":"'REPORTE PMI'!M39","v":0},0,null,null,0,null,null,"NO"]
[{"$f":"'REPORTE PMI'!B40","v":0},{"$f":"'REPORTE PMI'!E40","v":0},{"$f":"'REPORTE PMI'!J40","v":0},{"$f":"'REPORTE PMI'!G40","v":0},null,null,null,{"$f":"'REPORTE PMI'!L40","v":0},{"$f":"'REPORTE PMI'!M40","v":0},0,null,null,0,null,null,"NO"]
[{"$f":"'REPORTE PMI'!B41","v":0},{"$f":"'REPORTE PMI'!E41","v":0},{"$f":"'REPORTE PMI'!J41","v":0},{"$f":"'REPORTE PMI'!G41","v":0},null,null,null,{"$f":"'REPORTE PMI'!L41","v":0},{"$f":"'REPORTE PMI'!M41","v":0},0,null,null,0,null,null,"NO"]
[{"$f":"'REPORTE PMI'!B42","v":0},{"$f":"'REPORTE PMI'!E42","v":0},{"$f":"'REPORTE PMI'!J42","v":0},{"$f":"'REPORTE PMI'!G42","v":0},null,null,null,{"$f":"'REPORTE PMI'!L42","v":0},{"$f":"'REPORTE PMI'!M42","v":0},0,null,null,0,null,null,"NO"]
[{"$f":"'REPORTE PMI'!B43","v":0},{"$f":"'REPORTE PMI'!E43","v":0},{"$f":"'REPORTE PMI'!J43","v":0},{"$f":"'REPORTE PMI'!G43","v":0},null,null,null,{"$f":"'REPORTE PMI'!L43","v":0},{"$f":"'REPORTE PMI'!M43","v":0},0,null,null,0,null,null,"NO"]
[{"$f":"'REPORTE PMI'!B44","v":0},{"$f":"'REPORTE PMI'!E44","v":0},{"$f":"'REPORTE PMI'!J44","v":0},{"$f":"'REPORTE PMI'!G44","v":0},null,null,null,{"$f":"'REPORTE PMI'!L44","v":0},{"$f":"'REPORTE PMI'!M44","v":0},0,null,null,0,null,null,"NO"]
[{"$f":"'REPORTE PMI'!B45","v":0},{"$f":"'REPORTE PMI'!E45","v":0},{"$f":"'REPORTE PMI'!J45","v":0},{"$f":"'REPORTE PMI'!G45","v":0},null,null,null,{"$f":"'REPORTE PMI'!L45","v":0},{"$f":"'REPORTE PMI'!M45","v":0},0,null,null,0,null,null,"NO"]
[{"$f":"'REPORTE PMI'!B46","v":0},{"$f":"'REPORTE PMI'!E46","v":0},{"$f":"'REPORTE PMI'!J46","v":0},{"$f":"'REPORTE PMI'!G46","v":0},null,null,null,{"$f":"'REPORTE PMI'!L46","v":0},{"$f":"'REPORTE PMI'!M46","v":0},0,null,null,0,null,null,"NO"]
[{"$f":"'REPORTE PMI'!B47","v":0},{"$f":"'REPORTE PMI'!E47","v":0},{"$f":"'REPORTE PMI'!J47","v":0},{"$f":"'REPORTE PMI'!G47","v":0},null,null,null,{"$f":"'REPORTE PMI'!L47","v":0},{"$f":"'REPORTE PMI'!M47","v":0},0,null,null,0,null,null,"NO"]
[{"$f":"'REPORTE PMI'!B48","v":0},{"$f":"'REPORTE PMI'!E48","v":0},{"$f":"'REPORTE PMI'!J48","v":0},{"$f":"'REPORTE PMI'!G48","v":0},null,null,null,{"$f":"'REPORTE PMI'!L48","v":0},{"$f":"'REPORTE PMI'!M48","v":0},0,null,null,0,null,null,"NO"]
[{"$f":"'REPORTE PMI'!B49","v":0},{"$f":"'REPORTE PMI'!E49","v":0},{"$f":"'REPORTE PMI'!J49","v":0},{"$f":"'REPORTE PMI'!G49","v":0},null,null,null,{"$f":"'REPORTE PMI'!L49","v":0},{"$f":"'REPORTE PMI'!M49","v":0},0,null,null,0,null,null,"NO"]
[{"$f":"'REPORTE PMI'!B50","v":0},{"$f":"'REPORTE PMI'!E50","v":0},{"$f":"'REPORTE PMI'!J50","v":0},{"$f":"'REPORTE PMI'!G50","v":0},null,null,null,{"$f":"'REPORTE PMI'!L50","v":0},{"$f":"'REPORTE PMI'!M50","v":0},0,null,null,0,null,null,"NO"]
[{"$f":"'REPORTE PMI'!B51","v":0},{"$f":"'REPORTE PMI'!E51","v":0},{"$f":"'REPORTE PMI'!J51","v":0},{"$f":"'REPORTE PMI'!G51","v":0},null,null,null,{"$f":"'REPORTE PMI'!L51","v":0},{"$f":"'REPORTE PMI'!M51","v":0},0,null,null,0,null,null,"NO"]
[{"$f":"'REPORTE PMI'!B52","v":0},{"$f":"'REPORTE PMI'!E52","v":0},{"$f":"'REPORTE PMI'!J52","v":0},{"$f":"'REPORTE PMI'!G52","v":0},null,null,null,{"$f":"'REPORTE PMI'!L52","v":0},{"$f":"'REPORTE PMI'!M52","v":0},0,null,null,0,null,null,"NO"]
[{"$f":"'REPORTE PMI'!B53","v":0},{"$f":"'REPORTE PMI'!E53","v":0},{"$f":"'REPORTE PMI'!J53","v":0},{"$f":"'REPORTE PMI'!G53","v":0},null,null,null,{"$f":"'REPORTE PMI'!L53","v":0},{"$f":"'REPORTE PMI'!M53","v":0},0,null,null,0,null,null,"NO"]
[{"$f":"'REPORTE PMI'!B54","v":0},{"$f":"'REPORTE PMI'!E54","v":0},{"$f":"'REPORTE PMI'!J54","v":0},{"$f":"'REPORTE PMI'!G54","v":0},null,null,null,{"$f":"'REPORTE PMI'!L54","v":0},{"$f":"'REPORTE PMI'!M54","v":0},0,null,null,0,null,null,"NO"]
[{"$f":"'REPORTE PMI'!B55","v":0},{"$f":"'REPORTE PMI'!E55","v":0},{"$f":"'REPORTE PMI'!J55","v":0},{"$f":"'REPORTE PMI'!G55","v":0},null,null,null,{"$f":"'REPORTE PMI'!L55","v":0},{"$f":"'REPORTE PMI'!M55","v":0},0,null,null,0,null,null,"NO"]
[{"$f":"'REPORTE PMI'!B56","v":0},{"$f":"'REPORTE PMI'!E56","v":0},{"$f":"'REPORTE PMI'!J56","v":0},{"$f":"'REPORTE PMI'!G56","v":0},null,null,null,{"$f":"'REPORTE PMI'!L56","v":0},{"$f":"'REPORTE PMI'!M56","v":0},0,null,null,0,null,null,"NO"]
[{"$f":"'REPORTE PMI'!B57","v":0},{"$f":"'REPORTE PMI'!E57","v":0},{"$f":"'REPORTE PMI'!J57","v":0},{"$f":"'REPORTE PMI'!G57","v":0},null,null,null,{"$f":"'REPORTE PMI'!L57","v":0},{"$f":"'REPORTE PMI'!M57","v":0},0,null,null,0,null,null,"NO"]
[{"$f":"'REPORTE PMI'!B58","v":0},{"$f":"'REPORTE PMI'!E58","v":0},{"$f":"'REPORTE PMI'!J58","v":0},{"$f":"'REPORTE PMI'!G58","v":0},null,null,null,{"$f":"'REPORTE PMI'!L58","v":0},{"$f":"'REPORTE PMI'!M58","v":0},0,null,null,0,null,null,"NO"]
[{"$f":"'REPORTE PMI'!B59","v":0},{"$f":"'REPORTE PMI'!E59","v":0},{"$f":"'REPORTE PMI'!J59","v":0},{"$f":"'REPORTE PMI'!G59","v":0},null,null,null,{"$f":"'REPORTE PMI'!L59","v":0},{"$f":"'REPORTE PMI'!M59","v":0},0,null,null,0,null,null,"NO"]
[{"$f":"'REPORTE PMI'!B60","v":0},{"$f":"'REPORTE PMI'!E60","v":0},{"$f":"'REPORTE PMI'!J60","v":0},{"$f":"'REPORTE PMI'!G60","v":0},null,null,null,{"$f":"'REPORTE PMI'!L60","v":0},{"$f":"'REPORTE PMI'!M60","v":0},0,null,null,0,null,null,"NO"]
[{"$f":"'REPORTE PMI'!B61","v":0},{"$f":"'REPORTE PMI'!E61","v":0},{"$f":"'REPORTE PMI'!J61","v":0},{"$f":"'REPORTE PMI'!G61","v":0},null,null,null,{"$f":"'REPORTE PMI'!L61","v":0},{"$f":"'REPORTE PMI'!M61","v":0},0,null,null,0,null,null,"NO"]
[{"$f":"'REPORTE PMI'!B62","v":0},{"$f":"'REPORTE PMI'!E62","v":0},{"$f":"'REPORTE PMI'!J62","v":0},{"$f":"'REPORTE PMI'!G62","v":0},null,null,null,{"$f":"'REPORTE PMI'!L62","v":0},{"$f":"'REPORTE PMI'!M62","v":0},0,null,null,0,null,null,"NO"]
[{"$f":"'REPORTE PMI'!B63","v":0},{"$f":"'REPORTE PMI'!E63","v":0},{"$f":"'REPORTE PMI'!J63","v":0},{"$f":"'REPORTE PMI'!G63","v":0},null,null,null,{"$f":"'REPORTE PMI'!L63","v":0},{"$f":"'REPORTE PMI'!M63","v":0},0,null,null,0,null,null,"NO"]
[{"$f":"'REPORTE PMI'!B64","v":0},{"$f":"'REPORTE PMI'!E64","v":0},{"$f":"'REPORTE PMI'!J64","v":0},{"$f":"'REPORTE PMI'!G64","v":0},null,null,null,{"$f":"'REPORTE PMI'!L64","v":0},{"$f":"'REPORTE PMI'!M64","v":0},0,null,null,0,null,null,"NO"]
[{"$f":"'REPORTE PMI'!B65","v":0},{"$f":"'REPORTE PMI'!E65","v":0},{"$f":"'REPORTE PMI'!J65","v":0},{"$f":"'REPORTE PMI'!G65","v":0},null,null,null,{"$f":"'REPORTE PMI'!L65","v":0},{"$f":"'REPORTE PMI'!M65","v":0},0,null,null,0,null,null,"NO"]
[{"$f":"'REPORTE PMI'!B66","v":0},{"$f":"'REPORTE PMI'!E66","v":0},{"$f":"'REPORTE PMI'!J66","v":0},{"$f":"'REPORTE PMI'!G66","v":0},null,null,null,{"$f":"'REPORTE PMI'!L66","v":0},{"$f":"'REPORTE PMI'!M66","v":0},0,null,null,0,null,null,"NO"]
[{"$f":"'REPORTE PMI'!B67","v":0},{"$f":"'REPORTE PMI'!E67","v":0},{"$f":"'REPORTE PMI'!J67","v":0},{"$f":"'REPORTE PMI'!G67","v":0},null,null,null,{"$f":"'REPORTE PMI'!L67","v":0},{"$f":"'REPORTE PMI'!M67","v":0},0,null,null,0,null,null,"NO"]
[{"$f":"'REPORTE PMI'!B68","v":0},{"$f":"'REPORTE PMI'!E68","v":0},{"$f":"'REPORTE PMI'!J68","v":0},{"$f":"'REPORTE PMI'!G68","v":0},null,null,null,{"$f":"'REPORTE PMI'!L68","v":0},{"$f":"'REPORTE PMI'!M68","v":0},{"$f":"IFERROR(I77/H77, 0)","v":0},null,null,{"$f":"H77-I77","v":0},null,null,{"$f":"IF(E77=\"SI\",IF(J77>0%,IF(K77=\"SI\",IF(L77=\"NO\",IF(N77=\"SI\",IF(O77=\"NO\",\"SI\",\"NO\"),\"NO\"),\"NO\"),\"NO\"),\"NO\"),\"NO\")","v":"NO"}]
[{"$f":"'REPORTE PMI'!B69","v":0},{"$f":"'REPORTE PMI'!E69","v":0},{"$f":"'REPORTE PMI'!J69","v":0},{"$f":"'REPORTE PMI'!G69","v":0},null,null,null,{"$f":"'REPORTE PMI'!L69","v":0},{"$f":"'REPORTE PMI'!M69","v":0},0,null,null,0,null,null,"NO"]
[{"$f":"'REPORTE PMI'!B70","v":0},{"$f":"'REPORTE PMI'!E70","v":0},{"$f":"'REPORTE PMI'!J70","v":0},{"$f":"'REPORTE PMI'!G70","v":0},null,null,null,{"$f":"'REPORTE PMI'!L70","v":0},{"$f":"'REPORTE PMI'!M70","v":0},0,null,null,0,null,null,"NO"]
[{"$f":"'REPORTE PMI'!B71","v":0},{"$f":"'REPORTE PMI'!E71","v":0},{"$f":"'REPORTE PMI'!J71","v":0},{"$f":"'REPORTE PMI'!G71","v":0},null,null,null,{"$f":"'REPORTE PMI'!L71","v":0},{"$f":"'REPORTE PMI'!M71","v":0},0,null,null,0,null,null,"NO"]
[{"$f":"'REPORTE PMI'!B72","v":0},{"$f":"'REPORTE PMI'!E72","v":0},{"$f":"'REPORTE PMI'!J72","v":0},{"$f":"'REPORTE PMI'!G72","v":0},null,null,null,{"$f":"'REPORTE PMI'!L72","v":0},{"$f":"'REPORTE PMI'!M72","v":0},0,null,null,0,null,null,"NO"]
[{"$f":"'REPORTE PMI'!B73","v":0},{"$f":"'REPORTE PMI'!E73","v":0},{"$f":"'REPORTE PMI'!J73","v":0},{"$f":"'REPORTE PMI'!G73","v":0},null,null,null,{"$f":"'REPORTE PMI'!L73","v":0},{"$f":"'REPORTE PMI'!M73","v":0},0,null,null,0,null,null,"NO"]
[{"$f":"'REPORTE PMI'!B74","v":0},{"$f":"'REPORTE PMI'!E74","v":0},{"$f":"'REPORTE PMI'!J74","v":0},{"$f":"'REPORTE PMI'!G74","v":0},null,null,null,{"$f":"'REPORTE PMI'!L74","v":0},{"$f":"'REPORTE PMI'!M74","v":0},0,null,null,0,null,null,"NO"]
[{"$f":"'REPORTE PMI'!B75","v":0},{"$f":"'REPORTE PMI'!E75","v":0},{"$f":"'REPORTE PMI'!J75","v":0},{"$f":"'REPORTE PMI'!G75","v":0},null,null,null,{"$f":"'REPORTE PMI'!L75","v":0},{"$f":"'REPORTE PMI'!M75","v":0},0,null,null,0,null,null,"NO"]
[{"$f":"'REPORTE PMI'!B76","v":0},{"$f":"'REPORTE PMI'!E76","v":0},{"$f":"'REPORTE PMI'!J76","v":0},{"$f":"'REPORTE PMI'!G76","v":0},null,null,null,{"$f":"'REPORTE PMI'!L76","v":0},{"$f":"'REPORTE PMI'!M76","v":0},0,null,null,0,null,null,"NO"]
[{"$f":"'REPORTE PMI'!B77","v":0},{"$f":"'REPORTE PMI'!E77","v":0},{"$f":"'REPORTE PMI'!J77","v":0},{"$f":"'REPORTE PMI'!G77","v":0},null,null,null,{"$f":"'REPORTE PMI'!L77","v":0},{"$f":"'REPORTE PMI'!M77","v":0},0,null,null,0,null,null,"NO"]
[{"$f":"'REPORTE PMI'!B78","v":0},{"$f":"'REPORTE PMI'!E78","v":0},{"$f":"'REPORTE PMI'!J78","v":0},{"$f":"'REPORTE PMI'!G78","v":0},null,null,null,{"$f":"'REPORTE PMI'!L78","v":0},{"$f":"'REPORTE PMI'!M78","v":0},0,null,null,0,null,null,"NO"]
[{"$f":"'REPORTE PMI'!B79","v":0},{"$f":"'REPORTE PMI'!E79","v":0},{"$f":"'REPORTE PMI'!J79","v":0},{"$f":"'REPORTE PMI'!G79","v":0},null,null,null,{"$f":"'REPORTE PMI'!L79","v":0},{"$f":"'REPORTE PMI'!M79","v":0},0,null,null,0,null,null,"NO"]
[{"$f":"'REPORTE PMI'!B80","v":0},{"$f":"'REPORTE PMI'!E80","v":0},{"$f":"'REPORTE PMI'!J80","v":0},{"$f":"'REPORTE PMI'!G80","v":0},null,null,null,{"$f":"'REPORTE PMI'!L80","v":0},{"$f":"'REPORTE PMI'!M80","v":0},0,null,null,0,null,null,"NO"]
[{"$f":"'REPORTE PMI'!B81","v":0},{"$f":"'REPORTE PMI'!E81","v":0},{"$f":"'REPORTE PMI'!J81","v":0},{"$f":"'REPORTE PMI'!G81","v":0},null,null,null,{"$f":"'REPORTE PMI'!L81","v":0},{"$f":"'REPORTE PMI'!M81","v":0},0,null,null,0,null,null,"NO"]
[{"$f":"'REPORTE PMI'!B82","v":0},{"$f":"'REPORTE PMI'!E82","v":0},{"$f":"'REPORTE PMI'!J82","v":0},{"$f":"'REPORTE PMI'!G82","v":0},null,null,null,{"$f":"'REPORTE PMI'!L82","v":0},{"$f":"'REPORTE PMI'!M82","v":0},0,null,null,0,null,null,"NO"]
[{"$f":"'REPORTE PMI'!B83","v":0},{"$f":"'REPORTE PMI'!E83","v":0},{"$f":"'REPORTE PMI'!J83","v":0},{"$f":"'REPORTE PMI'!G83","v":0},null,null,null,{"$f":"'REPORTE PMI'!L83","v":0},{"$f":"'REPORTE PMI'!M83","v":0},0,null,null,0,null,null,"NO"]
[{"$f":"'REPORTE PMI'!B84","v":0},{"$f":"'REPORTE PMI'!E84","v":0},{"$f":"'REPORTE PMI'!J84","v":0},{"$f":"'REPORTE PMI'!G84","v":0},null,null,null,{"$f":"'REPORTE PMI'!L84","v":0},{"$f":"'REPORTE PMI'!M84","v":0},0,null,null,0,null,null,"NO"]
[{"$f":"'REPORTE PMI'!B85","v":0},{"$f":"'REPORTE PMI'!E85","v":0},{"$f":"'REPORTE PMI'!J85","v":0},{"$f":"'REPORTE PMI'!G85","v":0},null,null,null,{"$f":"'REPORTE PMI'!L85","v":0},{"$f":"'REPORTE PMI'!M85","v":0},0,null,null,0,null,null,"NO"]
[{"$f":"'REPORTE PMI'!B86","v":0},{"$f":"'REPORTE PMI'!E86","v":0},{"$f":"'REPORTE PMI'!J86","v":0},{"$f":"'REPORTE PMI'!G86","v":0},null,null,null,{"$f":"'REPORTE PMI'!L86","v":0},{"$f":"'REPORTE PMI'!M86","v":0},0,null,null,0,null,null,"NO"]
[{"$f":"'REPORTE PMI'!B87","v":0},{"$f":"'REPORTE PMI'!E87","v":0},{"$f":"'REPORTE PMI'!J87","v":0},{"$f":"'REPORTE PMI'!G87","v":0},null,null,null,{"$f":"'REPORTE PMI'!L87","v":0},{"$f":"'REPORTE PMI'!M87","v":0},0,null,null,0,null,null,"NO"]
[{"$f":"'REPORTE PMI'!B88","v":0},{"$f":"'REPORTE PMI'!E88","v":0},{"$f":"'REPORTE PMI'!J88","v":0},{"$f":"'REPORTE PMI'!G88","v":0},null,null,null,{"$f":"'REPORTE PMI'!L88","v":0},{"$f":"'REPORTE PMI'!M88","v":0},0,null,null,0,null,null,"NO"]
[{"$f":"'REPORTE PMI'!B89","v":0},{"$f":"'REPORTE PMI'!E89","v":0},{"$f":"'REPORTE PMI'!J89","v":0},{"$f":"'REPORTE PMI'!G89","v":0},null,null,null,{"$f":"'REPORTE PMI'!L89","v":0},{"$f":"'REPORTE PMI'!M89","v":0},0,null,null,0,null,null,"NO"]
[{"$f":"'REPORTE PMI'!B90","v":0},{"$f":"'REPORTE PMI'!E90","v":0},{"$f":"'REPORTE PMI'!J90","v":0},{"$f":"'REPORTE PMI'!G90","v":0},null,null,null,{"$f":"'REPORTE PMI'!L90","v":0},{"$f":"'REPORTE PMI'!M90","v":0},0,null,null,0,null,null,"NO"]
[{"$f":"'REPORTE PMI'!B91","v":0},{"$f":"'REPORTE PMI'!E91","v":0},{"$f":"'REPORTE PMI'!J91","v":0},{"$f":"'REPORTE PMI'!G91","v":0},null,null,null,{"$f":"'REPORTE PMI'!L91","v":0},{"$f":"'REPORTE PMI'!M91","v":0},0,null,null,0,null,null,"NO"]
[{"$f":"'REPORTE PMI'!B92","v":0},{"$f":"'REPORTE PMI'!E92","v":0},{"$f":"'REPORTE PMI'!J92","v":0},{"$f":"'REPORTE PMI'!G92","v":0},null,null,null,{"$f":"'REPORTE PMI'!L92","v":0},{"$f":"'REPORTE PMI'!M92","v":0},0,null,null,0,null,null,"NO"]
[{"$f":"'REPORTE PMI'!B93","v":0},{"$f":"'REPORTE PMI'!E93","v":0},{"$f":"'REPORTE PMI'!J93","v":0},{"$f":"'REPORTE PMI'!G93","v":0},null,null,null,{"$f":"'REPORTE PMI'!L93","v":0},{"$f":"'REPORTE PMI'!M93","v":0},0,null,null,0,null,null,"NO"]
[{"$f":"'REPORTE PMI'!B94","v":0},{"$f":"'REPORTE PMI'!E94","v":0},{"$f":"'REPORTE PMI'!J94","v":0},{"$f":"'REPORTE PMI'!G94","v":0},null,null,null,{"$f":"'REPORTE PMI'!L94","v":0},{"$f":"'REPORTE PMI'!M94","v":0},0,null,null,0,null,null,"NO"]
[{"$f":"'REPORTE PMI'!B95","v":0},{"$f":"'REPORTE PMI'!E95","v":0},{"$f":"'REPORTE PMI'!J95","v":0},{"$f":"'REPORTE PMI'!G95","v":0},null,null,null,{"$f":"'REPORTE PMI'!L95","v":0},{"$f":"'REPORTE PMI'!M95","v":0},0,null,null,0,null,null,"NO"]
[{"$f":"'REPORTE PMI'!B96","v":0},{"$f":"'REPORTE PMI'!E96","v":0},{"$f":"'REPORTE PMI'!J96","v":0},{"$f":"'REPORTE PMI'!G96","v":0},null,null,null,{"$f":"'REPORTE PMI'!L96","v":0},{"$f":"'REPORTE PMI'!M96","v":0},0,null,null,0,null,null,"NO"]
[{"$f":"'REPORTE PMI'!B97","v":0},{"$f":"'REPORTE PMI'!E97","v":0},{"$f":"'REPORTE PMI'!J97","v":0},{"$f":"'REPORTE PMI'!G97","v":0},null,null,null,{"$f":"'REPORTE PMI'!L97","v":0},{"$f":"'REPORTE PMI'!M97","v":0},0,null,null,0,null,null,"NO"]
[{"$f":"'REPORTE PMI'!B98","v":0},{"$f":"'REPORTE PMI'!E98","v":0},{"$f":"'REPORTE PMI'!J98","v":0},{"$f":"'REPORTE PMI'!G98","v":0},null,null,null,{"$f":"'REPORTE PMI'!L98","v":0},{"$f":"'REPORTE PMI'!M98","v":0},0,null,null,0,null,null,"NO"]
[{"$f":"'REPORTE PMI'!B99","v":0},{"$f":"'REPORTE PMI'!E99","v":0},{"$f":"'REPORTE PMI'!J99","v":0},{"$f":"'REPORTE PMI'!G99","v":0},null,null,null,{"$f":"'REPORTE PMI'!L99","v":0},{"$f":"'REPORTE PMI'!M99","v":0},0,null,null,0,null,null,"NO"]
[{"$f":"'REPORTE PMI'!B100","v":0},{"$f":"'REPORTE PMI'!E100","v":0},{"$f":"'REPORTE PMI'!J100","v":0},{"$f":"'REPORTE PMI'!G100","v":0},null,null,null,{"$f":"'REPORTE PMI'!L100","v":0},{"$f":"'REPORTE PMI'!M100","v":0},0,null,null,0,null,null,"NO"]
[{"$f":"'REPORTE PMI'!B101","v":0},{"$f":"'REPORTE PMI'!E101","v":0},{"$f":"'REPORTE PMI'!J101","v":0},{"$f":"'REPORTE PMI'!G101","v":0},null,null,null,{"$f":"'REPORTE PMI'!L101","v":0},{"$f":"'REPORTE PMI'!M101","v":0},0,null,null,0,null,null,"NO"]
[{"$f":"'REPORTE PMI'!B102","v":0},{"$f":"'REPORTE PMI'!E102","v":0},{"$f":"'REPORTE PMI'!J102","v":0},{"$f":"'REPORTE PMI'!G102","v":0},null,null,null,{"$f":"'REPORTE PMI'!L102","v":0},{"$f":"'REPORTE PMI'!M102","v":0},0,null,null,0,null,null,"NO"]
[{"$f":"'REPORTE PMI'!B103","v":0},{"$f":"'REPORTE PMI'!E103","v":0},{"$f":"'REPORTE PMI'!J103","v":0},{"$f":"'REPORTE PMI'!G103","v":0},null,null,null,{"$f":"'REPORTE PMI'!L103","v":0},{"$f":"'REPORTE PMI'!M103","v":0},0,null,null,0,null,null,"NO"]
[{"$f":"'REPORTE PMI'!B104","v":0},{"$f":"'REPORTE PMI'!E104","v":0},{"$f":"'REPORTE PMI'!J104","v":0},{"$f":"'REPORTE PMI'!G104","v":0},null,null,null,{"$f":"'REPORTE PMI'!L104","v":0},{"$f":"'REPORTE PMI'!M104","v":0},0,null,null,0,null,null,"NO"]
[{"$f":"'REPORTE PMI'!B105","v":0},{"$f":"'REPORTE PMI'!E105","v":0},{"$f":"'REPORTE PMI'!J105","v":0},{"$f":"'REPORTE PMI'!G105","v":0},null,null,null,{"$f":"'REPORTE PMI'!L105","v":0},{"$f":"'REPORTE PMI'!M105","v":0},0,null,null,0,null,null,"NO"]
[{"$f":"'REPORTE PMI'!B106","v":0},{"$f":"'REPORTE PMI'!E106","v":0},{"$f":"'REPORTE PMI'!J106","v":0},{"$f":"'REPORTE PMI'!G106","v":0},null,null,null,{"$f":"'REPORTE PMI'!L106","v":0},{"$f":"'REPORTE PMI'!M106","v":0},0,null,null,0,null,null,"NO"]
[{"$f":"'REPORTE PMI'!B107","v":0},{"$f":"'REPORTE PMI'!E107","v":0},{"$f":"'REPORTE PMI'!J107","v":0},{"$f":"'REPORTE PMI'!G107","v":0},null,null,null,{"$f":"'REPORTE PMI'!L107","v":0},{"$f":"'REPORTE PMI'!M107","v":0},0,null,null,0,null,null,"NO"]
[{"$f":"'REPORTE PMI'!B108","v":0},{"$f":"'REPORTE PMI'!E108","v":0},{"$f":"'REPORTE PMI'!J108","v":0},{"$f":"'REPORTE PMI'!G108","v":0},null,null,null,{"$f":"'REPORTE PMI'!L108","v":0},{"$f":"'REPORTE PMI'!M108","v":0},0,null,null,0,null,null,"NO"]
[{"$f":"'REPORTE PMI'!B109","v":0},{"$f":"'REPORTE PMI'!E109","v":0},{"$f":"'REPORTE PMI'!J109","v":0},{"$f":"'REPORTE PMI'!G109","v":0},null,null,null,{"$f":"'REPORTE PMI'!L109","v":0},{"$f":"'REPORTE PMI'!M109","v":0},0,null,null,0,null,null,"NO"]
[{"$f":"'REPORTE PMI'!B110","v":0},{"$f":"'REPORTE PMI'!E110","v":0},{"$f":"'REPORTE PMI'!J110","v":0},{"$f":"'REPORTE PMI'!G110","v":0},null,null,null,{"$f":"'REPORTE PMI'!L110","v":0},{"$f":"'REPORTE PMI'!M110","v":0},0,null,null,0,null,null,"NO"]
[{"$f":"'REPORTE PMI'!B111","v":0},{"$f":"'REPORTE PMI'!E111","v":0},{"$f":"'REPORTE PMI'!J111","v":0},{"$f":"'REPORTE PMI'!G111","v":0},null,null,null,{"$f":"'REPORTE PMI'!L111","v":0},{"$f":"'REPORTE PMI'!M111","v":0},0,null,null,0,null,null,"NO"]
[{"$f":"'REPORTE PMI'!B112","v":0},{"$f":"'REPORTE PMI'!E112","v":0},{"$f":"'REPORTE PMI'!J112","v":0},{"$f":"'REPORTE PMI'!G112","v":0},null,null,null,{"$f":"'REPORTE PMI'!L112","v":0},{"$f":"'REPORTE PMI'!M112","v":0},0,null,null,0,null,null,"NO"]
[{"$f":"'REPORTE PMI'!B113","v":0},{"$f":"'REPORTE PMI'!E113","v":0},{"$f":"'REPORTE PMI'!J113","v":0},{"$f":"'REPORTE PMI'!G113","v":0},null,null,null,{"$f":"'REPORTE PMI'!L113","v":0},{"$f":"'REPORTE PMI'!M113","v":0},0,null,null,0,null,null,"NO"]
[{"$f":"'REPORTE PMI'!B114","v":0},{"$f":"'REPORTE PMI'!E114","v":0},{"$f":"'REPORTE PMI'!J114","v":0},{"$f":"'REPORTE PMI'!G114","v":0},null,null,null,{"$f":"'REPORTE PMI'!L114","v":0},{"$f":"'REPORTE PMI'!M114","v":0},0,null,null,0,null,null,"NO"]
[{"$f":"'REPORTE PMI'!B115","v":0},{"$f":"'REPORTE PMI'!E115","v":0},{"$f":"'REPORTE PMI'!J115","v":0},{"$f":"'REPORTE PMI'!G115","v":0},null,null,null,{"$f":"'REPORTE PMI'!L115","v":0},{"$f":"'REPORTE PMI'!M115","v":0},0,null,null,0,null,null,"NO"]
[{"$f":"'REPORTE PMI'!B116","v":0},{"$f":"'REPORTE PMI'!E116","v":0},{"$f":"'REPORTE PMI'!J116","v":0},{"$f":"'REPORTE PMI'!G116","v":0},null,null,null,{"$f":"'REPORTE PMI'!L116","v":0},{"$f":"'REPORTE PMI'!M116","v":0},0,null,null,0,null,null,"NO"]
[{"$f":"'REPORTE PMI'!B117","v":0},{"$f":"'REPORTE PMI'!E117","v":0},{"$f":"'REPORTE PMI'!J117","v":0},{"$f":"'REPORTE PMI'!G117","v":0},null,null,null,{"$f":"'REPORTE PMI'!L117","v":0},{"$f":"'REPORTE PMI'!M117","v":0},0,null,null,0,null,null,"NO"]
[{"$f":"'REPORTE PMI'!B118","v":0},{"$f":"'REPORTE PMI'!E118","v":0},{"$f":"'REPORTE PMI'!J118","v":0},{"$f":"'REPORTE PMI'!G118","v":0},null,null,null,{"$f":"'REPORTE PMI'!L118","v":0},{"$f":"'REPORTE PMI'!M118","v":0},0,null,null,0,null,null,"NO"]
[{"$f":"'REPORTE PMI'!B119","v":0},{"$f":"'REPORTE PMI'!E119","v":0},{"$f":"'REPORTE PMI'!J119","v":0},{"$f":"'REPORTE PMI'!G119","v":0},null,null,null,{"$f":"'REPORTE PMI'!L119","v":0},{"$f":"'REPORTE PMI'!M119","v":0},0,null,null,0,null,null,"NO"]
[{"$f":"'REPORTE PMI'!B120","v":0},{"$f":"'REPORTE PMI'!E120","v":0},{"$f":"'REPORTE PMI'!J120","v":0},{"$f":"'REPORTE PMI'!G120","v":0},null,null,null,{"$f":"'REPORTE PMI'!L120","v":0},{"$f":"'REPORTE PMI'!M120","v":0},0,null,null,0,null,null,"NO"]
[{"$f":"'REPORTE PMI'!B121","v":0},{"$f":"'REPORTE PMI'!E121","v":0},{"$f":"'REPORTE PMI'!J121","v":0},{"$f":"'REPORTE PMI'!G121","v":0},null,null,null,{"$f":"'REPORTE PMI'!L121","v":0},{"$f":"'REPORTE PMI'!M121","v":0},0,null,null,0,null,null,"NO"]
[{"$f":"'REPORTE PMI'!B122","v":0},{"$f":"'REPORTE PMI'!E122","v":0},{"$f":"'REPORTE PMI'!J122","v":0},{"$f":"'REPORTE PMI'!G122","v":0},null,null,null,{"$f":"'REPORTE PMI'!L122","v":0},{"$f":"'REPORTE PMI'!M122","v":0},0,null,null,0,null,null,"NO"]
[{"$f":"'REPORTE PMI'!B123","v":0},{"$f":"'REPORTE PMI'!E123","v":0},{"$f":"'REPORTE PMI'!J123","v":0},{"$f":"'REPORTE PMI'!G123","v":0},null,null,null,{"$f":"'REPORTE PMI'!L123","v":0},{"$f":"'REPORTE PMI'!M123","v":0},0,null,null,0,null,null,"NO"]
[{"$f":"'REPORTE PMI'!B124","v":0},{"$f":"'REPORTE PMI'!E124","v":0},{"$f":"'REPORTE PMI'!J124","v":0},{"$f":"'REPORTE PMI'!G124","v":0},null,null,null,{"$f":"'REPORTE PMI'!L124","v":0},{"$f":"'REPORTE PMI'!M124","v":0},0,null,null,0,null,null,"NO"]
[{"$f":"'REPORTE PMI'!B125","v":0},{"$f":"'REPORTE PMI'!E125","v":0},{"$f":"'REPORTE PMI'!J125","v":0},{"$f":"'REPORTE PMI'!G125","v":0},null,null,null,{"$f":"'REPORTE PMI'!L125","v":0},{"$f":"'REPORTE PMI'!M125","v":0},0,null,null,0,null,null,"NO"]
[{"$f":"'REPORTE PMI'!B126","v":0},{"$f":"'REPORTE PMI'!E126","v":0},{"$f":"'REPORTE PMI'!J126","v":0},{"$f":"'REPORTE PMI'!G126","v":0},null,null,null,{"$f":"'REPORTE PMI'!L126","v":0},{"$f":"'REPORTE PMI'!M126","v":0},0,null,null,0,null,null,"NO"]
[{"$f":"'REPORTE PMI'!B127","v":0},{"$f":"'REPORTE PMI'!E127","v":0},{"$f":"'REPORTE PMI'!J127","v":0},{"$f":"'REPORTE PMI'!G127","v":0},null,null,null,{"$f":"'REPORTE PMI'!L127","v":0},{"$f":"'REPORTE PMI'!M127","v":0},0,null,null,0,null,null,"NO"]
[{"$f":"'REPORTE PMI'!B128","v":0},{"$f":"'REPORTE PMI'!E128","v":0},{"$f":"'REPORTE PMI'!J128","v":0},{"$f":"'REPORTE PMI'!G128","v":0},null,null,null,{"$f":"'REPORTE PMI'!L128","v":0},{"$f":"'REPORTE PMI'!M128","v":0},0,null,null,0,null,null,"NO"]
[{"$f":"'REPORTE PMI'!B129","v":0},{"$f":"'REPORTE PMI'!E129","v":0},{"$f":"'REPORTE PMI'!J129","v":0},{"$f":"'REPORTE PMI'!G129","v":0},null,null,null,{"$f":"'REPORTE PMI'!L129","v":0},{"$f":"'REPORTE PMI'!M129","v":0},0,null,null,0,null,null,"NO"]
[{"$f":"'REPORTE PMI'!B130","v":0},{"$f":"'REPORTE PMI'!E130","v":0},{"$f":"'REPORTE PMI'!J130","v":0},{"$f":"'REPORTE PMI'!G130","v":0},null,null,null,{"$f":"'REPORTE PMI'!L130","v":0},{"$f":"'REPORTE PMI'!M130","v":0},0,null,null,0,null,null,"NO"]
[{"$f":"'REPORTE PMI'!B131","v":0},{"$f":"'REPORTE PMI'!E131","v":0},{"$f":"'REPORTE PMI'!J131","v":0},{"$f":"'REPORTE PMI'!G131","v":0},null,null,null,{"$f":"'REPORTE PMI'!L131","v":0},{"$f":"'REPORTE PMI'!M131","v":0},0,null,null,0,null,null,"NO"]
[{"$f":"'REPORTE PMI'!B132","v":0},{"$f":"'REPORTE PMI'!E132","v":0},{"$f":"'REPORTE PMI'!J132","v":0},{"$f":"'REPORTE PMI'!G132","v":0},null,null,null,{"$f":"'REPORTE PMI'!L132","v":0},{"$f":"'REPORTE PMI'!M132","v":0},{"$f":"IFERROR(I141/H141, 0)","v":0},null,null,{"$f":"H141-I141","v":0},null,null,{"$f":"IF(E141=\"SI\",IF(J141>0%,IF(K141=\"SI\",IF(L141=\"NO\",IF(N141=\"SI\",IF(O141=\"NO\",\"SI\",\"NO\"),\"NO\"),\"NO\"),\"NO\"),\"NO\"),\"NO\")","v":"NO"}]
[{"$f":"'REPORTE PMI'!B133","v":0},{"$f":"'REPORTE PMI'!E133","v":0},{"$f":"'REPORTE PMI'!J133","v":0},{"$f":"'REPORTE PMI'!G133","v":0},null,null,null,{"$f":"'REPORTE PMI'!L133","v":0},{"$f":"'REPORTE PMI'!M133","v":0},0,null,null,0,null,null,"NO"]
[{"$f":"'REPORTE PMI'!B134","v":0},{"$f":"'REPORTE PMI'!E134","v":0},{"$f":"'REPORTE PMI'!J134","v":0},{"$f":"'REPORTE PMI'!G134","v":0},null,null,null,{"$f":"'REPORTE PMI'!L134","v":0},{"$f":"'REPORTE PMI'!M134","v":0},0,null,null,0,null,null,"NO"]
[{"$f":"'REPORTE PMI'!B135","v":0},{"$f":"'REPORTE PMI'!E135","v":0},{"$f":"'REPORTE PMI'!J135","v":0},{"$f":"'REPORTE PMI'!G135","v":0},null,null,null,{"$f":"'REPORTE PMI'!L135","v":0},{"$f":"'REPORTE PMI'!M135","v":0},0,null,null,0,null,null,"NO"]
[{"$f":"'REPORTE PMI'!B136","v":0},{"$f":"'REPORTE PMI'!E136","v":0},{"$f":"'REPORTE PMI'!J136","v":0},{"$f":"'REPORTE PMI'!G136","v":0},null,null,null,{"$f":"'REPORTE PMI'!L136","v":0},{"$f":"'REPORTE PMI'!M136","v":0},0,null,null,0,null,null,"NO"]
[{"$f":"'REPORTE PMI'!B137","v":0},{"$f":"'REPORTE PMI'!E137","v":0},{"$f":"'REPORTE PMI'!J137","v":0},{"$f":"'REPORTE PMI'!G137","v":0},null,null,null,{"$f":"'REPORTE PMI'!L137","v":0},{"$f":"'REPORTE PMI'!M137","v":0},0,null,null,0,null,null,"NO"]
[{"$f":"'REPORTE PMI'!B138","v":0},{"$f":"'REPORTE PMI'!E138","v":0},{"$f":"'REPORTE PMI'!J138","v":0},{"$f":"'REPORTE PMI'!G138","v":0},null,null,null,{"$f":"'REPORTE PMI'!L138","v":0},{"$f":"'REPORTE PMI'!M138","v":0},0,null,null,0,null,null,"NO"]
[{"$f":"'REPORTE PMI'!B139","v":0},{"$f":"'REPORTE PMI'!E139","v":0},{"$f":"'REPORTE PMI'!J139","v":0},{"$f":"'REPORTE PMI'!G139","v":0},null,null,null,{"$f":"'REPORTE PMI'!L139","v":0},{"$f":"'REPORTE PMI'!M139","v":0},0,null,null,0,null,null,"NO"]
[{"$f":"'REPORTE PMI'!B140","v":0},{"$f":"'REPORTE PMI'!E140","v":0},{"$f":"'REPORTE PMI'!J140","v":0},{"$f":"'REPORTE PMI'!G140","v":0},null,null,null,{"$f":"'REPORTE PMI'!L140","v":0},{"$f":"'REPORTE PMI'!M140","v":0},0,null,null,0,null,null,"NO"]
[{"$f":"'REPORTE PMI'!B141","v":0},{"$f":"'REPORTE PMI'!E141","v":0},{"$f":"'REPORTE PMI'!J141","v":0},{"$f":"'REPORTE PMI'!G141","v":0},null,null,null,{"$f":"'REPORTE PMI'!L141","v":0},{"$f":"'REPORTE PMI'!M141","v":0},0,null,null,0,null,null,"NO"]
[{"$f":"'REPORTE PMI'!B142","v":0},{"$f":"'REPORTE PMI'!E142","v":0},{"$f":"'REPORTE PMI'!J142","v":0},{"$f":"'REPORTE PMI'!G142","v":0},null,null,null,{"$f":"'REPORTE PMI'!L142","v":0},{"$f":"'REPORTE PMI'!M142","v":0},0,null,null,0,null,null,"NO"]
[{"$f":"'REPORTE PMI'!B143","v":0},{"$f":"'REPORTE PMI'!E143","v":0},{"$f":"'REPORTE PMI'!J143","v":0},{"$f":"'REPORTE PMI'!G143","v":0},null,null,null,{"$f":"'REPORTE PMI'!L143","v":0},{"$f":"'REPORTE PMI'!M143","v":0},0,null,null,0,null,null,"NO"]
[{"$f":"'REPORTE PMI'!B144","v":0},{"$f":"'REPORTE PMI'!E144","v":0},{"$f":"'REPORTE PMI'!J144","v":0},{"$f":"'REPORTE PMI'!G144","v":0},null,null,null,{"$f":"'REPORTE PMI'!L144","v":0},{"$f":"'REPORTE PMI'!M144","v":0},0,null,null,0,null,null,"NO"]
[{"$f":"'REPORTE PMI'!B145","v":0},{"$f":"'REPORTE PMI'!E145","v":0},{"$f":"'REPORTE PMI'!J145","v":0},{"$f":"'REPORTE PMI'!G145","v":0},null,null,null,{"$f":"'REPORTE PMI'!L145","v":0},{"$f":"'REPORTE PMI'!M145","v":0},0,null,null,0,null,null,"NO"]
[{"$f":"'REPORTE PMI'!B146","v":0},{"$f":"'REPORTE PMI'!E146","v":0},{"$f":"'REPORTE PMI'!J146","v":0},{"$f":"'REPORTE PMI'!G146","v":0},null,null,null,{"$f":"'REPORTE PMI'!L146","v":0},{"$f":"'REPORTE PMI'!M146","v":0},0,null,null,0,null,null,"NO"]
[{"$f":"'REPORTE PMI'!B147","v":0},{"$f":"'REPORTE PMI'!E147","v":0},{"$f":"'REPORTE PMI'!J147","v":0},{"$f":"'REPORTE PMI'!G147","v":0},null,null,null,{"$f":"'REPORTE PMI'!L147","v":0},{"$f":"'REPORTE PMI'!M147","v":0},0,null,null,0,null,null,"NO"]
[{"$f":"'REPORTE PMI'!B148","v":0},{"$f":"'REPORTE PMI'!E148","v":0},{"$f":"'REPORTE PMI'!J148","v":0},{"$f":"'REPORTE PMI'!G148","v":0},null,null,null,{"$f":"'REPORTE PMI'!L148","v":0},{"$f":"'REPORTE PMI'!M148","v":0},0,null,null,0,null,null,"NO"]
[{"$f":"'REPORTE PMI'!B149","v":0},{"$f":"'REPORTE PMI'!E149","v":0},{"$f":"'REPORTE PMI'!J149","v":0},{"$f":"'REPORTE PMI'!G149","v":0},null,null,null,{"$f":"'REPORTE PMI'!L149","v":0},{"$f":"'REPORTE PMI'!M149","v":0},0,null,null,0,null,null,"NO"]
[{"$f":"'REPORTE PMI'!B150","v":0},{"$f":"'REPORTE PMI'!E150","v":0},{"$f":"'REPORTE PMI'!J150","v":0},{"$f":"'REPORTE PMI'!G150","v":0},null,null,null,{"$f":"'REPORTE PMI'!L150","v":0},{"$f":"'REPORTE PMI'!M150","v":0},0,null,null,0,null,null,"NO"]
[{"$f":"'REPORTE PMI'!B151","v":0},{"$f":"'REPORTE PMI'!E151","v":0},{"$f":"'REPORTE PMI'!J151","v":0},{"$f":"'REPORTE PMI'!G151","v":0},null,null,null,{"$f":"'REPORTE PMI'!L151","v":0},{"$f":"'REPORTE PMI'!M151","v":0},0,null,null,0,null,null,"NO"]
[{"$f":"'REPORTE PMI'!B152","v":0},{"$f":"'REPORTE PMI'!E152","v":0},{"$f":"'REPORTE PMI'!J152","v":0},{"$f":"'REPORTE PMI'!G152","v":0},null,null,null,{"$f":"'REPORTE PMI'!L152","v":0},{"$f":"'REPORTE PMI'!M152","v":0},0,null,null,0,null,null,"NO"]
[{"$f":"'REPORTE PMI'!B153","v":0},{"$f":"'REPORTE PMI'!E153","v":0},{"$f":"'REPORTE PMI'!J153","v":0},{"$f":"'REPORTE PMI'!G153","v":0},null,null,null,{"$f":"'REPORTE PMI'!L153","v":0},{"$f":"'REPORTE PMI'!M153","v":0},0,null,null,0,null,null,"NO"]
[{"$f":"'REPORTE PMI'!B154","v":0},{"$f":"'REPORTE PMI'!E154","v":0},{"$f":"'REPORTE PMI'!J154","v":0},{"$f":"'REPORTE PMI'!G154","v":0},null,null,null,{"$f":"'REPORTE PMI'!L154","v":0},{"$f":"'REPORTE PMI'!M154","v":0},0,null,null,0,null,null,"NO"]
[{"$f":"'REPORTE PMI'!B155","v":0},{"$f":"'REPORTE PMI'!E155","v":0},{"$f":"'REPORTE PMI'!J155","v":0},{"$f":"'REPORTE PMI'!G155","v":0},null,null,null,{"$f":"'REPORTE PMI'!L155","v":0},{"$f":"'REPORTE PMI'!M155","v":0},0,null,null,0,null,null,"NO"]
[{"$f":"'REPORTE PMI'!B156","v":0},{"$f":"'REPORTE PMI'!E156","v":0},{"$f":"'REPORTE PMI'!J156","v":0},{"$f":"'REPORTE PMI'!G156","v":0},null,null,null,{"$f":"'REPORTE PMI'!L156","v":0},{"$f":"'REPORTE PMI'!M156","v":0},0,null,null,0,null,null,"NO"]
[{"$f":"'REPORTE PMI'!B157","v":0},{"$f":"'REPORTE PMI'!E157","v":0},{"$f":"'REPORTE PMI'!J157","v":0},{"$f":"'REPORTE PMI'!G157","v":0},null,null,null,{"$f":"'REPORTE PMI'!L157","v":0},{"$f":"'REPORTE PMI'!M157","v":0},0,null,null,0,null,null,"NO"]
[{"$f":"'REPORTE PMI'!B158","v":0},{"$f":"'REPORTE PMI'!E158","v":0},{"$f":"'REPORTE PMI'!J158","v":0},{"$f":"'REPORTE PMI'!G158","v":0},null,null,null,{"$f":"'REPORTE PMI'!L158","v":0},{"$f":"'REPORTE PMI'!M158","v":0},0,null,null,0,null,null,"NO"]
[{"$f":"'REPORTE PMI'!B159","v":0},{"$f":"'REPORTE PMI'!E159","v":0},{"$f":"'REPORTE PMI'!J159","v":0},{"$f":"'REPORTE PMI'!G159","v":0},null,null,null,{"$f":"'REPORTE PMI'!L159","v":0},{"$f":"'REPORTE PMI'!M159","v":0},0,null,null,0,null,null,"NO"]
[{"$f":"'REPORTE PMI'!B160","v":0},{"$f":"'REPORTE PMI'!E160","v":0},{"$f":"'REPORTE PMI'!J160","v":0},{"$f":"'REPORTE PMI'!G160","v":0},null,null,null,{"$f":"'REPORTE PMI'!L160","v":0},{"$f":"'REPORTE PMI'!M160","v":0},0,null,null,0,null,null,"NO"]
[{"$f":"'REPORTE PMI'!B161","v":0},{"$f":"'REPORTE PMI'!E161","v":0},{"$f":"'REPORTE PMI'!J161","v":0},{"$f":"'REPORTE PMI'!G161","v":0},null,null,null,{"$f":"'REPORTE PMI'!L161","v":0},{"$f":"'REPORTE PMI'!M161","v":0},0,null,null,0,null,null,"NO"]
[{"$f":"'REPORTE PMI'!B162","v":0},{"$f":"'REPORTE PMI'!E162","v":0},{"$f":"'REPORTE PMI'!J162","v":0},{"$f":"'REPORTE PMI'!G162","v":0},null,null,null,{"$f":"'REPORTE PMI'!L162","v":0},{"$f":"'REPORTE PMI'!M162","v":0},0,null,null,0,null,null,"NO"]
[{"$f":"'REPORTE PMI'!B163","v":0},{"$f":"'REPORTE PMI'!E163","v":0},{"$f":"'REPORTE PMI'!J163","v":0},{"$f":"'REPORTE PMI'!G163","v":0},null,null,null,{"$f":"'REPORTE PMI'!L163","v":0},{"$f":"'REPORTE PMI'!M163","v":0},0,null,null,0,null,null,"NO"]
[{"$f":"'REPORTE PMI'!B164","v":0},{"$f":"'REPORTE PMI'!E164","v":0},{"$f":"'REPORTE PMI'!J164","v":0},{"$f":"'REPORTE PMI'!G164","v":0},null,null,null,{"$f":"'REPORTE PMI'!L164","v":0},{"$f":"'REPORTE PMI'!M164","v":0},0,null,null,0,null,null,"NO"]
[{"$f":"'REPORTE PMI'!B165","v":0},{"$f":"'REPORTE PMI'!E165","v":0},{"$f":"'REPORTE PMI'!J165","v":0},{"$f":"'REPORTE PMI'!G165","v":0},null,null,null,{"$f":"'REPORTE PMI'!L165","v":0},{"$f":"'REPORTE PMI'!M165","v":0},0,null,null,0,null,null,"NO"]
[{"$f":"'REPORTE PMI'!B166","v":0},{"$f":"'REPORTE PMI'!E166","v":0},{"$f":"'REPORTE PMI'!J166","v":0},{"$f":"'REPORTE PMI'!G166","v":0},null,null,null,{"$f":"'REPORTE PMI'!L166","v":0},{"$f":"'REPORTE PMI'!M166","v":0},0,null,null,0,null,null,"NO"]
[{"$f":"'REPORTE PMI'!B167","v":0},{"$f":"'REPORTE PMI'!E167","v":0},{"$f":"'REPORTE PMI'!J167","v":0},{"$f":"'REPORTE PMI'!G167","v":0},null,null,null,{"$f":"'REPORTE PMI'!L167","v":0},{"$f":"'REPORTE PMI'!M167","v":0},0,null,null,0,null,null,"NO"]
[{"$f":"'REPORTE PMI'!B168","v":0},{"$f":"'REPORTE PMI'!E168","v":0},{"$f":"'REPORTE PMI'!J168","v":0},{"$f":"'REPORTE PMI'!G168","v":0},null,null,null,{"$f":"'REPORTE PMI'!L168","v":0},{"$f":"'REPORTE PMI'!M168","v":0},0,null,null,0,null,null,"NO"]
[{"$f":"'REPORTE PMI'!B169","v":0},{"$f":"'REPORTE PMI'!E169","v":0},{"$f":"'REPORTE PMI'!J169","v":0},{"$f":"'REPORTE PMI'!G169","v":0},null,null,null,{"$f":"'REPORTE PMI'!L169","v":0},{"$f":"'REPORTE PMI'!M169","v":0},0,null,null,0,null,null,"NO"]
[{"$f":"'REPORTE PMI'!B170","v":0},{"$f":"'REPORTE PMI'!E170","v":0},{"$f":"'REPORTE PMI'!J170","v":0},{"$f":"'REPORTE PMI'!G170","v":0},null,null,null,{"$f":"'REPORTE PMI'!L170","v":0},{"$f":"'REPORTE PMI'!M170","v":0},0,null,null,0,null,null,"NO"]
[{"$f":"'REPORTE PMI'!B171","v":0},{"$f":"'REPORTE PMI'!E171","v":0},{"$f":"'REPORTE PMI'!J171","v":0},{"$f":"'REPORTE PMI'!G171","v":0},null,null,null,{"$f":"'REPORTE PMI'!L171","v":0},{"$f":"'REPORTE PMI'!M171","v":0},0,null,null,0,null,null,"NO"]
[{"$f":"'REPORTE PMI'!B172","v":0},{"$f":"'REPORTE PMI'!E172","v":0},{"$f":"'REPORTE PMI'!J172","v":0},{"$f":"'REPORTE PMI'!G172","v":0},null,null,null,{"$f":"'REPORTE PMI'!L172","v":0},{"$f":"'REPORTE PMI'!M172","v":0},0,null,null,0,null,null,"NO"]
[{"$f":"'REPORTE PMI'!B173","v":0},{"$f":"'REPORTE PMI'!E173","v":0},{"$f":"'REPORTE PMI'!J173","v":0},{"$f":"'REPORTE PMI'!G173","v":0},null,null,null,{"$f":"'REPORTE PMI'!L173","v":0},{"$f":"'REPORTE PMI'!M173","v":0},0,null,null,0,null,null,"NO"]
[{"$f":"'REPORTE PMI'!B174","v":0},{"$f":"'REPORTE PMI'!E174","v":0},{"$f":"'REPORTE PMI'!J174","v":0},{"$f":"'REPORTE PMI'!G174","v":0},null,null,null,{"$f":"'REPORTE PMI'!L174","v":0},{"$f":"'REPORTE PMI'!M174","v":0},0,null,null,0,null,null,"NO"]
[{"$f":"'REPORTE PMI'!B175","v":0},{"$f":"'REPORTE PMI'!E175","v":0},{"$f":"'REPORTE PMI'!J175","v":0},{"$f":"'REPORTE PMI'!G175","v":0},null,null,null,{"$f":"'REPORTE PMI'!L175","v":0},{"$f":"'REPORTE PMI'!M175","v":0},0,null,null,0,null,null,"NO"]
[{"$f":"'REPORTE PMI'!B176","v":0},{"$f":"'REPORTE PMI'!E176","v":0},{"$f":"'REPORTE PMI'!J176","v":0},{"$f":"'REPORTE PMI'!G176","v":0},null,null,null,{"$f":"'REPORTE PMI'!L176","v":0},{"$f":"'REPORTE PMI'!M176","v":0},0,null,null,0,null,null,"NO"]
[{"$f":"'REPORTE PMI'!B177","v":0},{"$f":"'REPORTE PMI'!E177","v":0},{"$f":"'REPORTE PMI'!J177","v":0},{"$f":"'REPORTE PMI'!G177","v":0},null,null,null,{"$f":"'REPORTE PMI'!L177","v":0},{"$f":"'REPORTE PMI'!M177","v":0},0,null,null,0,null,null,"NO"]
[{"$f":"'REPORTE PMI'!B178","v":0},{"$f":"'REPORTE PMI'!E178","v":0},{"$f":"'REPORTE PMI'!J178","v":0},{"$f":"'REPORTE PMI'!G178","v":0},null,null,null,{"$f":"'REPORTE PMI'!L178","v":0},{"$f":"'REPORTE PMI'!M178","v":0},0,null,null,0,null,null,"NO"]
[{"$f":"'REPORTE PMI'!B179","v":0},{"$f":"'REPORTE PMI'!E179","v":0},{"$f":"'REPORTE PMI'!J179","v":0},{"$f":"'REPORTE PMI'!G179","v":0},null,null,null,{"$f":"'REPORTE PMI'!L179","v":0},{"$f":"'REPORTE PMI'!M179","v":0},0,null,null,0,null,null,"NO"]
[{"$f":"'REPORTE PMI'!B180","v":0},{"$f":"'REPORTE PMI'!E180","v":0},{"$f":"'REPORTE PMI'!J180","v":0},{"$f":"'REPORTE PMI'!G180","v":0},null,null,null,{"$f":"'REPORTE PMI'!L180","v":0},{"$f":"'REPORTE PMI'!M180","v":0},0,null,null,0,null,null,"NO"]
[{"$f":"'REPORTE PMI'!B181","v":0},{"$f":"'REPORTE PMI'!E181","v":0},{"$f":"'REPORTE PMI'!J181","v":0},{"$f":"'REPORTE PMI'!G181","v":0},null,null,null,{"$f":"'REPORTE PMI'!L181","v":0},{"$f":"'REPORTE PMI'!M181","v":0},0,null,null,0,null,null,"NO"]
[{"$f":"'REPORTE PMI'!B182","v":0},{"$f":"'REPORTE PMI'!E182","v":0},{"$f":"'REPORTE PMI'!J182","v":0},{"$f":"'REPORTE PMI'!G182","v":0},null,null,null,{"$f":"'REPORTE PMI'!L182","v":0},{"$f":"'REPORTE PMI'!M182","v":0},0,null,null,0,null,null,"NO"]
[{"$f":"'REPORTE PMI'!B183","v":0},{"$f":"'REPORTE PMI'!E183","v":0},{"$f":"'REPORTE PMI'!J183","v":0},{"$f":"'REPORTE PMI'!G183","v":0},null,null,null,{"$f":"'REPORTE PMI'!L183","v":0},{"$f":"'REPORTE PMI'!M183","v":0},0,null,null,0,null,null,"NO"]
[{"$f":"'REPORTE PMI'!B184","v":0},{"$f":"'REPORTE PMI'!E184","v":0},{"$f":"'REPORTE PMI'!J184","v":0},{"$f":"'REPORTE PMI'!G184","v":0},null,null,null,{"$f":"'REPORTE PMI'!L184","v":0},{"$f":"'REPORTE PMI'!M184","v":0},0,null,null,0,null,null,"NO"]
[{"$f":"'REPORTE PMI'!B185","v":0},{"$f":"'REPORTE PMI'!E185","v":0},{"$f":"'REPORTE PMI'!J185","v":0},{"$f":"'REPORTE PMI'!G185","v":0},null,null,null,{"$f":"'REPORTE PMI'!L185","v":0},{"$f":"'REPORTE PMI'!M185","v":0},0,null,null,0,null,null,"NO"]
[{"$f":"'REPORTE PMI'!B186","v":0},{"$f":"'REPORTE PMI'!E186","v":0},{"$f":"'REPORTE PMI'!J186","v":0},{"$f":"'REPORTE PMI'!G186","v":0},null,null,null,{"$f":"'REPORTE PMI'!L186","v":0},{"$f":"'REPORTE PMI'!M186","v":0},0,null,null,0,null,null,"NO"]
[{"$f":"'REPORTE PMI'!B187","v":0},{"$f":"'REPORTE PMI'!E187","v":0},{"$f":"'REPORTE PMI'!J187","v":0},{"$f":"'REPORTE PMI'!G187","v":0},null,null,null,{"$f":"'REPORTE PMI'!L187","v":0},{"$f":"'REPORTE PMI'!M187","v":0},0,null,null,0,null,null,"NO"]
[{"$f":"'REPORTE PMI'!B188","v":0},{"$f":"'REPORTE PMI'!E188","v":0},{"$f":"'REPORTE PMI'!J188","v":0},{"$f":"'REPORTE PMI'!G188","v":0},null,null,null,{"$f":"'REPORTE PMI'!L188","v":0},{"$f":"'REPORTE PMI'!M188","v":0},0,null,null,0,null,null,"NO"]
[{"$f":"'REPORTE PMI'!B189","v":0},{"$f":"'REPORTE PMI'!E189","v":0},{"$f":"'REPORTE PMI'!J189","v":0},{"$f":"'REPORTE PMI'!G189","v":0},null,null,null,{"$f":"'REPORTE PMI'!L189","v":0},{"$f":"'REPORTE PMI'!M189","v":0},0,null,null,0,null,null,"NO"]
[{"$f":"'REPORTE PMI'!B190","v":0},{"$f":"'REPORTE PMI'!E190","v":0},{"$f":"'REPORTE PMI'!J190","v":0},{"$f":"'REPORTE PMI'!G190","v":0},null,null,null,{"$f":"'REPORTE PMI'!L190","v":0},{"$f":"'REPORTE PMI'!M190","v":0},0,null,null,0,null,null,"NO"]
[{"$f":"'REPORTE PMI'!B191","v":0},{"$f":"'REPORTE PMI'!E191","v":0},{"$f":"'REPORTE PMI'!J191","v":0},{"$f":"'REPORTE PMI'!G191","v":0},null,null,null,{"$f":"'REPORTE PMI'!L191","v":0},{"$f":"'REPORTE PMI'!M191","v":0},0,null,null,0,null,null,"NO"]
[{"$f":"'REPORTE PMI'!B192","v":0},{"$f":"'REPORTE PMI'!E192","v":0},{"$f":"'REPORTE PMI'!J192","v":0},{"$f":"'REPORTE PMI'!G192","v":0},null,null,null,{"$f":"'REPORTE PMI'!L192","v":0},{"$f":"'REPORTE PMI'!M192","v":0},0,null,null,0,null,null,"NO"]
[{"$f":"'REPORTE PMI'!B193","v":0},{"$f":"'REPORTE PMI'!E193","v":0},{"$f":"'REPORTE PMI'!J193","v":0},{"$f":"'REPORTE PMI'!G193","v":0},null,null,null,{"$f":"'REPORTE PMI'!L193","v":0},{"$f":"'REPORTE PMI'!M193","v":0},0,null,null,0,null,null,"NO"]
[{"$f":"'REPORTE PMI'!B194","v":0},{"$f":"'REPORTE PMI'!E194","v":0},{"$f":"'REPORTE PMI'!J194","v":0},{"$f":"'REPORTE PMI'!G194","v":0},null,null,null,{"$f":"'REPORTE PMI'!L194","v":0},{"$f":"'REPORTE PMI'!M194","v":0},0,null,null,0,null,null,"NO"]
[{"$f":"'REPORTE PMI'!B195","v":0},{"$f":"'REPORTE PMI'!E195","v":0},{"$f":"'REPORTE PMI'!J195","v":0},{"$f":"'REPORTE PMI'!G195","v":0},null,null,null,{"$f":"'REPORTE PMI'!L195","v":0},{"$f":"'REPORTE PMI'!M195","v":0},0,null,null,0,null,null,"NO"]
[{"$f":"'REPORTE PMI'!B196","v":0},{"$f":"'REPORTE PMI'!E196","v":0},{"$f":"'REPORTE PMI'!J196","v":0},{"$f":"'REPORTE PMI'!G196","v":0},null,null,null,{"$f":"'REPORTE PMI'!L196","v":0},{"$f":"'REPORTE PMI'!M196","v":0},{"$f":"IFERROR(I205/H205, 0)","v":0},null,null,{"$f":"H205-I205","v":0},null,null,{"$f":"IF(E205=\"SI\",IF(J205>0%,IF(K205=\"SI\",IF(L205=\"NO\",IF(N205=\"SI\",IF(O205=\"NO\",\"SI\",\"NO\"),\"NO\"),\"NO\"),\"NO\"),\"NO\"),\"NO\")","v":"NO"}]
[{"$f":"'REPORTE PMI'!B197","v":0},{"$f":"'REPORTE PMI'!E197","v":0},{"$f":"'REPORTE PMI'!J197","v":0},{"$f":"'REPORTE PMI'!G197","v":0},null,null,null,{"$f":"'REPORTE PMI'!L197","v":0},{"$f":"'REPORTE PMI'!M197","v":0},0,null,null,0,null,null,"NO"]
[{"$f":"'REPORTE PMI'!B198","v":0},{"$f":"'REPORTE PMI'!E198","v":0},{"$f":"'REPORTE PMI'!J198","v":0},{"$f":"'REPORTE PMI'!G198","v":0},null,null,null,{"$f":"'REPORTE PMI'!L198","v":0},{"$f":"'REPORTE PMI'!M198","v":0},0,null,null,0,null,null,"NO"]
[{"$f":"'REPORTE PMI'!B199","v":0},{"$f":"'REPORTE PMI'!E199","v":0},{"$f":"'REPORTE PMI'!J199","v":0},{"$f":"'REPORTE PMI'!G199","v":0},null,null,null,{"$f":"'REPORTE PMI'!L199","v":0},{"$f":"'REPORTE PMI'!M199","v":0},0,null,null,0,null,null,"NO"]
[{"$f":"'REPORTE PMI'!B200","v":0},{"$f":"'REPORTE PMI'!E200","v":0},{"$f":"'REPORTE PMI'!J200","v":0},{"$f":"'REPORTE PMI'!G200","v":0},null,null,null,{"$f":"'REPORTE PMI'!L200","v":0},{"$f":"'REPORTE PMI'!M200","v":0},0,null,null,0,null,null,"NO"]
[{"$f":"'REPORTE PMI'!B201","v":0},{"$f":"'REPORTE PMI'!E201","v":0},{"$f":"'REPORTE PMI'!J201","v":0},{"$f":"'REPORTE PMI'!G201","v":0},null,null,null,{"$f":"'REPORTE PMI'!L201","v":0},{"$f":"'REPORTE PMI'!M201","v":0},0,null,null,0,null,null,"NO"]
[{"$f":"'REPORTE PMI'!B202","v":0},{"$f":"'REPORTE PMI'!E202","v":0},{"$f":"'REPORTE PMI'!J202","v":0},{"$f":"'REPORTE PMI'!G202","v":0},null,null,null,{"$f":"'REPORTE PMI'!L202","v":0},{"$f":"'REPORTE PMI'!M202","v":0},0,null,null,0,null,null,"NO"]
[{"$f":"'REPORTE PMI'!B203","v":0},{"$f":"'REPORTE PMI'!E203","v":0},{"$f":"'REPORTE PMI'!J203","v":0},{"$f":"'REPORTE PMI'!G203","v":0},null,null,null,{"$f":"'REPORTE PMI'!L203","v":0},{"$f":"'REPORTE PMI'!M203","v":0},0,null,null,0,null,null,"NO"]
[{"$f":"'REPORTE PMI'!B204","v":0},{"$f":"'REPORTE PMI'!E204","v":0},{"$f":"'REPORTE PMI'!J204","v":0},{"$f":"'REPORTE PMI'!G204","v":0},null,null,null,{"$f":"'REPORTE PMI'!L204","v":0},{"$f":"'REPORTE PMI'!M204","v":0},0,null,null,0,null,null,"NO"]
[{"$f":"'REPORTE PMI'!B205","v":0},{"$f":"'REPORTE PMI'!E205","v":0},{"$f":"'REPORTE PMI'!J205","v":0},{"$f":"'REPORTE PMI'!G205","v":0},null,null,null,{"$f":"'REPORTE PMI'!L205","v":0},{"$f":"'REPORTE PMI'!M205","v":0},0,null,null,0,null,null,"NO"]
[{"$f":"'REPORTE PMI'!B206","v":0},{"$f":"'REPORTE PMI'!E206","v":0},{"$f":"'REPORTE PMI'!J206","v":0},{"$f":"'REPORTE PMI'!G206","v":0},null,null,null,{"$f":"'REPORTE PMI'!L206","v":0},{"$f":"'REPORTE PMI'!M206","v":0},0,null,null,0,null,null,"NO"]
[{"$f":"'REPORTE PMI'!B207","v":0},{"$f":"'REPORTE PMI'!E207","v":0},{"$f":"'REPORTE PMI'!J207","v":0},{"$f":"'REPORTE PMI'!G207","v":0},null,null,null,{"$f":"'REPORTE PMI'!L207","v":0},{"$f":"'REPORTE PMI'!M207","v":0},0,null,null,0,null,null,"NO"]
[{"$f":"'REPORTE PMI'!B208","v":0},{"$f":"'REPORTE PMI'!E208","v":0},{"$f":"'REPORTE PMI'!J208","v":0},{"$f":"'REPORTE PMI'!G208","v":0},null,null,null,{"$f":"'REPORTE PMI'!L208","v":0},{"$f":"'REPORTE PMI'!M208","v":0},0,null,null,0,null,null,"NO"]
[{"$f":"'REPORTE PMI'!B209","v":0},{"$f":"'REPORTE PMI'!E209","v":0},{"$f":"'REPORTE PMI'!J209","v":0},{"$f":"'REPORTE PMI'!G209","v":0},null,null,null,{"$f":"'REPORTE PMI'!L209","v":0},{"$f":"'REPORTE PMI'!M209","v":0},0,null,null,0,null,null,"NO"]
[{"$f":"'REPORTE PMI'!B210","v":0},{"$f":"'REPORTE PMI'!E210","v":0},{"$f":"'REPORTE PMI'!J210","v":0},{"$f":"'REPORTE PMI'!G210","v":0},null,null,null,{"$f":"'REPORTE PMI'!L210","v":0},{"$f":"'REPORTE PMI'!M210","v":0},0,null,null,0,null,null,"NO"]
[{"$f":"'REPORTE PMI'!B211","v":0},{"$f":"'REPORTE PMI'!E211","v":0},{"$f":"'REPORTE PMI'!J211","v":0},{"$f":"'REPORTE PMI'!G211","v":0},null,null,null,{"$f":"'REPORTE PMI'!L211","v":0},{"$f":"'REPORTE PMI'!M211","v":0},0,null,null,0,null,null,"NO"]
[{"$f":"'REPORTE PMI'!B212","v":0},{"$f":"'REPORTE PMI'!E212","v":0},{"$f":"'REPORTE PMI'!J212","v":0},{"$f":"'REPORTE PMI'!G212","v":0},null,null,null,{"$f":"'REPORTE PMI'!L212","v":0},{"$f":"'REPORTE PMI'!M212","v":0},0,null,null,0,null,null,"NO"]
[{"$f":"'REPORTE PMI'!B213","v":0},{"$f":"'REPORTE PMI'!E213","v":0},{"$f":"'REPORTE PMI'!J213","v":0},{"$f":"'REPORTE PMI'!G213","v":0},null,null,null,{"$f":"'REPORTE PMI'!L213","v":0},{"$f":"'REPORTE PMI'!M213","v":0},0,null,null,0,null,null,"NO"]
[{"$f":"'REPORTE PMI'!B214","v":0},{"$f":"'REPORTE PMI'!E214","v":0},{"$f":"'REPORTE PMI'!J214","v":0},{"$f":"'REPORTE PMI'!G214","v":0},null,null,null,{"$f":"'REPORTE PMI'!L214","v":0},{"$f":"'REPORTE PMI'!M214","v":0},0,null,null,0,null,null,"NO"]
[{"$f":"'REPORTE PMI'!B215","v":0},{"$f":"'REPORTE PMI'!E215","v":0},{"$f":"'REPORTE PMI'!J215","v":0},{"$f":"'REPORTE PMI'!G215","v":0},null,null,null,{"$f":"'REPORTE PMI'!L215","v":0},{"$f":"'REPORTE PMI'!M215","v":0},0,null,null,0,null,null,"NO"]
[{"$f":"'REPORTE PMI'!B216","v":0},{"$f":"'REPORTE PMI'!E216","v":0},{"$f":"'REPORTE PMI'!J216","v":0},{"$f":"'REPORTE PMI'!G216","v":0},null,null,null,{"$f":"'REPORTE PMI'!L216","v":0},{"$f":"'REPORTE PMI'!M216","v":0},0,null,null,0,null,null,"NO"]
[{"$f":"'REPORTE PMI'!B217","v":0},{"$f":"'REPORTE PMI'!E217","v":0},{"$f":"'REPORTE PMI'!J217","v":0},{"$f":"'REPORTE PMI'!G217","v":0},null,null,null,{"$f":"'REPORTE PMI'!L217","v":0},{"$f":"'REPORTE PMI'!M217","v":0},0,null,null,0,null,null,"NO"]
[{"$f":"'REPORTE PMI'!B218","v":0},{"$f":"'REPORTE PMI'!E218","v":0},{"$f":"'REPORTE PMI'!J218","v":0},{"$f":"'REPORTE PMI'!G218","v":0},null,null,null,{"$f":"'REPORTE PMI'!L218","v":0},{"$f":"'REPORTE PMI'!M218","v":0},0,null,null,0,null,null,"NO"]
[{"$f":"'REPORTE PMI'!B219","v":0},{"$f":"'REPORTE PMI'!E219","v":0},{"$f":"'REPORTE PMI'!J219","v":0},{"$f":"'REPORTE PMI'!G219","v":0},null,null,null,{"$f":"'REPORTE PMI'!L219","v":0},{"$f":"'REPORTE PMI'!M219","v":0},0,null,null,0,null,null,"NO"]
[{"$f":"'REPORTE PMI'!B220","v":0},{"$f":"'REPORTE PMI'!E220","v":0},{"$f":"'REPORTE PMI'!J220","v":0},{"$f":"'REPORTE PMI'!G220","v":0},null,null,null,{"$f":"'REPORTE PMI'!L220","v":0},{"$f":"'REPORTE PMI'!M220","v":0},0,null,null,0,null,null,"NO"]
[{"$f":"'REPORTE PMI'!B221","v":0},{"$f":"'REPORTE PMI'!E221","v":0},{"$f":"'REPORTE PMI'!J221","v":0},{"$f":"'REPORTE PMI'!G221","v":0},null,null,null,{"$f":"'REPORTE PMI'!L221","v":0},{"$f":"'REPORTE PMI'!M221","v":0},0,null,null,0,null,null,"NO"]
[{"$f":"'REPORTE PMI'!B222","v":0},{"$f":"'REPORTE PMI'!E222","v":0},{"$f":"'REPORTE PMI'!J222","v":0},{"$f":"'REPORTE PMI'!G222","v":0},null,null,null,{"$f":"'REPORTE PMI'!L222","v":0},{"$f":"'REPORTE PMI'!M222","v":0},0,null,null,0,null,null,"NO"]
[{"$f":"'REPORTE PMI'!B223","v":0},{"$f":"'REPORTE PMI'!E223","v":0},{"$f":"'REPORTE PMI'!J223","v":0},{"$f":"'REPORTE PMI'!G223","v":0},null,null,null,{"$f":"'REPORTE PMI'!L223","v":0},{"$f":"'REPORTE PMI'!M223","v":0},0,null,null,0,null,null,"NO"]
[{"$f":"'REPORTE PMI'!B224","v":0},{"$f":"'REPORTE PMI'!E224","v":0},{"$f":"'REPORTE PMI'!J224","v":0},{"$f":"'REPORTE PMI'!G224","v":0},null,null,null,{"$f":"'REPORTE PMI'!L224","v":0},{"$f":"'REPORTE PMI'!M224","v":0},0,null,null,0,null,null,"NO"]
[{"$f":"'REPORTE PMI'!B225","v":0},{"$f":"'REPORTE PMI'!E225","v":0},{"$f":"'REPORTE PMI'!J225","v":0},{"$f":"'REPORTE PMI'!G225","v":0},null,null,null,{"$f":"'REPORTE PMI'!L225","v":0},{"$f":"'REPORTE PMI'!M225","v":0},0,null,null,0,null,null,"NO"]
[{"$f":"'REPORTE PMI'!B226","v":0},{"$f":"'REPORTE PMI'!E226","v":0},{"$f":"'REPORTE PMI'!J226","v":0},{"$f":"'REPORTE PMI'!G226","v":0},null,null,null,{"$f":"'REPORTE PMI'!L226","v":0},{"$f":"'REPORTE PMI'!M226","v":0},0,null,null,0,null,null,"NO"]
[{"$f":"'REPORTE PMI'!B227","v":0},{"$f":"'REPORTE PMI'!E227","v":0},{"$f":"'REPORTE PMI'!J227","v":0},{"$f":"'REPORTE PMI'!G227","v":0},null,null,null,{"$f":"'REPORTE PMI'!L227","v":0},{"$f":"'REPORTE PMI'!M227","v":0},0,null,null,0,null,null,"NO"]
[{"$f":"'REPORTE PMI'!B228","v":0},{"$f":"'REPORTE PMI'!E228","v":0},{"$f":"'REPORTE PMI'!J228","v":0},{"$f":"'REPORTE PMI'!G228","v":0},null,null,null,{"$f":"'REPORTE PMI'!L228","v":0},{"$f":"'REPORTE PMI'!M228","v":0},0,null,null,0,null,null,"NO"]
[{"$f":"'REPORTE PMI'!B229","v":0},{"$f":"'REPORTE PMI'!E229","v":0},{"$f":"'REPORTE PMI'!J229","v":0},{"$f":"'REPORTE PMI'!G229","v":0},null,null,null,{"$f":"'REPORTE PMI'!L229","v":0},{"$f":"'REPORTE PMI'!M229","v":0},0,null,null,0,null,null,"NO"]
[{"$f":"'REPORTE PMI'!B230","v":0},{"$f":"'REPORTE PMI'!E230","v":0},{"$f":"'REPORTE PMI'!J230","v":0},{"$f":"'REPORTE PMI'!G230","v":0},null,null,null,{"$f":"'REPORTE PMI'!L230","v":0},{"$f":"'REPORTE PMI'!M230","v":0},0,null,null,0,null,null,"NO"]
[{"$f":"'REPORTE PMI'!B231","v":0},{"$f":"'REPORTE PMI'!E231","v":0},{"$f":"'REPORTE PMI'!J231","v":0},{"$f":"'REPORTE PMI'!G231","v":0},null,null,null,{"$f":"'REPORTE PMI'!L231","v":0},{"$f":"'REPORTE PMI'!M231","v":0},0,null,null,0,null,null,"NO"]
[{"$f":"'REPORTE PMI'!B232","v":0},{"$f":"'REPORTE PMI'!E232","v":0},{"$f":"'REPORTE PMI'!J232","v":0},{"$f":"'REPORTE PMI'!G232","v":0},null,null,null,{"$f":"'REPORTE PMI'!L232","v":0},{"$f":"'REPORTE PMI'!M232","v":0},0,null,null,0,null,null,"NO"]
[{"$f":"'REPORTE PMI'!B233","v":0},{"$f":"'REPORTE PMI'!E233","v":0},{"$f":"'REPORTE PMI'!J233","v":0},{"$f":"'REPORTE PMI'!G233","v":0},null,null,null,{"$f":"'REPORTE PMI'!L233","v":0},{"$f":"'REPORTE PMI'!M233","v":0},0,null,null,0,null,null,"NO"]
[{"$f":"'REPORTE PMI'!B234","v":0},{"$f":"'REPORTE PMI'!E234","v":0},{"$f":"'REPORTE PMI'!J234","v":0},{"$f":"'REPORTE PMI'!G234","v":0},null,null,null,{"$f":"'REPORTE PMI'!L234","v":0},{"$f":"'REPORTE PMI'!M234","v":0},0,null,null,0,null,null,"NO"]
[{"$f":"'REPORTE PMI'!B235","v":0},{"$f":"'REPORTE PMI'!E235","v":0},{"$f":"'REPORTE PMI'!J235","v":0},{"$f":"'REPORTE PMI'!G235","v":0},null,null,null,{"$f":"'REPORTE PMI'!L235","v":0},{"$f":"'REPORTE PMI'!M235","v":0},0,null,null,0,null,null,"NO"]
[{"$f":"'REPORTE PMI'!B236","v":0},{"$f":"'REPORTE PMI'!E236","v":0},{"$f":"'REPORTE PMI'!J236","v":0},{"$f":"'REPORTE PMI'!G236","v":0},null,null,null,{"$f":"'REPORTE PMI'!L236","v":0},{"$f":"'REPORTE PMI'!M236","v":0},0,null,null,0,null,null,"NO"]
[{"$f":"'REPORTE PMI'!B237","v":0},{"$f":"'REPORTE PMI'!E237","v":0},{"$f":"'REPORTE PMI'!J237","v":0},{"$f":"'REPORTE PMI'!G237","v":0},null,null,null,{"$f":"'REPORTE PMI'!L237","v":0},{"$f":"'REPORTE PMI'!M237","v":0},0,null,null,0,null,null,"NO"]
[{"$f":"'REPORTE PMI'!B238","v":0},{"$f":"'REPORTE PMI'!E238","v":0},{"$f":"'REPORTE PMI'!J238","v":0},{"$f":"'REPORTE PMI'!G238","v":0},null,null,null,{"$f":"'REPORTE PMI'!L238","v":0},{"$f":"'REPORTE PMI'!M238","v":0},0,null,null,0,null,null,"NO"]
[{"$f":"'REPORTE PMI'!B239","v":0},{"$f":"'REPORTE PMI'!E239","v":0},{"$f":"'REPORTE PMI'!J239","v":0},{"$f":"'REPORTE PMI'!G239","v":0},null,null,null,{"$f":"'REPORTE PMI'!L239","v":0},{"$f":"'REPORTE PMI'!M239","v":0},0,null,null,0,null,null,"NO"]
[{"$f":"'REPORTE PMI'!B240","v":0},{"$f":"'REPORTE PMI'!E240","v":0},{"$f":"'REPORTE PMI'!J240","v":0},{"$f":"'REPORTE PMI'!G240","v":0},null,null,null,{"$f":"'REPORTE PMI'!L240","v":0},{"$f":"'REPORTE PMI'!M240","v":0},0,null,null,0,null,null,"NO"]
[{"$f":"'REPORTE PMI'!B241","v":0},{"$f":"'REPORTE PMI'!E241","v":0},{"$f":"'REPORTE PMI'!J241","v":0},{"$f":"'REPORTE PMI'!G241","v":0},null,null,null,{"$f":"'REPORTE PMI'!L241","v":0},{"$f":"'REPORTE PMI'!M241","v":0},0,null,null,0,null,null,"NO"]
[{"$f":"'REPORTE PMI'!B242","v":0},{"$f":"'REPORTE PMI'!E242","v":0},{"$f":"'REPORTE PMI'!J242","v":0},{"$f":"'REPORTE PMI'!G242","v":0},null,null,null,{"$f":"'REPORTE PMI'!L242","v":0},{"$f":"'REPORTE PMI'!M242","v":0},0,null,null,0,null,null,"NO"]
[{"$f":"'REPORTE PMI'!B243","v":0},{"$f":"'REPORTE PMI'!E243","v":0},{"$f":"'REPORTE PMI'!J243","v":0},{"$f":"'REPORTE PMI'!G243","v":0},null,null,null,{"$f":"'REPORTE PMI'!L243","v":0},{"$f":"'REPORTE PMI'!M243","v":0},0,null,null,0,null,null,"NO"]
[{"$f":"'REPORTE PMI'!B244","v":0},{"$f":"'REPORTE PMI'!E244","v":0},{"$f":"'REPORTE PMI'!J244","v":0},{"$f":"'REPORTE PMI'!G244","v":0},null,null,null,{"$f":"'REPORTE PMI'!L244","v":0},{"$f":"'REPORTE PMI'!M244","v":0},0,null,null,0,null,null,"NO"]
[{"$f":"'REPORTE PMI'!B245","v":0},{"$f":"'REPORTE PMI'!E245","v":0},{"$f":"'REPORTE PMI'!J245","v":0},{"$f":"'REPORTE PMI'!G245","v":0},null,null,null,{"$f":"'REPORTE PMI'!L245","v":0},{"$f":"'REPORTE PMI'!M245","v":0},0,null,null,0,null,null,"NO"]
[{"$f":"'REPORTE PMI'!B246","v":0},{"$f":"'REPORTE PMI'!E246","v":0},{"$f":"'REPORTE PMI'!J246","v":0},{"$f":"'REPORTE PMI'!G246","v":0},null,null,null,{"$f":"'REPORTE PMI'!L246","v":0},{"$f":"'REPORTE PMI'!M246","v":0},0,null,null,0,null,null,"NO"]
[{"$f":"'REPORTE PMI'!B247","v":0},{"$f":"'REPORTE PMI'!E247","v":0},{"$f":"'REPORTE PMI'!J247","v":0},{"$f":"'REPORTE PMI'!G247","v":0},null,null,null,{"$f":"'REPORTE PMI'!L247","v":0},{"$f":"'REPORTE PMI'!M247","v":0},0,null,null,0,null,null,"NO"]
[{"$f":"'REPORTE PMI'!B248","v":0},{"$f":"'REPORTE PMI'!E248","v":0},{"$f":"'REPORTE PMI'!J248","v":0},{"$f":"'REPORTE PMI'!G248","v":0},null,null,null,{"$f":"'REPORTE PMI'!L248","v":0},{"$f":"'REPORTE PMI'!M248","v":0},0,null,null,0,null,null,"NO"]
[{"$f":"'REPORTE PMI'!B249","v":0},{"$f":"'REPORTE PMI'!E249","v":0},{"$f":"'REPORTE PMI'!J249","v":0},{"$f":"'REPORTE PMI'!G249","v":0},null,null,null,{"$f":"'REPORTE PMI'!L249","v":0},{"$f":"'REPORTE PMI'!M249","v":0},0,null,null,0,null,null,"NO"]
[{"$f":"'REPORTE PMI'!B250","v":0},{"$f":"'REPORTE PMI'!E250","v":0},{"$f":"'REPORTE PMI'!J250","v":0},{"$f":"'REPORTE PMI'!G250","v":0},null,null,null,{"$f":"'REPORTE PMI'!L250","v":0},{"$f":"'REPORTE PMI'!M250","v":0},0,null,null,0,null,null,"NO"]
[{"$f":"'REPORTE PMI'!B251","v":0},{"$f":"'REPORTE PMI'!E251","v":0},{"$f":"'REPORTE PMI'!J251","v":0},{"$f":"'REPORTE PMI'!G251","v":0},null,null,null,{"$f":"'REPORTE PMI'!L251","v":0},{"$f":"'REPORTE PMI'!M251","v":0},0,null,null,0,null,null,"NO"]
[{"$f":"'REPORTE PMI'!B252","v":0},{"$f":"'REPORTE PMI'!E252","v":0},{"$f":"'REPORTE PMI'!J252","v":0},{"$f":"'REPORTE PMI'!G252","v":0},null,null,null,{"$f":"'REPORTE PMI'!L252","v":0},{"$f":"'REPORTE PMI'!M252","v":0},0,null,null,0,null,null,"NO"]
[{"$f":"'REPORTE PMI'!B253","v":0},{"$f":"'REPORTE PMI'!E253","v":0},{"$f":"'REPORTE PMI'!J253","v":0},{"$f":"'REPORTE PMI'!G253","v":0},null,null,null,{"$f":"'REPORTE PMI'!L253","v":0},{"$f":"'REPORTE PMI'!M253","v":0},0,null,null,0,null,null,"NO"]
[{"$f":"'REPORTE PMI'!B254","v":0},{"$f":"'REPORTE PMI'!E254","v":0},{"$f":"'REPORTE PMI'!J254","v":0},{"$f":"'REPORTE PMI'!G254","v":0},null,null,null,{"$f":"'REPORTE PMI'!L254","v":0},{"$f":"'REPORTE PMI'!M254","v":0},0,null,null,0,null,null,"NO"]
[{"$f":"'REPORTE PMI'!B255","v":0},{"$f":"'REPORTE PMI'!E255","v":0},{"$f":"'REPORTE PMI'!J255","v":0},{"$f":"'REPORTE PMI'!G255","v":0},null,null,null,{"$f":"'REPORTE PMI'!L255","v":0},{"$f":"'REPORTE PMI'!M255","v":0},0,null,null,0,null,null,"NO"]
[{"$f":"'REPORTE PMI'!B256","v":0},{"$f":"'REPORTE PMI'!E256","v":0},{"$f":"'REPORTE PMI'!J256","v":0},{"$f":"'REPORTE PMI'!G256","v":0},null,null,null,{"$f":"'REPORTE PMI'!L256","v":0},{"$f":"'REPORTE PMI'!M256","v":0},0,null,null,0,null,null,"NO"]
[{"$f":"'REPORTE PMI'!B257","v":0},{"$f":"'REPORTE PMI'!E257","v":0},{"$f":"'REPORTE PMI'!J257","v":0},{"$f":"'REPORTE PMI'!G257","v":0},null,null,null,{"$f":"'REPORTE PMI'!L257","v":0},{"$f":"'REPORTE PMI'!M257","v":0},0,null,null,0,null,null,"NO"]
[{"$f":"'REPORTE PMI'!B258","v":0},{"$f":"'REPORTE PMI'!E258","v":0},{"$f":"'REPORTE PMI'!J258","v":0},{"$f":"'REPORTE PMI'!G258","v":0},null,null,null,{"$f":"'REPORTE PMI'!L258","v":0},{"$f":"'REPORTE PMI'!M258","v":0},0,null,null,0,null,null,"NO"]
[{"$f":"'REPORTE PMI'!B259","v":0},{"$f":"'REPORTE PMI'!E259","v":0},{"$f":"'REPORTE PMI'!J259","v":0},{"$f":"'REPORTE PMI'!G259","v":0},null,null,null,{"$f":"'REPORTE PMI'!L259","v":0},{"$f":"'REPORTE PMI'!M259","v":0},0,null,null,0,null,null,"NO"]
[{"$f":"'REPORTE PMI'!B260","v":0},{"$f":"'REPORTE PMI'!E260","v":0},{"$f":"'REPORTE PMI'!J260","v":0},{"$f":"'REPORTE PMI'!G260","v":0},null,null,null,{"$f":"'REPORTE PMI'!L260","v":0},{"$f":"'REPORTE PMI'!M260","v":0},{"$f":"IFERROR(I269/H269, 0)","v":0},null,null,{"$f":"H269-I269","v":0},null,null,{"$f":"IF(E269=\"SI\",IF(J269>0%,IF(K269=\"SI\",IF(L269=\"NO\",IF(N269=\"SI\",IF(O269=\"NO\",\"SI\",\"NO\"),\"NO\"),\"NO\"),\"NO\"),\"NO\"),\"NO\")","v":"NO"}]
[{"$f":"'REPORTE PMI'!B261","v":0},{"$f":"'REPORTE PMI'!E261","v":0},{"$f":"'REPORTE PMI'!J261","v":0},{"$f":"'REPORTE PMI'!G261","v":0},null,null,null,{"$f":"'REPORTE PMI'!L261","v":0},{"$f":"'REPORTE PMI'!M261","v":0},0,null,null,0,null,null,"NO"]
[{"$f":"'REPORTE PMI'!B262","v":0},{"$f":"'REPORTE PMI'!E262","v":0},{"$f":"'REPORTE PMI'!J262","v":0},{"$f":"'REPORTE PMI'!G262","v":0},null,null,null,{"$f":"'REPORTE PMI'!L262","v":0},{"$f":"'REPORTE PMI'!M262","v":0},0,null,null,0,null,null,"NO"]
[{"$f":"'REPORTE PMI'!B263","v":0},{"$f":"'REPORTE PMI'!E263","v":0},{"$f":"'REPORTE PMI'!J263","v":0},{"$f":"'REPORTE PMI'!G263","v":0},null,null,null,{"$f":"'REPORTE PMI'!L263","v":0},{"$f":"'REPORTE PMI'!M263","v":0},0,null,null,0,null,null,"NO"]
[{"$f":"'REPORTE PMI'!B264","v":0},{"$f":"'REPORTE PMI'!E264","v":0},{"$f":"'REPORTE PMI'!J264","v":0},{"$f":"'REPORTE PMI'!G264","v":0},null,null,null,{"$f":"'REPORTE PMI'!L264","v":0},{"$f":"'REPORTE PMI'!M264","v":0},0,null,null,0,null,null,"NO"]
[{"$f":"'REPORTE PMI'!B265","v":0},{"$f":"'REPORTE PMI'!E265","v":0},{"$f":"'REPORTE PMI'!J265","v":0},{"$f":"'REPORTE PMI'!G265","v":0},null,null,null,{"$f":"'REPORTE PMI'!L265","v":0},{"$f":"'REPORTE PMI'!M265","v":0},0,null,null,0,null,null,"NO"]
[{"$f":"'REPORTE PMI'!B266","v":0},{"$f":"'REPORTE PMI'!E266","v":0},{"$f":"'REPORTE PMI'!J266","v":0},{"$f":"'REPORTE PMI'!G266","v":0},null,null,null,{"$f":"'REPORTE PMI'!L266","v":0},{"$f":"'REPORTE PMI'!M266","v":0},0,null,null,0,null,null,"NO"]
[{"$f":"'REPORTE PMI'!B267","v":0},{"$f":"'REPORTE PMI'!E267","v":0},{"$f":"'REPORTE PMI'!J267","v":0},{"$f":"'REPORTE PMI'!G267","v":0},null,null,null,{"$f":"'REPORTE PMI'!L267","v":0},{"$f":"'REPORTE PMI'!M267","v":0},0,null,null,0,null,null,"NO"]
[{"$f":"'REPORTE PMI'!B268","v":0},{"$f":"'REPORTE PMI'!E268","v":0},{"$f":"'REPORTE PMI'!J268","v":0},{"$f":"'REPORTE PMI'!G268","v":0},null,null,null,{"$f":"'REPORTE PMI'!L268","v":0},{"$f":"'REPORTE PMI'!M268","v":0},0,null,null,0,null,null,"NO"]
[{"$f":"'REPORTE PMI'!B269","v":0},{"$f":"'REPORTE PMI'!E269","v":0},{"$f":"'REPORTE PMI'!J269","v":0},{"$f":"'REPORTE PMI'!G269","v":0},null,null,null,{"$f":"'REPORTE PMI'!L269","v":0},{"$f":"'REPORTE PMI'!M269","v":0},0,null,null,0,null,null,"NO"]
[{"$f":"'REPORTE PMI'!B270","v":0},{"$f":"'REPORTE PMI'!E270","v":0},{"$f":"'REPORTE PMI'!J270","v":0},{"$f":"'REPORTE PMI'!G270","v":0},null,null,null,{"$f":"'REPORTE PMI'!L270","v":0},{"$f":"'REPORTE PMI'!M270","v":0},0,null,null,0,null,null,"NO"]
[{"$f":"'REPORTE PMI'!B271","v":0},{"$f":"'REPORTE PMI'!E271","v":0},{"$f":"'REPORTE PMI'!J271","v":0},{"$f":"'REPORTE PMI'!G271","v":0},null,null,null,{"$f":"'REPORTE PMI'!L271","v":0},{"$f":"'REPORTE PMI'!M271","v":0},0,null,null,0,null,null,"NO"]
[{"$f":"'REPORTE PMI'!B272","v":0},{"$f":"'REPORTE PMI'!E272","v":0},{"$f":"'REPORTE PMI'!J272","v":0},{"$f":"'REPORTE PMI'!G272","v":0},null,null,null,{"$f":"'REPORTE PMI'!L272","v":0},{"$f":"'REPORTE PMI'!M272","v":0},0,null,null,0,null,null,"NO"]
[{"$f":"'REPORTE PMI'!B273","v":0},{"$f":"'REPORTE PMI'!E273","v":0},{"$f":"'REPORTE PMI'!J273","v":0},{"$f":"'REPORTE PMI'!G273","v":0},null,null,null,{"$f":"'REPORTE PMI'!L273","v":0},{"$f":"'REPORTE PMI'!M273","v":0},0,null,null,0,null,null,"NO"]
[{"$f":"'REPORTE PMI'!B274","v":0},{"$f":"'REPORTE PMI'!E274","v":0},{"$f":"'REPORTE PMI'!J274","v":0},{"$f":"'REPORTE PMI'!G274","v":0},null,null,null,{"$f":"'REPORTE PMI'!L274","v":0},{"$f":"'REPORTE PMI'!M274","v":0},0,null,null,0,null,null,"NO"]
[{"$f":"'REPORTE PMI'!B275","v":0},{"$f":"'REPORTE PMI'!E275","v":0},{"$f":"'REPORTE PMI'!J275","v":0},{"$f":"'REPORTE PMI'!G275","v":0},null,null,null,{"$f":"'REPORTE PMI'!L275","v":0},{"$f":"'REPORTE PMI'!M275","v":0},0,null,null,0,null,null,"NO"]
[{"$f":"'REPORTE PMI'!B276","v":0},{"$f":"'REPORTE PMI'!E276","v":0},{"$f":"'REPORTE PMI'!J276","v":0},{"$f":"'REPORTE PMI'!G276","v":0},null,null,null,{"$f":"'REPORTE PMI'!L276","v":0},{"$f":"'REPORTE PMI'!M276","v":0},0,null,null,0,null,null,"NO"]
[{"$f":"'REPORTE PMI'!B277","v":0},{"$f":"'REPORTE PMI'!E277","v":0},{"$f":"'REPORTE PMI'!J277","v":0},{"$f":"'REPORTE PMI'!G277","v":0},null,null,null,{"$f":"'REPORTE PMI'!L277","v":0},{"$f":"'REPORTE PMI'!M277","v":0},0,null,null,0,null,null,"NO"]
[{"$f":"'REPORTE PMI'!B278","v":0},{"$f":"'REPORTE PMI'!E278","v":0},{"$f":"'REPORTE PMI'!J278","v":0},{"$f":"'REPORTE PMI'!G278","v":0},null,null,null,{"$f":"'REPORTE PMI'!L278","v":0},{"$f":"'REPORTE PMI'!M278","v":0},0,null,null,0,null,null,"NO"]
[{"$f":"'REPORTE PMI'!B279","v":0},{"$f":"'REPORTE PMI'!E279","v":0},{"$f":"'REPORTE PMI'!J279","v":0},{"$f":"'REPORTE PMI'!G279","v":0},null,null,null,{"$f":"'REPORTE PMI'!L279","v":0},{"$f":"'REPORTE PMI'!M279","v":0},0,null,null,0,null,null,"NO"]
[{"$f":"'REPORTE PMI'!B280","v":0},{"$f":"'REPORTE PMI'!E280","v":0},{"$f":"'REPORTE PMI'!J280","v":0},{"$f":"'REPORTE PMI'!G280","v":0},null,null,null,{"$f":"'REPORTE PMI'!L280","v":0},{"$f":"'REPORTE PMI'!M280","v":0},0,null,null,0,null,null,"NO"]
[{"$f":"'REPORTE PMI'!B281","v":0},{"$f":"'REPORTE PMI'!E281","v":0},{"$f":"'REPORTE PMI'!J281","v":0},{"$f":"'REPORTE PMI'!G281","v":0},null,null,null,{"$f":"'REPORTE PMI'!L281","v":0},{"$f":"'REPORTE PMI'!M281","v":0},0,null,null,0,null,null,"NO"]
[{"$f":"'REPORTE PMI'!B282","v":0},{"$f":"'REPORTE PMI'!E282","v":0},{"$f":"'REPORTE PMI'!J282","v":0},{"$f":"'REPORTE PMI'!G282","v":0},null,null,null,{"$f":"'REPORTE PMI'!L282","v":0},{"$f":"'REPORTE PMI'!M282","v":0},0,null,null,0,null,null,"NO"]
[{"$f":"'REPORTE PMI'!B283","v":0},{"$f":"'REPORTE PMI'!E283","v":0},{"$f":"'REPORTE PMI'!J283","v":0},{"$f":"'REPORTE PMI'!G283","v":0},null,null,null,{"$f":"'REPORTE PMI'!L283","v":0},{"$f":"'REPORTE PMI'!M283","v":0},0,null,null,0,null,null,"NO"]
[{"$f":"'REPORTE PMI'!B284","v":0},{"$f":"'REPORTE PMI'!E284","v":0},{"$f":"'REPORTE PMI'!J284","v":0},{"$f":"'REPORTE PMI'!G284","v":0},null,null,null,{"$f":"'REPORTE PMI'!L284","v":0},{"$f":"'REPORTE PMI'!M284","v":0},0,null,null,0,null,null,"NO"]
[{"$f":"'REPORTE PMI'!B285","v":0},{"$f":"'REPORTE PMI'!E285","v":0},{"$f":"'REPORTE PMI'!J285","v":0},{"$f":"'REPORTE PMI'!G285","v":0},null,null,null,{"$f":"'REPORTE PMI'!L285","v":0},{"$f":"'REPORTE PMI'!M285","v":0},0,null,null,0,null,null,"NO"]
[{"$f":"'REPORTE PMI'!B286","v":0},{"$f":"'REPORTE PMI'!E286","v":0},{"$f":"'REPORTE PMI'!J286","v":0},{"$f":"'REPORTE PMI'!G286","v":0},null,null,null,{"$f":"'REPORTE PMI'!L286","v":0},{"$f":"'REPORTE PMI'!M286","v":0},0,null,null,0,null,null,"NO"]
[{"$f":"'REPORTE PMI'!B287","v":0},{"$f":"'REPORTE PMI'!E287","v":0},{"$f":"'REPORTE PMI'!J287","v":0},{"$f":"'REPORTE PMI'!G287","v":0},null,null,null,{"$f":"'REPORTE PMI'!L287","v":0},{"$f":"'REPORTE PMI'!M287","v":0},0,null,null,0,null,null,"NO"]
[{"$f":"'REPORTE PMI'!B288","v":0},{"$f":"'REPORTE PMI'!E288","v":0},{"$f":"'REPORTE PMI'!J288","v":0},{"$f":"'REPORTE PMI'!G288","v":0},null,null,null,{"$f":"'REPORTE PMI'!L288","v":0},{"$f":"'REPORTE PMI'!M288","v":0},0,null,null,0,null,null,"NO"]
[{"$f":"'REPORTE PMI'!B289","v":0},{"$f":"'REPORTE PMI'!E289","v":0},{"$f":"'REPORTE PMI'!J289","v":0},{"$f":"'REPORTE PMI'!G289","v":0},null,null,null,{"$f":"'REPORTE PMI'!L289","v":0},{"$f":"'REPORTE PMI'!M289","v":0},0,null,null,0,null,null,"NO"]
[{"$f":"'REPORTE PMI'!B290","v":0},{"$f":"'REPORTE PMI'!E290","v":0},{"$f":"'REPORTE PMI'!J290","v":0},{"$f":"'REPORTE PMI'!G290","v":0},null,null,null,{"$f":"'REPORTE PMI'!L290","v":0},{"$f":"'REPORTE PMI'!M290","v":0},0,null,null,0,null,null,"NO"]
[{"$f":"'REPORTE PMI'!B291","v":0},{"$f":"'REPORTE PMI'!E291","v":0},{"$f":"'REPORTE PMI'!J291","v":0},{"$f":"'REPORTE PMI'!G291","v":0},null,null,null,{"$f":"'REPORTE PMI'!L291","v":0},{"$f":"'REPORTE PMI'!M291","v":0},0,null,null,0,null,null,"NO"]
[{"$f":"'REPORTE PMI'!B292","v":0},{"$f":"'REPORTE PMI'!E292","v":0},{"$f":"'REPORTE PMI'!J292","v":0},{"$f":"'REPORTE PMI'!G292","v":0},null,null,null,{"$f":"'REPORTE PMI'!L292","v":0},{"$f":"'REPORTE PMI'!M292","v":0},0,null,null,0,null,null,"NO"]
[{"$f":"'REPORTE PMI'!B293","v":0},{"$f":"'REPORTE PMI'!E293","v":0},{"$f":"'REPORTE PMI'!J293","v":0},{"$f":"'REPORTE PMI'!G293","v":0},null,null,null,{"$f":"'REPORTE PMI'!L293","v":0},{"$f":"'REPORTE PMI'!M293","v":0},0,null,null,0,null,null,"NO"]
[{"$f":"'REPORTE PMI'!B294","v":0},{"$f":"'REPORTE PMI'!E294","v":0},{"$f":"'REPORTE PMI'!J294","v":0},{"$f":"'REPORTE PMI'!G294","v":0},null,null,null,{"$f":"'REPORTE PMI'!L294","v":0},{"$f":"'REPORTE PMI'!M294","v":0},0,null,null,0,null,null,"NO"]
[{"$f":"'REPORTE PMI'!B295","v":0},{"$f":"'REPORTE PMI'!E295","v":0},{"$f":"'REPORTE PMI'!J295","v":0},{"$f":"'REPORTE PMI'!G295","v":0},null,null,null,{"$f":"'REPORTE PMI'!L295","v":0},{"$f":"'REPORTE PMI'!M295","v":0},0,null,null,0,null,null,"NO"]
[{"$f":"'REPORTE PMI'!B296","v":0},{"$f":"'REPORTE PMI'!E296","v":0},{"$f":"'REPORTE PMI'!J296","v":0},{"$f":"'REPORTE PMI'!G296","v":0},null,null,null,{"$f":"'REPORTE PMI'!L296","v":0},{"$f":"'REPORTE PMI'!M296","v":0},0,null,null,0,null,null,"NO"]
[{"$f":"'REPORTE PMI'!B297","v":0},{"$f":"'REPORTE PMI'!E297","v":0},{"$f":"'REPORTE PMI'!J297","v":0},{"$f":"'REPORTE PMI'!G297","v":0},null,null,null,{"$f":"'REPORTE PMI'!L297","v":0},{"$f":"'REPORTE PMI'!M297","v":0},0,null,null,0,null,null,"NO"]
[{"$f":"'REPORTE PMI'!B298","v":0},{"$f":"'REPORTE PMI'!E298","v":0},{"$f":"'REPORTE PMI'!J298","v":0},{"$f":"'REPORTE PMI'!G298","v":0},null,null,null,{"$f":"'REPORTE PMI'!L298","v":0},{"$f":"'REPORTE PMI'!M298","v":0},0,null,null,0,null,null,"NO"]
[{"$f":"'REPORTE PMI'!B299","v":0},{"$f":"'REPORTE PMI'!E299","v":0},{"$f":"'REPORTE PMI'!J299","v":0},{"$f":"'REPORTE PMI'!G299","v":0},null,null,null,{"$f":"'REPORTE PMI'!L299","v":0},{"$f":"'REPORTE PMI'!M299","v":0},0,null,null,0,null,null,"NO"]
[{"$f":"'REPORTE PMI'!B300","v":0},{"$f":"'REPORTE PMI'!E300","v":0},{"$f":"'REPORTE PMI'!J300","v":0},{"$f":"'REPORTE PMI'!G300","v":0},null,null,null,{"$f":"'REPORTE PMI'!L300","v":0},{"$f":"'REPORTE PMI'!M300","v":0},0,null,null,0,null,null,"NO"]
[{"$f":"'REPORTE PMI'!B301","v":0},{"$f":"'REPORTE PMI'!E301","v":0},{"$f":"'REPORTE PMI'!J301","v":0},{"$f":"'REPORTE PMI'!G301","v":0},null,null,null,{"$f":"'REPORTE PMI'!L301","v":0},{"$f":"'REPORTE PMI'!M301","v":0},0,null,null,0,null,null,"NO"]
[{"$f":"'REPORTE PMI'!B302","v":0},{"$f":"'REPORTE PMI'!E302","v":0},{"$f":"'REPORTE PMI'!J302","v":0},{"$f":"'REPORTE PMI'!G302","v":0},null,null,null,{"$f":"'REPORTE PMI'!L302","v":0},{"$f":"'REPORTE PMI'!M302","v":0},0,null,null,0,null,null,"NO"]
[{"$f":"'REPORTE PMI'!B303","v":0},{"$f":"'REPORTE PMI'!E303","v":0},{"$f":"'REPORTE PMI'!J303","v":0},{"$f":"'REPORTE PMI'!G303","v":0},null,null,null,{"$f":"'REPORTE PMI'!L303","v":0},{"$f":"'REPORTE PMI'!M303","v":0},0,null,null,0,null,null,"NO"]
[{"$f":"'REPORTE PMI'!B304","v":0},{"$f":"'REPORTE PMI'!E304","v":0},{"$f":"'REPORTE PMI'!J304","v":0},{"$f":"'REPORTE PMI'!G304","v":0},null,null,null,{"$f":"'REPORTE PMI'!L304","v":0},{"$f":"'REPORTE PMI'!M304","v":0},0,null,null,0,null,null,"NO"]
[{"$f":"'REPORTE PMI'!B305","v":0},{"$f":"'REPORTE PMI'!E305","v":0},{"$f":"'REPORTE PMI'!J305","v":0},{"$f":"'REPORTE PMI'!G305","v":0},null,null,null,{"$f":"'REPORTE PMI'!L305","v":0},{"$f":"'REPORTE PMI'!M305","v":0},0,null,null,0,null,null,"NO"]
[{"$f":"'REPORTE PMI'!B306","v":0},{"$f":"'REPORTE PMI'!E306","v":0},{"$f":"'REPORTE PMI'!J306","v":0},{"$f":"'REPORTE PMI'!G306","v":0},null,null,null,{"$f":"'REPORTE PMI'!L306","v":0},{"$f":"'REPORTE PMI'!M306","v":0},0,null,null,0,null,null,"NO"]
[{"$f":"'REPORTE PMI'!B307","v":0},{"$f":"'REPORTE PMI'!E307","v":0},{"$f":"'REPORTE PMI'!J307","v":0},{"$f":"'REPORTE PMI'!G307","v":0},null,null,null,{"$f":"'REPORTE PMI'!L307","v":0},{"$f":"'REPORTE PMI'!M307","v":0},0,null,null,0,null,null,"NO"]
[{"$f":"'REPORTE PMI'!B308","v":0},{"$f":"'REPORTE PMI'!E308","v":0},{"$f":"'REPORTE PMI'!J308","v":0},{"$f":"'REPORTE PMI'!G308","v":0},null,null,null,{"$f":"'REPORTE PMI'!L308","v":0},{"$f":"'REPORTE PMI'!M308","v":0},0,null,null,0,null,null,"NO"]
[{"$f":"'REPORTE PMI'!B309","v":0},{"$f":"'REPORTE PMI'!E309","v":0},{"$f":"'REPORTE PMI'!J309","v":0},{"$f":"'REPORTE PMI'!G309","v":0},null,null,null,{"$f":"'REPORTE PMI'!L309","v":0},{"$f":"'REPORTE PMI'!M309","v":0},0,null,null,0,null,null,"NO"]
[{"$f":"'REPORTE PMI'!B310","v":0},{"$f":"'REPORTE PMI'!E310","v":0},{"$f":"'REPORTE PMI'!J310","v":0},{"$f":"'REPORTE PMI'!G310","v":0},null,null,null,{"$f":"'REPORTE PMI'!L310","v":0},{"$f":"'REPORTE PMI'!M310","v":0},0,null,null,0,null,null,"NO"]
[{"$f":"'REPORTE PMI'!B311","v":0},{"$f":"'REPORTE PMI'!E311","v":0},{"$f":"'REPORTE PMI'!J311","v":0},{"$f":"'REPORTE PMI'!G311","v":0},null,null,null,{"$f":"'REPORTE PMI'!L311","v":0},{"$f":"'REPORTE PMI'!M311","v":0},0,null,null,0,null,null,"NO"]
[{"$f":"'REPORTE PMI'!B312","v":0},{"$f":"'REPORTE PMI'!E312","v":0},{"$f":"'REPORTE PMI'!J312","v":0},{"$f":"'REPORTE PMI'!G312","v":0},null,null,null,{"$f":"'REPORTE PMI'!L312","v":0},{"$f":"'REPORTE PMI'!M312","v":0},0,null,null,0,null,null,"NO"]
[{"$f":"'REPORTE PMI'!B313","v":0},{"$f":"'REPORTE PMI'!E313","v":0},{"$f":"'REPORTE PMI'!J313","v":0},{"$f":"'REPORTE PMI'!G313","v":0},null,null,null,{"$f":"'REPORTE PMI'!L313","v":0},{"$f":"'REPORTE PMI'!M313","v":0},0,null,null,0,null,null,"NO"]
[{"$f":"'REPORTE PMI'!B314","v":0},{"$f":"'REPORTE PMI'!E314","v":0},{"$f":"'REPORTE PMI'!J314","v":0},{"$f":"'REPORTE PMI'!G314","v":0},null,null,null,{"$f":"'REPORTE PMI'!L314","v":0},{"$f":"'REPORTE PMI'!M314","v":0},0,null,null,0,null,null,"NO"]
[{"$f":"'REPORTE PMI'!B315","v":0},{"$f":"'REPORTE PMI'!E315","v":0},{"$f":"'REPORTE PMI'!J315","v":0},{"$f":"'REPORTE PMI'!G315","v":0},null,null,null,{"$f":"'REPORTE PMI'!L315","v":0},{"$f":"'REPORTE PMI'!M315","v":0},0,null,null,0,null,null,"NO"]
[{"$f":"'REPORTE PMI'!B316","v":0},{"$f":"'REPORTE PMI'!E316","v":0},{"$f":"'REPORTE PMI'!J316","v":0},{"$f":"'REPORTE PMI'!G316","v":0},null,null,null,{"$f":"'REPORTE PMI'!L316","v":0},{"$f":"'REPORTE PMI'!M316","v":0},0,null,null,0,null,null,"NO"]
[{"$f":"'REPORTE PMI'!B317","v":0},{"$f":"'REPORTE PMI'!E317","v":0},{"$f":"'REPORTE PMI'!J317","v":0},{"$f":"'REPORTE PMI'!G317","v":0},null,null,null,{"$f":"'REPORTE PMI'!L317","v":0},{"$f":"'REPORTE PMI'!M317","v":0},0,null,null,0,null,null,"NO"]
[{"$f":"'REPORTE PMI'!B318","v":0},{"$f":"'REPORTE PMI'!E318","v":0},{"$f":"'REPORTE PMI'!J318","v":0},{"$f":"'REPORTE PMI'!G318","v":0},null,null,null,{"$f":"'REPORTE PMI'!L318","v":0},{"$f":"'REPORTE PMI'!M318","v":0},0,null,null,0,null,null,"NO"]
[{"$f":"'REPORTE PMI'!B319","v":0},{"$f":"'REPORTE PMI'!E319","v":0},{"$f":"'REPORTE PMI'!J319","v":0},{"$f":"'REPORTE PMI'!G319","v":0},null,null,null,{"$f":"'REPORTE PMI'!L319","v":0},{"$f":"'REPORTE PMI'!M319","v":0},0,null,null,0,null,null,"NO"]
[{"$f":"'REPORTE PMI'!B320","v":0},{"$f":"'REPORTE PMI'!E320","v":0},{"$f":"'REPORTE PMI'!J320","v":0},{"$f":"'REPORTE PMI'!G320","v":0},null,null,null,{"$f":"'REPORTE PMI'!L320","v":0},{"$f":"'REPORTE PMI'!M320","v":0},0,null,null,0,null,null,"NO"]
[{"$f":"'REPORTE PMI'!B321","v":0},{"$f":"'REPORTE PMI'!E321","v":0},{"$f":"'REPORTE PMI'!J321","v":0},{"$f":"'REPORTE PMI'!G321","v":0},null,null,null,{"$f":"'REPORTE PMI'!L321","v":0},{"$f":"'REPORTE PMI'!M321","v":0},0,null,null,0,null,null,"NO"]
[{"$f":"'REPORTE PMI'!B322","v":0},{"$f":"'REPORTE PMI'!E322","v":0},{"$f":"'REPORTE PMI'!J322","v":0},{"$f":"'REPORTE PMI'!G322","v":0},null,null,null,{"$f":"'REPORTE PMI'!L322","v":0},{"$f":"'REPORTE PMI'!M322","v":0},0,null,null,0,null,null,"NO"]
[{"$f":"'REPORTE PMI'!B323","v":0},{"$f":"'REPORTE PMI'!E323","v":0},{"$f":"'REPORTE PMI'!J323","v":0},{"$f":"'REPORTE PMI'!G323","v":0},null,null,null,{"$f":"'REPORTE PMI'!L323","v":0},{"$f":"'REPORTE PMI'!M323","v":0},0,null,null,0,null,null,"NO"]
[{"$f":"'REPORTE PMI'!B324","v":0},{"$f":"'REPORTE PMI'!E324","v":0},{"$f":"'REPORTE PMI'!J324","v":0},{"$f":"'REPORTE PMI'!G324","v":0},null,null,null,{"$f":"'REPORTE PMI'!L324","v":0},{"$f":"'REPORTE PMI'!M324","v":0},{"$f":"IFERROR(I333/H333, 0)","v":0},null,null,{"$f":"H333-I333","v":0},null,null,{"$f":"IF(E333=\"SI\",IF(J333>0%,IF(K333=\"SI\",IF(L333=\"NO\",IF(N333=\"SI\",IF(O333=\"NO\",\"SI\",\"NO\"),\"NO\"),\"NO\"),\"NO\"),\"NO\"),\"NO\")","v":"NO"}]
[{"$f":"'REPORTE PMI'!B325","v":0},{"$f":"'REPORTE PMI'!E325","v":0},{"$f":"'REPORTE PMI'!J325","v":0},{"$f":"'REPORTE PMI'!G325","v":0},null,null,null,{"$f":"'REPORTE PMI'!L325","v":0},{"$f":"'REPORTE PMI'!M325","v":0},0,null,null,0,null,null,"NO"]
[{"$f":"'REPORTE PMI'!B326","v":0},{"$f":"'REPORTE PMI'!E326","v":0},{"$f":"'REPORTE PMI'!J326","v":0},{"$f":"'REPORTE PMI'!G326","v":0},null,null,null,{"$f":"'REPORTE PMI'!L326","v":0},{"$f":"'REPORTE PMI'!M326","v":0},0,null,null,0,null,null,"NO"]
[{"$f":"'REPORTE PMI'!B327","v":0},{"$f":"'REPORTE PMI'!E327","v":0},{"$f":"'REPORTE PMI'!J327","v":0},{"$f":"'REPORTE PMI'!G327","v":0},null,null,null,{"$f":"'REPORTE PMI'!L327","v":0},{"$f":"'REPORTE PMI'!M327","v":0},0,null,null,0,null,null,"NO"]
[{"$f":"'REPORTE PMI'!B328","v":0},{"$f":"'REPORTE PMI'!E328","v":0},{"$f":"'REPORTE PMI'!J328","v":0},{"$f":"'REPORTE PMI'!G328","v":0},null,null,null,{"$f":"'REPORTE PMI'!L328","v":0},{"$f":"'REPORTE PMI'!M328","v":0},0,null,null,0,null,null,"NO"]
[{"$f":"'REPORTE PMI'!B329","v":0},{"$f":"'REPORTE PMI'!E329","v":0},{"$f":"'REPORTE PMI'!J329","v":0},{"$f":"'REPORTE PMI'!G329","v":0},null,null,null,{"$f":"'REPORTE PMI'!L329","v":0},{"$f":"'REPORTE PMI'!M329","v":0},0,null,null,0,null,null,"NO"]
[{"$f":"'REPORTE PMI'!B330","v":0},{"$f":"'REPORTE PMI'!E330","v":0},{"$f":"'REPORTE PMI'!J330","v":0},{"$f":"'REPORTE PMI'!G330","v":0},null,null,null,{"$f":"'REPORTE PMI'!L330","v":0},{"$f":"'REPORTE PMI'!M330","v":0},0,null,null,0,null,null,"NO"]
[{"$f":"'REPORTE PMI'!B331","v":0},{"$f":"'REPORTE PMI'!E331","v":0},{"$f":"'REPORTE PMI'!J331","v":0},{"$f":"'REPORTE PMI'!G331","v":0},null,null,null,{"$f":"'REPORTE PMI'!L331","v":0},{"$f":"'REPORTE PMI'!M331","v":0},0,null,null,0,null,null,"NO"]
[{"$f":"'REPORTE PMI'!B332","v":0},{"$f":"'REPORTE PMI'!E332","v":0},{"$f":"'REPORTE PMI'!J332","v":0},{"$f":"'REPORTE PMI'!G332","v":0},null,null,null,{"$f":"'REPORTE PMI'!L332","v":0},{"$f":"'REPORTE PMI'!M332","v":0},0,null,null,0,null,null,"NO"]
[{"$f":"'REPORTE PMI'!B333","v":0},{"$f":"'REPORTE PMI'!E333","v":0},{"$f":"'REPORTE PMI'!J333","v":0},{"$f":"'REPORTE PMI'!G333","v":0},null,null,null,{"$f":"'REPORTE PMI'!L333","v":0},{"$f":"'REPORTE PMI'!M333","v":0},0,null,null,0,null,null,"NO"]
[{"$f":"'REPORTE PMI'!B334","v":0},{"$f":"'REPORTE PMI'!E334","v":0},{"$f":"'REPORTE PMI'!J334","v":0},{"$f":"'REPORTE PMI'!G334","v":0},null,null,null,{"$f":"'REPORTE PMI'!L334","v":0},{"$f":"'REPORTE PMI'!M334","v":0},0,null,null,0,null,null,"NO"]
[{"$f":"'REPORTE PMI'!B335","v":0},{"$f":"'REPORTE PMI'!E335","v":0},{"$f":"'REPORTE PMI'!J335","v":0},{"$f":"'REPORTE PMI'!G335","v":0},null,null,null,{"$f":"'REPORTE PMI'!L335","v":0},{"$f":"'REPORTE PMI'!M335","v":0},0,null,null,0,null,null,"NO"]
[{"$f":"'REPORTE PMI'!B336","v":0},{"$f":"'REPORTE PMI'!E336","v":0},{"$f":"'REPORTE PMI'!J336","v":0},{"$f":"'REPORTE PMI'!G336","v":0},null,null,null,{"$f":"'REPORTE PMI'!L336","v":0},{"$f":"'REPORTE PMI'!M336","v":0},0,null,null,0,null,null,"NO"]
[{"$f":"'REPORTE PMI'!B337","v":0},{"$f":"'REPORTE PMI'!E337","v":0},{"$f":"'REPORTE PMI'!J337","v":0},{"$f":"'REPORTE PMI'!G337","v":0},null,null,null,{"$f":"'REPORTE PMI'!L337","v":0},{"$f":"'REPORTE PMI'!M337","v":0},0,null,null,0,null,null,"NO"]
[{"$f":"'REPORTE PMI'!B338","v":0},{"$f":"'REPORTE PMI'!E338","v":0},{"$f":"'REPORTE PMI'!J338","v":0},{"$f":"'REPORTE PMI'!G338","v":0},null,null,null,{"$f":"'REPORTE PMI'!L338","v":0},{"$f":"'REPORTE PMI'!M338","v":0},0,null,null,0,null,null,"NO"]
[{"$f":"'REPORTE PMI'!B339","v":0},{"$f":"'REPORTE PMI'!E339","v":0},{"$f":"'REPORTE PMI'!J339","v":0},{"$f":"'REPORTE PMI'!G339","v":0},null,null,null,{"$f":"'REPORTE PMI'!L339","v":0},{"$f":"'REPORTE PMI'!M339","v":0},0,null,null,0,null,null,"NO"]
[{"$f":"'REPORTE PMI'!B340","v":0},{"$f":"'REPORTE PMI'!E340","v":0},{"$f":"'REPORTE PMI'!J340","v":0},{"$f":"'REPORTE PMI'!G340","v":0},null,null,null,{"$f":"'REPORTE PMI'!L340","v":0},{"$f":"'REPORTE PMI'!M340","v":0},0,null,null,0,null,null,"NO"]
[{"$f":"'REPORTE PMI'!B341","v":0},{"$f":"'REPORTE PMI'!E341","v":0},{"$f":"'REPORTE PMI'!J341","v":0},{"$f":"'REPORTE PMI'!G341","v":0},null,null,null,{"$f":"'REPORTE PMI'!L341","v":0},{"$f":"'REPORTE PMI'!M341","v":0},0,null,null,0,null,null,"NO"]
[{"$f":"'REPORTE PMI'!B342","v":0},{"$f":"'REPORTE PMI'!E342","v":0},{"$f":"'REPORTE PMI'!J342","v":0},{"$f":"'REPORTE PMI'!G342","v":0},null,null,null,{"$f":"'REPORTE PMI'!L342","v":0},{"$f":"'REPORTE PMI'!M342","v":0},0,null,null,0,null,null,"NO"]
[{"$f":"'REPORTE PMI'!B343","v":0},{"$f":"'REPORTE PMI'!E343","v":0},{"$f":"'REPORTE PMI'!J343","v":0},{"$f":"'REPORTE PMI'!G343","v":0},null,null,null,{"$f":"'REPORTE PMI'!L343","v":0},{"$f":"'REPORTE PMI'!M343","v":0},0,null,null,0,null,null,"NO"]
[{"$f":"'REPORTE PMI'!B344","v":0},{"$f":"'REPORTE PMI'!E344","v":0},{"$f":"'REPORTE PMI'!J344","v":0},{"$f":"'REPORTE PMI'!G344","v":0},null,null,null,{"$f":"'REPORTE PMI'!L344","v":0},{"$f":"'REPORTE PMI'!M344","v":0},0,null,null,0,null,null,"NO"]
[{"$f":"'REPORTE PMI'!B345","v":0},{"$f":"'REPORTE PMI'!E345","v":0},{"$f":"'REPORTE PMI'!J345","v":0},{"$f":"'REPORTE PMI'!G345","v":0},null,null,null,{"$f":"'REPORTE PMI'!L345","v":0},{"$f":"'REPORTE PMI'!M345","v":0},0,null,null,0,null,null,"NO"]
[{"$f":"'REPORTE PMI'!B346","v":0},{"$f":"'REPORTE PMI'!E346","v":0},{"$f":"'REPORTE PMI'!J346","v":0},{"$f":"'REPORTE PMI'!G346","v":0},null,null,null,{"$f":"'REPORTE PMI'!L346","v":0},{"$f":"'REPORTE PMI'!M346","v":0},0,null,null,0,null,null,"NO"]
[{"$f":"'REPORTE PMI'!B347","v":0},{"$f":"'REPORTE PMI'!E347","v":0},{"$f":"'REPORTE PMI'!J347","v":0},{"$f":"'REPORTE PMI'!G347","v":0},null,null,null,{"$f":"'REPORTE PMI'!L347","v":0},{"$f":"'REPORTE PMI'!M347","v":0},0,null,null,0,null,null,"NO"]
[{"$f":"'REPORTE PMI'!B348","v":0},{"$f":"'REPORTE PMI'!E348","v":0},{"$f":"'REPORTE PMI'!J348","v":0},{"$f":"'REPORTE PMI'!G348","v":0},null,null,null,{"$f":"'REPORTE PMI'!L348","v":0},{"$f":"'REPORTE PMI'!M348","v":0},0,null,null,0,null,null,"NO"]
[{"$f":"'REPORTE PMI'!B349","v":0},{"$f":"'REPORTE PMI'!E349","v":0},{"$f":"'REPORTE PMI'!J349","v":0},{"$f":"'REPORTE PMI'!G349","v":0},null,null,null,{"$f":"'REPORTE PMI'!L349","v":0},{"$f":"'REPORTE PMI'!M349","v":0},0,null,null,0,null,null,"NO"]
[{"$f":"'REPORTE PMI'!B350","v":0},{"$f":"'REPORTE PMI'!E350","v":0},{"$f":"'REPORTE PMI'!J350","v":0},{"$f":"'REPORTE PMI'!G350","v":0},null,null,null,{"$f":"'REPORTE PMI'!L350","v":0},{"$f":"'REPORTE PMI'!M350","v":0},0,null,null,0,null,null,"NO"]
[{"$f":"'REPORTE PMI'!B351","v":0},{"$f":"'REPORTE PMI'!E351","v":0},{"$f":"'REPORTE PMI'!J351","v":0},{"$f":"'REPORTE PMI'!G351","v":0},null,null,null,{"$f":"'REPORTE PMI'!L351","v":0},{"$f":"'REPORTE PMI'!M351","v":0},0,null,null,0,null,null,"NO"]
[{"$f":"'REPORTE PMI'!B352","v":0},{"$f":"'REPORTE PMI'!E352","v":0},{"$f":"'REPORTE PMI'!J352","v":0},{"$f":"'REPORTE PMI'!G352","v":0},null,null,null,{"$f":"'REPORTE PMI'!L352","v":0},{"$f":"'REPORTE PMI'!M352","v":0},0,null,null,0,null,null,"NO"]
[{"$f":"'REPORTE PMI'!B353","v":0},{"$f":"'REPORTE PMI'!E353","v":0},{"$f":"'REPORTE PMI'!J353","v":0},{"$f":"'REPORTE PMI'!G353","v":0},null,null,null,{"$f":"'REPORTE PMI'!L353","v":0},{"$f":"'REPORTE PMI'!M353","v":0},0,null,null,0,null,null,"NO"]
[{"$f":"'REPORTE PMI'!B354","v":0},{"$f":"'REPORTE PMI'!E354","v":0},{"$f":"'REPORTE PMI'!J354","v":0},{"$f":"'REPORTE PMI'!G354","v":0},null,null,null,{"$f":"'REPORTE PMI'!L354","v":0},{"$f":"'REPORTE PMI'!M354","v":0},0,null,null,0,null,null,"NO"]
[{"$f":"'REPORTE PMI'!B355","v":0},{"$f":"'REPORTE PMI'!E355","v":0},{"$f":"'REPORTE PMI'!J355","v":0},{"$f":"'REPORTE PMI'!G355","v":0},null,null,null,{"$f":"'REPORTE PMI'!L355","v":0},{"$f":"'REPORTE PMI'!M355","v":0},0,null,null,0,null,null,"NO"]
[{"$f":"'REPORTE PMI'!B356","v":0},{"$f":"'REPORTE PMI'!E356","v":0},{"$f":"'REPORTE PMI'!J356","v":0},{"$f":"'REPORTE PMI'!G356","v":0},null,null,null,{"$f":"'REPORTE PMI'!L356","v":0},{"$f":"'REPORTE PMI'!M356","v":0},0,null,null,0,null,null,"NO"]
[{"$f":"'REPORTE PMI'!B357","v":0},{"$f":"'REPORTE PMI'!E357","v":0},{"$f":"'REPORTE PMI'!J357","v":0},{"$f":"'REPORTE PMI'!G357","v":0},null,null,null,{"$f":"'REPORTE PMI'!L357","v":0},{"$f":"'REPORTE PMI'!M357","v":0},0,null,null,0,null,null,"NO"]
[{"$f":"'REPORTE PMI'!B358","v":0},{"$f":"'REPORTE PMI'!E358","v":0},{"$f":"'REPORTE PMI'!J358","v":0},{"$f":"'REPORTE PMI'!G358","v":0},null,null,null,{"$f":"'REPORTE PMI'!L358","v":0},{"$f":"'REPORTE PMI'!M358","v":0},0,null,null,0,null,null,"NO"]
[{"$f":"'REPORTE PMI'!B359","v":0},{"$f":"'REPORTE PMI'!E359","v":0},{"$f":"'REPORTE PMI'!J359","v":0},{"$f":"'REPORTE PMI'!G359","v":0},null,null,null,{"$f":"'REPORTE PMI'!L359","v":0},{"$f":"'REPORTE PMI'!M359","v":0},0,null,null,0,null,null,"NO"]
[{"$f":"'REPORTE PMI'!B360","v":0},{"$f":"'REPORTE PMI'!E360","v":0},{"$f":"'REPORTE PMI'!J360","v":0},{"$f":"'REPORTE PMI'!G360","v":0},null,null,null,{"$f":"'REPORTE PMI'!L360","v":0},{"$f":"'REPORTE PMI'!M360","v":0},0,null,null,0,null,null,"NO"]
[{"$f":"'REPORTE PMI'!B361","v":0},{"$f":"'REPORTE PMI'!E361","v":0},{"$f":"'REPORTE PMI'!J361","v":0},{"$f":"'REPORTE PMI'!G361","v":0},null,null,null,{"$f":"'REPORTE PMI'!L361","v":0},{"$f":"'REPORTE PMI'!M361","v":0},0,null,null,0,null,null,"NO"]
[{"$f":"'REPORTE PMI'!B362","v":0},{"$f":"'REPORTE PMI'!E362","v":0},{"$f":"'REPORTE PMI'!J362","v":0},{"$f":"'REPORTE PMI'!G362","v":0},null,null,null,{"$f":"'REPORTE PMI'!L362","v":0},{"$f":"'REPORTE PMI'!M362","v":0},0,null,null,0,null,null,"NO"]
[{"$f":"'REPORTE PMI'!B363","v":0},{"$f":"'REPORTE PMI'!E363","v":0},{"$f":"'REPORTE PMI'!J363","v":0},{"$f":"'REPORTE PMI'!G363","v":0},null,null,null,{"$f":"'REPORTE PMI'!L363","v":0},{"$f":"'REPORTE PMI'!M363","v":0},0,null,null,0,null,null,"NO"]
[{"$f":"'REPORTE PMI'!B364","v":0},{"$f":"'REPORTE PMI'!E364","v":0},{"$f":"'REPORTE PMI'!J364","v":0},{"$f":"'REPORTE PMI'!G364","v":0},null,null,null,{"$f":"'REPORTE PMI'!L364","v":0},{"$f":"'REPORTE PMI'!M364","v":0},0,null,null,0,null,null,"NO"]
[{"$f":"'REPORTE PMI'!B365","v":0},{"$f":"'REPORTE PMI'!E365","v":0},{"$f":"'REPORTE PMI'!J365","v":0},{"$f":"'REPORTE PMI'!G365","v":0},null,null,null,{"$f":"'REPORTE PMI'!L365","v":0},{"$f":"'REPORTE PMI'!M365","v":0},0,null,null,0,null,null,"NO"]
[{"$f":"'REPORTE PMI'!B366","v":0},{"$f":"'REPORTE PMI'!E366","v":0},{"$f":"'REPORTE PMI'!J366","v":0},{"$f":"'REPORTE PMI'!G366","v":0},null,null,null,{"$f":"'REPORTE PMI'!L366","v":0},{"$f":"'REPORTE PMI'!M366","v":0},0,null,null,0,null,null,"NO"]
[{"$f":"'REPORTE PMI'!B367","v":0},{"$f":"'REPORTE PMI'!E367","v":0},{"$f":"'REPORTE PMI'!J367","v":0},{"$f":"'REPORTE PMI'!G367","v":0},null,null,null,{"$f":"'REPORTE PMI'!L367","v":0},{"$f":"'REPORTE PMI'!M367","v":0},0,null,null,0,null,null,"NO"]
[{"$f":"'REPORTE PMI'!B368","v":0},{"$f":"'REPORTE PMI'!E368","v":0},{"$f":"'REPORTE PMI'!J368","v":0},{"$f":"'REPORTE PMI'!G368","v":0},null,null,null,{"$f":"'REPORTE PMI'!L368","v":0},{"$f":"'REPORTE PMI'!M368","v":0},0,null,null,0,null,null,"NO"]
[{"$f":"'REPORTE PMI'!B369","v":0},{"$f":"'REPORTE PMI'!E369","v":0},{"$f":"'REPORTE PMI'!J369","v":0},{"$f":"'REPORTE PMI'!G369","v":0},null,null,null,{"$f":"'REPORTE PMI'!L369","v":0},{"$f":"'REPORTE PMI'!M369","v":0},0,null,null,0,null,null,"NO"]
[{"$f":"'REPORTE PMI'!B370","v":0},{"$f":"'REPORTE PMI'!E370","v":0},{"$f":"'REPORTE PMI'!J370","v":0},{"$f":"'REPORTE PMI'!G370","v":0},null,null,null,{"$f":"'REPORTE PMI'!L370","v":0},{"$f":"'REPORTE PMI'!M370","v":0},0,null,null,0,null,null,"NO"]
[{"$f":"'REPORTE PMI'!B371","v":0},{"$f":"'REPORTE PMI'!E371","v":0},{"$f":"'REPORTE PMI'!J371","v":0},{"$f":"'REPORTE PMI'!G371","v":0},null,null,null,{"$f":"'REPORTE PMI'!L371","v":0},{"$f":"'REPORTE PMI'!M371","v":0},0,null,null,0,null,null,"NO"]
[{"$f":"'REPORTE PMI'!B372","v":0},{"$f":"'REPORTE PMI'!E372","v":0},{"$f":"'REPORTE PMI'!J372","v":0},{"$f":"'REPORTE PMI'!G372","v":0},null,null,null,{"$f":"'REPORTE PMI'!L372","v":0},{"$f":"'REPORTE PMI'!M372","v":0},0,null,null,0,null,null,"NO"]
[{"$f":"'REPORTE PMI'!B373","v":0},{"$f":"'REPORTE PMI'!E373","v":0},{"$f":"'REPORTE PMI'!J373","v":0},{"$f":"'REPORTE PMI'!G373","v":0},null,null,null,{"$f":"'REPORTE PMI'!L373","v":0},{"$f":"'REPORTE PMI'!M373","v":0},0,null,null,0,null,null,"NO"]
[{"$f":"'REPORTE PMI'!B374","v":0},{"$f":"'REPORTE PMI'!E374","v":0},{"$f":"'REPORTE PMI'!J374","v":0},{"$f":"'REPORTE PMI'!G374","v":0},null,null,null,{"$f":"'REPORTE PMI'!L374","v":0},{"$f":"'REPORTE PMI'!M374","v":0},0,null,null,0,null,null,"NO"]
[{"$f":"'REPORTE PMI'!B375","v":0},{"$f":"'REPORTE PMI'!E375","v":0},{"$f":"'REPORTE PMI'!J375","v":0},{"$f":"'REPORTE PMI'!G375","v":0},null,null,null,{"$f":"'REPORTE PMI'!L375","v":0},{"$f":"'REPORTE PMI'!M375","v":0},0,null,null,0,null,null,"NO"]
[{"$f":"'REPORTE PMI'!B376","v":0},{"$f":"'REPORTE PMI'!E376","v":0},{"$f":"'REPORTE PMI'!J376","v":0},{"$f":"'REPORTE PMI'!G376","v":0},null,null,null,{"$f":"'REPORTE PMI'!L376","v":0},{"$f":"'REPORTE PMI'!M376","v":0},0,null,null,0,null,null,"NO"]
[{"$f":"'REPORTE PMI'!B377","v":0},{"$f":"'REPORTE PMI'!E377","v":0},{"$f":"'REPORTE PMI'!J377","v":0},{"$f":"'REPORTE PMI'!G377","v":0},null,null,null,{"$f":"'REPORTE PMI'!L377","v":0},{"$f":"'REPORTE PMI'!M377","v":0},0,null,null,0,null,null,"NO"]
[{"$f":"'REPORTE PMI'!B378","v":0},{"$f":"'REPORTE PMI'!E378","v":0},{"$f":"'REPORTE PMI'!J378","v":0},{"$f":"'REPORTE PMI'!G378","v":0},null,null,null,{"$f":"'REPORTE PMI'!L378","v":0},{"$f":"'REPORTE PMI'!M378","v":0},0,null,null,0,null,null,"NO"]
[{"$f":"'REPORTE PMI'!B379","v":0},{"$f":"'REPORTE PMI'!E379","v":0},{"$f":"'REPORTE PMI'!J379","v":0},{"$f":"'REPORTE PMI'!G379","v":0},null,null,null,{"$f":"'REPORTE PMI'!L379","v":0},{"$f":"'REPORTE PMI'!M379","v":0},0,null,null,0,null,null,"NO"]
[{"$f":"'REPORTE PMI'!B380","v":0},{"$f":"'REPORTE PMI'!E380","v":0},{"$f":"'REPORTE PMI'!J380","v":0},{"$f":"'REPORTE PMI'!G380","v":0},null,null,null,{"$f":"'REPORTE PMI'!L380","v":0},{"$f":"'REPORTE PMI'!M380","v":0},0,null,null,0,null,null,"NO"]
[{"$f":"'REPORTE PMI'!B381","v":0},{"$f":"'REPORTE PMI'!E381","v":0},{"$f":"'REPORTE PMI'!J381","v":0},{"$f":"'REPORTE PMI'!G381","v":0},null,null,null,{"$f":"'REPORTE PMI'!L381","v":0},{"$f":"'REPORTE PMI'!M381","v":0},0,null,null,0,null,null,"NO"]
[{"$f":"'REPORTE PMI'!B382","v":0},{"$f":"'REPORTE PMI'!E382","v":0},{"$f":"'REPORTE PMI'!J382","v":0},{"$f":"'REPORTE PMI'!G382","v":0},null,null,null,{"$f":"'REPORTE PMI'!L382","v":0},{"$f":"'REPORTE PMI'!M382","v":0},0,null,null,0,null,null,"NO"]
[{"$f":"'REPORTE PMI'!B383","v":0},{"$f":"'REPORTE PMI'!E383","v":0},{"$f":"'REPORTE PMI'!J383","v":0},{"$f":"'REPORTE PMI'!G383","v":0},null,null,null,{"$f":"'REPORTE PMI'!L383","v":0},{"$f":"'REPORTE PMI'!M383","v":0},0,null,null,0,null,null,"NO"]
[{"$f":"'REPORTE PMI'!B384","v":0},{"$f":"'REPORTE PMI'!E384","v":0},{"$f":"'REPORTE PMI'!J384","v":0},{"$f":"'REPORTE PMI'!G384","v":0},null,null,null,{"$f":"'REPORTE PMI'!L384","v":0},{"$f":"'REPORTE PMI'!M384","v":0},0,null,null,0,null,null,"NO"]
[{"$f":"'REPORTE PMI'!B385","v":0},{"$f":"'REPORTE PMI'!E385","v":0},{"$f":"'REPORTE PMI'!J385","v":0},{"$f":"'REPORTE PMI'!G385","v":0},null,null,null,{"$f":"'REPORTE PMI'!L385","v":0},{"$f":"'REPORTE PMI'!M385","v":0},0,null,null,0,null,null,"NO"]
[{"$f":"'REPORTE PMI'!B386","v":0},{"$f":"'REPORTE PMI'!E386","v":0},{"$f":"'REPORTE PMI'!J386","v":0},{"$f":"'REPORTE PMI'!G386","v":0},null,null,null,{"$f":"'REPORTE PMI'!L386","v":0},{"$f":"'REPORTE PMI'!M386","v":0},0,null,null,0,null,null,"NO"]
[{"$f":"'REPORTE PMI'!B387","v":0},{"$f":"'REPORTE PMI'!E387","v":0},{"$f":"'REPORTE PMI'!J387","v":0},{"$f":"'REPORTE PMI'!G387","v":0},null,null,null,{"$f":"'REPORTE PMI'!L387","v":0},{"$f":"'REPORTE PMI'!M387","v":0},0,null,null,0,null,null,"NO"]
[{"$f":"'REPORTE PMI'!B388","v":0},{"$f":"'REPORTE PMI'!E388","v":0},{"$f":"'REPORTE PMI'!J388","v":0},{"$f":"'REPORTE PMI'!G388","v":0},null,null,null,{"$f":"'REPORTE PMI'!L388","v":0},{"$f":"'REPORTE PMI'!M388","v":0},{"$f":"IFERROR(I397/H397, 0)","v":0},null,null,{"$f":"H397-I397","v":0},null,null,{"$f":"IF(E397=\"SI\",IF(J397>0%,IF(K397=\"SI\",IF(L397=\"NO\",IF(N397=\"SI\",IF(O397=\"NO\",\"SI\",\"NO\"),\"NO\"),\"NO\"),\"NO\"),\"NO\"),\"NO\")","v":"NO"}]
[{"$f":"'REPORTE PMI'!B389","v":0},{"$f":"'REPORTE PMI'!E389","v":0},{"$f":"'REPORTE PMI'!J389","v":0},{"$f":"'REPORTE PMI'!G389","v":0},null,null,null,{"$f":"'REPORTE PMI'!L389","v":0},{"$f":"'REPORTE PMI'!M389","v":0},0,null,null,0,null,null,"NO"]
[{"$f":"'REPORTE PMI'!B390","v":0},{"$f":"'REPORTE PMI'!E390","v":0},{"$f":"'REPORTE PMI'!J390","v":0},{"$f":"'REPORTE PMI'!G390","v":0},null,null,null,{"$f":"'REPORTE PMI'!L390","v":0},{"$f":"'REPORTE PMI'!M390","v":0},0,null,null,0,null,null,"NO"]
[{"$f":"'REPORTE PMI'!B391","v":0},{"$f":"'REPORTE PMI'!E391","v":0},{"$f":"'REPORTE PMI'!J391","v":0},{"$f":"'REPORTE PMI'!G391","v":0},null,null,null,{"$f":"'REPORTE PMI'!L391","v":0},{"$f":"'REPORTE PMI'!M391","v":0},0,null,null,0,null,null,"NO"]
[{"$f":"'REPORTE PMI'!B392","v":0},{"$f":"'REPORTE PMI'!E392","v":0},{"$f":"'REPORTE PMI'!J392","v":0},{"$f":"'REPORTE PMI'!G392","v":0},null,null,null,{"$f":"'REPORTE PMI'!L392","v":0},{"$f":"'REPORTE PMI'!M392","v":0},0,null,null,0,null,null,"NO"]
[{"$f":"'REPORTE PMI'!B393","v":0},{"$f":"'REPORTE PMI'!E393","v":0},{"$f":"'REPORTE PMI'!J393","v":0},{"$f":"'REPORTE PMI'!G393","v":0},null,null,null,{"$f":"'REPORTE PMI'!L393","v":0},{"$f":"'REPORTE PMI'!M393","v":0},0,null,null,0,null,null,"NO"]
[{"$f":"'REPORTE PMI'!B394","v":0},{"$f":"'REPORTE PMI'!E394","v":0},{"$f":"'REPORTE PMI'!J394","v":0},{"$f":"'REPORTE PMI'!G394","v":0},null,null,null,{"$f":"'REPORTE PMI'!L394","v":0},{"$f":"'REPORTE PMI'!M394","v":0},0,null,null,0,null,null,"NO"]
[{"$f":"'REPORTE PMI'!B395","v":0},{"$f":"'REPORTE PMI'!E395","v":0},{"$f":"'REPORTE PMI'!J395","v":0},{"$f":"'REPORTE PMI'!G395","v":0},null,null,null,{"$f":"'REPORTE PMI'!L395","v":0},{"$f":"'REPORTE PMI'!M395","v":0},0,null,null,0,null,null,"NO"]
[{"$f":"'REPORTE PMI'!B396","v":0},{"$f":"'REPORTE PMI'!E396","v":0},{"$f":"'REPORTE PMI'!J396","v":0},{"$f":"'REPORTE PMI'!G396","v":0},null,null,null,{"$f":"'REPORTE PMI'!L396","v":0},{"$f":"'REPORTE PMI'!M396","v":0},0,null,null,0,null,null,"NO"]
[{"$f":"'REPORTE PMI'!B397","v":0},{"$f":"'REPORTE PMI'!E397","v":0},{"$f":"'REPORTE PMI'!J397","v":0},{"$f":"'REPORTE PMI'!G397","v":0},null,null,null,{"$f":"'REPORTE PMI'!L397","v":0},{"$f":"'REPORTE PMI'!M397","v":0},0,null,null,0,null,null,"NO"]
[{"$f":"'REPORTE PMI'!B398","v":0},{"$f":"'REPORTE PMI'!E398","v":0},{"$f":"'REPORTE PMI'!J398","v":0},{"$f":"'REPORTE PMI'!G398","v":0},null,null,null,{"$f":"'REPORTE PMI'!L398","v":0},{"$f":"'REPORTE PMI'!M398","v":0},0,null,null,0,null,null,"NO"]
[{"$f":"'REPORTE PMI'!B399","v":0},{"$f":"'REPORTE PMI'!E399","v":0},{"$f":"'REPORTE PMI'!J399","v":0},{"$f":"'REPORTE PMI'!G399","v":0},null,null,null,{"$f":"'REPORTE PMI'!L399","v":0},{"$f":"'REPORTE PMI'!M399","v":0},0,null,null,0,null,null,"NO"]
[{"$f":"'REPORTE PMI'!B400","v":0},{"$f":"'REPORTE PMI'!E400","v":0},{"$f":"'REPORTE PMI'!J400","v":0},{"$f":"'REPORTE PMI'!G400","v":0},null,null,null,{"$f":"'REPORTE PMI'!L400","v":0},{"$f":"'REPORTE PMI'!M400","v":0},0,null,null,0,null,null,"NO"]
[{"$f":"'REPORTE PMI'!B401","v":0},{"$f":"'REPORTE PMI'!E401","v":0},{"$f":"'REPORTE PMI'!J401","v":0},{"$f":"'REPORTE PMI'!G401","v":0},null,null,null,{"$f":"'REPORTE PMI'!L401","v":0},{"$f":"'REPORTE PMI'!M401","v":0},0,null,null,0,null,null,"NO"]
[{"$f":"'REPORTE PMI'!B402","v":0},{"$f":"'REPORTE PMI'!E402","v":0},{"$f":"'REPORTE PMI'!J402","v":0},{"$f":"'REPORTE PMI'!G402","v":0},null,null,null,{"$f":"'REPORTE PMI'!L402","v":0},{"$f":"'REPORTE PMI'!M402","v":0},0,null,null,0,null,null,"NO"]
[{"$f":"'REPORTE PMI'!B403","v":0},{"$f":"'REPORTE PMI'!E403","v":0},{"$f":"'REPORTE PMI'!J403","v":0},{"$f":"'REPORTE PMI'!G403","v":0},null,null,null,{"$f":"'REPORTE PMI'!L403","v":0},{"$f":"'REPORTE PMI'!M403","v":0},0,null,null,0,null,null,"NO"]
[{"$f":"'REPORTE PMI'!B404","v":0},{"$f":"'REPORTE PMI'!E404","v":0},{"$f":"'REPORTE PMI'!J404","v":0},{"$f":"'REPORTE PMI'!G404","v":0},null,null,null,{"$f":"'REPORTE PMI'!L404","v":0},{"$f":"'REPORTE PMI'!M404","v":0},0,null,null,0,null,null,"NO"]
[{"$f":"'REPORTE PMI'!B405","v":0},{"$f":"'REPORTE PMI'!E405","v":0},{"$f":"'REPORTE PMI'!J405","v":0},{"$f":"'REPORTE PMI'!G405","v":0},null,null,null,{"$f":"'REPORTE PMI'!L405","v":0},{"$f":"'REPORTE PMI'!M405","v":0},0,null,null,0,null,null,"NO"]
[{"$f":"'REPORTE PMI'!B406","v":0},{"$f":"'REPORTE PMI'!E406","v":0},{"$f":"'REPORTE PMI'!J406","v":0},{"$f":"'REPORTE PMI'!G406","v":0},null,null,null,{"$f":"'REPORTE PMI'!L406","v":0},{"$f":"'REPORTE PMI'!M406","v":0},0,null,null,0,null,null,"NO"]
[{"$f":"'REPORTE PMI'!B407","v":0},{"$f":"'REPORTE PMI'!E407","v":0},{"$f":"'REPORTE PMI'!J407","v":0},{"$f":"'REPORTE PMI'!G407","v":0},null,null,null,{"$f":"'REPORTE PMI'!L407","v":0},{"$f":"'REPORTE PMI'!M407","v":0},0,null,null,0,null,null,"NO"]
[{"$f":"'REPORTE PMI'!B408","v":0},{"$f":"'REPORTE PMI'!E408","v":0},{"$f":"'REPORTE PMI'!J408","v":0},{"$f":"'REPORTE PMI'!G408","v":0},null,null,null,{"$f":"'REPORTE PMI'!L408","v":0},{"$f":"'REPORTE PMI'!M408","v":0},0,null,null,0,null,null,"NO"]
[{"$f":"'REPORTE PMI'!B409","v":0},{"$f":"'REPORTE PMI'!E409","v":0},{"$f":"'REPORTE PMI'!J409","v":0},{"$f":"'REPORTE PMI'!G409","v":0},null,null,null,{"$f":"'REPORTE PMI'!L409","v":0},{"$f":"'REPORTE PMI'!M409","v":0},0,null,null,0,null,null,"NO"]
[{"$f":"'REPORTE PMI'!B410","v":0},{"$f":"'REPORTE PMI'!E410","v":0},{"$f":"'REPORTE PMI'!J410","v":0},{"$f":"'REPORTE PMI'!G410","v":0},null,null,null,{"$f":"'REPORTE PMI'!L410","v":0},{"$f":"'REPORTE PMI'!M410","v":0},0,null,null,0,null,null,"NO"]
[{"$f":"'REPORTE PMI'!B411","v":0},{"$f":"'REPORTE PMI'!E411","v":0},{"$f":"'REPORTE PMI'!J411","v":0},{"$f":"'REPORTE PMI'!G411","v":0},null,null,null,{"$f":"'REPORTE PMI'!L411","v":0},{"$f":"'REPORTE PMI'!M411","v":0},0,null,null,0,null,null,"NO"]
[{"$f":"'REPORTE PMI'!B412","v":0},{"$f":"'REPORTE PMI'!E412","v":0},{"$f":"'REPORTE PMI'!J412","v":0},{"$f":"'REPORTE PMI'!G412","v":0},null,null,null,{"$f":"'REPORTE PMI'!L412","v":0},{"$f":"'REPORTE PMI'!M412","v":0},0,null,null,0,null,null,"NO"]
[{"$f":"'REPORTE PMI'!B413","v":0},{"$f":"'REPORTE PMI'!E413","v":0},{"$f":"'REPORTE PMI'!J413","v":0},{"$f":"'REPORTE PMI'!G413","v":0},null,null,null,{"$f":"'REPORTE PMI'!L413","v":0},{"$f":"'REPORTE PMI'!M413","v":0},0,null,null,0,null,null,"NO"]
[{"$f":"'REPORTE PMI'!B414","v":0},{"$f":"'REPORTE PMI'!E414","v":0},{"$f":"'REPORTE PMI'!J414","v":0},{"$f":"'REPORTE PMI'!G414","v":0},null,null,null,{"$f":"'REPORTE PMI'!L414","v":0},{"$f":"'REPORTE PMI'!M414","v":0},0,null,null,0,null,null,"NO"]
[{"$f":"'REPORTE PMI'!B415","v":0},{"$f":"'REPORTE PMI'!E415","v":0},{"$f":"'REPORTE PMI'!J415","v":0},{"$f":"'REPORTE PMI'!G415","v":0},null,null,null,{"$f":"'REPORTE PMI'!L415","v":0},{"$f":"'REPORTE PMI'!M415","v":0},0,null,null,0,null,null,"NO"]
[{"$f":"'REPORTE PMI'!B416","v":0},{"$f":"'REPORTE PMI'!E416","v":0},{"$f":"'REPORTE PMI'!J416","v":0},{"$f":"'REPORTE PMI'!G416","v":0},null,null,null,{"$f":"'REPORTE PMI'!L416","v":0},{"$f":"'REPORTE PMI'!M416","v":0},0,null,null,0,null,null,"NO"]
[{"$f":"'REPORTE PMI'!B417","v":0},{"$f":"'REPORTE PMI'!E417","v":0},{"$f":"'REPORTE PMI'!J417","v":0},{"$f":"'REPORTE PMI'!G417","v":0},null,null,null,{"$f":"'REPORTE PMI'!L417","v":0},{"$f":"'REPORTE PMI'!M417","v":0},0,null,null,0,null,null,"NO"]
[{"$f":"'REPORTE PMI'!B418","v":0},{"$f":"'REPORTE PMI'!E418","v":0},{"$f":"'REPORTE PMI'!J418","v":0},{"$f":"'REPORTE PMI'!G418","v":0},null,null,null,{"$f":"'REPORTE PMI'!L418","v":0},{"$f":"'REPORTE PMI'!M418","v":0},0,null,null,0,null,null,"NO"]
[{"$f":"'REPORTE PMI'!B419","v":0},{"$f":"'REPORTE PMI'!E419","v":0},{"$f":"'REPORTE PMI'!J419","v":0},{"$f":"'REPORTE PMI'!G419","v":0},null,null,null,{"$f":"'REPORTE PMI'!L419","v":0},{"$f":"'REPORTE PMI'!M419","v":0},0,null,null,0,null,null,"NO"]
[{"$f":"'REPORTE PMI'!B420","v":0},{"$f":"'REPORTE PMI'!E420","v":0},{"$f":"'REPORTE PMI'!J420","v":0},{"$f":"'REPORTE PMI'!G420","v":0},null,null,null,{"$f":"'REPORTE PMI'!L420","v":0},{"$f":"'REPORTE PMI'!M420","v":0},0,null,null,0,null,null,"NO"]
[{"$f":"'REPORTE PMI'!B421","v":0},{"$f":"'REPORTE PMI'!E421","v":0},{"$f":"'REPORTE PMI'!J421","v":0},{"$f":"'REPORTE PMI'!G421","v":0},null,null,null,{"$f":"'REPORTE PMI'!L421","v":0},{"$f":"'REPORTE PMI'!M421","v":0},0,null,null,0,null,null,"NO"]
[{"$f":"'REPORTE PMI'!B422","v":0},{"$f":"'REPORTE PMI'!E422","v":0},{"$f":"'REPORTE PMI'!J422","v":0},{"$f":"'REPORTE PMI'!G422","v":0},null,null,null,{"$f":"'REPORTE PMI'!L422","v":0},{"$f":"'REPORTE PMI'!M422","v":0},0,null,null,0,null,null,"NO"]
[{"$f":"'REPORTE PMI'!B423","v":0},{"$f":"'REPORTE PMI'!E423","v":0},{"$f":"'REPORTE PMI'!J423","v":0},{"$f":"'REPORTE PMI'!G423","v":0},null,null,null,{"$f":"'REPORTE PMI'!L423","v":0},{"$f":"'REPORTE PMI'!M423","v":0},0,null,null,0,null,null,"NO"]
[{"$f":"'REPORTE PMI'!B424","v":0},{"$f":"'REPORTE PMI'!E424","v":0},{"$f":"'REPORTE PMI'!J424","v":0},{"$f":"'REPORTE PMI'!G424","v":0},null,null,null,{"$f":"'REPORTE PMI'!L424","v":0},{"$f":"'REPORTE PMI'!M424","v":0},0,null,null,0,null,null,"NO"]
[{"$f":"'REPORTE PMI'!B425","v":0},{"$f":"'REPORTE PMI'!E425","v":0},{"$f":"'REPORTE PMI'!J425","v":0},{"$f":"'REPORTE PMI'!G425","v":0},null,null,null,{"$f":"'REPORTE PMI'!L425","v":0},{"$f":"'REPORTE PMI'!M425","v":0},0,null,null,0,null,null,"NO"]
[{"$f":"'REPORTE PMI'!B426","v":0},{"$f":"'REPORTE PMI'!E426","v":0},{"$f":"'REPORTE PMI'!J426","v":0},{"$f":"'REPORTE PMI'!G426","v":0},null,null,null,{"$f":"'REPORTE PMI'!L426","v":0},{"$f":"'REPORTE PMI'!M426","v":0},0,null,null,0,null,null,"NO"]
[{"$f":"'REPORTE PMI'!B427","v":0},{"$f":"'REPORTE PMI'!E427","v":0},{"$f":"'REPORTE PMI'!J427","v":0},{"$f":"'REPORTE PMI'!G427","v":0},null,null,null,{"$f":"'REPORTE PMI'!L427","v":0},{"$f":"'REPORTE PMI'!M427","v":0},0,null,null,0,null,null,"NO"]
[{"$f":"'REPORTE PMI'!B428","v":0},{"$f":"'REPORTE PMI'!E428","v":0},{"$f":"'REPORTE PMI'!J428","v":0},{"$f":"'REPORTE PMI'!G428","v":0},null,null,null,{"$f":"'REPORTE PMI'!L428","v":0},{"$f":"'REPORTE PMI'!M428","v":0},0,null,null,0,null,null,"NO"]
[{"$f":"'REPORTE PMI'!B429","v":0},{"$f":"'REPORTE PMI'!E429","v":0},{"$f":"'REPORTE PMI'!J429","v":0},{"$f":"'REPORTE PMI'!G429","v":0},null,null,null,{"$f":"'REPORTE PMI'!L429","v":0},{"$f":"'REPORTE PMI'!M429","v":0},0,null,null,0,null,null,"NO"]
[{"$f":"'REPORTE PMI'!B430","v":0},{"$f":"'REPORTE PMI'!E430","v":0},{"$f":"'REPORTE PMI'!J430","v":0},{"$f":"'REPORTE PMI'!G430","v":0},null,null,null,{"$f":"'REPORTE PMI'!L430","v":0},{"$f":"'REPORTE PMI'!M430","v":0},0,null,null,0,null,null,"NO"]
[{"$f":"'REPORTE PMI'!B431","v":0},{"$f":"'REPORTE PMI'!E431","v":0},{"$f":"'REPORTE PMI'!J431","v":0},{"$f":"'REPORTE PMI'!G431","v":0},null,null,null,{"$f":"'REPORTE PMI'!L431","v":0},{"$f":"'REPORTE PMI'!M431","v":0},0,null,null,0,null,null,"NO"]
[{"$f":"'REPORTE PMI'!B432","v":0},{"$f":"'REPORTE PMI'!E432","v":0},{"$f":"'REPORTE PMI'!J432","v":0},{"$f":"'REPORTE PMI'!G432","v":0},null,null,null,{"$f":"'REPORTE PMI'!L432","v":0},{"$f":"'REPORTE PMI'!M432","v":0},0,null,null,0,null,null,"NO"]
[{"$f":"'REPORTE PMI'!B433","v":0},{"$f":"'REPORTE PMI'!E433","v":0},{"$f":"'REPORTE PMI'!J433","v":0},{"$f":"'REPORTE PMI'!G433","v":0},null,null,null,{"$f":"'REPORTE PMI'!L433","v":0},{"$f":"'REPORTE PMI'!M433","v":0},0,null,null,0,null,null,"NO"]
[{"$f":"'REPORTE PMI'!B434","v":0},{"$f":"'REPORTE PMI'!E434","v":0},{"$f":"'REPORTE PMI'!J434","v":0},{"$f":"'REPORTE PMI'!G434","v":0},null,null,null,{"$f":"'REPORTE PMI'!L434","v":0},{"$f":"'REPORTE PMI'!M434","v":0},0,null,null,0,null,null,"NO"]
[{"$f":"'REPORTE PMI'!B435","v":0},{"$f":"'REPORTE PMI'!E435","v":0},{"$f":"'REPORTE PMI'!J435","v":0},{"$f":"'REPORTE PMI'!G435","v":0},null,null,null,{"$f":"'REPORTE PMI'!L435","v":0},{"$f":"'REPORTE PMI'!M435","v":0},0,null,null,0,null,null,"NO"]
[{"$f":"'REPORTE PMI'!B436","v":0},{"$f":"'REPORTE PMI'!E436","v":0},{"$f":"'REPORTE PMI'!J436","v":0},{"$f":"'REPORTE PMI'!G436","v":0},null,null,null,{"$f":"'REPORTE PMI'!L436","v":0},{"$f":"'REPORTE PMI'!M436","v":0},0,null,null,0,null,null,"NO"]
[{"$f":"'REPORTE PMI'!B437","v":0},{"$f":"'REPORTE PMI'!E437","v":0},{"$f":"'REPORTE PMI'!J437","v":0},{"$f":"'REPORTE PMI'!G437","v":0},null,null,null,{"$f":"'REPORTE PMI'!L437","v":0},{"$f":"'REPORTE PMI'!M437","v":0},0,null,null,0,null,null,"NO"]
[{"$f":"'REPORTE PMI'!B438","v":0},{"$f":"'REPORTE PMI'!E438","v":0},{"$f":"'REPORTE PMI'!J438","v":0},{"$f":"'REPORTE PMI'!G438","v":0},null,null,null,{"$f":"'REPORTE PMI'!L438","v":0},{"$f":"'REPORTE PMI'!M438","v":0},0,null,null,0,null,null,"NO"]
[{"$f":"'REPORTE PMI'!B439","v":0},{"$f":"'REPORTE PMI'!E439","v":0},{"$f":"'REPORTE PMI'!J439","v":0},{"$f":"'REPORTE PMI'!G439","v":0},null,null,null,{"$f":"'REPORTE PMI'!L439","v":0},{"$f":"'REPORTE PMI'!M439","v":0},0,null,null,0,null,null,"NO"]
[{"$f":"'REPORTE PMI'!B440","v":0},{"$f":"'REPORTE PMI'!E440","v":0},{"$f":"'REPORTE PMI'!J440","v":0},{"$f":"'REPORTE PMI'!G440","v":0},null,null,null,{"$f":"'REPORTE PMI'!L440","v":0},{"$f":"'REPORTE PMI'!M440","v":0},0,null,null,0,null,null,"NO"]
[{"$f":"'REPORTE PMI'!B441","v":0},{"$f":"'REPORTE PMI'!E441","v":0},{"$f":"'REPORTE PMI'!J441","v":0},{"$f":"'REPORTE PMI'!G441","v":0},null,null,null,{"$f":"'REPORTE PMI'!L441","v":0},{"$f":"'REPORTE PMI'!M441","v":0},0,null,null,0,null,null,"NO"]
[{"$f":"'REPORTE PMI'!B442","v":0},{"$f":"'REPORTE PMI'!E442","v":0},{"$f":"'REPORTE PMI'!J442","v":0},{"$f":"'REPORTE PMI'!G442","v":0},null,null,null,{"$f":"'REPORTE PMI'!L442","v":0},{"$f":"'REPORTE PMI'!M442","v":0},0,null,null,0,null,null,"NO"]
[{"$f":"'REPORTE PMI'!B443","v":0},{"$f":"'REPORTE PMI'!E443","v":0},{"$f":"'REPORTE PMI'!J443","v":0},{"$f":"'REPORTE PMI'!G443","v":0},null,null,null,{"$f":"'REPORTE PMI'!L443","v":0},{"$f":"'REPORTE PMI'!M443","v":0},0,null,null,0,null,null,"NO"]
[{"$f":"'REPORTE PMI'!B444","v":0},{"$f":"'REPORTE PMI'!E444","v":0},{"$f":"'REPORTE PMI'!J444","v":0},{"$f":"'REPORTE PMI'!G444","v":0},null,null,null,{"$f":"'REPORTE PMI'!L444","v":0},{"$f":"'REPORTE PMI'!M444","v":0},0,null,null,0,null,null,"NO"]
[{"$f":"'REPORTE PMI'!B445","v":0},{"$f":"'REPORTE PMI'!E445","v":0},{"$f":"'REPORTE PMI'!J445","v":0},{"$f":"'REPORTE PMI'!G445","v":0},null,null,null,{"$f":"'REPORTE PMI'!L445","v":0},{"$f":"'REPORTE PMI'!M445","v":0},0,null,null,0,null,null,"NO"]
[{"$f":"'REPORTE PMI'!B446","v":0},{"$f":"'REPORTE PMI'!E446","v":0},{"$f":"'REPORTE PMI'!J446","v":0},{"$f":"'REPORTE PMI'!G446","v":0},null,null,null,{"$f":"'REPORTE PMI'!L446","v":0},{"$f":"'REPORTE PMI'!M446","v":0},0,null,null,0,null,null,"NO"]
[{"$f":"'REPORTE PMI'!B447","v":0},{"$f":"'REPORTE PMI'!E447","v":0},{"$f":"'REPORTE PMI'!J447","v":0},{"$f":"'REPORTE PMI'!G447","v":0},null,null,null,{"$f":"'REPORTE PMI'!L447","v":0},{"$f":"'REPORTE PMI'!M447","v":0},0,null,null,0,null,null,"NO"]
[{"$f":"'REPORTE PMI'!B448","v":0},{"$f":"'REPORTE PMI'!E448","v":0},{"$f":"'REPORTE PMI'!J448","v":0},{"$f":"'REPORTE PMI'!G448","v":0},null,null,null,{"$f":"'REPORTE PMI'!L448","v":0},{"$f":"'REPORTE PMI'!M448","v":0},0,null,null,0,null,null,"NO"]
[{"$f":"'REPORTE PMI'!B449","v":0},{"$f":"'REPORTE PMI'!E449","v":0},{"$f":"'REPORTE PMI'!J449","v":0},{"$f":"'REPORTE PMI'!G449","v":0},null,null,null,{"$f":"'REPORTE PMI'!L449","v":0},{"$f":"'REPORTE PMI'!M449","v":0},0,null,null,0,null,null,"NO"]
[{"$f":"'REPORTE PMI'!B450","v":0},{"$f":"'REPORTE PMI'!E450","v":0},{"$f":"'REPORTE PMI'!J450","v":0},{"$f":"'REPORTE PMI'!G450","v":0},null,null,null,{"$f":"'REPORTE PMI'!L450","v":0},{"$f":"'REPORTE PMI'!M450","v":0},0,null,null,0,null,null,"NO"]
[{"$f":"'REPORTE PMI'!B451","v":0},{"$f":"'REPORTE PMI'!E451","v":0},{"$f":"'REPORTE PMI'!J451","v":0},{"$f":"'REPORTE PMI'!G451","v":0},null,null,null,{"$f":"'REPORTE PMI'!L451","v":0},{"$f":"'REPORTE PMI'!M451","v":0},0,null,null,0,null,null,"NO"]
[{"$f":"'REPORTE PMI'!B452","v":0},{"$f":"'REPORTE PMI'!E452","v":0},{"$f":"'REPORTE PMI'!J452","v":0},{"$f":"'REPORTE PMI'!G452","v":0},null,null,null,{"$f":"'REPORTE PMI'!L452","v":0},{"$f":"'REPORTE PMI'!M452","v":0},{"$f":"IFERROR(I461/H461, 0)","v":0},null,null,{"$f":"H461-I461","v":0},null,null,{"$f":"IF(E461=\"SI\",IF(J461>0%,IF(K461=\"SI\",IF(L461=\"NO\",IF(N461=\"SI\",IF(O461=\"NO\",\"SI\",\"NO\"),\"NO\"),\"NO\"),\"NO\"),\"NO\"),\"NO\")","v":"NO"}]
[{"$f":"'REPORTE PMI'!B453","v":0},{"$f":"'REPORTE PMI'!E453","v":0},{"$f":"'REPORTE PMI'!J453","v":0},{"$f":"'REPORTE PMI'!G453","v":0},null,null,null,{"$f":"'REPORTE PMI'!L453","v":0},{"$f":"'REPORTE PMI'!M453","v":0},0,null,null,0,null,null,"NO"]
[{"$f":"'REPORTE PMI'!B454","v":0},{"$f":"'REPORTE PMI'!E454","v":0},{"$f":"'REPORTE PMI'!J454","v":0},{"$f":"'REPORTE PMI'!G454","v":0},null,null,null,{"$f":"'REPORTE PMI'!L454","v":0},{"$f":"'REPORTE PMI'!M454","v":0},0,null,null,0,null,null,"NO"]
[{"$f":"'REPORTE PMI'!B455","v":0},{"$f":"'REPORTE PMI'!E455","v":0},{"$f":"'REPORTE PMI'!J455","v":0},{"$f":"'REPORTE PMI'!G455","v":0},null,null,null,{"$f":"'REPORTE PMI'!L455","v":0},{"$f":"'REPORTE PMI'!M455","v":0},0,null,null,0,null,null,"NO"]
[{"$f":"'REPORTE PMI'!B456","v":0},{"$f":"'REPORTE PMI'!E456","v":0},{"$f":"'REPORTE PMI'!J456","v":0},{"$f":"'REPORTE PMI'!G456","v":0},null,null,null,{"$f":"'REPORTE PMI'!L456","v":0},{"$f":"'REPORTE PMI'!M456","v":0},0,null,null,0,null,null,"NO"]
[{"$f":"'REPORTE PMI'!B457","v":0},{"$f":"'REPORTE PMI'!E457","v":0},{"$f":"'REPORTE PMI'!J457","v":0},{"$f":"'REPORTE PMI'!G457","v":0},null,null,null,{"$f":"'REPORTE PMI'!L457","v":0},{"$f":"'REPORTE PMI'!M457","v":0},0,null,null,0,null,null,"NO"]
[{"$f":"'REPORTE PMI'!B458","v":0},{"$f":"'REPORTE PMI'!E458","v":0},{"$f":"'REPORTE PMI'!J458","v":0},{"$f":"'REPORTE PMI'!G458","v":0},null,null,null,{"$f":"'REPORTE PMI'!L458","v":0},{"$f":"'REPORTE PMI'!M458","v":0},0,null,null,0,null,null,"NO"]
[{"$f":"'REPORTE PMI'!B459","v":0},{"$f":"'REPORTE PMI'!E459","v":0},{"$f":"'REPORTE PMI'!J459","v":0},{"$f":"'REPORTE PMI'!G459","v":0},null,null,null,{"$f":"'REPORTE PMI'!L459","v":0},{"$f":"'REPORTE PMI'!M459","v":0},0,null,null,0,null,null,"NO"]
[{"$f":"'REPORTE PMI'!B460","v":0},{"$f":"'REPORTE PMI'!E460","v":0},{"$f":"'REPORTE PMI'!J460","v":0},{"$f":"'REPORTE PMI'!G460","v":0},null,null,null,{"$f":"'REPORTE PMI'!L460","v":0},{"$f":"'REPORTE PMI'!M460","v":0},0,null,null,0,null,null,"NO"]
[{"$f":"'REPORTE PMI'!B461","v":0},{"$f":"'REPORTE PMI'!E461","v":0},{"$f":"'REPORTE PMI'!J461","v":0},{"$f":"'REPORTE PMI'!G461","v":0},null,null,null,{"$f":"'REPORTE PMI'!L461","v":0},{"$f":"'REPORTE PMI'!M461","v":0},0,null,null,0,null,null,"NO"]
[{"$f":"'REPORTE PMI'!B462","v":0},{"$f":"'REPORTE PMI'!E462","v":0},{"$f":"'REPORTE PMI'!J462","v":0},{"$f":"'REPORTE PMI'!G462","v":0},null,null,null,{"$f":"'REPORTE PMI'!L462","v":0},{"$f":"'REPORTE PMI'!M462","v":0},0,null,null,0,null,null,"NO"]
[{"$f":"'REPORTE PMI'!B463","v":0},{"$f":"'REPORTE PMI'!E463","v":0},{"$f":"'REPORTE PMI'!J463","v":0},{"$f":"'REPORTE PMI'!G463","v":0},null,null,null,{"$f":"'REPORTE PMI'!L463","v":0},{"$f":"'REPORTE PMI'!M463","v":0},0,null,null,0,null,null,"NO"]
[{"$f":"'REPORTE PMI'!B464","v":0},{"$f":"'REPORTE PMI'!E464","v":0},{"$f":"'REPORTE PMI'!J464","v":0},{"$f":"'REPORTE PMI'!G464","v":0},null,null,null,{"$f":"'REPORTE PMI'!L464","v":0},{"$f":"'REPORTE PMI'!M464","v":0},0,null,null,0,null,null,"NO"]
[{"$f":"'REPORTE PMI'!B465","v":0},{"$f":"'REPORTE PMI'!E465","v":0},{"$f":"'REPORTE PMI'!J465","v":0},{"$f":"'REPORTE PMI'!G465","v":0},null,null,null,{"$f":"'REPORTE PMI'!L465","v":0},{"$f":"'REPORTE PMI'!M465","v":0},0,null,null,0,null,null,"NO"]
[{"$f":"'REPORTE PMI'!B466","v":0},{"$f":"'REPORTE PMI'!E466","v":0},{"$f":"'REPORTE PMI'!J466","v":0},{"$f":"'REPORTE PMI'!G466","v":0},null,null,null,{"$f":"'REPORTE PMI'!L466","v":0},{"$f":"'REPORTE PMI'!M466","v":0},0,null,null,0,null,null,"NO"]
[{"$f":"'REPORTE PMI'!B467","v":0},{"$f":"'REPORTE PMI'!E467","v":0},{"$f":"'REPORTE PMI'!J467","v":0},{"$f":"'REPORTE PMI'!G467","v":0},null,null,null,{"$f":"'REPORTE PMI'!L467","v":0},{"$f":"'REPORTE PMI'!M467","v":0},0,null,null,0,null,null,"NO"]
[{"$f":"'REPORTE PMI'!B468","v":0},{"$f":"'REPORTE PMI'!E468","v":0},{"$f":"'REPORTE PMI'!J468","v":0},{"$f":"'REPORTE PMI'!G468","v":0},null,null,null,{"$f":"'REPORTE PMI'!L468","v":0},{"$f":"'REPORTE PMI'!M468","v":0},0,null,null,0,null,null,"NO"]
[{"$f":"'REPORTE PMI'!B469","v":0},{"$f":"'REPORTE PMI'!E469","v":0},{"$f":"'REPORTE PMI'!J469","v":0},{"$f":"'REPORTE PMI'!G469","v":0},null,null,null,{"$f":"'REPORTE PMI'!L469","v":0},{"$f":"'REPORTE PMI'!M469","v":0},0,null,null,0,null,null,"NO"]
[{"$f":"'REPORTE PMI'!B470","v":0},{"$f":"'REPORTE PMI'!E470","v":0},{"$f":"'REPORTE PMI'!J470","v":0},{"$f":"'REPORTE PMI'!G470","v":0},null,null,null,{"$f":"'REPORTE PMI'!L470","v":0},{"$f":"'REPORTE PMI'!M470","v":0},0,null,null,0,null,null,"NO"]
[{"$f":"'REPORTE PMI'!B471","v":0},{"$f":"'REPORTE PMI'!E471","v":0},{"$f":"'REPORTE PMI'!J471","v":0},{"$f":"'REPORTE PMI'!G471","v":0},null,null,null,{"$f":"'REPORTE PMI'!L471","v":0},{"$f":"'REPORTE PMI'!M471","v":0},0,null,null,0,null,null,"NO"]
[{"$f":"'REPORTE PMI'!B472","v":0},{"$f":"'REPORTE PMI'!E472","v":0},{"$f":"'REPORTE PMI'!J472","v":0},{"$f":"'REPORTE PMI'!G472","v":0},null,null,null,{"$f":"'REPORTE PMI'!L472","v":0},{"$f":"'REPORTE PMI'!M472","v":0},0,null,null,0,null,null,"NO"]
[{"$f":"'REPORTE PMI'!B473","v":0},{"$f":"'REPORTE PMI'!E473","v":0},{"$f":"'REPORTE PMI'!J473","v":0},{"$f":"'REPORTE PMI'!G473","v":0},null,null,null,{"$f":"'REPORTE PMI'!L473","v":0},{"$f":"'REPORTE PMI'!M473","v":0},0,null,null,0,null,null,"NO"]
[{"$f":"'REPORTE PMI'!B474","v":0},{"$f":"'REPORTE PMI'!E474","v":0},{"$f":"'REPORTE PMI'!J474","v":0},{"$f":"'REPORTE PMI'!G474","v":0},null,null,null,{"$f":"'REPORTE PMI'!L474","v":0},{"$f":"'REPORTE PMI'!M474","v":0},0,null,null,0,null,null,"NO"]
[{"$f":"'REPORTE PMI'!B475","v":0},{"$f":"'REPORTE PMI'!E475","v":0},{"$f":"'REPORTE PMI'!J475","v":0},{"$f":"'REPORTE PMI'!G475","v":0},null,null,null,{"$f":"'REPORTE PMI'!L475","v":0},{"$f":"'REPORTE PMI'!M475","v":0},0,null,null,0,null,null,"NO"]
[{"$f":"'REPORTE PMI'!B476","v":0},{"$f":"'REPORTE PMI'!E476","v":0},{"$f":"'REPORTE PMI'!J476","v":0},{"$f":"'REPORTE PMI'!G476","v":0},null,null,null,{"$f":"'REPORTE PMI'!L476","v":0},{"$f":"'REPORTE PMI'!M476","v":0},0,null,null,0,null,null,"NO"]
[{"$f":"'REPORTE PMI'!B477","v":0},{"$f":"'REPORTE PMI'!E477","v":0},{"$f":"'REPORTE PMI'!J477","v":0},{"$f":"'REPORTE PMI'!G477","v":0},null,null,null,{"$f":"'REPORTE PMI'!L477","v":0},{"$f":"'REPORTE PMI'!M477","v":0},0,null,null,0,null,null,"NO"]
[{"$f":"'REPORTE PMI'!B478","v":0},{"$f":"'REPORTE PMI'!E478","v":0},{"$f":"'REPORTE PMI'!J478","v":0},{"$f":"'REPORTE PMI'!G478","v":0},null,null,null,{"$f":"'REPORTE PMI'!L478","v":0},{"$f":"'REPORTE PMI'!M478","v":0},0,null,null,0,null,null,"NO"]
[{"$f":"'REPORTE PMI'!B479","v":0},{"$f":"'REPORTE PMI'!E479","v":0},{"$f":"'REPORTE PMI'!J479","v":0},{"$f":"'REPORTE PMI'!G479","v":0},null,null,null,{"$f":"'REPORTE PMI'!L479","v":0},{"$f":"'REPORTE PMI'!M479","v":0},0,null,null,0,null,null,"NO"]
[{"$f":"'REPORTE PMI'!B480","v":0},{"$f":"'REPORTE PMI'!E480","v":0},{"$f":"'REPORTE PMI'!J480","v":0},{"$f":"'REPORTE PMI'!G480","v":0},null,null,null,{"$f":"'REPORTE PMI'!L480","v":0},{"$f":"'REPORTE PMI'!M480","v":0},0,null,null,0,null,null,"NO"]
[{"$f":"'REPORTE PMI'!B481","v":0},{"$f":"'REPORTE PMI'!E481","v":0},{"$f":"'REPORTE PMI'!J481","v":0},{"$f":"'REPORTE PMI'!G481","v":0},null,null,null,{"$f":"'REPORTE PMI'!L481","v":0},{"$f":"'REPORTE PMI'!M481","v":0},0,null,null,0,null,null,"NO"]
[{"$f":"'REPORTE PMI'!B482","v":0},{"$f":"'REPORTE PMI'!E482","v":0},{"$f":"'REPORTE PMI'!J482","v":0},{"$f":"'REPORTE PMI'!G482","v":0},null,null,null,{"$f":"'REPORTE PMI'!L482","v":0},{"$f":"'REPORTE PMI'!M482","v":0},0,null,null,0,null,null,"NO"]
[{"$f":"'REPORTE PMI'!B483","v":0},{"$f":"'REPORTE PMI'!E483","v":0},{"$f":"'REPORTE PMI'!J483","v":0},{"$f":"'REPORTE PMI'!G483","v":0},null,null,null,{"$f":"'REPORTE PMI'!L483","v":0},{"$f":"'REPORTE PMI'!M483","v":0},0,null,null,0,null,null,"NO"]
[{"$f":"'REPORTE PMI'!B484","v":0},{"$f":"'REPORTE PMI'!E484","v":0},{"$f":"'REPORTE PMI'!J484","v":0},{"$f":"'REPORTE PMI'!G484","v":0},null,null,null,{"$f":"'REPORTE PMI'!L484","v":0},{"$f":"'REPORTE PMI'!M484","v":0},0,null,null,0,null,null,"NO"]
[{"$f":"'REPORTE PMI'!B485","v":0},{"$f":"'REPORTE PMI'!E485","v":0},{"$f":"'REPORTE PMI'!J485","v":0},{"$f":"'REPORTE PMI'!G485","v":0},null,null,null,{"$f":"'REPORTE PMI'!L485","v":0},{"$f":"'REPORTE PMI'!M485","v":0},0,null,null,0,null,null,"NO"]
[{"$f":"'REPORTE PMI'!B486","v":0},{"$f":"'REPORTE PMI'!E486","v":0},{"$f":"'REPORTE PMI'!J486","v":0},{"$f":"'REPORTE PMI'!G486","v":0},null,null,null,{"$f":"'REPORTE PMI'!L486","v":0},{"$f":"'REPORTE PMI'!M486","v":0},0,null,null,0,null,null,"NO"]
[{"$f":"'REPORTE PMI'!B487","v":0},{"$f":"'REPORTE PMI'!E487","v":0},{"$f":"'REPORTE PMI'!J487","v":0},{"$f":"'REPORTE PMI'!G487","v":0},null,null,null,{"$f":"'REPORTE PMI'!L487","v":0},{"$f":"'REPORTE PMI'!M487","v":0},0,null,null,0,null,null,"NO"]
[{"$f":"'REPORTE PMI'!B488","v":0},{"$f":"'REPORTE PMI'!E488","v":0},{"$f":"'REPORTE PMI'!J488","v":0},{"$f":"'REPORTE PMI'!G488","v":0},null,null,null,{"$f":"'REPORTE PMI'!L488","v":0},{"$f":"'REPORTE PMI'!M488","v":0},0,null,null,0,null,null,"NO"]
[{"$f":"'REPORTE PMI'!B489","v":0},{"$f":"'REPORTE PMI'!E489","v":0},{"$f":"'REPORTE PMI'!J489","v":0},{"$f":"'REPORTE PMI'!G489","v":0},null,null,null,{"$f":"'REPORTE PMI'!L489","v":0},{"$f":"'REPORTE PMI'!M489","v":0},0,null,null,0,null,null,"NO"]
[{"$f":"'REPORTE PMI'!B490","v":0},{"$f":"'REPORTE PMI'!E490","v":0},{"$f":"'REPORTE PMI'!J490","v":0},{"$f":"'REPORTE PMI'!G490","v":0},null,null,null,{"$f":"'REPORTE PMI'!L490","v":0},{"$f":"'REPORTE PMI'!M490","v":0},0,null,null,0,null,null,"NO"]
[{"$f":"'REPORTE PMI'!B491","v":0},{"$f":"'REPORTE PMI'!E491","v":0},{"$f":"'REPORTE PMI'!J491","v":0},{"$f":"'REPORTE PMI'!G491","v":0},null,null,null,{"$f":"'REPORTE PMI'!L491","v":0},{"$f":"'REPORTE PMI'!M491","v":0},0,null,null,0,null,null,"NO"]
[{"$f":"'REPORTE PMI'!B492","v":0},{"$f":"'REPORTE PMI'!E492","v":0},{"$f":"'REPORTE PMI'!J492","v":0},{"$f":"'REPORTE PMI'!G492","v":0},null,null,null,{"$f":"'REPORTE PMI'!L492","v":0},{"$f":"'REPORTE PMI'!M492","v":0},0,null,null,0,null,null,"NO"]
[{"$f":"'REPORTE PMI'!B493","v":0},{"$f":"'REPORTE PMI'!E493","v":0},{"$f":"'REPORTE PMI'!J493","v":0},{"$f":"'REPORTE PMI'!G493","v":0},null,null,null,{"$f":"'REPORTE PMI'!L493","v":0},{"$f":"'REPORTE PMI'!M493","v":0},0,null,null,0,null,null,"NO"]
[{"$f":"'REPORTE PMI'!B494","v":0},{"$f":"'REPORTE PMI'!E494","v":0},{"$f":"'REPORTE PMI'!J494","v":0},{"$f":"'REPORTE PMI'!G494","v":0},null,null,null,{"$f":"'REPORTE PMI'!L494","v":0},{"$f":"'REPORTE PMI'!M494","v":0},0,null,null,0,null,null,"NO"]
[{"$f":"'REPORTE PMI'!B495","v":0},{"$f":"'REPORTE PMI'!E495","v":0},{"$f":"'REPORTE PMI'!J495","v":0},{"$f":"'REPORTE PMI'!G495","v":0},null,null,null,{"$f":"'REPORTE PMI'!L495","v":0},{"$f":"'REPORTE PMI'!M495","v":0},0,null,null,0,null,null,"NO"]
[{"$f":"'REPORTE PMI'!B496","v":0},{"$f":"'REPORTE PMI'!E496","v":0},{"$f":"'REPORTE PMI'!J496","v":0},{"$f":"'REPORTE PMI'!G496","v":0},null,null,null,{"$f":"'REPORTE PMI'!L496","v":0},{"$f":"'REPORTE PMI'!M496","v":0},0,null,null,0,null,null,"NO"]
[{"$f":"'REPORTE PMI'!B497","v":0},{"$f":"'REPORTE PMI'!E497","v":0},{"$f":"'REPORTE PMI'!J497","v":0},{"$f":"'REPORTE PMI'!G497","v":0},null,null,null,{"$f":"'REPORTE PMI'!L497","v":0},{"$f":"'REPORTE PMI'!M497","v":0},0,null,null,0,null,null,"NO"]
[{"$f":"'REPORTE PMI'!B498","v":0},{"$f":"'REPORTE PMI'!E498","v":0},{"$f":"'REPORTE PMI'!J498","v":0},{"$f":"'REPORTE PMI'!G498","v":0},null,null,null,{"$f":"'REPORTE PMI'!L498","v":0},{"$f":"'REPORTE PMI'!M498","v":0},0,null,null,0,null,null,"NO"]
[{"$f":"'REPORTE PMI'!B499","v":0},{"$f":"'REPORTE PMI'!E499","v":0},{"$f":"'REPORTE PMI'!J499","v":0},{"$f":"'REPORTE PMI'!G499","v":0},null,null,null,{"$f":"'REPORTE PMI'!L499","v":0},{"$f":"'REPORTE PMI'!M499","v":0},0,null,null,0,null,null,"NO"]
[{"$f":"'REPORTE PMI'!B500","v":0},{"$f":"'REPORTE PMI'!E500","v":0},{"$f":"'REPORTE PMI'!J500","v":0},{"$f":"'REPORTE PMI'!G500","v":0},null,null,null,{"$f":"'REPORTE PMI'!L500","v":0},{"$f":"'REPORTE PMI'!M500","v":0},0,null,null,0,null,null,"NO"]
[{"$f":"'REPORTE PMI'!B501","v":0},{"$f":"'REPORTE PMI'!E501","v":0},{"$f":"'REPORTE PMI'!J501","v":0},{"$f":"'REPORTE PMI'!G501","v":0},null,null,null,{"$f":"'REPORTE PMI'!L501","v":0},{"$f":"'REPORTE PMI'!M501","v":0},0,null,null,0,null,null,"NO"]
[{"$f":"'REPORTE PMI'!B502","v":0},{"$f":"'REPORTE PMI'!E502","v":0},{"$f":"'REPORTE PMI'!J502","v":0},{"$f":"'REPORTE PMI'!G502","v":0},null,null,null,{"$f":"'REPORTE PMI'!L502","v":0},{"$f":"'REPORTE PMI'!M502","v":0},0,null,null,0,null,null,"NO"]
[{"$f":"'REPORTE PMI'!B503","v":0},{"$f":"'REPORTE PMI'!E503","v":0},{"$f":"'REPORTE PMI'!J503","v":0},{"$f":"'REPORTE PMI'!G503","v":0},null,null,null,{"$f":"'REPORTE PMI'!L503","v":0},{"$f":"'REPORTE PMI'!M503","v":0},0,null,null,0,null,null,"NO"]
[{"$f":"'REPORTE PMI'!B504","v":0},{"$f":"'REPORTE PMI'!E504","v":0},{"$f":"'REPORTE PMI'!J504","v":0},{"$f":"'REPORTE PMI'!G504","v":0},null,null,null,{"$f":"'REPORTE PMI'!L504","v":0},{"$f":"'REPORTE PMI'!M504","v":0},0,null,null,0,null,null,"NO"]
[{"$f":"'REPORTE PMI'!B505","v":0},{"$f":"'REPORTE PMI'!E505","v":0},{"$f":"'REPORTE PMI'!J505","v":0},{"$f":"'REPORTE PMI'!G505","v":0},null,null,null,{"$f":"'REPORTE PMI'!L505","v":0},{"$f":"'REPORTE PMI'!M505","v":0},0,null,null,0,null,null,"NO"]
[{"$f":"'REPORTE PMI'!B506","v":0},{"$f":"'REPORTE PMI'!E506","v":0},{"$f":"'REPORTE PMI'!J506","v":0},{"$f":"'REPORTE PMI'!G506","v":0},null,null,null,{"$f":"'REPORTE PMI'!L506","v":0},{"$f":"'REPORTE PMI'!M506","v":0},0,null,null,0,null,null,"NO"]
[{"$f":"'REPORTE PMI'!B507","v":0},{"$f":"'REPORTE PMI'!E507","v":0},{"$f":"'REPORTE PMI'!J507","v":0},{"$f":"'REPORTE PMI'!G507","v":0},null,null,null,{"$f":"'REPORTE PMI'!L507","v":0},{"$f":"'REPORTE PMI'!M507","v":0},0,null,null,0,null,null,"NO"]
[{"$f":"'REPORTE PMI'!B508","v":0},{"$f":"'REPORTE PMI'!E508","v":0},{"$f":"'REPORTE PMI'!J508","v":0},{"$f":"'REPORTE PMI'!G508","v":0},null,null,null,{"$f":"'REPORTE PMI'!L508","v":0},{"$f":"'REPORTE PMI'!M508","v":0},0,null,null,0,null,null,"NO"]
[{"$f":"'REPORTE PMI'!B509","v":0},{"$f":"'REPORTE PMI'!E509","v":0},{"$f":"'REPORTE PMI'!J509","v":0},{"$f":"'REPORTE PMI'!G509","v":0},null,null,null,{"$f":"'REPORTE PMI'!L509","v":0},{"$f":"'REPORTE PMI'!M509","v":0},0,null,null,0,null,null,"NO"]
[{"$f":"'REPORTE PMI'!B510","v":0},{"$f":"'REPORTE PMI'!E510","v":0},{"$f":"'REPORTE PMI'!J510","v":0},{"$f":"'REPORTE PMI'!G510","v":0},null,null,null,{"$f":"'REPORTE PMI'!L510","v":0},{"$f":"'REPORTE PMI'!M510","v":0},0,null,null,0,null,null,"NO"]
[{"$f":"'REPORTE PMI'!B511","v":0},{"$f":"'REPORTE PMI'!E511","v":0},{"$f":"'REPORTE PMI'!J511","v":0},{"$f":"'REPORTE PMI'!G511","v":0},null,null,null,{"$f":"'REPORTE PMI'!L511","v":0},{"$f":"'REPORTE PMI'!M511","v":0},0,null,null,0,null,null,"NO"]
[{"$f":"'REPORTE PMI'!B512","v":0},{"$f":"'REPORTE PMI'!E512","v":0},{"$f":"'REPORTE PMI'!J512","v":0},{"$f":"'REPORTE PMI'!G512","v":0},null,null,null,{"$f":"'REPORTE PMI'!L512","v":0},{"$f":"'REPORTE PMI'!M512","v":0},0,null,null,0,null,null,"NO"]
[{"$f":"'REPORTE PMI'!B513","v":0},{"$f":"'REPORTE PMI'!E513","v":0},{"$f":"'REPORTE PMI'!J513","v":0},{"$f":"'REPORTE PMI'!G513","v":0},null,null,null,{"$f":"'REPORTE PMI'!L513","v":0},{"$f":"'REPORTE PMI'!M513","v":0},0,null,null,0,null,null,"NO"]
[{"$f":"'REPORTE PMI'!B514","v":0},{"$f":"'REPORTE PMI'!E514","v":0},{"$f":"'REPORTE PMI'!J514","v":0},{"$f":"'REPORTE PMI'!G514","v":0},null,null,null,{"$f":"'REPORTE PMI'!L514","v":0},{"$f":"'REPORTE PMI'!M514","v":0},0,null,null,0,null,null,"NO"]
[{"$f":"'REPORTE PMI'!B515","v":0},{"$f":"'REPORTE PMI'!E515","v":0},{"$f":"'REPORTE PMI'!J515","v":0},{"$f":"'REPORTE PMI'!G515","v":0},null,null,null,{"$f":"'REPORTE PMI'!L515","v":0},{"$f":"'REPORTE PMI'!M515","v":0},0,null,null,0,null,null,"NO"]
[{"$f":"'REPORTE PMI'!B516","v":0},{"$f":"'REPORTE PMI'!E516","v":0},{"$f":"'REPORTE PMI'!J516","v":0},{"$f":"'REPORTE PMI'!G516","v":0},null,null,null,{"$f":"'REPORTE PMI'!L516","v":0},{"$f":"'REPORTE PMI'!M516","v":0},{"$f":"IFERROR(I525/H525, 0)","v":0},null,null,{"$f":"H525-I525","v":0},null,null,{"$f":"IF(E525=\"SI\",IF(J525>0%,IF(K525=\"SI\",IF(L525=\"NO\",IF(N525=\"SI\",IF(O525=\"NO\",\"SI\",\"NO\"),\"NO\"),\"NO\"),\"NO\"),\"NO\"),\"NO\")","v":"NO"}]
[{"$f":"'REPORTE PMI'!B517","v":0},{"$f":"'REPORTE PMI'!E517","v":0},{"$f":"'REPORTE PMI'!J517","v":0},{"$f":"'REPORTE PMI'!G517","v":0},null,null,null,{"$f":"'REPORTE PMI'!L517","v":0},{"$f":"'REPORTE PMI'!M517","v":0},0,null,null,0,null,null,"NO"]
[{"$f":"'REPORTE PMI'!B518","v":0},{"$f":"'REPORTE PMI'!E518","v":0},{"$f":"'REPORTE PMI'!J518","v":0},{"$f":"'REPORTE PMI'!G518","v":0},null,null,null,{"$f":"'REPORTE PMI'!L518","v":0},{"$f":"'REPORTE PMI'!M518","v":0},0,null,null,0,null,null,"NO"]
[{"$f":"'REPORTE PMI'!B519","v":0},{"$f":"'REPORTE PMI'!E519","v":0},{"$f":"'REPORTE PMI'!J519","v":0},{"$f":"'REPORTE PMI'!G519","v":0},null,null,null,{"$f":"'REPORTE PMI'!L519","v":0},{"$f":"'REPORTE PMI'!M519","v":0},0,null,null,0,null,null,"NO"]
[{"$f":"'REPORTE PMI'!B520","v":0},{"$f":"'REPORTE PMI'!E520","v":0},{"$f":"'REPORTE PMI'!J520","v":0},{"$f":"'REPORTE PMI'!G520","v":0},null,null,null,{"$f":"'REPORTE PMI'!L520","v":0},{"$f":"'REPORTE PMI'!M520","v":0},0,null,null,0,null,null,"NO"]
[{"$f":"'REPORTE PMI'!B521","v":0},{"$f":"'REPORTE PMI'!E521","v":0},{"$f":"'REPORTE PMI'!J521","v":0},{"$f":"'REPORTE PMI'!G521","v":0},null,null,null,{"$f":"'REPORTE PMI'!L521","v":0},{"$f":"'REPORTE PMI'!M521","v":0},0,null,null,0,null,null,"NO"]
[{"$f":"'REPORTE PMI'!B522","v":0},{"$f":"'REPORTE PMI'!E522","v":0},{"$f":"'REPORTE PMI'!J522","v":0},{"$f":"'REPORTE PMI'!G522","v":0},null,null,null,{"$f":"'REPORTE PMI'!L522","v":0},{"$f":"'REPORTE PMI'!M522","v":0},0,null,null,0,null,null,"NO"]
[{"$f":"'REPORTE PMI'!B523","v":0},{"$f":"'REPORTE PMI'!E523","v":0},{"$f":"'REPORTE PMI'!J523","v":0},{"$f":"'REPORTE PMI'!G523","v":0},null,null,null,{"$f":"'REPORTE PMI'!L523","v":0},{"$f":"'REPORTE PMI'!M523","v":0},0,null,null,0,null,null,"NO"]
[{"$f":"'REPORTE PMI'!B524","v":0},{"$f":"'REPORTE PMI'!E524","v":0},{"$f":"'REPORTE PMI'!J524","v":0},{"$f":"'REPORTE PMI'!G524","v":0},null,null,null,{"$f":"'REPORTE PMI'!L524","v":0},{"$f":"'REPORTE PMI'!M524","v":0},0,null,null,0,null,null,"NO"]
[{"$f":"'REPORTE PMI'!B525","v":0},{"$f":"'REPORTE PMI'!E525","v":0},{"$f":"'REPORTE PMI'!J525","v":0},{"$f":"'REPORTE PMI'!G525","v":0},null,null,null,{"$f":"'REPORTE PMI'!L525","v":0},{"$f":"'REPORTE PMI'!M525","v":0},0,null,null,0,null,null,"NO"]
[{"$f":"'REPORTE PMI'!B526","v":0},{"$f":"'REPORTE PMI'!E526","v":0},{"$f":"'REPORTE PMI'!J526","v":0},{"$f":"'REPORTE PMI'!G526","v":0},null,null,null,{"$f":"'REPORTE PMI'!L526","v":0},{"$f":"'REPORTE PMI'!M526","v":0},0,null,null,0,null,null,"NO"]
[{"$f":"'REPORTE PMI'!B527","v":0},{"$f":"'REPORTE PMI'!E527","v":0},{"$f":"'REPORTE PMI'!J527","v":0},{"$f":"'REPORTE PMI'!G527","v":0},null,null,null,{"$f":"'REPORTE PMI'!L527","v":0},{"$f":"'REPORTE PMI'!M527","v":0},0,null,null,0,null,null,"NO"]
[{"$f":"'REPORTE PMI'!B528","v":0},{"$f":"'REPORTE PMI'!E528","v":0},{"$f":"'REPORTE PMI'!J528","v":0},{"$f":"'REPORTE PMI'!G528","v":0},null,null,null,{"$f":"'REPORTE PMI'!L528","v":0},{"$f":"'REPORTE PMI'!M528","v":0},0,null,null,0,null,null,"NO"]
[{"$f":"'REPORTE PMI'!B529","v":0},{"$f":"'REPORTE PMI'!E529","v":0},{"$f":"'REPORTE PMI'!J529","v":0},{"$f":"'REPORTE PMI'!G529","v":0},null,null,null,{"$f":"'REPORTE PMI'!L529","v":0},{"$f":"'REPORTE PMI'!M529","v":0},0,null,null,0,null,null,"NO"]
[{"$f":"'REPORTE PMI'!B530","v":0},{"$f":"'REPORTE PMI'!E530","v":0},{"$f":"'REPORTE PMI'!J530","v":0},{"$f":"'REPORTE PMI'!G530","v":0},null,null,null,{"$f":"'REPORTE PMI'!L530","v":0},{"$f":"'REPORTE PMI'!M530","v":0},0,null,null,0,null,null,"NO"]
[{"$f":"'REPORTE PMI'!B531","v":0},{"$f":"'REPORTE PMI'!E531","v":0},{"$f":"'REPORTE PMI'!J531","v":0},{"$f":"'REPORTE PMI'!G531","v":0},null,null,null,{"$f":"'REPORTE PMI'!L531","v":0},{"$f":"'REPORTE PMI'!M531","v":0},0,null,null,0,null,null,"NO"]
[{"$f":"'REPORTE PMI'!B532","v":0},{"$f":"'REPORTE PMI'!E532","v":0},{"$f":"'REPORTE PMI'!J532","v":0},{"$f":"'REPORTE PMI'!G532","v":0},null,null,null,{"$f":"'REPORTE PMI'!L532","v":0},{"$f":"'REPORTE PMI'!M532","v":0},0,null,null,0,null,null,"NO"]
[{"$f":"'REPORTE PMI'!B533","v":0},{"$f":"'REPORTE PMI'!E533","v":0},{"$f":"'REPORTE PMI'!J533","v":0},{"$f":"'REPORTE PMI'!G533","v":0},null,null,null,{"$f":"'REPORTE PMI'!L533","v":0},{"$f":"'REPORTE PMI'!M533","v":0},0,null,null,0,null,null,"NO"]
[{"$f":"'REPORTE PMI'!B534","v":0},{"$f":"'REPORTE PMI'!E534","v":0},{"$f":"'REPORTE PMI'!J534","v":0},{"$f":"'REPORTE PMI'!G534","v":0},null,null,null,{"$f":"'REPORTE PMI'!L534","v":0},{"$f":"'REPORTE PMI'!M534","v":0},0,null,null,0,null,null,"NO"]
[{"$f":"'REPORTE PMI'!B535","v":0},{"$f":"'REPORTE PMI'!E535","v":0},{"$f":"'REPORTE PMI'!J535","v":0},{"$f":"'REPORTE PMI'!G535","v":0},null,null,null,{"$f":"'REPORTE PMI'!L535","v":0},{"$f":"'REPORTE PMI'!M535","v":0},0,null,null,0,null,null,"NO"]
[{"$f":"'REPORTE PMI'!B536","v":0},{"$f":"'REPORTE PMI'!E536","v":0},{"$f":"'REPORTE PMI'!J536","v":0},{"$f":"'REPORTE PMI'!G536","v":0},null,null,null,{"$f":"'REPORTE PMI'!L536","v":0},{"$f":"'REPORTE PMI'!M536","v":0},0,null,null,0,null,null,"NO"]
[{"$f":"'REPORTE PMI'!B537","v":0},{"$f":"'REPORTE PMI'!E537","v":0},{"$f":"'REPORTE PMI'!J537","v":0},{"$f":"'REPORTE PMI'!G537","v":0},null,null,null,{"$f":"'REPORTE PMI'!L537","v":0},{"$f":"'REPORTE PMI'!M537","v":0},0,null,null,0,null,null,"NO"]
[{"$f":"'REPORTE PMI'!B538","v":0},{"$f":"'REPORTE PMI'!E538","v":0},{"$f":"'REPORTE PMI'!J538","v":0},{"$f":"'REPORTE PMI'!G538","v":0},null,null,null,{"$f":"'REPORTE PMI'!L538","v":0},{"$f":"'REPORTE PMI'!M538","v":0},0,null,null,0,null,null,"NO"]
[{"$f":"'REPORTE PMI'!B539","v":0},{"$f":"'REPORTE PMI'!E539","v":0},{"$f":"'REPORTE PMI'!J539","v":0},{"$f":"'REPORTE PMI'!G539","v":0},null,null,null,{"$f":"'REPORTE PMI'!L539","v":0},{"$f":"'REPORTE PMI'!M539","v":0},0,null,null,0,null,null,"NO"]
[{"$f":"'REPORTE PMI'!B540","v":0},{"$f":"'REPORTE PMI'!E540","v":0},{"$f":"'REPORTE PMI'!J540","v":0},{"$f":"'REPORTE PMI'!G540","v":0},null,null,null,{"$f":"'REPORTE PMI'!L540","v":0},{"$f":"'REPORTE PMI'!M540","v":0},0,null,null,0,null,null,"NO"]
[{"$f":"'REPORTE PMI'!B541","v":0},{"$f":"'REPORTE PMI'!E541","v":0},{"$f":"'REPORTE PMI'!J541","v":0},{"$f":"'REPORTE PMI'!G541","v":0},null,null,null,{"$f":"'REPORTE PMI'!L541","v":0},{"$f":"'REPORTE PMI'!M541","v":0},0,null,null,0,null,null,"NO"]
[{"$f":"'REPORTE PMI'!B542","v":0},{"$f":"'REPORTE PMI'!E542","v":0},{"$f":"'REPORTE PMI'!J542","v":0},{"$f":"'REPORTE PMI'!G542","v":0},null,null,null,{"$f":"'REPORTE PMI'!L542","v":0},{"$f":"'REPORTE PMI'!M542","v":0},0,null,null,0,null,null,"NO"]
[{"$f":"'REPORTE PMI'!B543","v":0},{"$f":"'REPORTE PMI'!E543","v":0},{"$f":"'REPORTE PMI'!J543","v":0},{"$f":"'REPORTE PMI'!G543","v":0},null,null,null,{"$f":"'REPORTE PMI'!L543","v":0},{"$f":"'REPORTE PMI'!M543","v":0},0,null,null,0,null,null,"NO"]
[{"$f":"'REPORTE PMI'!B544","v":0},{"$f":"'REPORTE PMI'!E544","v":0},{"$f":"'REPORTE PMI'!J544","v":0},{"$f":"'REPORTE PMI'!G544","v":0},null,null,null,{"$f":"'REPORTE PMI'!L544","v":0},{"$f":"'REPORTE PMI'!M544","v":0},0,null,null,0,null,null,"NO"]
[{"$f":"'REPORTE PMI'!B545","v":0},{"$f":"'REPORTE PMI'!E545","v":0},{"$f":"'REPORTE PMI'!J545","v":0},{"$f":"'REPORTE PMI'!G545","v":0},null,null,null,{"$f":"'REPORTE PMI'!L545","v":0},{"$f":"'REPORTE PMI'!M545","v":0},0,null,null,0,null,null,"NO"]
[{"$f":"'REPORTE PMI'!B546","v":0},{"$f":"'REPORTE PMI'!E546","v":0},{"$f":"'REPORTE PMI'!J546","v":0},{"$f":"'REPORTE PMI'!G546","v":0},null,null,null,{"$f":"'REPORTE PMI'!L546","v":0},{"$f":"'REPORTE PMI'!M546","v":0},0,null,null,0,null,null,"NO"]
[{"$f":"'REPORTE PMI'!B547","v":0},{"$f":"'REPORTE PMI'!E547","v":0},{"$f":"'REPORTE PMI'!J547","v":0},{"$f":"'REPORTE PMI'!G547","v":0},null,null,null,{"$f":"'REPORTE PMI'!L547","v":0},{"$f":"'REPORTE PMI'!M547","v":0},0,null,null,0,null,null,"NO"]
[{"$f":"'REPORTE PMI'!B548","v":0},{"$f":"'REPORTE PMI'!E548","v":0},{"$f":"'REPORTE PMI'!J548","v":0},{"$f":"'REPORTE PMI'!G548","v":0},null,null,null,{"$f":"'REPORTE PMI'!L548","v":0},{"$f":"'REPORTE PMI'!M548","v":0},0,null,null,0,null,null,"NO"]
[{"$f":"'REPORTE PMI'!B549","v":0},{"$f":"'REPORTE PMI'!E549","v":0},{"$f":"'REPORTE PMI'!J549","v":0},{"$f":"'REPORTE PMI'!G549","v":0},null,null,null,{"$f":"'REPORTE PMI'!L549","v":0},{"$f":"'REPORTE PMI'!M549","v":0},0,null,null,0,null,null,"NO"]
[{"$f":"'REPORTE PMI'!B550","v":0},{"$f":"'REPORTE PMI'!E550","v":0},{"$f":"'REPORTE PMI'!J550","v":0},{"$f":"'REPORTE PMI'!G550","v":0},null,null,null,{"$f":"'REPORTE PMI'!L550","v":0},{"$f":"'REPORTE PMI'!M550","v":0},0,null,null,0,null,null,"NO"]
[{"$f":"'REPORTE PMI'!B551","v":0},{"$f":"'REPORTE PMI'!E551","v":0},{"$f":"'REPORTE PMI'!J551","v":0},{"$f":"'REPORTE PMI'!G551","v":0},null,null,null,{"$f":"'REPORTE PMI'!L551","v":0},{"$f":"'REPORTE PMI'!M551","v":0},0,null,null,0,null,null,"NO"]
[{"$f":"'REPORTE PMI'!B552","v":0},{"$f":"'REPORTE PMI'!E552","v":0},{"$f":"'REPORTE PMI'!J552","v":0},{"$f":"'REPORTE PMI'!G552","v":0},null,null,null,{"$f":"'REPORTE PMI'!L552","v":0},{"$f":"'REPORTE PMI'!M552","v":0},0,null,null,0,null,null,"NO"]
[{"$f":"'REPORTE PMI'!B553","v":0},{"$f":"'REPORTE PMI'!E553","v":0},{"$f":"'REPORTE PMI'!J553","v":0},{"$f":"'REPORTE PMI'!G553","v":0},null,null,null,{"$f":"'REPORTE PMI'!L553","v":0},{"$f":"'REPORTE PMI'!M553","v":0},0,null,null,0,null,null,"NO"]
[{"$f":"'REPORTE PMI'!B554","v":0},{"$f":"'REPORTE PMI'!E554","v":0},{"$f":"'REPORTE PMI'!J554","v":0},{"$f":"'REPORTE PMI'!G554","v":0},null,null,null,{"$f":"'REPORTE PMI'!L554","v":0},{"$f":"'REPORTE PMI'!M554","v":0},0,null,null,0,null,null,"NO"]
[{"$f":"'REPORTE PMI'!B555","v":0},{"$f":"'REPORTE PMI'!E555","v":0},{"$f":"'REPORTE PMI'!J555","v":0},{"$f":"'REPORTE PMI'!G555","v":0},null,null,null,{"$f":"'REPORTE PMI'!L555","v":0},{"$f":"'REPORTE PMI'!M555","v":0},0,null,null,0,null,null,"NO"]
[{"$f":"'REPORTE PMI'!B556","v":0},{"$f":"'REPORTE PMI'!E556","v":0},{"$f":"'REPORTE PMI'!J556","v":0},{"$f":"'REPORTE PMI'!G556","v":0},null,null,null,{"$f":"'REPORTE PMI'!L556","v":0},{"$f":"'REPORTE PMI'!M556","v":0},0,null,null,0,null,null,"NO"]
[{"$f":"'REPORTE PMI'!B557","v":0},{"$f":"'REPORTE PMI'!E557","v":0},{"$f":"'REPORTE PMI'!J557","v":0},{"$f":"'REPORTE PMI'!G557","v":0},null,null,null,{"$f":"'REPORTE PMI'!L557","v":0},{"$f":"'REPORTE PMI'!M557","v":0},0,null,null,0,null,null,"NO"]
[{"$f":"'REPORTE PMI'!B558","v":0},{"$f":"'REPORTE PMI'!E558","v":0},{"$f":"'REPORTE PMI'!J558","v":0},{"$f":"'REPORTE PMI'!G558","v":0},null,null,null,{"$f":"'REPORTE PMI'!L558","v":0},{"$f":"'REPORTE PMI'!M558","v":0},0,null,null,0,null,null,"NO"]
[{"$f":"'REPORTE PMI'!B559","v":0},{"$f":"'REPORTE PMI'!E559","v":0},{"$f":"'REPORTE PMI'!J559","v":0},{"$f":"'REPORTE PMI'!G559","v":0},null,null,null,{"$f":"'REPORTE PMI'!L559","v":0},{"$f":"'REPORTE PMI'!M559","v":0},0,null,null,0,null,null,"NO"]
[{"$f":"'REPORTE PMI'!B560","v":0},{"$f":"'REPORTE PMI'!E560","v":0},{"$f":"'REPORTE PMI'!J560","v":0},{"$f":"'REPORTE PMI'!G560","v":0},null,null,null,{"$f":"'REPORTE PMI'!L560","v":0},{"$f":"'REPORTE PMI'!M560","v":0},0,null,null,0,null,null,"NO"]
[{"$f":"'REPORTE PMI'!B561","v":0},{"$f":"'REPORTE PMI'!E561","v":0},{"$f":"'REPORTE PMI'!J561","v":0},{"$f":"'REPORTE PMI'!G561","v":0},null,null,null,{"$f":"'REPORTE PMI'!L561","v":0},{"$f":"'REPORTE PMI'!M561","v":0},0,null,null,0,null,null,"NO"]
[{"$f":"'REPORTE PMI'!B562","v":0},{"$f":"'REPORTE PMI'!E562","v":0},{"$f":"'REPORTE PMI'!J562","v":0},{"$f":"'REPORTE PMI'!G562","v":0},null,null,null,{"$f":"'REPORTE PMI'!L562","v":0},{"$f":"'REPORTE PMI'!M562","v":0},0,null,null,0,null,null,"NO"]
[{"$f":"'REPORTE PMI'!B563","v":0},{"$f":"'REPORTE PMI'!E563","v":0},{"$f":"'REPORTE PMI'!J563","v":0},{"$f":"'REPORTE PMI'!G563","v":0},null,null,null,{"$f":"'REPORTE PMI'!L563","v":0},{"$f":"'REPORTE PMI'!M563","v":0},0,null,null,0,null,null,"NO"]
[{"$f":"'REPORTE PMI'!B564","v":0},{"$f":"'REPORTE PMI'!E564","v":0},{"$f":"'REPORTE PMI'!J564","v":0},{"$f":"'REPORTE PMI'!G564","v":0},null,null,null,{"$f":"'REPORTE PMI'!L564","v":0},{"$f":"'REPORTE PMI'!M564","v":0},0,null,null,0,null,null,"NO"]
[{"$f":"'REPORTE PMI'!B565","v":0},{"$f":"'REPORTE PMI'!E565","v":0},{"$f":"'REPORTE PMI'!J565","v":0},{"$f":"'REPORTE PMI'!G565","v":0},null,null,null,{"$f":"'REPORTE PMI'!L565","v":0},{"$f":"'REPORTE PMI'!M565","v":0},0,null,null,0,null,null,"NO"]
[{"$f":"'REPORTE PMI'!B566","v":0},{"$f":"'REPORTE PMI'!E566","v":0},{"$f":"'REPORTE PMI'!J566","v":0},{"$f":"'REPORTE PMI'!G566","v":0},null,null,null,{"$f":"'REPORTE PMI'!L566","v":0},{"$f":"'REPORTE PMI'!M566","v":0},0,null,null,0,null,null,"NO"]
[{"$f":"'REPORTE PMI'!B567","v":0},{"$f":"'REPORTE PMI'!E567","v":0},{"$f":"'REPORTE PMI'!J567","v":0},{"$f":"'REPORTE PMI'!G567","v":0},null,null,null,{"$f":"'REPORTE PMI'!L567","v":0},{"$f":"'REPORTE PMI'!M567","v":0},0,null,null,0,null,null,"NO"]
[{"$f":"'REPORTE PMI'!B568","v":0},{"$f":"'REPORTE PMI'!E568","v":0},{"$f":"'REPORTE PMI'!J568","v":0},{"$f":"'REPORTE PMI'!G568","v":0},null,null,null,{"$f":"'REPORTE PMI'!L568","v":0},{"$f":"'REPORTE PMI'!M568","v":0},0,null,null,0,null,null,"NO"]
[{"$f":"'REPORTE PMI'!B569","v":0},{"$f":"'REPORTE PMI'!E569","v":0},{"$f":"'REPORTE PMI'!J569","v":0},{"$f":"'REPORTE PMI'!G569","v":0},null,null,null,{"$f":"'REPORTE PMI'!L569","v":0},{"$f":"'REPORTE PMI'!M569","v":0},0,null,null,0,null,null,"NO"]
[{"$f":"'REPORTE PMI'!B570","v":0},{"$f":"'REPORTE PMI'!E570","v":0},{"$f":"'REPORTE PMI'!J570","v":0},{"$f":"'REPORTE PMI'!G570","v":0},null,null,null,{"$f":"'REPORTE PMI'!L570","v":0},{"$f":"'REPORTE PMI'!M570","v":0},0,null,null,0,null,null,"NO"]
[{"$f":"'REPORTE PMI'!B571","v":0},{"$f":"'REPORTE PMI'!E571","v":0},{"$f":"'REPORTE PMI'!J571","v":0},{"$f":"'REPORTE PMI'!G571","v":0},null,null,null,{"$f":"'REPORTE PMI'!L571","v":0},{"$f":"'REPORTE PMI'!M571","v":0},0,null,null,0,null,null,"NO"]
[{"$f":"'REPORTE PMI'!B572","v":0},{"$f":"'REPORTE PMI'!E572","v":0},{"$f":"'REPORTE PMI'!J572","v":0},{"$f":"'REPORTE PMI'!G572","v":0},null,null,null,{"$f":"'REPORTE PMI'!L572","v":0},{"$f":"'REPORTE PMI'!M572","v":0},0,null,null,0,null,null,"NO"]
[{"$f":"'REPORTE PMI'!B573","v":0},{"$f":"'REPORTE PMI'!E573","v":0},{"$f":"'REPORTE PMI'!J573","v":0},{"$f":"'REPORTE PMI'!G573","v":0},null,null,null,{"$f":"'REPORTE PMI'!L573","v":0},{"$f":"'REPORTE PMI'!M573","v":0},0,null,null,0,null,null,"NO"]
[{"$f":"'REPORTE PMI'!B574","v":0},{"$f":"'REPORTE PMI'!E574","v":0},{"$f":"'REPORTE PMI'!J574","v":0},{"$f":"'REPORTE PMI'!G574","v":0},null,null,null,{"$f":"'REPORTE PMI'!L574","v":0},{"$f":"'REPORTE PMI'!M574","v":0},0,null,null,0,null,null,"NO"]
[{"$f":"'REPORTE PMI'!B575","v":0},{"$f":"'REPORTE PMI'!E575","v":0},{"$f":"'REPORTE PMI'!J575","v":0},{"$f":"'REPORTE PMI'!G575","v":0},null,null,null,{"$f":"'REPORTE PMI'!L575","v":0},{"$f":"'REPORTE PMI'!M575","v":0},0,null,null,0,null,null,"NO"]
[{"$f":"'REPORTE PMI'!B576","v":0},{"$f":"'REPORTE PMI'!E576","v":0},{"$f":"'REPORTE PMI'!J576","v":0},{"$f":"'REPORTE PMI'!G576","v":0},null,null,null,{"$f":"'REPORTE PMI'!L576","v":0},{"$f":"'REPORTE PMI'!M576","v":0},0,null,null,0,null,null,"NO"]
[{"$f":"'REPORTE PMI'!B577","v":0},{"$f":"'REPORTE PMI'!E577","v":0},{"$f":"'REPORTE PMI'!J577","v":0},{"$f":"'REPORTE PMI'!G577","v":0},null,null,null,{"$f":"'REPORTE PMI'!L577","v":0},{"$f":"'REPORTE PMI'!M577","v":0},0,null,null,0,null,null,"NO"]
[{"$f":"'REPORTE PMI'!B578","v":0},{"$f":"'REPORTE PMI'!E578","v":0},{"$f":"'REPORTE PMI'!J578","v":0},{"$f":"'REPORTE PMI'!G578","v":0},null,null,null,{"$f":"'REPORTE PMI'!L578","v":0},{"$f":"'REPORTE PMI'!M578","v":0},0,null,null,0,null,null,"NO"]
[{"$f":"'REPORTE PMI'!B579","v":0},{"$f":"'REPORTE PMI'!E579","v":0},{"$f":"'REPORTE PMI'!J579","v":0},{"$f":"'REPORTE PMI'!G579","v":0},null,null,null,{"$f":"'REPORTE PMI'!L579","v":0},{"$f":"'REPORTE PMI'!M579","v":0},0,null,null,0,null,null,"NO"]
[{"$f":"'REPORTE PMI'!B580","v":0},{"$f":"'REPORTE PMI'!E580","v":0},{"$f":"'REPORTE PMI'!J580","v":0},{"$f":"'REPORTE PMI'!G580","v":0},null,null,null,{"$f":"'REPORTE PMI'!L580","v":0},{"$f":"'REPORTE PMI'!M580","v":0},{"$f":"IFERROR(I589/H589, 0)","v":0},null,null,{"$f":"H589-I589","v":0},null,null,{"$f":"IF(E589=\"SI\",IF(J589>0%,IF(K589=\"SI\",IF(L589=\"NO\",IF(N589=\"SI\",IF(O589=\"NO\",\"SI\",\"NO\"),\"NO\"),\"NO\"),\"NO\"),\"NO\"),\"NO\")","v":"NO"}]
[{"$f":"'REPORTE PMI'!B581","v":0},{"$f":"'REPORTE PMI'!E581","v":0},{"$f":"'REPORTE PMI'!J581","v":0},{"$f":"'REPORTE PMI'!G581","v":0},null,null,null,{"$f":"'REPORTE PMI'!L581","v":0},{"$f":"'REPORTE PMI'!M581","v":0},0,null,null,0,null,null,"NO"]
[{"$f":"'REPORTE PMI'!B582","v":0},{"$f":"'REPORTE PMI'!E582","v":0},{"$f":"'REPORTE PMI'!J582","v":0},{"$f":"'REPORTE PMI'!G582","v":0},null,null,null,{"$f":"'REPORTE PMI'!L582","v":0},{"$f":"'REPORTE PMI'!M582","v":0},0,null,null,0,null,null,"NO"]
[{"$f":"'REPORTE PMI'!B583","v":0},{"$f":"'REPORTE PMI'!E583","v":0},{"$f":"'REPORTE PMI'!J583","v":0},{"$f":"'REPORTE PMI'!G583","v":0},null,null,null,{"$f":"'REPORTE PMI'!L583","v":0},{"$f":"'REPORTE PMI'!M583","v":0},0,null,null,0,null,null,"NO"]
[{"$f":"'REPORTE PMI'!B584","v":0},{"$f":"'REPORTE PMI'!E584","v":0},{"$f":"'REPORTE PMI'!J584","v":0},{"$f":"'REPORTE PMI'!G584","v":0},null,null,null,{"$f":"'REPORTE PMI'!L584","v":0},{"$f":"'REPORTE PMI'!M584","v":0},0,null,null,0,null,null,"NO"]
[{"$f":"'REPORTE PMI'!B585","v":0},{"$f":"'REPORTE PMI'!E585","v":0},{"$f":"'REPORTE PMI'!J585","v":0},{"$f":"'REPORTE PMI'!G585","v":0},null,null,null,{"$f":"'REPORTE PMI'!L585","v":0},{"$f":"'REPORTE PMI'!M585","v":0},0,null,null,0,null,null,"NO"]
[{"$f":"'REPORTE PMI'!B586","v":0},{"$f":"'REPORTE PMI'!E586","v":0},{"$f":"'REPORTE PMI'!J586","v":0},{"$f":"'REPORTE PMI'!G586","v":0},null,null,null,{"$f":"'REPORTE PMI'!L586","v":0},{"$f":"'REPORTE PMI'!M586","v":0},0,null,null,0,null,null,"NO"]
[{"$f":"'REPORTE PMI'!B587","v":0},{"$f":"'REPORTE PMI'!E587","v":0},{"$f":"'REPORTE PMI'!J587","v":0},{"$f":"'REPORTE PMI'!G587","v":0},null,null,null,{"$f":"'REPORTE PMI'!L587","v":0},{"$f":"'REPORTE PMI'!M587","v":0},0,null,null,0,null,null,"NO"]
[{"$f":"'REPORTE PMI'!B588","v":0},{"$f":"'REPORTE PMI'!E588","v":0},{"$f":"'REPORTE PMI'!J588","v":0},{"$f":"'REPORTE PMI'!G588","v":0},null,null,null,{"$f":"'REPORTE PMI'!L588","v":0},{"$f":"'REPORTE PMI'!M588","v":0},0,null,null,0,null,null,"NO"]
[{"$f":"'REPORTE PMI'!B589","v":0},{"$f":"'REPORTE PMI'!E589","v":0},{"$f":"'REPORTE PMI'!J589","v":0},{"$f":"'REPORTE PMI'!G589","v":0},null,null,null,{"$f":"'REPORTE PMI'!L589","v":0},{"$f":"'REPORTE PMI'!M589","v":0},0,null,null,0,null,null,"NO"]
[{"$f":"'REPORTE PMI'!B590","v":0},{"$f":"'REPORTE PMI'!E590","v":0},{"$f":"'REPORTE PMI'!J590","v":0},{"$f":"'REPORTE PMI'!G590","v":0},null,null,null,{"$f":"'REPORTE PMI'!L590","v":0},{"$f":"'REPORTE PMI'!M590","v":0},0,null,null,0,null,null,"NO"]
[{"$f":"'REPORTE PMI'!B591","v":0},{"$f":"'REPORTE PMI'!E591","v":0},{"$f":"'REPORTE PMI'!J591","v":0},{"$f":"'REPORTE PMI'!G591","v":0},null,null,null,{"$f":"'REPORTE PMI'!L591","v":0},{"$f":"'REPORTE PMI'!M591","v":0},0,null,null,0,null,null,"NO"]
[{"$f":"'REPORTE PMI'!B592","v":0},{"$f":"'REPORTE PMI'!E592","v":0},{"$f":"'REPORTE PMI'!J592","v":0},{"$f":"'REPORTE PMI'!G592","v":0},null,null,null,{"$f":"'REPORTE PMI'!L592","v":0},{"$f":"'REPORTE PMI'!M592","v":0},0,null,null,0,null,null,"NO"]
[{"$f":"'REPORTE PMI'!B593","v":0},{"$f":"'REPORTE PMI'!E593","v":0},{"$f":"'REPORTE PMI'!J593","v":0},{"$f":"'REPORTE PMI'!G593","v":0},null,null,null,{"$f":"'REPORTE PMI'!L593","v":0},{"$f":"'REPORTE PMI'!M593","v":0},0,null,null,0,null,null,"NO"]
[{"$f":"'REPORTE PMI'!B594","v":0},{"$f":"'REPORTE PMI'!E594","v":0},{"$f":"'REPORTE PMI'!J594","v":0},{"$f":"'REPORTE PMI'!G594","v":0},null,null,null,{"$f":"'REPORTE PMI'!L594","v":0},{"$f":"'REPORTE PMI'!M594","v":0},0,null,null,0,null,null,"NO"]
[{"$f":"'REPORTE PMI'!B595","v":0},{"$f":"'REPORTE PMI'!E595","v":0},{"$f":"'REPORTE PMI'!J595","v":0},{"$f":"'REPORTE PMI'!G595","v":0},null,null,null,{"$f":"'REPORTE PMI'!L595","v":0},{"$f":"'REPORTE PMI'!M595","v":0},0,null,null,0,null,null,"NO"]
[{"$f":"'REPORTE PMI'!B596","v":0},{"$f":"'REPORTE PMI'!E596","v":0},{"$f":"'REPORTE PMI'!J596","v":0},{"$f":"'REPORTE PMI'!G596","v":0},null,null,null,{"$f":"'REPORTE PMI'!L596","v":0},{"$f":"'REPORTE PMI'!M596","v":0},0,null,null,0,null,null,"NO"]
[{"$f":"'REPORTE PMI'!B597","v":0},{"$f":"'REPORTE PMI'!E597","v":0},{"$f":"'REPORTE PMI'!J597","v":0},{"$f":"'REPORTE PMI'!G597","v":0},null,null,null,{"$f":"'REPORTE PMI'!L597","v":0},{"$f":"'REPORTE PMI'!M597","v":0},0,null,null,0,null,null,"NO"]
[{"$f":"'REPORTE PMI'!B598","v":0},{"$f":"'REPORTE PMI'!E598","v":0},{"$f":"'REPORTE PMI'!J598","v":0},{"$f":"'REPORTE PMI'!G598","v":0},null,null,null,{"$f":"'REPORTE PMI'!L598","v":0},{"$f":"'REPORTE PMI'!M598","v":0},0,null,null,0,null,null,"NO"]
[{"$f":"'REPORTE PMI'!B599","v":0},{"$f":"'REPORTE PMI'!E599","v":0},{"$f":"'REPORTE PMI'!J599","v":0},{"$f":"'REPORTE PMI'!G599","v":0},null,null,null,{"$f":"'REPORTE PMI'!L599","v":0},{"$f":"'REPORTE PMI'!M599","v":0},0,null,null,0,null,null,"NO"]
[{"$f":"'REPORTE PMI'!B600","v":0},{"$f":"'REPORTE PMI'!E600","v":0},{"$f":"'REPORTE PMI'!J600","v":0},{"$f":"'REPORTE PMI'!G600","v":0},null,null,null,{"$f":"'REPORTE PMI'!L600","v":0},{"$f":"'REPORTE PMI'!M600","v":0},0,null,null,0,null,null,"NO"]
[{"$f":"'REPORTE PMI'!B601","v":0},{"$f":"'REPORTE PMI'!E601","v":0},{"$f":"'REPORTE PMI'!J601","v":0},{"$f":"'REPORTE PMI'!G601","v":0},null,null,null,{"$f":"'REPORTE PMI'!L601","v":0},{"$f":"'REPORTE PMI'!M601","v":0},0,null,null,0,null,null,"NO"]
[{"$f":"'REPORTE PMI'!B602","v":0},{"$f":"'REPORTE PMI'!E602","v":0},{"$f":"'REPORTE PMI'!J602","v":0},{"$f":"'REPORTE PMI'!G602","v":0},null,null,null,{"$f":"'REPORTE PMI'!L602","v":0},{"$f":"'REPORTE PMI'!M602","v":0},0,null,null,0,null,null,"NO"]
[{"$f":"'REPORTE PMI'!B603","v":0},{"$f":"'REPORTE PMI'!E603","v":0},{"$f":"'REPORTE PMI'!J603","v":0},{"$f":"'REPORTE PMI'!G603","v":0},null,null,null,{"$f":"'REPORTE PMI'!L603","v":0},{"$f":"'REPORTE PMI'!M603","v":0},0,null,null,0,null,null,"NO"]
[{"$f":"'REPORTE PMI'!B604","v":0},{"$f":"'REPORTE PMI'!E604","v":0},{"$f":"'REPORTE PMI'!J604","v":0},{"$f":"'REPORTE PMI'!G604","v":0},null,null,null,{"$f":"'REPORTE PMI'!L604","v":0},{"$f":"'REPORTE PMI'!M604","v":0},0,null,null,0,null,null,"NO"]
[{"$f":"'REPORTE PMI'!B605","v":0},{"$f":"'REPORTE PMI'!E605","v":0},{"$f":"'REPORTE PMI'!J605","v":0},{"$f":"'REPORTE PMI'!G605","v":0},null,null,null,{"$f":"'REPORTE PMI'!L605","v":0},{"$f":"'REPORTE PMI'!M605","v":0},0,null,null,0,null,null,"NO"]
[{"$f":"'REPORTE PMI'!B606","v":0},{"$f":"'REPORTE PMI'!E606","v":0},{"$f":"'REPORTE PMI'!J606","v":0},{"$f":"'REPORTE PMI'!G606","v":0},null,null,null,{"$f":"'REPORTE PMI'!L606","v":0},{"$f":"'REPORTE PMI'!M606","v":0},0,null,null,0,null,null,"NO"]
[{"$f":"'REPORTE PMI'!B607","v":0},{"$f":"'REPORTE PMI'!E607","v":0},{"$f":"'REPORTE PMI'!J607","v":0},{"$f":"'REPORTE PMI'!G607","v":0},null,null,null,{"$f":"'REPORTE PMI'!L607","v":0},{"$f":"'REPORTE PMI'!M607","v":0},0,null,null,0,null,null,"NO"]
[{"$f":"'REPORTE PMI'!B608","v":0},{"$f":"'REPORTE PMI'!E608","v":0},{"$f":"'REPORTE PMI'!J608","v":0},{"$f":"'REPORTE PMI'!G608","v":0},null,null,null,{"$f":"'REPORTE PMI'!L608","v":0},{"$f":"'REPORTE PMI'!M608","v":0},0,null,null,0,null,null,"NO"]
[{"$f":"'REPORTE PMI'!B609","v":0},{"$f":"'REPORTE PMI'!E609","v":0},{"$f":"'REPORTE PMI'!J609","v":0},{"$f":"'REPORTE PMI'!G609","v":0},null,null,null,{"$f":"'REPORTE PMI'!L609","v":0},{"$f":"'REPORTE PMI'!M609","v":0},0,null,null,0,null,null,"NO"]
[{"$f":"'REPORTE PMI'!B610","v":0},{"$f":"'REPORTE PMI'!E610","v":0},{"$f":"'REPORTE PMI'!J610","v":0},{"$f":"'REPORTE PMI'!G610","v":0},null,null,null,{"$f":"'REPORTE PMI'!L610","v":0},{"$f":"'REPORTE PMI'!M610","v":0},0,null,null,0,null,null,"NO"]
[{"$f":"'REPORTE PMI'!B611","v":0},{"$f":"'REPORTE PMI'!E611","v":0},{"$f":"'REPORTE PMI'!J611","v":0},{"$f":"'REPORTE PMI'!G611","v":0},null,null,null,{"$f":"'REPORTE PMI'!L611","v":0},{"$f":"'REPORTE PMI'!M611","v":0},0,null,null,0,null,null,"NO"]
[{"$f":"'REPORTE PMI'!B612","v":0},{"$f":"'REPORTE PMI'!E612","v":0},{"$f":"'REPORTE PMI'!J612","v":0},{"$f":"'REPORTE PMI'!G612","v":0},null,null,null,{"$f":"'REPORTE PMI'!L612","v":0},{"$f":"'REPORTE PMI'!M612","v":0},0,null,null,0,null,null,"NO"]
[{"$f":"'REPORTE PMI'!B613","v":0},{"$f":"'REPORTE PMI'!E613","v":0},{"$f":"'REPORTE PMI'!J613","v":0},{"$f":"'REPORTE PMI'!G613","v":0},null,null,null,{"$f":"'REPORTE PMI'!L613","v":0},{"$f":"'REPORTE PMI'!M613","v":0},0,null,null,0,null,null,"NO"]
[{"$f":"'REPORTE PMI'!B614","v":0},{"$f":"'REPORTE PMI'!E614","v":0},{"$f":"'REPORTE PMI'!J614","v":0},{"$f":"'REPORTE PMI'!G614","v":0},null,null,null,{"$f":"'REPORTE PMI'!L614","v":0},{"$f":"'REPORTE PMI'!M614","v":0},0,null,null,0,null,null,"NO"]
[{"$f":"'REPORTE PMI'!B615","v":0},{"$f":"'REPORTE PMI'!E615","v":0},{"$f":"'REPORTE PMI'!J615","v":0},{"$f":"'REPORTE PMI'!G615","v":0},null,null,null,{"$f":"'REPORTE PMI'!L615","v":0},{"$f":"'REPORTE PMI'!M615","v":0},0,null,null,0,null,null,"NO"]
[{"$f":"'REPORTE PMI'!B616","v":0},{"$f":"'REPORTE PMI'!E616","v":0},{"$f":"'REPORTE PMI'!J616","v":0},{"$f":"'REPORTE PMI'!G616","v":0},null,null,null,{"$f":"'REPORTE PMI'!L616","v":0},{"$f":"'REPORTE PMI'!M616","v":0},0,null,null,0,null,null,"NO"]
[{"$f":"'REPORTE PMI'!B617","v":0},{"$f":"'REPORTE PMI'!E617","v":0},{"$f":"'REPORTE PMI'!J617","v":0},{"$f":"'REPORTE PMI'!G617","v":0},null,null,null,{"$f":"'REPORTE PMI'!L617","v":0},{"$f":"'REPORTE PMI'!M617","v":0},0,null,null,0,null,null,"NO"]
[{"$f":"'REPORTE PMI'!B618","v":0},{"$f":"'REPORTE PMI'!E618","v":0},{"$f":"'REPORTE PMI'!J618","v":0},{"$f":"'REPORTE PMI'!G618","v":0},null,null,null,{"$f":"'REPORTE PMI'!L618","v":0},{"$f":"'REPORTE PMI'!M618","v":0},0,null,null,0,null,null,"NO"]
[{"$f":"'REPORTE PMI'!B619","v":0},{"$f":"'REPORTE PMI'!E619","v":0},{"$f":"'REPORTE PMI'!J619","v":0},{"$f":"'REPORTE PMI'!G619","v":0},null,null,null,{"$f":"'REPORTE PMI'!L619","v":0},{"$f":"'REPORTE PMI'!M619","v":0},0,null,null,0,null,null,"NO"]
[{"$f":"'REPORTE PMI'!B620","v":0},{"$f":"'REPORTE PMI'!E620","v":0},{"$f":"'REPORTE PMI'!J620","v":0},{"$f":"'REPORTE PMI'!G620","v":0},null,null,null,{"$f":"'REPORTE PMI'!L620","v":0},{"$f":"'REPORTE PMI'!M620","v":0},0,null,null,0,null,null,"NO"]
[{"$f":"'REPORTE PMI'!B621","v":0},{"$f":"'REPORTE PMI'!E621","v":0},{"$f":"'REPORTE PMI'!J621","v":0},{"$f":"'REPORTE PMI'!G621","v":0},null,null,null,{"$f":"'REPORTE PMI'!L621","v":0},{"$f":"'REPORTE PMI'!M621","v":0},0,null,null,0,null,null,"NO"]
[{"$f":"'REPORTE PMI'!B622","v":0},{"$f":"'REPORTE PMI'!E622","v":0},{"$f":"'REPORTE PMI'!J622","v":0},{"$f":"'REPORTE PMI'!G622","v":0},null,null,null,{"$f":"'REPORTE PMI'!L622","v":0},{"$f":"'REPORTE PMI'!M622","v":0},0,null,null,0,null,null,"NO"]
[{"$f":"'REPORTE PMI'!B623","v":0},{"$f":"'REPORTE PMI'!E623","v":0},{"$f":"'REPORTE PMI'!J623","v":0},{"$f":"'REPORTE PMI'!G623","v":0},null,null,null,{"$f":"'REPORTE PMI'!L623","v":0},{"$f":"'REPORTE PMI'!M623","v":0},0,null,null,0,null,null,"NO"]
[{"$f":"'REPORTE PMI'!B624","v":0},{"$f":"'REPORTE PMI'!E624","v":0},{"$f":"'REPORTE PMI'!J624","v":0},{"$f":"'REPORTE PMI'!G624","v":0},null,null,null,{"$f":"'REPORTE PMI'!L624","v":0},{"$f":"'REPORTE PMI'!M624","v":0},0,null,null,0,null,null,"NO"]
[{"$f":"'REPORTE PMI'!B625","v":0},{"$f":"'REPORTE PMI'!E625","v":0},{"$f":"'REPORTE PMI'!J625","v":0},{"$f":"'REPORTE PMI'!G625","v":0},null,null,null,{"$f":"'REPORTE PMI'!L625","v":0},{"$f":"'REPORTE PMI'!M625","v":0},0,null,null,0,null,null,"NO"]
[{"$f":"'REPORTE PMI'!B626","v":0},{"$f":"'REPORTE PMI'!E626","v":0},{"$f":"'REPORTE PMI'!J626","v":0},{"$f":"'REPORTE PMI'!G626","v":0},null,null,null,{"$f":"'REPORTE PMI'!L626","v":0},{"$f":"'REPORTE PMI'!M626","v":0},0,null,null,0,null,null,"NO"]
[{"$f":"'REPORTE PMI'!B627","v":0},{"$f":"'REPORTE PMI'!E627","v":0},{"$f":"'REPORTE PMI'!J627","v":0},{"$f":"'REPORTE PMI'!G627","v":0},null,null,null,{"$f":"'REPORTE PMI'!L627","v":0},{"$f":"'REPORTE PMI'!M627","v":0},0,null,null,0,null,null,"NO"]
[{"$f":"'REPORTE PMI'!B628","v":0},{"$f":"'REPORTE PMI'!E628","v":0},{"$f":"'REPORTE PMI'!J628","v":0},{"$f":"'REPORTE PMI'!G628","v":0},null,null,null,{"$f":"'REPORTE PMI'!L628","v":0},{"$f":"'REPORTE PMI'!M628","v":0},0,null,null,0,null,null,"NO"]
[{"$f":"'REPORTE PMI'!B629","v":0},{"$f":"'REPORTE PMI'!E629","v":0},{"$f":"'REPORTE PMI'!J629","v":0},{"$f":"'REPORTE PMI'!G629","v":0},null,null,null,{"$f":"'REPORTE PMI'!L629","v":0},{"$f":"'REPORTE PMI'!M629","v":0},0,null,null,0,null,null,"NO"]
[{"$f":"'REPORTE PMI'!B630","v":0},{"$f":"'REPORTE PMI'!E630","v":0},{"$f":"'REPORTE PMI'!J630","v":0},{"$f":"'REPORTE PMI'!G630","v":0},null,null,null,{"$f":"'REPORTE PMI'!L630","v":0},{"$f":"'REPORTE PMI'!M630","v":0},0,null,null,0,null,null,"NO"]
[{"$f":"'REPORTE PMI'!B631","v":0},{"$f":"'REPORTE PMI'!E631","v":0},{"$f":"'REPORTE PMI'!J631","v":0},{"$f":"'REPORTE PMI'!G631","v":0},null,null,null,{"$f":"'REPORTE PMI'!L631","v":0},{"$f":"'REPORTE PMI'!M631","v":0},0,null,null,0,null,null,"NO"]
[{"$f":"'REPORTE PMI'!B632","v":0},{"$f":"'REPORTE PMI'!E632","v":0},{"$f":"'REPORTE PMI'!J632","v":0},{"$f":"'REPORTE PMI'!G632","v":0},null,null,null,{"$f":"'REPORTE PMI'!L632","v":0},{"$f":"'REPORTE PMI'!M632","v":0},0,null,null,0,null,null,"NO"]
[{"$f":"'REPORTE PMI'!B633","v":0},{"$f":"'REPORTE PMI'!E633","v":0},{"$f":"'REPORTE PMI'!J633","v":0},{"$f":"'REPORTE PMI'!G633","v":0},null,null,null,{"$f":"'REPORTE PMI'!L633","v":0},{"$f":"'REPORTE PMI'!M633","v":0},0,null,null,0,null,null,"NO"]
[{"$f":"'REPORTE PMI'!B634","v":0},{"$f":"'REPORTE PMI'!E634","v":0},{"$f":"'REPORTE PMI'!J634","v":0},{"$f":"'REPORTE PMI'!G634","v":0},null,null,null,{"$f":"'REPORTE PMI'!L634","v":0},{"$f":"'REPORTE PMI'!M634","v":0},0,null,null,0,null,null,"NO"]
[{"$f":"'REPORTE PMI'!B635","v":0},{"$f":"'REPORTE PMI'!E635","v":0},{"$f":"'REPORTE PMI'!J635","v":0},{"$f":"'REPORTE PMI'!G635","v":0},null,null,null,{"$f":"'REPORTE PMI'!L635","v":0},{"$f":"'REPORTE PMI'!M635","v":0},0,null,null,0,null,null,"NO"]
[{"$f":"'REPORTE PMI'!B636","v":0},{"$f":"'REPORTE PMI'!E636","v":0},{"$f":"'REPORTE PMI'!J636","v":0},{"$f":"'REPORTE PMI'!G636","v":0},null,null,null,{"$f":"'REPORTE PMI'!L636","v":0},{"$f":"'REPORTE PMI'!M636","v":0},0,null,null,0,null,null,"NO"]
[{"$f":"'REPORTE PMI'!B637","v":0},{"$f":"'REPORTE PMI'!E637","v":0},{"$f":"'REPORTE PMI'!J637","v":0},{"$f":"'REPORTE PMI'!G637","v":0},null,null,null,{"$f":"'REPORTE PMI'!L637","v":0},{"$f":"'REPORTE PMI'!M637","v":0},0,null,null,0,null,null,"NO"]
[{"$f":"'REPORTE PMI'!B638","v":0},{"$f":"'REPORTE PMI'!E638","v":0},{"$f":"'REPORTE PMI'!J638","v":0},{"$f":"'REPORTE PMI'!G638","v":0},null,null,null,{"$f":"'REPORTE PMI'!L638","v":0},{"$f":"'REPORTE PMI'!M638","v":0},0,null,null,0,null,null,"NO"]
[{"$f":"'REPORTE PMI'!B639","v":0},{"$f":"'REPORTE PMI'!E639","v":0},{"$f":"'REPORTE PMI'!J639","v":0},{"$f":"'REPORTE PMI'!G639","v":0},null,null,null,{"$f":"'REPORTE PMI'!L639","v":0},{"$f":"'REPORTE PMI'!M639","v":0},0,null,null,0,null,null,"NO"]
[{"$f":"'REPORTE PMI'!B640","v":0},{"$f":"'REPORTE PMI'!E640","v":0},{"$f":"'REPORTE PMI'!J640","v":0},{"$f":"'REPORTE PMI'!G640","v":0},null,null,null,{"$f":"'REPORTE PMI'!L640","v":0},{"$f":"'REPORTE PMI'!M640","v":0},0,null,null,0,null,null,"NO"]
[{"$f":"'REPORTE PMI'!B641","v":0},{"$f":"'REPORTE PMI'!E641","v":0},{"$f":"'REPORTE PMI'!J641","v":0},{"$f":"'REPORTE PMI'!G641","v":0},null,null,null,{"$f":"'REPORTE PMI'!L641","v":0},{"$f":"'REPORTE PMI'!M641","v":0},0,null,null,0,null,null,"NO"]
[{"$f":"'REPORTE PMI'!B642","v":0},{"$f":"'REPORTE PMI'!E642","v":0},{"$f":"'REPORTE PMI'!J642","v":0},{"$f":"'REPORTE PMI'!G642","v":0},null,null,null,{"$f":"'REPORTE PMI'!L642","v":0},{"$f":"'REPORTE PMI'!M642","v":0},0,null,null,0,null,null,"NO"]
[{"$f":"'REPORTE PMI'!B643","v":0},{"$f":"'REPORTE PMI'!E643","v":0},{"$f":"'REPORTE PMI'!J643","v":0},{"$f":"'REPORTE PMI'!G643","v":0},null,null,null,{"$f":"'REPORTE PMI'!L643","v":0},{"$f":"'REPORTE PMI'!M643","v":0},0,null,null,0,null,null,"NO"]
[{"$f":"'REPORTE PMI'!B644","v":0},{"$f":"'REPORTE PMI'!E644","v":0},{"$f":"'REPORTE PMI'!J644","v":0},{"$f":"'REPORTE PMI'!G644","v":0},null,null,null,{"$f":"'REPORTE PMI'!L644","v":0},{"$f":"'REPORTE PMI'!M644","v":0},{"$f":"IFERROR(I653/H653, 0)","v":0},null,null,{"$f":"H653-I653","v":0},null,null,{"$f":"IF(E653=\"SI\",IF(J653>0%,IF(K653=\"SI\",IF(L653=\"NO\",IF(N653=\"SI\",IF(O653=\"NO\",\"SI\",\"NO\"),\"NO\"),\"NO\"),\"NO\"),\"NO\"),\"NO\")","v":"NO"}]
[{"$f":"'REPORTE PMI'!B645","v":0},{"$f":"'REPORTE PMI'!E645","v":0},{"$f":"'REPORTE PMI'!J645","v":0},{"$f":"'REPORTE PMI'!G645","v":0},null,null,null,{"$f":"'REPORTE PMI'!L645","v":0},{"$f":"'REPORTE PMI'!M645","v":0},0,null,null,0,null,null,"NO"]
[{"$f":"'REPORTE PMI'!B646","v":0},{"$f":"'REPORTE PMI'!E646","v":0},{"$f":"'REPORTE PMI'!J646","v":0},{"$f":"'REPORTE PMI'!G646","v":0},null,null,null,{"$f":"'REPORTE PMI'!L646","v":0},{"$f":"'REPORTE PMI'!M646","v":0},0,null,null,0,null,null,"NO"]
[{"$f":"'REPORTE PMI'!B647","v":0},{"$f":"'REPORTE PMI'!E647","v":0},{"$f":"'REPORTE PMI'!J647","v":0},{"$f":"'REPORTE PMI'!G647","v":0},null,null,null,{"$f":"'REPORTE PMI'!L647","v":0},{"$f":"'REPORTE PMI'!M647","v":0},0,null,null,0,null,null,"NO"]
[{"$f":"'REPORTE PMI'!B648","v":0},{"$f":"'REPORTE PMI'!E648","v":0},{"$f":"'REPORTE PMI'!J648","v":0},{"$f":"'REPORTE PMI'!G648","v":0},null,null,null,{"$f":"'REPORTE PMI'!L648","v":0},{"$f":"'REPORTE PMI'!M648","v":0},0,null,null,0,null,null,"NO"]
[{"$f":"'REPORTE PMI'!B649","v":0},{"$f":"'REPORTE PMI'!E649","v":0},{"$f":"'REPORTE PMI'!J649","v":0},{"$f":"'REPORTE PMI'!G649","v":0},null,null,null,{"$f":"'REPORTE PMI'!L649","v":0},{"$f":"'REPORTE PMI'!M649","v":0},0,null,null,0,null,null,"NO"]
[{"$f":"'REPORTE PMI'!B650","v":0},{"$f":"'REPORTE PMI'!E650","v":0},{"$f":"'REPORTE PMI'!J650","v":0},{"$f":"'REPORTE PMI'!G650","v":0},null,null,null,{"$f":"'REPORTE PMI'!L650","v":0},{"$f":"'REPORTE PMI'!M650","v":0},0,null,null,0,null,null,"NO"]
[{"$f":"'REPORTE PMI'!B651","v":0},{"$f":"'REPORTE PMI'!E651","v":0},{"$f":"'REPORTE PMI'!J651","v":0},{"$f":"'REPORTE PMI'!G651","v":0},null,null,null,{"$f":"'REPORTE PMI'!L651","v":0},{"$f":"'REPORTE PMI'!M651","v":0},0,null,null,0,null,null,"NO"]
[{"$f":"'REPORTE PMI'!B652","v":0},{"$f":"'REPORTE PMI'!E652","v":0},{"$f":"'REPORTE PMI'!J652","v":0},{"$f":"'REPORTE PMI'!G652","v":0},null,null,null,{"$f":"'REPORTE PMI'!L652","v":0},{"$f":"'REPORTE PMI'!M652","v":0},0,null,null,0,null,null,"NO"]
[{"$f":"'REPORTE PMI'!B653","v":0},{"$f":"'REPORTE PMI'!E653","v":0},{"$f":"'REPORTE PMI'!J653","v":0},{"$f":"'REPORTE PMI'!G653","v":0},null,null,null,{"$f":"'REPORTE PMI'!L653","v":0},{"$f":"'REPORTE PMI'!M653","v":0},0,null,null,0,null,null,"NO"]
[{"$f":"'REPORTE PMI'!B654","v":0},{"$f":"'REPORTE PMI'!E654","v":0},{"$f":"'REPORTE PMI'!J654","v":0},{"$f":"'REPORTE PMI'!G654","v":0},null,null,null,{"$f":"'REPORTE PMI'!L654","v":0},{"$f":"'REPORTE PMI'!M654","v":0},0,null,null,0,null,null,"NO"]
[{"$f":"'REPORTE PMI'!B655","v":0},{"$f":"'REPORTE PMI'!E655","v":0},{"$f":"'REPORTE PMI'!J655","v":0},{"$f":"'REPORTE PMI'!G655","v":0},null,null,null,{"$f":"'REPORTE PMI'!L655","v":0},{"$f":"'REPORTE PMI'!M655","v":0},0,null,null,0,null,null,"NO"]
[{"$f":"'REPORTE PMI'!B656","v":0},{"$f":"'REPORTE PMI'!E656","v":0},{"$f":"'REPORTE PMI'!J656","v":0},{"$f":"'REPORTE PMI'!G656","v":0},null,null,null,{"$f":"'REPORTE PMI'!L656","v":0},{"$f":"'REPORTE PMI'!M656","v":0},0,null,null,0,null,null,"NO"]
[{"$f":"'REPORTE PMI'!B657","v":0},{"$f":"'REPORTE PMI'!E657","v":0},{"$f":"'REPORTE PMI'!J657","v":0},{"$f":"'REPORTE PMI'!G657","v":0},null,null,null,{"$f":"'REPORTE PMI'!L657","v":0},{"$f":"'REPORTE PMI'!M657","v":0},0,null,null,0,null,null,"NO"]
[{"$f":"'REPORTE PMI'!B658","v":0},{"$f":"'REPORTE PMI'!E658","v":0},{"$f":"'REPORTE PMI'!J658","v":0},{"$f":"'REPORTE PMI'!G658","v":0},null,null,null,{"$f":"'REPORTE PMI'!L658","v":0},{"$f":"'REPORTE PMI'!M658","v":0},0,null,null,0,null,null,"NO"]
[{"$f":"'REPORTE PMI'!B659","v":0},{"$f":"'REPORTE PMI'!E659","v":0},{"$f":"'REPORTE PMI'!J659","v":0},{"$f":"'REPORTE PMI'!G659","v":0},null,null,null,{"$f":"'REPORTE PMI'!L659","v":0},{"$f":"'REPORTE PMI'!M659","v":0},0,null,null,0,null,null,"NO"]
[{"$f":"'REPORTE PMI'!B660","v":0},{"$f":"'REPORTE PMI'!E660","v":0},{"$f":"'REPORTE PMI'!J660","v":0},{"$f":"'REPORTE PMI'!G660","v":0},null,null,null,{"$f":"'REPORTE PMI'!L660","v":0},{"$f":"'REPORTE PMI'!M660","v":0},0,null,null,0,null,null,"NO"]
[{"$f":"'REPORTE PMI'!B661","v":0},{"$f":"'REPORTE PMI'!E661","v":0},{"$f":"'REPORTE PMI'!J661","v":0},{"$f":"'REPORTE PMI'!G661","v":0},null,null,null,{"$f":"'REPORTE PMI'!L661","v":0},{"$f":"'REPORTE PMI'!M661","v":0},0,null,null,0,null,null,"NO"]
[{"$f":"'REPORTE PMI'!B662","v":0},{"$f":"'REPORTE PMI'!E662","v":0},{"$f":"'REPORTE PMI'!J662","v":0},{"$f":"'REPORTE PMI'!G662","v":0},null,null,null,{"$f":"'REPORTE PMI'!L662","v":0},{"$f":"'REPORTE PMI'!M662","v":0},0,null,null,0,null,null,"NO"]
[{"$f":"'REPORTE PMI'!B663","v":0},{"$f":"'REPORTE PMI'!E663","v":0},{"$f":"'REPORTE PMI'!J663","v":0},{"$f":"'REPORTE PMI'!G663","v":0},null,null,null,{"$f":"'REPORTE PMI'!L663","v":0},{"$f":"'REPORTE PMI'!M663","v":0},0,null,null,0,null,null,"NO"]
[{"$f":"'REPORTE PMI'!B664","v":0},{"$f":"'REPORTE PMI'!E664","v":0},{"$f":"'REPORTE PMI'!J664","v":0},{"$f":"'REPORTE PMI'!G664","v":0},null,null,null,{"$f":"'REPORTE PMI'!L664","v":0},{"$f":"'REPORTE PMI'!M664","v":0},0,null,null,0,null,null,"NO"]
[{"$f":"'REPORTE PMI'!B665","v":0},{"$f":"'REPORTE PMI'!E665","v":0},{"$f":"'REPORTE PMI'!J665","v":0},{"$f":"'REPORTE PMI'!G665","v":0},null,null,null,{"$f":"'REPORTE PMI'!L665","v":0},{"$f":"'REPORTE PMI'!M665","v":0},0,null,null,0,null,null,"NO"]
[{"$f":"'REPORTE PMI'!B666","v":0},{"$f":"'REPORTE PMI'!E666","v":0},{"$f":"'REPORTE PMI'!J666","v":0},{"$f":"'REPORTE PMI'!G666","v":0},null,null,null,{"$f":"'REPORTE PMI'!L666","v":0},{"$f":"'REPORTE PMI'!M666","v":0},0,null,null,0,null,null,"NO"]
[{"$f":"'REPORTE PMI'!B667","v":0},{"$f":"'REPORTE PMI'!E667","v":0},{"$f":"'REPORTE PMI'!J667","v":0},{"$f":"'REPORTE PMI'!G667","v":0},null,null,null,{"$f":"'REPORTE PMI'!L667","v":0},{"$f":"'REPORTE PMI'!M667","v":0},0,null,null,0,null,null,"NO"]
[{"$f":"'REPORTE PMI'!B668","v":0},{"$f":"'REPORTE PMI'!E668","v":0},{"$f":"'REPORTE PMI'!J668","v":0},{"$f":"'REPORTE PMI'!G668","v":0},null,null,null,{"$f":"'REPORTE PMI'!L668","v":0},{"$f":"'REPORTE PMI'!M668","v":0},0,null,null,0,null,null,"NO"]
[{"$f":"'REPORTE PMI'!B669","v":0},{"$f":"'REPORTE PMI'!E669","v":0},{"$f":"'REPORTE PMI'!J669","v":0},{"$f":"'REPORTE PMI'!G669","v":0},null,null,null,{"$f":"'REPORTE PMI'!L669","v":0},{"$f":"'REPORTE PMI'!M669","v":0},0,null,null,0,null,null,"NO"]
[{"$f":"'REPORTE PMI'!B670","v":0},{"$f":"'REPORTE PMI'!E670","v":0},{"$f":"'REPORTE PMI'!J670","v":0},{"$f":"'REPORTE PMI'!G670","v":0},null,null,null,{"$f":"'REPORTE PMI'!L670","v":0},{"$f":"'REPORTE PMI'!M670","v":0},0,null,null,0,null,null,"NO"]
[{"$f":"'REPORTE PMI'!B671","v":0},{"$f":"'REPORTE PMI'!E671","v":0},{"$f":"'REPORTE PMI'!J671","v":0},{"$f":"'REPORTE PMI'!G671","v":0},null,null,null,{"$f":"'REPORTE PMI'!L671","v":0},{"$f":"'REPORTE PMI'!M671","v":0},0,null,null,0,null,null,"NO"]
[{"$f":"'REPORTE PMI'!B672","v":0},{"$f":"'REPORTE PMI'!E672","v":0},{"$f":"'REPORTE PMI'!J672","v":0},{"$f":"'REPORTE PMI'!G672","v":0},null,null,null,{"$f":"'REPORTE PMI'!L672","v":0},{"$f":"'REPORTE PMI'!M672","v":0},0,null,null,0,null,null,"NO"]
[{"$f":"'REPORTE PMI'!B673","v":0},{"$f":"'REPORTE PMI'!E673","v":0},{"$f":"'REPORTE PMI'!J673","v":0},{"$f":"'REPORTE PMI'!G673","v":0},null,null,null,{"$f":"'REPORTE PMI'!L673","v":0},{"$f":"'REPORTE PMI'!M673","v":0},0,null,null,0,null,null,"NO"]
[{"$f":"'REPORTE PMI'!B674","v":0},{"$f":"'REPORTE PMI'!E674","v":0},{"$f":"'REPORTE PMI'!J674","v":0},{"$f":"'REPORTE PMI'!G674","v":0},null,null,null,{"$f":"'REPORTE PMI'!L674","v":0},{"$f":"'REPORTE PMI'!M674","v":0},0,null,null,0,null,null,"NO"]
[{"$f":"'REPORTE PMI'!B675","v":0},{"$f":"'REPORTE PMI'!E675","v":0},{"$f":"'REPORTE PMI'!J675","v":0},{"$f":"'REPORTE PMI'!G675","v":0},null,null,null,{"$f":"'REPORTE PMI'!L675","v":0},{"$f":"'REPORTE PMI'!M675","v":0},0,null,null,0,null,null,"NO"]
[{"$f":"'REPORTE PMI'!B676","v":0},{"$f":"'REPORTE PMI'!E676","v":0},{"$f":"'REPORTE PMI'!J676","v":0},{"$f":"'REPORTE PMI'!G676","v":0},null,null,null,{"$f":"'REPORTE PMI'!L676","v":0},{"$f":"'REPORTE PMI'!M676","v":0},0,null,null,0,null,null,"NO"]
[{"$f":"'REPORTE PMI'!B677","v":0},{"$f":"'REPORTE PMI'!E677","v":0},{"$f":"'REPORTE PMI'!J677","v":0},{"$f":"'REPORTE PMI'!G677","v":0},null,null,null,{"$f":"'REPORTE PMI'!L677","v":0},{"$f":"'REPORTE PMI'!M677","v":0},0,null,null,0,null,null,"NO"]
[{"$f":"'REPORTE PMI'!B678","v":0},{"$f":"'REPORTE PMI'!E678","v":0},{"$f":"'REPORTE PMI'!J678","v":0},{"$f":"'REPORTE PMI'!G678","v":0},null,null,null,{"$f":"'REPORTE PMI'!L678","v":0},{"$f":"'REPORTE PMI'!M678","v":0},0,null,null,0,null,null,"NO"]
[{"$f":"'REPORTE PMI'!B679","v":0},{"$f":"'REPORTE PMI'!E679","v":0},{"$f":"'REPORTE PMI'!J679","v":0},{"$f":"'REPORTE PMI'!G679","v":0},null,null,null,{"$f":"'REPORTE PMI'!L679","v":0},{"$f":"'REPORTE PMI'!M679","v":0},0,null,null,0,null,null,"NO"]
[{"$f":"'REPORTE PMI'!B680","v":0},{"$f":"'REPORTE PMI'!E680","v":0},{"$f":"'REPORTE PMI'!J680","v":0},{"$f":"'REPORTE PMI'!G680","v":0},null,null,null,{"$f":"'REPORTE PMI'!L680","v":0},{"$f":"'REPORTE PMI'!M680","v":0},0,null,null,0,null,null,"NO"]
[{"$f":"'REPORTE PMI'!B681","v":0},{"$f":"'REPORTE PMI'!E681","v":0},{"$f":"'REPORTE PMI'!J681","v":0},{"$f":"'REPORTE PMI'!G681","v":0},null,null,null,{"$f":"'REPORTE PMI'!L681","v":0},{"$f":"'REPORTE PMI'!M681","v":0},0,null,null,0,null,null,"NO"]
[{"$f":"'REPORTE PMI'!B682","v":0},{"$f":"'REPORTE PMI'!E682","v":0},{"$f":"'REPORTE PMI'!J682","v":0},{"$f":"'REPORTE PMI'!G682","v":0},null,null,null,{"$f":"'REPORTE PMI'!L682","v":0},{"$f":"'REPORTE PMI'!M682","v":0},0,null,null,0,null,null,"NO"]
[{"$f":"'REPORTE PMI'!B683","v":0},{"$f":"'REPORTE PMI'!E683","v":0},{"$f":"'REPORTE PMI'!J683","v":0},{"$f":"'REPORTE PMI'!G683","v":0},null,null,null,{"$f":"'REPORTE PMI'!L683","v":0},{"$f":"'REPORTE PMI'!M683","v":0},0,null,null,0,null,null,"NO"]
[{"$f":"'REPORTE PMI'!B684","v":0},{"$f":"'REPORTE PMI'!E684","v":0},{"$f":"'REPORTE PMI'!J684","v":0},{"$f":"'REPORTE PMI'!G684","v":0},null,null,null,{"$f":"'REPORTE PMI'!L684","v":0},{"$f":"'REPORTE PMI'!M684","v":0},0,null,null,0,null,null,"NO"]
[{"$f":"'REPORTE PMI'!B685","v":0},{"$f":"'REPORTE PMI'!E685","v":0},{"$f":"'REPORTE PMI'!J685","v":0},{"$f":"'REPORTE PMI'!G685","v":0},null,null,null,{"$f":"'REPORTE PMI'!L685","v":0},{"$f":"'REPORTE PMI'!M685","v":0},0,null,null,0,null,null,"NO"]
[{"$f":"'REPORTE PMI'!B686","v":0},{"$f":"'REPORTE PMI'!E686","v":0},{"$f":"'REPORTE PMI'!J686","v":0},{"$f":"'REPORTE PMI'!G686","v":0},null,null,null,{"$f":"'REPORTE PMI'!L686","v":0},{"$f":"'REPORTE PMI'!M686","v":0},0,null,null,0,null,null,"NO"]
[{"$f":"'REPORTE PMI'!B687","v":0},{"$f":"'REPORTE PMI'!E687","v":0},{"$f":"'REPORTE PMI'!J687","v":0},{"$f":"'REPORTE PMI'!G687","v":0},null,null,null,{"$f":"'REPORTE PMI'!L687","v":0},{"$f":"'REPORTE PMI'!M687","v":0},0,null,null,0,null,null,"NO"]
[{"$f":"'REPORTE PMI'!B688","v":0},{"$f":"'REPORTE PMI'!E688","v":0},{"$f":"'REPORTE PMI'!J688","v":0},{"$f":"'REPORTE PMI'!G688","v":0},null,null,null,{"$f":"'REPORTE PMI'!L688","v":0},{"$f":"'REPORTE PMI'!M688","v":0},0,null,null,0,null,null,"NO"]
[{"$f":"'REPORTE PMI'!B689","v":0},{"$f":"'REPORTE PMI'!E689","v":0},{"$f":"'REPORTE PMI'!J689","v":0},{"$f":"'REPORTE PMI'!G689","v":0},null,null,null,{"$f":"'REPORTE PMI'!L689","v":0},{"$f":"'REPORTE PMI'!M689","v":0},0,null,null,0,null,null,"NO"]
[{"$f":"'REPORTE PMI'!B690","v":0},{"$f":"'REPORTE PMI'!E690","v":0},{"$f":"'REPORTE PMI'!J690","v":0},{"$f":"'REPORTE PMI'!G690","v":0},null,null,null,{"$f":"'REPORTE PMI'!L690","v":0},{"$f":"'REPORTE PMI'!M690","v":0},0,null,null,0,null,null,"NO"]
[{"$f":"'REPORTE PMI'!B691","v":0},{"$f":"'REPORTE PMI'!E691","v":0},{"$f":"'REPORTE PMI'!J691","v":0},{"$f":"'REPORTE PMI'!G691","v":0},null,null,null,{"$f":"'REPORTE PMI'!L691","v":0},{"$f":"'REPORTE PMI'!M691","v":0},0,null,null,0,null,null,"NO"]
[{"$f":"'REPORTE PMI'!B692","v":0},{"$f":"'REPORTE PMI'!E692","v":0},{"$f":"'REPORTE PMI'!J692","v":0},{"$f":"'REPORTE PMI'!G692","v":0},null,null,null,{"$f":"'REPORTE PMI'!L692","v":0},{"$f":"'REPORTE PMI'!M692","v":0},0,null,null,0,null,null,"NO"]
[{"$f":"'REPORTE PMI'!B693","v":0},{"$f":"'REPORTE PMI'!E693","v":0},{"$f":"'REPORTE PMI'!J693","v":0},{"$f":"'REPORTE PMI'!G693","v":0},null,null,null,{"$f":"'REPORTE PMI'!L693","v":0},{"$f":"'REPORTE PMI'!M693","v":0},0,null,null,0,null,null,"NO"]
[{"$f":"'REPORTE PMI'!B694","v":0},{"$f":"'REPORTE PMI'!E694","v":0},{"$f":"'REPORTE PMI'!J694","v":0},{"$f":"'REPORTE PMI'!G694","v":0},null,null,null,{"$f":"'REPORTE PMI'!L694","v":0},{"$f":"'REPORTE PMI'!M694","v":0},0,null,null,0,null,null,"NO"]
[{"$f":"'REPORTE PMI'!B695","v":0},{"$f":"'REPORTE PMI'!E695","v":0},{"$f":"'REPORTE PMI'!J695","v":0},{"$f":"'REPORTE PMI'!G695","v":0},null,null,null,{"$f":"'REPORTE PMI'!L695","v":0},{"$f":"'REPORTE PMI'!M695","v":0},0,null,null,0,null,null,"NO"]
[{"$f":"'REPORTE PMI'!B696","v":0},{"$f":"'REPORTE PMI'!E696","v":0},{"$f":"'REPORTE PMI'!J696","v":0},{"$f":"'REPORTE PMI'!G696","v":0},null,null,null,{"$f":"'REPORTE PMI'!L696","v":0},{"$f":"'REPORTE PMI'!M696","v":0},0,null,null,0,null,null,"NO"]
[{"$f":"'REPORTE PMI'!B697","v":0},{"$f":"'REPORTE PMI'!E697","v":0},{"$f":"'REPORTE PMI'!J697","v":0},{"$f":"'REPORTE PMI'!G697","v":0},null,null,null,{"$f":"'REPORTE PMI'!L697","v":0},{"$f":"'REPORTE PMI'!M697","v":0},0,null,null,0,null,null,"NO"]
[{"$f":"'REPORTE PMI'!B698","v":0},{"$f":"'REPORTE PMI'!E698","v":0},{"$f":"'REPORTE PMI'!J698","v":0},{"$f":"'REPORTE PMI'!G698","v":0},null,null,null,{"$f":"'REPORTE PMI'!L698","v":0},{"$f":"'REPORTE PMI'!M698","v":0},0,null,null,0,null,null,"NO"]
[{"$f":"'REPORTE PMI'!B699","v":0},{"$f":"'REPORTE PMI'!E699","v":0},{"$f":"'REPORTE PMI'!J699","v":0},{"$f":"'REPORTE PMI'!G699","v":0},null,null,null,{"$f":"'REPORTE PMI'!L699","v":0},{"$f":"'REPORTE PMI'!M699","v":0},0,null,null,0,null,null,"NO"]
[{"$f":"'REPORTE PMI'!B700","v":0},{"$f":"'REPORTE PMI'!E700","v":0},{"$f":"'REPORTE PMI'!J700","v":0},{"$f":"'REPORTE PMI'!G700","v":0},null,null,null,{"$f":"'REPORTE PMI'!L700","v":0},{"$f":"'REPORTE PMI'!M700","v":0},0,null,null,0,null,null,"NO"]
[{"$f":"'REPORTE PMI'!B701","v":0},{"$f":"'REPORTE PMI'!E701","v":0},{"$f":"'REPORTE PMI'!J701","v":0},{"$f":"'REPORTE PMI'!G701","v":0},null,null,null,{"$f":"'REPORTE PMI'!L701","v":0},{"$f":"'REPORTE PMI'!M701","v":0},0,null,null,0,null,null,"NO"]
[{"$f":"'REPORTE PMI'!B702","v":0},{"$f":"'REPORTE PMI'!E702","v":0},{"$f":"'REPORTE PMI'!J702","v":0},{"$f":"'REPORTE PMI'!G702","v":0},null,null,null,{"$f":"'REPORTE PMI'!L702","v":0},{"$f":"'REPORTE PMI'!M702","v":0},0,null,null,0,null,null,"NO"]
[{"$f":"'REPORTE PMI'!B703","v":0},{"$f":"'REPORTE PMI'!E703","v":0},{"$f":"'REPORTE PMI'!J703","v":0},{"$f":"'REPORTE PMI'!G703","v":0},null,null,null,{"$f":"'REPORTE PMI'!L703","v":0},{"$f":"'REPORTE PMI'!M703","v":0},0,null,null,0,null,null,"NO"]
[{"$f":"'REPORTE PMI'!B704","v":0},{"$f":"'REPORTE PMI'!E704","v":0},{"$f":"'REPORTE PMI'!J704","v":0},{"$f":"'REPORTE PMI'!G704","v":0},null,null,null,{"$f":"'REPORTE PMI'!L704","v":0},{"$f":"'REPORTE PMI'!M704","v":0},0,null,null,0,null,null,"NO"]
[{"$f":"'REPORTE PMI'!B705","v":0},{"$f":"'REPORTE PMI'!E705","v":0},{"$f":"'REPORTE PMI'!J705","v":0},{"$f":"'REPORTE PMI'!G705","v":0},null,null,null,{"$f":"'REPORTE PMI'!L705","v":0},{"$f":"'REPORTE PMI'!M705","v":0},0,null,null,0,null,null,"NO"]
[{"$f":"'REPORTE PMI'!B706","v":0},{"$f":"'REPORTE PMI'!E706","v":0},{"$f":"'REPORTE PMI'!J706","v":0},{"$f":"'REPORTE PMI'!G706","v":0},null,null,null,{"$f":"'REPORTE PMI'!L706","v":0},{"$f":"'REPORTE PMI'!M706","v":0},0,null,null,0,null,null,"NO"]
[{"$f":"'REPORTE PMI'!B707","v":0},{"$f":"'REPORTE PMI'!E707","v":0},{"$f":"'REPORTE PMI'!J707","v":0},{"$f":"'REPORTE PMI'!G707","v":0},null,null,null,{"$f":"'REPORTE PMI'!L707","v":0},{"$f":"'REPORTE PMI'!M707","v":0},0,null,null,0,null,null,"NO"]
[{"$f":"'REPORTE PMI'!B708","v":0},{"$f":"'REPORTE PMI'!E708","v":0},{"$f":"'REPORTE PMI'!J708","v":0},{"$f":"'REPORTE PMI'!G708","v":0},null,null,null,{"$f":"'REPORTE PMI'!L708","v":0},{"$f":"'REPORTE PMI'!M708","v":0},{"$f":"IFERROR(I717/H717, 0)","v":0},null,null,{"$f":"H717-I717","v":0},null,null,{"$f":"IF(E717=\"SI\",IF(J717>0%,IF(K717=\"SI\",IF(L717=\"NO\",IF(N717=\"SI\",IF(O717=\"NO\",\"SI\",\"NO\"),\"NO\"),\"NO\"),\"NO\"),\"NO\"),\"NO\")","v":"NO"}]
[{"$f":"'REPORTE PMI'!B709","v":0},{"$f":"'REPORTE PMI'!E709","v":0},{"$f":"'REPORTE PMI'!J709","v":0},{"$f":"'REPORTE PMI'!G709","v":0},null,null,null,{"$f":"'REPORTE PMI'!L709","v":0},{"$f":"'REPORTE PMI'!M709","v":0},0,null,null,0,null,null,"NO"]
[{"$f":"'REPORTE PMI'!B710","v":0},{"$f":"'REPORTE PMI'!E710","v":0},{"$f":"'REPORTE PMI'!J710","v":0},{"$f":"'REPORTE PMI'!G710","v":0},null,null,null,{"$f":"'REPORTE PMI'!L710","v":0},{"$f":"'REPORTE PMI'!M710","v":0},0,null,null,0,null,null,"NO"]
[{"$f":"'REPORTE PMI'!B711","v":0},{"$f":"'REPORTE PMI'!E711","v":0},{"$f":"'REPORTE PMI'!J711","v":0},{"$f":"'REPORTE PMI'!G711","v":0},null,null,null,{"$f":"'REPORTE PMI'!L711","v":0},{"$f":"'REPORTE PMI'!M711","v":0},0,null,null,0,null,null,"NO"]
[{"$f":"'REPORTE PMI'!B712","v":0},{"$f":"'REPORTE PMI'!E712","v":0},{"$f":"'REPORTE PMI'!J712","v":0},{"$f":"'REPORTE PMI'!G712","v":0},null,null,null,{"$f":"'REPORTE PMI'!L712","v":0},{"$f":"'REPORTE PMI'!M712","v":0},0,null,null,0,null,null,"NO"]
[{"$f":"'REPORTE PMI'!B713","v":0},{"$f":"'REPORTE PMI'!E713","v":0},{"$f":"'REPORTE PMI'!J713","v":0},{"$f":"'REPORTE PMI'!G713","v":0},null,null,null,{"$f":"'REPORTE PMI'!L713","v":0},{"$f":"'REPORTE PMI'!M713","v":0},0,null,null,0,null,null,"NO"]
[{"$f":"'REPORTE PMI'!B714","v":0},{"$f":"'REPORTE PMI'!E714","v":0},{"$f":"'REPORTE PMI'!J714","v":0},{"$f":"'REPORTE PMI'!G714","v":0},null,null,null,{"$f":"'REPORTE PMI'!L714","v":0},{"$f":"'REPORTE PMI'!M714","v":0},0,null,null,0,null,null,"NO"]
[{"$f":"'REPORTE PMI'!B715","v":0},{"$f":"'REPORTE PMI'!E715","v":0},{"$f":"'REPORTE PMI'!J715","v":0},{"$f":"'REPORTE PMI'!G715","v":0},null,null,null,{"$f":"'REPORTE PMI'!L715","v":0},{"$f":"'REPORTE PMI'!M715","v":0},0,null,null,0,null,null,"NO"]
[{"$f":"'REPORTE PMI'!B716","v":0},{"$f":"'REPORTE PMI'!E716","v":0},{"$f":"'REPORTE PMI'!J716","v":0},{"$f":"'REPORTE PMI'!G716","v":0},null,null,null,{"$f":"'REPORTE PMI'!L716","v":0},{"$f":"'REPORTE PMI'!M716","v":0},0,null,null,0,null,null,"NO"]
[{"$f":"'REPORTE PMI'!B717","v":0},{"$f":"'REPORTE PMI'!E717","v":0},{"$f":"'REPORTE PMI'!J717","v":0},{"$f":"'REPORTE PMI'!G717","v":0},null,null,null,{"$f":"'REPORTE PMI'!L717","v":0},{"$f":"'REPORTE PMI'!M717","v":0},0,null,null,0,null,null,"NO"]
[{"$f":"'REPORTE PMI'!B718","v":0},{"$f":"'REPORTE PMI'!E718","v":0},{"$f":"'REPORTE PMI'!J718","v":0},{"$f":"'REPORTE PMI'!G718","v":0},null,null,null,{"$f":"'REPORTE PMI'!L718","v":0},{"$f":"'REPORTE PMI'!M718","v":0},0,null,null,0,null,null,"NO"]
[{"$f":"'REPORTE PMI'!B719","v":0},{"$f":"'REPORTE PMI'!E719","v":0},{"$f":"'REPORTE PMI'!J719","v":0},{"$f":"'REPORTE PMI'!G719","v":0},null,null,null,{"$f":"'REPORTE PMI'!L719","v":0},{"$f":"'REPORTE PMI'!M719","v":0},0,null,null,0,null,null,"NO"]
[{"$f":"'REPORTE PMI'!B720","v":0},{"$f":"'REPORTE PMI'!E720","v":0},{"$f":"'REPORTE PMI'!J720","v":0},{"$f":"'REPORTE PMI'!G720","v":0},null,null,null,{"$f":"'REPORTE PMI'!L720","v":0},{"$f":"'REPORTE PMI'!M720","v":0},0,null,null,0,null,null,"NO"]
[{"$f":"'REPORTE PMI'!B721","v":0},{"$f":"'REPORTE PMI'!E721","v":0},{"$f":"'REPORTE PMI'!J721","v":0},{"$f":"'REPORTE PMI'!G721","v":0},null,null,null,{"$f":"'REPORTE PMI'!L721","v":0},{"$f":"'REPORTE PMI'!M721","v":0},0,null,null,0,null,null,"NO"]
[{"$f":"'REPORTE PMI'!B722","v":0},{"$f":"'REPORTE PMI'!E722","v":0},{"$f":"'REPORTE PMI'!J722","v":0},{"$f":"'REPORTE PMI'!G722","v":0},null,null,null,{"$f":"'REPORTE PMI'!L722","v":0},{"$f":"'REPORTE PMI'!M722","v":0},0,null,null,0,null,null,"NO"]
[{"$f":"'REPORTE PMI'!B723","v":0},{"$f":"'REPORTE PMI'!E723","v":0},{"$f":"'REPORTE PMI'!J723","v":0},{"$f":"'REPORTE PMI'!G723","v":0},null,null,null,{"$f":"'REPORTE PMI'!L723","v":0},{"$f":"'REPORTE PMI'!M723","v":0},0,null,null,0,null,null,"NO"]
[{"$f":"'REPORTE PMI'!B724","v":0},{"$f":"'REPORTE PMI'!E724","v":0},{"$f":"'REPORTE PMI'!J724","v":0},{"$f":"'REPORTE PMI'!G724","v":0},null,null,null,{"$f":"'REPORTE PMI'!L724","v":0},{"$f":"'REPORTE PMI'!M724","v":0},0,null,null,0,null,null,"NO"]
[{"$f":"'REPORTE PMI'!B725","v":0},{"$f":"'REPORTE PMI'!E725","v":0},{"$f":"'REPORTE PMI'!J725","v":0},{"$f":"'REPORTE PMI'!G725","v":0},null,null,null,{"$f":"'REPORTE PMI'!L725","v":0},{"$f":"'REPORTE PMI'!M725","v":0},0,null,null,0,null,null,"NO"]
[{"$f":"'REPORTE PMI'!B726","v":0},{"$f":"'REPORTE PMI'!E726","v":0},{"$f":"'REPORTE PMI'!J726","v":0},{"$f":"'REPORTE PMI'!G726","v":0},null,null,null,{"$f":"'REPORTE PMI'!L726","v":0},{"$f":"'REPORTE PMI'!M726","v":0},0,null,null,0,null,null,"NO"]
[{"$f":"'REPORTE PMI'!B727","v":0},{"$f":"'REPORTE PMI'!E727","v":0},{"$f":"'REPORTE PMI'!J727","v":0},{"$f":"'REPORTE PMI'!G727","v":0},null,null,null,{"$f":"'REPORTE PMI'!L727","v":0},{"$f":"'REPORTE PMI'!M727","v":0},0,null,null,0,null,null,"NO"]
[{"$f":"'REPORTE PMI'!B728","v":0},{"$f":"'REPORTE PMI'!E728","v":0},{"$f":"'REPORTE PMI'!J728","v":0},{"$f":"'REPORTE PMI'!G728","v":0},null,null,null,{"$f":"'REPORTE PMI'!L728","v":0},{"$f":"'REPORTE PMI'!M728","v":0},0,null,null,0,null,null,"NO"]
[{"$f":"'REPORTE PMI'!B729","v":0},{"$f":"'REPORTE PMI'!E729","v":0},{"$f":"'REPORTE PMI'!J729","v":0},{"$f":"'REPORTE PMI'!G729","v":0},null,null,null,{"$f":"'REPORTE PMI'!L729","v":0},{"$f":"'REPORTE PMI'!M729","v":0},0,null,null,0,null,null,"NO"]
[{"$f":"'REPORTE PMI'!B730","v":0},{"$f":"'REPORTE PMI'!E730","v":0},{"$f":"'REPORTE PMI'!J730","v":0},{"$f":"'REPORTE PMI'!G730","v":0},null,null,null,{"$f":"'REPORTE PMI'!L730","v":0},{"$f":"'REPORTE PMI'!M730","v":0},0,null,null,0,null,null,"NO"]
[{"$f":"'REPORTE PMI'!B731","v":0},{"$f":"'REPORTE PMI'!E731","v":0},{"$f":"'REPORTE PMI'!J731","v":0},{"$f":"'REPORTE PMI'!G731","v":0},null,null,null,{"$f":"'REPORTE PMI'!L731","v":0},{"$f":"'REPORTE PMI'!M731","v":0},0,null,null,0,null,null,"NO"]
[{"$f":"'REPORTE PMI'!B732","v":0},{"$f":"'REPORTE PMI'!E732","v":0},{"$f":"'REPORTE PMI'!J732","v":0},{"$f":"'REPORTE PMI'!G732","v":0},null,null,null,{"$f":"'REPORTE PMI'!L732","v":0},{"$f":"'REPORTE PMI'!M732","v":0},0,null,null,0,null,null,"NO"]
[{"$f":"'REPORTE PMI'!B733","v":0},{"$f":"'REPORTE PMI'!E733","v":0},{"$f":"'REPORTE PMI'!J733","v":0},{"$f":"'REPORTE PMI'!G733","v":0},null,null,null,{"$f":"'REPORTE PMI'!L733","v":0},{"$f":"'REPORTE PMI'!M733","v":0},0,null,null,0,null,null,"NO"]
[{"$f":"'REPORTE PMI'!B734","v":0},{"$f":"'REPORTE PMI'!E734","v":0},{"$f":"'REPORTE PMI'!J734","v":0},{"$f":"'REPORTE PMI'!G734","v":0},null,null,null,{"$f":"'REPORTE PMI'!L734","v":0},{"$f":"'REPORTE PMI'!M734","v":0},0,null,null,0,null,null,"NO"]
[{"$f":"'REPORTE PMI'!B735","v":0},{"$f":"'REPORTE PMI'!E735","v":0},{"$f":"'REPORTE PMI'!J735","v":0},{"$f":"'REPORTE PMI'!G735","v":0},null,null,null,{"$f":"'REPORTE PMI'!L735","v":0},{"$f":"'REPORTE PMI'!M735","v":0},0,null,null,0,null,null,"NO"]
[{"$f":"'REPORTE PMI'!B736","v":0},{"$f":"'REPORTE PMI'!E736","v":0},{"$f":"'REPORTE PMI'!J736","v":0},{"$f":"'REPORTE PMI'!G736","v":0},null,null,null,{"$f":"'REPORTE PMI'!L736","v":0},{"$f":"'REPORTE PMI'!M736","v":0},0,null,null,0,null,null,"NO"]
[{"$f":"'REPORTE PMI'!B737","v":0},{"$f":"'REPORTE PMI'!E737","v":0},{"$f":"'REPORTE PMI'!J737","v":0},{"$f":"'REPORTE PMI'!G737","v":0},null,null,null,{"$f":"'REPORTE PMI'!L737","v":0},{"$f":"'REPORTE PMI'!M737","v":0},0,null,null,0,null,null,"NO"]
[{"$f":"'REPORTE PMI'!B738","v":0},{"$f":"'REPORTE PMI'!E738","v":0},{"$f":"'REPORTE PMI'!J738","v":0},{"$f":"'REPORTE PMI'!G738","v":0},null,null,null,{"$f":"'REPORTE PMI'!L738","v":0},{"$f":"'REPORTE PMI'!M738","v":0},0,null,null,0,null,null,"NO"]
[{"$f":"'REPORTE PMI'!B739","v":0},{"$f":"'REPORTE PMI'!E739","v":0},{"$f":"'REPORTE PMI'!J739","v":0},{"$f":"'REPORTE PMI'!G739","v":0},null,null,null,{"$f":"'REPORTE PMI'!L739","v":0},{"$f":"'REPORTE PMI'!M739","v":0},0,null,null,0,null,null,"NO"]
[{"$f":"'REPORTE PMI'!B740","v":0},{"$f":"'REPORTE PMI'!E740","v":0},{"$f":"'REPORTE PMI'!J740","v":0},{"$f":"'REPORTE PMI'!G740","v":0},null,null,null,{"$f":"'REPORTE PMI'!L740","v":0},{"$f":"'REPORTE PMI'!M740","v":0},0,null,null,0,null,null,"NO"]
[{"$f":"'REPORTE PMI'!B741","v":0},{"$f":"'REPORTE PMI'!E741","v":0},{"$f":"'REPORTE PMI'!J741","v":0},{"$f":"'REPORTE PMI'!G741","v":0},null,null,null,{"$f":"'REPORTE PMI'!L741","v":0},{"$f":"'REPORTE PMI'!M741","v":0},0,null,null,0,null,null,"NO"]
[{"$f":"'REPORTE PMI'!B742","v":0},{"$f":"'REPORTE PMI'!E742","v":0},{"$f":"'REPORTE PMI'!J742","v":0},{"$f":"'REPORTE PMI'!G742","v":0},null,null,null,{"$f":"'REPORTE PMI'!L742","v":0},{"$f":"'REPORTE PMI'!M742","v":0},0,null,null,0,null,null,"NO"]
[{"$f":"'REPORTE PMI'!B743","v":0},{"$f":"'REPORTE PMI'!E743","v":0},{"$f":"'REPORTE PMI'!J743","v":0},{"$f":"'REPORTE PMI'!G743","v":0},null,null,null,{"$f":"'REPORTE PMI'!L743","v":0},{"$f":"'REPORTE PMI'!M743","v":0},0,null,null,0,null,null,"NO"]
[{"$f":"'REPORTE PMI'!B744","v":0},{"$f":"'REPORTE PMI'!E744","v":0},{"$f":"'REPORTE PMI'!J744","v":0},{"$f":"'REPORTE PMI'!G744","v":0},null,null,null,{"$f":"'REPORTE PMI'!L744","v":0},{"$f":"'REPORTE PMI'!M744","v":0},0,null,null,0,null,null,"NO"]
[{"$f":"'REPORTE PMI'!B745","v":0},{"$f":"'REPORTE PMI'!E745","v":0},{"$f":"'REPORTE PMI'!J745","v":0},{"$f":"'REPORTE PMI'!G745","v":0},null,null,null,{"$f":"'REPORTE PMI'!L745","v":0},{"$f":"'REPORTE PMI'!M745","v":0},0,null,null,0,null,null,"NO"]
[{"$f":"'REPORTE PMI'!B746","v":0},{"$f":"'REPORTE PMI'!E746","v":0},{"$f":"'REPORTE PMI'!J746","v":0},{"$f":"'REPORTE PMI'!G746","v":0},null,null,null,{"$f":"'REPORTE PMI'!L746","v":0},{"$f":"'REPORTE PMI'!M746","v":0},0,null,null,0,null,null,"NO"]
[{"$f":"'REPORTE PMI'!B747","v":0},{"$f":"'REPORTE PMI'!E747","v":0},{"$f":"'REPORTE PMI'!J747","v":0},{"$f":"'REPORTE PMI'!G747","v":0},null,null,null,{"$f":"'REPORTE PMI'!L747","v":0},{"$f":"'REPORTE PMI'!M747","v":0},0,null,null,0,null,null,"NO"]
[{"$f":"'REPORTE PMI'!B748","v":0},{"$f":"'REPORTE PMI'!E748","v":0},{"$f":"'REPORTE PMI'!J748","v":0},{"$f":"'REPORTE PMI'!G748","v":0},null,null,null,{"$f":"'REPORTE PMI'!L748","v":0},{"$f":"'REPORTE PMI'!M748","v":0},0,null,null,0,null,null,"NO"]
[{"$f":"'REPORTE PMI'!B749","v":0},{"$f":"'REPORTE PMI'!E749","v":0},{"$f":"'REPORTE PMI'!J749","v":0},{"$f":"'REPORTE PMI'!G749","v":0},null,null,null,{"$f":"'REPORTE PMI'!L749","v":0},{"$f":"'REPORTE PMI'!M749","v":0},0,null,null,0,null,null,"NO"]
[{"$f":"'REPORTE PMI'!B750","v":0},{"$f":"'REPORTE PMI'!E750","v":0},{"$f":"'REPORTE PMI'!J750","v":0},{"$f":"'REPORTE PMI'!G750","v":0},null,null,null,{"$f":"'REPORTE PMI'!L750","v":0},{"$f":"'REPORTE PMI'!M750","v":0},0,null,null,0,null,null,"NO"]
[{"$f":"'REPORTE PMI'!B751","v":0},{"$f":"'REPORTE PMI'!E751","v":0},{"$f":"'REPORTE PMI'!J751","v":0},{"$f":"'REPORTE PMI'!G751","v":0},null,null,null,{"$f":"'REPORTE PMI'!L751","v":0},{"$f":"'REPORTE PMI'!M751","v":0},0,null,null,0,null,null,"NO"]
[{"$f":"'REPORTE PMI'!B752","v":0},{"$f":"'REPORTE PMI'!E752","v":0},{"$f":"'REPORTE PMI'!J752","v":0},{"$f":"'REPORTE PMI'!G752","v":0},null,null,null,{"$f":"'REPORTE PMI'!L752","v":0},{"$f":"'REPORTE PMI'!M752","v":0},0,null,null,0,null,null,"NO"]
[{"$f":"'REPORTE PMI'!B753","v":0},{"$f":"'REPORTE PMI'!E753","v":0},{"$f":"'REPORTE PMI'!J753","v":0},{"$f":"'REPORTE PMI'!G753","v":0},null,null,null,{"$f":"'REPORTE PMI'!L753","v":0},{"$f":"'REPORTE PMI'!M753","v":0},0,null,null,0,null,null,"NO"]
[{"$f":"'REPORTE PMI'!B754","v":0},{"$f":"'REPORTE PMI'!E754","v":0},{"$f":"'REPORTE PMI'!J754","v":0},{"$f":"'REPORTE PMI'!G754","v":0},null,null,null,{"$f":"'REPORTE PMI'!L754","v":0},{"$f":"'REPORTE PMI'!M754","v":0},0,null,null,0,null,null,"NO"]
[{"$f":"'REPORTE PMI'!B755","v":0},{"$f":"'REPORTE PMI'!E755","v":0},{"$f":"'REPORTE PMI'!J755","v":0},{"$f":"'REPORTE PMI'!G755","v":0},null,null,null,{"$f":"'REPORTE PMI'!L755","v":0},{"$f":"'REPORTE PMI'!M755","v":0},0,null,null,0,null,null,"NO"]
[{"$f":"'REPORTE PMI'!B756","v":0},{"$f":"'REPORTE PMI'!E756","v":0},{"$f":"'REPORTE PMI'!J756","v":0},{"$f":"'REPORTE PMI'!G756","v":0},null,null,null,{"$f":"'REPORTE PMI'!L756","v":0},{"$f":"'REPORTE PMI'!M756","v":0},0,null,null,0,null,null,"NO"]
[{"$f":"'REPORTE PMI'!B757","v":0},{"$f":"'REPORTE PMI'!E757","v":0},{"$f":"'REPORTE PMI'!J757","v":0},{"$f":"'REPORTE PMI'!G757","v":0},null,null,null,{"$f":"'REPORTE PMI'!L757","v":0},{"$f":"'REPORTE PMI'!M757","v":0},0,null,null,0,null,null,"NO"]
[{"$f":"'REPORTE PMI'!B758","v":0},{"$f":"'REPORTE PMI'!E758","v":0},{"$f":"'REPORTE PMI'!J758","v":0},{"$f":"'REPORTE PMI'!G758","v":0},null,null,null,{"$f":"'REPORTE PMI'!L758","v":0},{"$f":"'REPORTE PMI'!M758","v":0},0,null,null,0,null,null,"NO"]
[{"$f":"'REPORTE PMI'!B759","v":0},{"$f":"'REPORTE PMI'!E759","v":0},{"$f":"'REPORTE PMI'!J759","v":0},{"$f":"'REPORTE PMI'!G759","v":0},null,null,null,{"$f":"'REPORTE PMI'!L759","v":0},{"$f":"'REPORTE PMI'!M759","v":0},0,null,null,0,null,null,"NO"]
[{"$f":"'REPORTE PMI'!B760","v":0},{"$f":"'REPORTE PMI'!E760","v":0},{"$f":"'REPORTE PMI'!J760","v":0},{"$f":"'REPORTE PMI'!G760","v":0},null,null,null,{"$f":"'REPORTE PMI'!L760","v":0},{"$f":"'REPORTE PMI'!M760","v":0},0,null,null,0,null,null,"NO"]
[{"$f":"'REPORTE PMI'!B761","v":0},{"$f":"'REPORTE PMI'!E761","v":0},{"$f":"'REPORTE PMI'!J761","v":0},{"$f":"'REPORTE PMI'!G761","v":0},null,null,null,{"$f":"'REPORTE PMI'!L761","v":0},{"$f":"'REPORTE PMI'!M761","v":0},0,null,null,0,null,null,"NO"]
[{"$f":"'REPORTE PMI'!B762","v":0},{"$f":"'REPORTE PMI'!E762","v":0},{"$f":"'REPORTE PMI'!J762","v":0},{"$f":"'REPORTE PMI'!G762","v":0},null,null,null,{"$f":"'REPORTE PMI'!L762","v":0},{"$f":"'REPORTE PMI'!M762","v":0},0,null,null,0,null,null,"NO"]
[{"$f":"'REPORTE PMI'!B763","v":0},{"$f":"'REPORTE PMI'!E763","v":0},{"$f":"'REPORTE PMI'!J763","v":0},{"$f":"'REPORTE PMI'!G763","v":0},null,null,null,{"$f":"'REPORTE PMI'!L763","v":0},{"$f":"'REPORTE PMI'!M763","v":0},0,null,null,0,null,null,"NO"]
[{"$f":"'REPORTE PMI'!B764","v":0},{"$f":"'REPORTE PMI'!E764","v":0},{"$f":"'REPORTE PMI'!J764","v":0},{"$f":"'REPORTE PMI'!G764","v":0},null,null,null,{"$f":"'REPORTE PMI'!L764","v":0},{"$f":"'REPORTE PMI'!M764","v":0},0,null,null,0,null,null,"NO"]
[{"$f":"'REPORTE PMI'!B765","v":0},{"$f":"'REPORTE PMI'!E765","v":0},{"$f":"'REPORTE PMI'!J765","v":0},{"$f":"'REPORTE PMI'!G765","v":0},null,null,null,{"$f":"'REPORTE PMI'!L765","v":0},{"$f":"'REPORTE PMI'!M765","v":0},0,null,null,0,null,null,"NO"]
[{"$f":"'REPORTE PMI'!B766","v":0},{"$f":"'REPORTE PMI'!E766","v":0},{"$f":"'REPORTE PMI'!J766","v":0},{"$f":"'REPORTE PMI'!G766","v":0},null,null,null,{"$f":"'REPORTE PMI'!L766","v":0},{"$f":"'REPORTE PMI'!M766","v":0},0,null,null,0,null,null,"NO"]
[{"$f":"'REPORTE PMI'!B767","v":0},{"$f":"'REPORTE PMI'!E767","v":0},{"$f":"'REPORTE PMI'!J767","v":0},{"$f":"'REPORTE PMI'!G767","v":0},null,null,null,{"$f":"'REPORTE PMI'!L767","v":0},{"$f":"'REPORTE PMI'!M767","v":0},0,null,null,0,null,null,"NO"]
[{"$f":"'REPORTE PMI'!B768","v":0},{"$f":"'REPORTE PMI'!E768","v":0},{"$f":"'REPORTE PMI'!J768","v":0},{"$f":"'REPORTE PMI'!G768","v":0},null,null,null,{"$f":"'REPORTE PMI'!L768","v":0},{"$f":"'REPORTE PMI'!M768","v":0},0,null,null,0,null,null,"NO"]
[{"$f":"'REPORTE PMI'!B769","v":0},{"$f":"'REPORTE PMI'!E769","v":0},{"$f":"'REPORTE PMI'!J769","v":0},{"$f":"'REPORTE PMI'!G769","v":0},null,null,null,{"$f":"'REPORTE PMI'!L769","v":0},{"$f":"'REPORTE PMI'!M769","v":0},0,null,null,0,null,null,"NO"]
[{"$f":"'REPORTE PMI'!B770","v":0},{"$f":"'REPORTE PMI'!E770","v":0},{"$f":"'REPORTE PMI'!J770","v":0},{"$f":"'REPORTE PMI'!G770","v":0},null,null,null,{"$f":"'REPORTE PMI'!L770","v":0},{"$f":"'REPORTE PMI'!M770","v":0},0,null,null,0,null,null,"NO"]
[{"$f":"'REPORTE PMI'!B771","v":0},{"$f":"'REPORTE PMI'!E771","v":0},{"$f":"'REPORTE PMI'!J771","v":0},{"$f":"'REPORTE PMI'!G771","v":0},null,null,null,{"$f":"'REPORTE PMI'!L771","v":0},{"$f":"'REPORTE PMI'!M771","v":0},0,null,null,0,null,null,"NO"]
[{"$f":"'REPORTE PMI'!B772","v":0},{"$f":"'REPORTE PMI'!E772","v":0},{"$f":"'REPORTE PMI'!J772","v":0},{"$f":"'REPORTE PMI'!G772","v":0},null,null,null,{"$f":"'REPORTE PMI'!L772","v":0},{"$f":"'REPORTE PMI'!M772","v":0},{"$f":"IFERROR(I781/H781, 0)","v":0},null,null,{"$f":"H781-I781","v":0},null,null,{"$f":"IF(E781=\"SI\",IF(J781>0%,IF(K781=\"SI\",IF(L781=\"NO\",IF(N781=\"SI\",IF(O781=\"NO\",\"SI\",\"NO\"),\"NO\"),\"NO\"),\"NO\"),\"NO\"),\"NO\")","v":"NO"}]
[{"$f":"'REPORTE PMI'!B773","v":0},{"$f":"'REPORTE PMI'!E773","v":0},{"$f":"'REPORTE PMI'!J773","v":0},{"$f":"'REPORTE PMI'!G773","v":0},null,null,null,{"$f":"'REPORTE PMI'!L773","v":0},{"$f":"'REPORTE PMI'!M773","v":0},0,null,null,0,null,null,"NO"]
[{"$f":"'REPORTE PMI'!B774","v":0},{"$f":"'REPORTE PMI'!E774","v":0},{"$f":"'REPORTE PMI'!J774","v":0},{"$f":"'REPORTE PMI'!G774","v":0},null,null,null,{"$f":"'REPORTE PMI'!L774","v":0},{"$f":"'REPORTE PMI'!M774","v":0},0,null,null,0,null,null,"NO"]
[{"$f":"'REPORTE PMI'!B775","v":0},{"$f":"'REPORTE PMI'!E775","v":0},{"$f":"'REPORTE PMI'!J775","v":0},{"$f":"'REPORTE PMI'!G775","v":0},null,null,null,{"$f":"'REPORTE PMI'!L775","v":0},{"$f":"'REPORTE PMI'!M775","v":0},0,null,null,0,null,null,"NO"]
[{"$f":"'REPORTE PMI'!B776","v":0},{"$f":"'REPORTE PMI'!E776","v":0},{"$f":"'REPORTE PMI'!J776","v":0},{"$f":"'REPORTE PMI'!G776","v":0},null,null,null,{"$f":"'REPORTE PMI'!L776","v":0},{"$f":"'REPORTE PMI'!M776","v":0},0,null,null,0,null,null,"NO"]
[{"$f":"'REPORTE PMI'!B777","v":0},{"$f":"'REPORTE PMI'!E777","v":0},{"$f":"'REPORTE PMI'!J777","v":0},{"$f":"'REPORTE PMI'!G777","v":0},null,null,null,{"$f":"'REPORTE PMI'!L777","v":0},{"$f":"'REPORTE PMI'!M777","v":0},0,null,null,0,null,null,"NO"]
[{"$f":"'REPORTE PMI'!B778","v":0},{"$f":"'REPORTE PMI'!E778","v":0},{"$f":"'REPORTE PMI'!J778","v":0},{"$f":"'REPORTE PMI'!G778","v":0},null,null,null,{"$f":"'REPORTE PMI'!L778","v":0},{"$f":"'REPORTE PMI'!M778","v":0},0,null,null,0,null,null,"NO"]
[{"$f":"'REPORTE PMI'!B779","v":0},{"$f":"'REPORTE PMI'!E779","v":0},{"$f":"'REPORTE PMI'!J779","v":0},{"$f":"'REPORTE PMI'!G779","v":0},null,null,null,{"$f":"'REPORTE PMI'!L779","v":0},{"$f":"'REPORTE PMI'!M779","v":0},0,null,null,0,null,null,"NO"]
[{"$f":"'REPORTE PMI'!B780","v":0},{"$f":"'REPORTE PMI'!E780","v":0},{"$f":"'REPORTE PMI'!J780","v":0},{"$f":"'REPORTE PMI'!G780","v":0},null,null,null,{"$f":"'REPORTE PMI'!L780","v":0},{"$f":"'REPORTE PMI'!M780","v":0},0,null,null,0,null,null,"NO"]
[{"$f":"'REPORTE PMI'!B781","v":0},{"$f":"'REPORTE PMI'!E781","v":0},{"$f":"'REPORTE PMI'!J781","v":0},{"$f":"'REPORTE PMI'!G781","v":0},null,null,null,{"$f":"'REPORTE PMI'!L781","v":0},{"$f":"'REPORTE PMI'!M781","v":0},0,null,null,0,null,null,"NO"]
[{"$f":"'REPORTE PMI'!B782","v":0},{"$f":"'REPORTE PMI'!E782","v":0},{"$f":"'REPORTE PMI'!J782","v":0},{"$f":"'REPORTE PMI'!G782","v":0},null,null,null,{"$f":"'REPORTE PMI'!L782","v":0},{"$f":"'REPORTE PMI'!M782","v":0},0,null,null,0,null,null,"NO"]
[{"$f":"'REPORTE PMI'!B783","v":0},{"$f":"'REPORTE PMI'!E783","v":0},{"$f":"'REPORTE PMI'!J783","v":0},{"$f":"'REPORTE PMI'!G783","v":0},null,null,null,{"$f":"'REPORTE PMI'!L783","v":0},{"$f":"'REPORTE PMI'!M783","v":0},0,null,null,0,null,null,"NO"]
[{"$f":"'REPORTE PMI'!B784","v":0},{"$f":"'REPORTE PMI'!E784","v":0},{"$f":"'REPORTE PMI'!J784","v":0},{"$f":"'REPORTE PMI'!G784","v":0},null,null,null,{"$f":"'REPORTE PMI'!L784","v":0},{"$f":"'REPORTE PMI'!M784","v":0},0,null,null,0,null,null,"NO"]
[{"$f":"'REPORTE PMI'!B785","v":0},{"$f":"'REPORTE PMI'!E785","v":0},{"$f":"'REPORTE PMI'!J785","v":0},{"$f":"'REPORTE PMI'!G785","v":0},null,null,null,{"$f":"'REPORTE PMI'!L785","v":0},{"$f":"'REPORTE PMI'!M785","v":0},0,null,null,0,null,null,"NO"]
[{"$f":"'REPORTE PMI'!B786","v":0},{"$f":"'REPORTE PMI'!E786","v":0},{"$f":"'REPORTE PMI'!J786","v":0},{"$f":"'REPORTE PMI'!G786","v":0},null,null,null,{"$f":"'REPORTE PMI'!L786","v":0},{"$f":"'REPORTE PMI'!M786","v":0},0,null,null,0,null,null,"NO"]
[{"$f":"'REPORTE PMI'!B787","v":0},{"$f":"'REPORTE PMI'!E787","v":0},{"$f":"'REPORTE PMI'!J787","v":0},{"$f":"'REPORTE PMI'!G787","v":0},null,null,null,{"$f":"'REPORTE PMI'!L787","v":0},{"$f":"'REPORTE PMI'!M787","v":0},0,null,null,0,null,null,"NO"]
[{"$f":"'REPORTE PMI'!B788","v":0},{"$f":"'REPORTE PMI'!E788","v":0},{"$f":"'REPORTE PMI'!J788","v":0},{"$f":"'REPORTE PMI'!G788","v":0},null,null,null,{"$f":"'REPORTE PMI'!L788","v":0},{"$f":"'REPORTE PMI'!M788","v":0},0,null,null,0,null,null,"NO"]
[{"$f":"'REPORTE PMI'!B789","v":0},{"$f":"'REPORTE PMI'!E789","v":0},{"$f":"'REPORTE PMI'!J789","v":0},{"$f":"'REPORTE PMI'!G789","v":0},null,null,null,{"$f":"'REPORTE PMI'!L789","v":0},{"$f":"'REPORTE PMI'!M789","v":0},0,null,null,0,null,null,"NO"]
[{"$f":"'REPORTE PMI'!B790","v":0},{"$f":"'REPORTE PMI'!E790","v":0},{"$f":"'REPORTE PMI'!J790","v":0},{"$f":"'REPORTE PMI'!G790","v":0},null,null,null,{"$f":"'REPORTE PMI'!L790","v":0},{"$f":"'REPORTE PMI'!M790","v":0},0,null,null,0,null,null,"NO"]
[{"$f":"'REPORTE PMI'!B791","v":0},{"$f":"'REPORTE PMI'!E791","v":0},{"$f":"'REPORTE PMI'!J791","v":0},{"$f":"'REPORTE PMI'!G791","v":0},null,null,null,{"$f":"'REPORTE PMI'!L791","v":0},{"$f":"'REPORTE PMI'!M791","v":0},0,null,null,0,null,null,"NO"]
[{"$f":"'REPORTE PMI'!B792","v":0},{"$f":"'REPORTE PMI'!E792","v":0},{"$f":"'REPORTE PMI'!J792","v":0},{"$f":"'REPORTE PMI'!G792","v":0},null,null,null,{"$f":"'REPORTE PMI'!L792","v":0},{"$f":"'REPORTE PMI'!M792","v":0},0,null,null,0,null,null,"NO"]
[{"$f":"'REPORTE PMI'!B793","v":0},{"$f":"'REPORTE PMI'!E793","v":0},{"$f":"'REPORTE PMI'!J793","v":0},{"$f":"'REPORTE PMI'!G793","v":0},null,null,null,{"$f":"'REPORTE PMI'!L793","v":0},{"$f":"'REPORTE PMI'!M793","v":0},0,null,null,0,null,null,"NO"]
[{"$f":"'REPORTE PMI'!B794","v":0},{"$f":"'REPORTE PMI'!E794","v":0},{"$f":"'REPORTE PMI'!J794","v":0},{"$f":"'REPORTE PMI'!G794","v":0},null,null,null,{"$f":"'REPORTE PMI'!L794","v":0},{"$f":"'REPORTE PMI'!M794","v":0},0,null,null,0,null,null,"NO"]
[{"$f":"'REPORTE PMI'!B795","v":0},{"$f":"'REPORTE PMI'!E795","v":0},{"$f":"'REPORTE PMI'!J795","v":0},{"$f":"'REPORTE PMI'!G795","v":0},null,null,null,{"$f":"'REPORTE PMI'!L795","v":0},{"$f":"'REPORTE PMI'!M795","v":0},0,null,null,0,null,null,"NO"]
[{"$f":"'REPORTE PMI'!B796","v":0},{"$f":"'REPORTE PMI'!E796","v":0},{"$f":"'REPORTE PMI'!J796","v":0},{"$f":"'REPORTE PMI'!G796","v":0},null,null,null,{"$f":"'REPORTE PMI'!L796","v":0},{"$f":"'REPORTE PMI'!M796","v":0},0,null,null,0,null,null,"NO"]
[{"$f":"'REPORTE PMI'!B797","v":0},{"$f":"'REPORTE PMI'!E797","v":0},{"$f":"'REPORTE PMI'!J797","v":0},{"$f":"'REPORTE PMI'!G797","v":0},null,null,null,{"$f":"'REPORTE PMI'!L797","v":0},{"$f":"'REPORTE PMI'!M797","v":0},0,null,null,0,null,null,"NO"]
[{"$f":"'REPORTE PMI'!B798","v":0},{"$f":"'REPORTE PMI'!E798","v":0},{"$f":"'REPORTE PMI'!J798","v":0},{"$f":"'REPORTE PMI'!G798","v":0},null,null,null,{"$f":"'REPORTE PMI'!L798","v":0},{"$f":"'REPORTE PMI'!M798","v":0},0,null,null,0,null,null,"NO"]
[{"$f":"'REPORTE PMI'!B799","v":0},{"$f":"'REPORTE PMI'!E799","v":0},{"$f":"'REPORTE PMI'!J799","v":0},{"$f":"'REPORTE PMI'!G799","v":0},null,null,null,{"$f":"'REPORTE PMI'!L799","v":0},{"$f":"'REPORTE PMI'!M799","v":0},0,null,null,0,null,null,"NO"]
[{"$f":"'REPORTE PMI'!B800","v":0},{"$f":"'REPORTE PMI'!E800","v":0},{"$f":"'REPORTE PMI'!J800","v":0},{"$f":"'REPORTE PMI'!G800","v":0},null,null,null,{"$f":"'REPORTE PMI'!L800","v":0},{"$f":"'REPORTE PMI'!M800","v":0},0,null,null,0,null,null,"NO"]
[{"$f":"'REPORTE PMI'!B801","v":0},{"$f":"'REPORTE PMI'!E801","v":0},{"$f":"'REPORTE PMI'!J801","v":0},{"$f":"'REPORTE PMI'!G801","v":0},null,null,null,{"$f":"'REPORTE PMI'!L801","v":0},{"$f":"'REPORTE PMI'!M801","v":0},0,null,null,0,null,null,"NO"]
[{"$f":"'REPORTE PMI'!B802","v":0},{"$f":"'REPORTE PMI'!E802","v":0},{"$f":"'REPORTE PMI'!J802","v":0},{"$f":"'REPORTE PMI'!G802","v":0},null,null,null,{"$f":"'REPORTE PMI'!L802","v":0},{"$f":"'REPORTE PMI'!M802","v":0},0,null,null,0,null,null,"NO"]
[{"$f":"'REPORTE PMI'!B803","v":0},{"$f":"'REPORTE PMI'!E803","v":0},{"$f":"'REPORTE PMI'!J803","v":0},{"$f":"'REPORTE PMI'!G803","v":0},null,null,null,{"$f":"'REPORTE PMI'!L803","v":0},{"$f":"'REPORTE PMI'!M803","v":0},0,null,null,0,null,null,"NO"]
[{"$f":"'REPORTE PMI'!B804","v":0},{"$f":"'REPORTE PMI'!E804","v":0},{"$f":"'REPORTE PMI'!J804","v":0},{"$f":"'REPORTE PMI'!G804","v":0},null,null,null,{"$f":"'REPORTE PMI'!L804","v":0},{"$f":"'REPORTE PMI'!M804","v":0},0,null,null,0,null,null,"NO"]
[{"$f":"'REPORTE PMI'!B805","v":0},{"$f":"'REPORTE PMI'!E805","v":0},{"$f":"'REPORTE PMI'!J805","v":0},{"$f":"'REPORTE PMI'!G805","v":0},null,null,null,{"$f":"'REPORTE PMI'!L805","v":0},{"$f":"'REPORTE PMI'!M805","v":0},0,null,null,0,null,null,"NO"]
[{"$f":"'REPORTE PMI'!B806","v":0},{"$f":"'REPORTE PMI'!E806","v":0},{"$f":"'REPORTE PMI'!J806","v":0},{"$f":"'REPORTE PMI'!G806","v":0},null,null,null,{"$f":"'REPORTE PMI'!L806","v":0},{"$f":"'REPORTE PMI'!M806","v":0},0,null,null,0,null,null,"NO"]
[{"$f":"'REPORTE PMI'!B807","v":0},{"$f":"'REPORTE PMI'!E807","v":0},{"$f":"'REPORTE PMI'!J807","v":0},{"$f":"'REPORTE PMI'!G807","v":0},null,null,null,{"$f":"'REPORTE PMI'!L807","v":0},{"$f":"'REPORTE PMI'!M807","v":0},0,null,null,0,null,null,"NO"]
[{"$f":"'REPORTE PMI'!B808","v":0},{"$f":"'REPORTE PMI'!E808","v":0},{"$f":"'REPORTE PMI'!J808","v":0},{"$f":"'REPORTE PMI'!G808","v":0},null,null,null,{"$f":"'REPORTE PMI'!L808","v":0},{"$f":"'REPORTE PMI'!M808","v":0},0,null,null,0,null,null,"NO"]
[{"$f":"'REPORTE PMI'!B809","v":0},{"$f":"'REPORTE PMI'!E809","v":0},{"$f":"'REPORTE PMI'!J809","v":0},{"$f":"'REPORTE PMI'!G809","v":0},null,null,null,{"$f":"'REPORTE PMI'!L809","v":0},{"$f":"'REPORTE PMI'!M809","v":0},0,null,null,0,null,null,"NO"]
[{"$f":"'REPORTE PMI'!B810","v":0},{"$f":"'REPORTE PMI'!E810","v":0},{"$f":"'REPORTE PMI'!J810","v":0},{"$f":"'REPORTE PMI'!G810","v":0},null,null,null,{"$f":"'REPORTE PMI'!L810","v":0},{"$f":"'REPORTE PMI'!M810","v":0},0,null,null,0,null,null,"NO"]
[{"$f":"'REPORTE PMI'!B811","v":0},{"$f":"'REPORTE PMI'!E811","v":0},{"$f":"'REPORTE PMI'!J811","v":0},{"$f":"'REPORTE PMI'!G811","v":0},null,null,null,{"$f":"'REPORTE PMI'!L811","v":0},{"$f":"'REPORTE PMI'!M811","v":0},0,null,null,0,null,null,"NO"]
[{"$f":"'REPORTE PMI'!B812","v":0},{"$f":"'REPORTE PMI'!E812","v":0},{"$f":"'REPORTE PMI'!J812","v":0},{"$f":"'REPORTE PMI'!G812","v":0},null,null,null,{"$f":"'REPORTE PMI'!L812","v":0},{"$f":"'REPORTE PMI'!M812","v":0},0,null,null,0,null,null,"NO"]
[{"$f":"'REPORTE PMI'!B813","v":0},{"$f":"'REPORTE PMI'!E813","v":0},{"$f":"'REPORTE PMI'!J813","v":0},{"$f":"'REPORTE PMI'!G813","v":0},null,null,null,{"$f":"'REPORTE PMI'!L813","v":0},{"$f":"'REPORTE PMI'!M813","v":0},0,null,null,0,null,null,"NO"]
[{"$f":"'REPORTE PMI'!B814","v":0},{"$f":"'REPORTE PMI'!E814","v":0},{"$f":"'REPORTE PMI'!J814","v":0},{"$f":"'REPORTE PMI'!G814","v":0},null,null,null,{"$f":"'REPORTE PMI'!L814","v":0},{"$f":"'REPORTE PMI'!M814","v":0},0,null,null,0,null,null,"NO"]
[{"$f":"'REPORTE PMI'!B815","v":0},{"$f":"'REPORTE PMI'!E815","v":0},{"$f":"'REPORTE PMI'!J815","v":0},{"$f":"'REPORTE PMI'!G815","v":0},null,null,null,{"$f":"'REPORTE PMI'!L815","v":0},{"$f":"'REPORTE PMI'!M815","v":0},0,null,null,0,null,null,"NO"]
[{"$f":"'REPORTE PMI'!B816","v":0},{"$f":"'REPORTE PMI'!E816","v":0},{"$f":"'REPORTE PMI'!J816","v":0},{"$f":"'REPORTE PMI'!G816","v":0},null,null,null,{"$f":"'REPORTE PMI'!L816","v":0},{"$f":"'REPORTE PMI'!M816","v":0},0,null,null,0,null,null,"NO"]
[{"$f":"'REPORTE PMI'!B817","v":0},{"$f":"'REPORTE PMI'!E817","v":0},{"$f":"'REPORTE PMI'!J817","v":0},{"$f":"'REPORTE PMI'!G817","v":0},null,null,null,{"$f":"'REPORTE PMI'!L817","v":0},{"$f":"'REPORTE PMI'!M817","v":0},0,null,null,0,null,null,"NO"]
[{"$f":"'REPORTE PMI'!B818","v":0},{"$f":"'REPORTE PMI'!E818","v":0},{"$f":"'REPORTE PMI'!J818","v":0},{"$f":"'REPORTE PMI'!G818","v":0},null,null,null,{"$f":"'REPORTE PMI'!L818","v":0},{"$f":"'REPORTE PMI'!M818","v":0},0,null,null,0,null,null,"NO"]
[{"$f":"'REPORTE PMI'!B819","v":0},{"$f":"'REPORTE PMI'!E819","v":0},{"$f":"'REPORTE PMI'!J819","v":0},{"$f":"'REPORTE PMI'!G819","v":0},null,null,null,{"$f":"'REPORTE PMI'!L819","v":0},{"$f":"'REPORTE PMI'!M819","v":0},0,null,null,0,null,null,"NO"]
[{"$f":"'REPORTE PMI'!B820","v":0},{"$f":"'REPORTE PMI'!E820","v":0},{"$f":"'REPORTE PMI'!J820","v":0},{"$f":"'REPORTE PMI'!G820","v":0},null,null,null,{"$f":"'REPORTE PMI'!L820","v":0},{"$f":"'REPORTE PMI'!M820","v":0},0,null,null,0,null,null,"NO"]
[{"$f":"'REPORTE PMI'!B821","v":0},{"$f":"'REPORTE PMI'!E821","v":0},{"$f":"'REPORTE PMI'!J821","v":0},{"$f":"'REPORTE PMI'!G821","v":0},null,null,null,{"$f":"'REPORTE PMI'!L821","v":0},{"$f":"'REPORTE PMI'!M821","v":0},0,null,null,0,null,null,"NO"]
[{"$f":"'REPORTE PMI'!B822","v":0},{"$f":"'REPORTE PMI'!E822","v":0},{"$f":"'REPORTE PMI'!J822","v":0},{"$f":"'REPORTE PMI'!G822","v":0},null,null,null,{"$f":"'REPORTE PMI'!L822","v":0},{"$f":"'REPORTE PMI'!M822","v":0},0,null,null,0,null,null,"NO"]
[{"$f":"'REPORTE PMI'!B823","v":0},{"$f":"'REPORTE PMI'!E823","v":0},{"$f":"'REPORTE PMI'!J823","v":0},{"$f":"'REPORTE PMI'!G823","v":0},null,null,null,{"$f":"'REPORTE PMI'!L823","v":0},{"$f":"'REPORTE PMI'!M823","v":0},0,null,null,0,null,null,"NO"]
[{"$f":"'REPORTE PMI'!B824","v":0},{"$f":"'REPORTE PMI'!E824","v":0},{"$f":"'REPORTE PMI'!J824","v":0},{"$f":"'REPORTE PMI'!G824","v":0},null,null,null,{"$f":"'REPORTE PMI'!L824","v":0},{"$f":"'REPORTE PMI'!M824","v":0},0,null,null,0,null,null,"NO"]
[{"$f":"'REPORTE PMI'!B825","v":0},{"$f":"'REPORTE PMI'!E825","v":0},{"$f":"'REPORTE PMI'!J825","v":0},{"$f":"'REPORTE PMI'!G825","v":0},null,null,null,{"$f":"'REPORTE PMI'!L825","v":0},{"$f":"'REPORTE PMI'!M825","v":0},0,null,null,0,null,null,"NO"]
[{"$f":"'REPORTE PMI'!B826","v":0},{"$f":"'REPORTE PMI'!E826","v":0},{"$f":"'REPORTE PMI'!J826","v":0},{"$f":"'REPORTE PMI'!G826","v":0},null,null,null,{"$f":"'REPORTE PMI'!L826","v":0},{"$f":"'REPORTE PMI'!M826","v":0},0,null,null,0,null,null,"NO"]
[{"$f":"'REPORTE PMI'!B827","v":0},{"$f":"'REPORTE PMI'!E827","v":0},{"$f":"'REPORTE PMI'!J827","v":0},{"$f":"'REPORTE PMI'!G827","v":0},null,null,null,{"$f":"'REPORTE PMI'!L827","v":0},{"$f":"'REPORTE PMI'!M827","v":0},0,null,null,0,null,null,"NO"]
[{"$f":"'REPORTE PMI'!B828","v":0},{"$f":"'REPORTE PMI'!E828","v":0},{"$f":"'REPORTE PMI'!J828","v":0},{"$f":"'REPORTE PMI'!G828","v":0},null,null,null,{"$f":"'REPORTE PMI'!L828","v":0},{"$f":"'REPORTE PMI'!M828","v":0},0,null,null,0,null,null,"NO"]
[{"$f":"'REPORTE PMI'!B829","v":0},{"$f":"'REPORTE PMI'!E829","v":0},{"$f":"'REPORTE PMI'!J829","v":0},{"$f":"'REPORTE PMI'!G829","v":0},null,null,null,{"$f":"'REPORTE PMI'!L829","v":0},{"$f":"'REPORTE PMI'!M829","v":0},0,null,null,0,null,null,"NO"]
[{"$f":"'REPORTE PMI'!B830","v":0},{"$f":"'REPORTE PMI'!E830","v":0},{"$f":"'REPORTE PMI'!J830","v":0},{"$f":"'REPORTE PMI'!G830","v":0},null,null,null,{"$f":"'REPORTE PMI'!L830","v":0},{"$f":"'REPORTE PMI'!M830","v":0},0,null,null,0,null,null,"NO"]
[{"$f":"'REPORTE PMI'!B831","v":0},{"$f":"'REPORTE PMI'!E831","v":0},{"$f":"'REPORTE PMI'!J831","v":0},{"$f":"'REPORTE PMI'!G831","v":0},null,null,null,{"$f":"'REPORTE PMI'!L831","v":0},{"$f":"'REPORTE PMI'!M831","v":0},0,null,null,0,null,null,"NO"]
[{"$f":"'REPORTE PMI'!B832","v":0},{"$f":"'REPORTE PMI'!E832","v":0},{"$f":"'REPORTE PMI'!J832","v":0},{"$f":"'REPORTE PMI'!G832","v":0},null,null,null,{"$f":"'REPORTE PMI'!L832","v":0},{"$f":"'REPORTE PMI'!M832","v":0},0,null,null,0,null,null,"NO"]
[{"$f":"'REPORTE PMI'!B833","v":0},{"$f":"'REPORTE PMI'!E833","v":0},{"$f":"'REPORTE PMI'!J833","v":0},{"$f":"'REPORTE PMI'!G833","v":0},null,null,null,{"$f":"'REPORTE PMI'!L833","v":0},{"$f":"'REPORTE PMI'!M833","v":0},0,null,null,0,null,null,"NO"]
[{"$f":"'REPORTE PMI'!B834","v":0},{"$f":"'REPORTE PMI'!E834","v":0},{"$f":"'REPORTE PMI'!J834","v":0},{"$f":"'REPORTE PMI'!G834","v":0},null,null,null,{"$f":"'REPORTE PMI'!L834","v":0},{"$f":"'REPORTE PMI'!M834","v":0},0,null,null,0,null,null,"NO"]
[{"$f":"'REPORTE PMI'!B835","v":0},{"$f":"'REPORTE PMI'!E835","v":0},{"$f":"'REPORTE PMI'!J835","v":0},{"$f":"'REPORTE PMI'!G835","v":0},null,null,null,{"$f":"'REPORTE PMI'!L835","v":0},{"$f":"'REPORTE PMI'!M835","v":0},0,null,null,0,null,null,"NO"]
[{"$f":"'REPORTE PMI'!B836","v":0},{"$f":"'REPORTE PMI'!E836","v":0},{"$f":"'REPORTE PMI'!J836","v":0},{"$f":"'REPORTE PMI'!G836","v":0},null,null,null,{"$f":"'REPORTE PMI'!L836","v":0},{"$f":"'REPORTE PMI'!M836","v":0},{"$f":"IFERROR(I845/H845, 0)","v":0},null,null,{"$f":"H845-I845","v":0},null,null,{"$f":"IF(E845=\"SI\",IF(J845>0%,IF(K845=\"SI\",IF(L845=\"NO\",IF(N845=\"SI\",IF(O845=\"NO\",\"SI\",\"NO\"),\"NO\"),\"NO\"),\"NO\"),\"NO\"),\"NO\")","v":"NO"}]
[{"$f":"'REPORTE PMI'!B837","v":0},{"$f":"'REPORTE PMI'!E837","v":0},{"$f":"'REPORTE PMI'!J837","v":0},{"$f":"'REPORTE PMI'!G837","v":0},null,null,null,{"$f":"'REPORTE PMI'!L837","v":0},{"$f":"'REPORTE PMI'!M837","v":0},0,null,null,0,null,null,"NO"]
[{"$f":"'REPORTE PMI'!B838","v":0},{"$f":"'REPORTE PMI'!E838","v":0},{"$f":"'REPORTE PMI'!J838","v":0},{"$f":"'REPORTE PMI'!G838","v":0},null,null,null,{"$f":"'REPORTE PMI'!L838","v":0},{"$f":"'REPORTE PMI'!M838","v":0},0,null,null,0,null,null,"NO"]
[{"$f":"'REPORTE PMI'!B839","v":0},{"$f":"'REPORTE PMI'!E839","v":0},{"$f":"'REPORTE PMI'!J839","v":0},{"$f":"'REPORTE PMI'!G839","v":0},null,null,null,{"$f":"'REPORTE PMI'!L839","v":0},{"$f":"'REPORTE PMI'!M839","v":0},0,null,null,0,null,null,"NO"]
[{"$f":"'REPORTE PMI'!B840","v":0},{"$f":"'REPORTE PMI'!E840","v":0},{"$f":"'REPORTE PMI'!J840","v":0},{"$f":"'REPORTE PMI'!G840","v":0},null,null,null,{"$f":"'REPORTE PMI'!L840","v":0},{"$f":"'REPORTE PMI'!M840","v":0},0,null,null,0,null,null,"NO"]
[{"$f":"'REPORTE PMI'!B841","v":0},{"$f":"'REPORTE PMI'!E841","v":0},{"$f":"'REPORTE PMI'!J841","v":0},{"$f":"'REPORTE PMI'!G841","v":0},null,null,null,{"$f":"'REPORTE PMI'!L841","v":0},{"$f":"'REPORTE PMI'!M841","v":0},0,null,null,0,null,null,"NO"]
[{"$f":"'REPORTE PMI'!B842","v":0},{"$f":"'REPORTE PMI'!E842","v":0},{"$f":"'REPORTE PMI'!J842","v":0},{"$f":"'REPORTE PMI'!G842","v":0},null,null,null,{"$f":"'REPORTE PMI'!L842","v":0},{"$f":"'REPORTE PMI'!M842","v":0},0,null,null,0,null,null,"NO"]
[{"$f":"'REPORTE PMI'!B843","v":0},{"$f":"'REPORTE PMI'!E843","v":0},{"$f":"'REPORTE PMI'!J843","v":0},{"$f":"'REPORTE PMI'!G843","v":0},null,null,null,{"$f":"'REPORTE PMI'!L843","v":0},{"$f":"'REPORTE PMI'!M843","v":0},0,null,null,0,null,null,"NO"]
[{"$f":"'REPORTE PMI'!B844","v":0},{"$f":"'REPORTE PMI'!E844","v":0},{"$f":"'REPORTE PMI'!J844","v":0},{"$f":"'REPORTE PMI'!G844","v":0},null,null,null,{"$f":"'REPORTE PMI'!L844","v":0},{"$f":"'REPORTE PMI'!M844","v":0},0,null,null,0,null,null,"NO"]
[{"$f":"'REPORTE PMI'!B845","v":0},{"$f":"'REPORTE PMI'!E845","v":0},{"$f":"'REPORTE PMI'!J845","v":0},{"$f":"'REPORTE PMI'!G845","v":0},null,null,null,{"$f":"'REPORTE PMI'!L845","v":0},{"$f":"'REPORTE PMI'!M845","v":0},0,null,null,0,null,null,"NO"]
[{"$f":"'REPORTE PMI'!B846","v":0},{"$f":"'REPORTE PMI'!E846","v":0},{"$f":"'REPORTE PMI'!J846","v":0},{"$f":"'REPORTE PMI'!G846","v":0},null,null,null,{"$f":"'REPORTE PMI'!L846","v":0},{"$f":"'REPORTE PMI'!M846","v":0},0,null,null,0,null,null,"NO"]
[{"$f":"'REPORTE PMI'!B847","v":0},{"$f":"'REPORTE PMI'!E847","v":0},{"$f":"'REPORTE PMI'!J847","v":0},{"$f":"'REPORTE PMI'!G847","v":0},null,null,null,{"$f":"'REPORTE PMI'!L847","v":0},{"$f":"'REPORTE PMI'!M847","v":0},0,null,null,0,null,null,"NO"]
[{"$f":"'REPORTE PMI'!B848","v":0},{"$f":"'REPORTE PMI'!E848","v":0},{"$f":"'REPORTE PMI'!J848","v":0},{"$f":"'REPORTE PMI'!G848","v":0},null,null,null,{"$f":"'REPORTE PMI'!L848","v":0},{"$f":"'REPORTE PMI'!M848","v":0},0,null,null,0,null,null,"NO"]
[{"$f":"'REPORTE PMI'!B849","v":0},{"$f":"'REPORTE PMI'!E849","v":0},{"$f":"'REPORTE PMI'!J849","v":0},{"$f":"'REPORTE PMI'!G849","v":0},null,null,null,{"$f":"'REPORTE PMI'!L849","v":0},{"$f":"'REPORTE PMI'!M849","v":0},0,null,null,0,null,null,"NO"]
[{"$f":"'REPORTE PMI'!B850","v":0},{"$f":"'REPORTE PMI'!E850","v":0},{"$f":"'REPORTE PMI'!J850","v":0},{"$f":"'REPORTE PMI'!G850","v":0},null,null,null,{"$f":"'REPORTE PMI'!L850","v":0},{"$f":"'REPORTE PMI'!M850","v":0},0,null,null,0,null,null,"NO"]
[{"$f":"'REPORTE PMI'!B851","v":0},{"$f":"'REPORTE PMI'!E851","v":0},{"$f":"'REPORTE PMI'!J851","v":0},{"$f":"'REPORTE PMI'!G851","v":0},null,null,null,{"$f":"'REPORTE PMI'!L851","v":0},{"$f":"'REPORTE PMI'!M851","v":0},0,null,null,0,null,null,"NO"]
[{"$f":"'REPORTE PMI'!B852","v":0},{"$f":"'REPORTE PMI'!E852","v":0},{"$f":"'REPORTE PMI'!J852","v":0},{"$f":"'REPORTE PMI'!G852","v":0},null,null,null,{"$f":"'REPORTE PMI'!L852","v":0},{"$f":"'REPORTE PMI'!M852","v":0},0,null,null,0,null,null,"NO"]
[{"$f":"'REPORTE PMI'!B853","v":0},{"$f":"'REPORTE PMI'!E853","v":0},{"$f":"'REPORTE PMI'!J853","v":0},{"$f":"'REPORTE PMI'!G853","v":0},null,null,null,{"$f":"'REPORTE PMI'!L853","v":0},{"$f":"'REPORTE PMI'!M853","v":0},0,null,null,0,null,null,"NO"]
[{"$f":"'REPORTE PMI'!B854","v":0},{"$f":"'REPORTE PMI'!E854","v":0},{"$f":"'REPORTE PMI'!J854","v":0},{"$f":"'REPORTE PMI'!G854","v":0},null,null,null,{"$f":"'REPORTE PMI'!L854","v":0},{"$f":"'REPORTE PMI'!M854","v":0},0,null,null,0,null,null,"NO"]
[{"$f":"'REPORTE PMI'!B855","v":0},{"$f":"'REPORTE PMI'!E855","v":0},{"$f":"'REPORTE PMI'!J855","v":0},{"$f":"'REPORTE PMI'!G855","v":0},null,null,null,{"$f":"'REPORTE PMI'!L855","v":0},{"$f":"'REPORTE PMI'!M855","v":0},0,null,null,0,null,null,"NO"]
[{"$f":"'REPORTE PMI'!B856","v":0},{"$f":"'REPORTE PMI'!E856","v":0},{"$f":"'REPORTE PMI'!J856","v":0},{"$f":"'REPORTE PMI'!G856","v":0},null,null,null,{"$f":"'REPORTE PMI'!L856","v":0},{"$f":"'REPORTE PMI'!M856","v":0},0,null,null,0,null,null,"NO"]
[{"$f":"'REPORTE PMI'!B857","v":0},{"$f":"'REPORTE PMI'!E857","v":0},{"$f":"'REPORTE PMI'!J857","v":0},{"$f":"'REPORTE PMI'!G857","v":0},null,null,null,{"$f":"'REPORTE PMI'!L857","v":0},{"$f":"'REPORTE PMI'!M857","v":0},0,null,null,0,null,null,"NO"]
[{"$f":"'REPORTE PMI'!B858","v":0},{"$f":"'REPORTE PMI'!E858","v":0},{"$f":"'REPORTE PMI'!J858","v":0},{"$f":"'REPORTE PMI'!G858","v":0},null,null,null,{"$f":"'REPORTE PMI'!L858","v":0},{"$f":"'REPORTE PMI'!M858","v":0},0,null,null,0,null,null,"NO"]
[{"$f":"'REPORTE PMI'!B859","v":0},{"$f":"'REPORTE PMI'!E859","v":0},{"$f":"'REPORTE PMI'!J859","v":0},{"$f":"'REPORTE PMI'!G859","v":0},null,null,null,{"$f":"'REPORTE PMI'!L859","v":0},{"$f":"'REPORTE PMI'!M859","v":0},0,null,null,0,null,null,"NO"]
[{"$f":"'REPORTE PMI'!B860","v":0},{"$f":"'REPORTE PMI'!E860","v":0},{"$f":"'REPORTE PMI'!J860","v":0},{"$f":"'REPORTE PMI'!G860","v":0},null,null,null,{"$f":"'REPORTE PMI'!L860","v":0},{"$f":"'REPORTE PMI'!M860","v":0},0,null,null,0,null,null,"NO"]
[{"$f":"'REPORTE PMI'!B861","v":0},{"$f":"'REPORTE PMI'!E861","v":0},{"$f":"'REPORTE PMI'!J861","v":0},{"$f":"'REPORTE PMI'!G861","v":0},null,null,null,{"$f":"'REPORTE PMI'!L861","v":0},{"$f":"'REPORTE PMI'!M861","v":0},0,null,null,0,null,null,"NO"]
[{"$f":"'REPORTE PMI'!B862","v":0},{"$f":"'REPORTE PMI'!E862","v":0},{"$f":"'REPORTE PMI'!J862","v":0},{"$f":"'REPORTE PMI'!G862","v":0},null,null,null,{"$f":"'REPORTE PMI'!L862","v":0},{"$f":"'REPORTE PMI'!M862","v":0},0,null,null,0,null,null,"NO"]
[{"$f":"'REPORTE PMI'!B863","v":0},{"$f":"'REPORTE PMI'!E863","v":0},{"$f":"'REPORTE PMI'!J863","v":0},{"$f":"'REPORTE PMI'!G863","v":0},null,null,null,{"$f":"'REPORTE PMI'!L863","v":0},{"$f":"'REPORTE PMI'!M863","v":0},0,null,null,0,null,null,"NO"]
[{"$f":"'REPORTE PMI'!B864","v":0},{"$f":"'REPORTE PMI'!E864","v":0},{"$f":"'REPORTE PMI'!J864","v":0},{"$f":"'REPORTE PMI'!G864","v":0},null,null,null,{"$f":"'REPORTE PMI'!L864","v":0},{"$f":"'REPORTE PMI'!M864","v":0},0,null,null,0,null,null,"NO"]
[{"$f":"'REPORTE PMI'!B865","v":0},{"$f":"'REPORTE PMI'!E865","v":0},{"$f":"'REPORTE PMI'!J865","v":0},{"$f":"'REPORTE PMI'!G865","v":0},null,null,null,{"$f":"'REPORTE PMI'!L865","v":0},{"$f":"'REPORTE PMI'!M865","v":0},0,null,null,0,null,null,"NO"]
[{"$f":"'REPORTE PMI'!B866","v":0},{"$f":"'REPORTE PMI'!E866","v":0},{"$f":"'REPORTE PMI'!J866","v":0},{"$f":"'REPORTE PMI'!G866","v":0},null,null,null,{"$f":"'REPORTE PMI'!L866","v":0},{"$f":"'REPORTE PMI'!M866","v":0},0,null,null,0,null,null,"NO"]
[{"$f":"'REPORTE PMI'!B867","v":0},{"$f":"'REPORTE PMI'!E867","v":0},{"$f":"'REPORTE PMI'!J867","v":0},{"$f":"'REPORTE PMI'!G867","v":0},null,null,null,{"$f":"'REPORTE PMI'!L867","v":0},{"$f":"'REPORTE PMI'!M867","v":0},0,null,null,0,null,null,"NO"]
[{"$f":"'REPORTE PMI'!B868","v":0},{"$f":"'REPORTE PMI'!E868","v":0},{"$f":"'REPORTE PMI'!J868","v":0},{"$f":"'REPORTE PMI'!G868","v":0},null,null,null,{"$f":"'REPORTE PMI'!L868","v":0},{"$f":"'REPORTE PMI'!M868","v":0},0,null,null,0,null,null,"NO"]
[{"$f":"'REPORTE PMI'!B869","v":0},{"$f":"'REPORTE PMI'!E869","v":0},{"$f":"'REPORTE PMI'!J869","v":0},{"$f":"'REPORTE PMI'!G869","v":0},null,null,null,{"$f":"'REPORTE PMI'!L869","v":0},{"$f":"'REPORTE PMI'!M869","v":0},0,null,null,0,null,null,"NO"]
[{"$f":"'REPORTE PMI'!B870","v":0},{"$f":"'REPORTE PMI'!E870","v":0},{"$f":"'REPORTE PMI'!J870","v":0},{"$f":"'REPORTE PMI'!G870","v":0},null,null,null,{"$f":"'REPORTE PMI'!L870","v":0},{"$f":"'REPORTE PMI'!M870","v":0},0,null,null,0,null,null,"NO"]
[{"$f":"'REPORTE PMI'!B871","v":0},{"$f":"'REPORTE PMI'!E871","v":0},{"$f":"'REPORTE PMI'!J871","v":0},{"$f":"'REPORTE PMI'!G871","v":0},null,null,null,{"$f":"'REPORTE PMI'!L871","v":0},{"$f":"'REPORTE PMI'!M871","v":0},0,null,null,0,null,null,"NO"]
[{"$f":"'REPORTE PMI'!B872","v":0},{"$f":"'REPORTE PMI'!E872","v":0},{"$f":"'REPORTE PMI'!J872","v":0},{"$f":"'REPORTE PMI'!G872","v":0},null,null,null,{"$f":"'REPORTE PMI'!L872","v":0},{"$f":"'REPORTE PMI'!M872","v":0},0,null,null,0,null,null,"NO"]
[{"$f":"'REPORTE PMI'!B873","v":0},{"$f":"'REPORTE PMI'!E873","v":0},{"$f":"'REPORTE PMI'!J873","v":0},{"$f":"'REPORTE PMI'!G873","v":0},null,null,null,{"$f":"'REPORTE PMI'!L873","v":0},{"$f":"'REPORTE PMI'!M873","v":0},0,null,null,0,null,null,"NO"]
[{"$f":"'REPORTE PMI'!B874","v":0},{"$f":"'REPORTE PMI'!E874","v":0},{"$f":"'REPORTE PMI'!J874","v":0},{"$f":"'REPORTE PMI'!G874","v":0},null,null,null,{"$f":"'REPORTE PMI'!L874","v":0},{"$f":"'REPORTE PMI'!M874","v":0},0,null,null,0,null,null,"NO"]
[{"$f":"'REPORTE PMI'!B875","v":0},{"$f":"'REPORTE PMI'!E875","v":0},{"$f":"'REPORTE PMI'!J875","v":0},{"$f":"'REPORTE PMI'!G875","v":0},null,null,null,{"$f":"'REPORTE PMI'!L875","v":0},{"$f":"'REPORTE PMI'!M875","v":0},0,null,null,0,null,null,"NO"]
[{"$f":"'REPORTE PMI'!B876","v":0},{"$f":"'REPORTE PMI'!E876","v":0},{"$f":"'REPORTE PMI'!J876","v":0},{"$f":"'REPORTE PMI'!G876","v":0},null,null,null,{"$f":"'REPORTE PMI'!L876","v":0},{"$f":"'REPORTE PMI'!M876","v":0},0,null,null,0,null,null,"NO"]
[{"$f":"'REPORTE PMI'!B877","v":0},{"$f":"'REPORTE PMI'!E877","v":0},{"$f":"'REPORTE PMI'!J877","v":0},{"$f":"'REPORTE PMI'!G877","v":0},null,null,null,{"$f":"'REPORTE PMI'!L877","v":0},{"$f":"'REPORTE PMI'!M877","v":0},0,null,null,0,null,null,"NO"]
[{"$f":"'REPORTE PMI'!B878","v":0},{"$f":"'REPORTE PMI'!E878","v":0},{"$f":"'REPORTE PMI'!J878","v":0},{"$f":"'REPORTE PMI'!G878","v":0},null,null,null,{"$f":"'REPORTE PMI'!L878","v":0},{"$f":"'REPORTE PMI'!M878","v":0},0,null,null,0,null,null,"NO"]
[{"$f":"'REPORTE PMI'!B879","v":0},{"$f":"'REPORTE PMI'!E879","v":0},{"$f":"'REPORTE PMI'!J879","v":0},{"$f":"'REPORTE PMI'!G879","v":0},null,null,null,{"$f":"'REPORTE PMI'!L879","v":0},{"$f":"'REPORTE PMI'!M879","v":0},0,null,null,0,null,null,"NO"]
[{"$f":"'REPORTE PMI'!B880","v":0},{"$f":"'REPORTE PMI'!E880","v":0},{"$f":"'REPORTE PMI'!J880","v":0},{"$f":"'REPORTE PMI'!G880","v":0},null,null,null,{"$f":"'REPORTE PMI'!L880","v":0},{"$f":"'REPORTE PMI'!M880","v":0},0,null,null,0,null,null,"NO"]
[{"$f":"'REPORTE PMI'!B881","v":0},{"$f":"'REPORTE PMI'!E881","v":0},{"$f":"'REPORTE PMI'!J881","v":0},{"$f":"'REPORTE PMI'!G881","v":0},null,null,null,{"$f":"'REPORTE PMI'!L881","v":0},{"$f":"'REPORTE PMI'!M881","v":0},0,null,null,0,null,null,"NO"]
[{"$f":"'REPORTE PMI'!B882","v":0},{"$f":"'REPORTE PMI'!E882","v":0},{"$f":"'REPORTE PMI'!J882","v":0},{"$f":"'REPORTE PMI'!G882","v":0},null,null,null,{"$f":"'REPORTE PMI'!L882","v":0},{"$f":"'REPORTE PMI'!M882","v":0},0,null,null,0,null,null,"NO"]
[{"$f":"'REPORTE PMI'!B883","v":0},{"$f":"'REPORTE PMI'!E883","v":0},{"$f":"'REPORTE PMI'!J883","v":0},{"$f":"'REPORTE PMI'!G883","v":0},null,null,null,{"$f":"'REPORTE PMI'!L883","v":0},{"$f":"'REPORTE PMI'!M883","v":0},0,null,null,0,null,null,"NO"]
[{"$f":"'REPORTE PMI'!B884","v":0},{"$f":"'REPORTE PMI'!E884","v":0},{"$f":"'REPORTE PMI'!J884","v":0},{"$f":"'REPORTE PMI'!G884","v":0},null,null,null,{"$f":"'REPORTE PMI'!L884","v":0},{"$f":"'REPORTE PMI'!M884","v":0},0,null,null,0,null,null,"NO"]
[{"$f":"'REPORTE PMI'!B885","v":0},{"$f":"'REPORTE PMI'!E885","v":0},{"$f":"'REPORTE PMI'!J885","v":0},{"$f":"'REPORTE PMI'!G885","v":0},null,null,null,{"$f":"'REPORTE PMI'!L885","v":0},{"$f":"'REPORTE PMI'!M885","v":0},0,null,null,0,null,null,"NO"]
[{"$f":"'REPORTE PMI'!B886","v":0},{"$f":"'REPORTE PMI'!E886","v":0},{"$f":"'REPORTE PMI'!J886","v":0},{"$f":"'REPORTE PMI'!G886","v":0},null,null,null,{"$f":"'REPORTE PMI'!L886","v":0},{"$f":"'REPORTE PMI'!M886","v":0},0,null,null,0,null,null,"NO"]
[{"$f":"'REPORTE PMI'!B887","v":0},{"$f":"'REPORTE PMI'!E887","v":0},{"$f":"'REPORTE PMI'!J887","v":0},{"$f":"'REPORTE PMI'!G887","v":0},null,null,null,{"$f":"'REPORTE PMI'!L887","v":0},{"$f":"'REPORTE PMI'!M887","v":0},0,null,null,0,null,null,"NO"]
[{"$f":"'REPORTE PMI'!B888","v":0},{"$f":"'REPORTE PMI'!E888","v":0},{"$f":"'REPORTE PMI'!J888","v":0},{"$f":"'REPORTE PMI'!G888","v":0},null,null,null,{"$f":"'REPORTE PMI'!L888","v":0},{"$f":"'REPORTE PMI'!M888","v":0},0,null,null,0,null,null,"NO"]
[{"$f":"'REPORTE PMI'!B889","v":0},{"$f":"'REPORTE PMI'!E889","v":0},{"$f":"'REPORTE PMI'!J889","v":0},{"$f":"'REPORTE PMI'!G889","v":0},null,null,null,{"$f":"'REPORTE PMI'!L889","v":0},{"$f":"'REPORTE PMI'!M889","v":0},0,null,null,0,null,null,"NO"]
[{"$f":"'REPORTE PMI'!B890","v":0},{"$f":"'REPORTE PMI'!E890","v":0},{"$f":"'REPORTE PMI'!J890","v":0},{"$f":"'REPORTE PMI'!G890","v":0},null,null,null,{"$f":"'REPORTE PMI'!L890","v":0},{"$f":"'REPORTE PMI'!M890","v":0},0,null,null,0,null,null,"NO"]
[{"$f":"'REPORTE PMI'!B891","v":0},{"$f":"'REPORTE PMI'!E891","v":0},{"$f":"'REPORTE PMI'!J891","v":0},{"$f":"'REPORTE PMI'!G891","v":0},null,null,null,{"$f":"'REPORTE PMI'!L891","v":0},{"$f":"'REPORTE PMI'!M891","v":0},0,null,null,0,null,null,"NO"]
[{"$f":"'REPORTE PMI'!B892","v":0},{"$f":"'REPORTE PMI'!E892","v":0},{"$f":"'REPORTE PMI'!J892","v":0},{"$f":"'REPORTE PMI'!G892","v":0},null,null,null,{"$f":"'REPORTE PMI'!L892","v":0},{"$f":"'REPORTE PMI'!M892","v":0},0,null,null,0,null,null,"NO"]
[{"$f":"'REPORTE PMI'!B893","v":0},{"$f":"'REPORTE PMI'!E893","v":0},{"$f":"'REPORTE PMI'!J893","v":0},{"$f":"'REPORTE PMI'!G893","v":0},null,null,null,{"$f":"'REPORTE PMI'!L893","v":0},{"$f":"'REPORTE PMI'!M893","v":0},0,null,null,0,null,null,"NO"]
[{"$f":"'REPORTE PMI'!B894","v":0},{"$f":"'REPORTE PMI'!E894","v":0},{"$f":"'REPORTE PMI'!J894","v":0},{"$f":"'REPORTE PMI'!G894","v":0},null,null,null,{"$f":"'REPORTE PMI'!L894","v":0},{"$f":"'REPORTE PMI'!M894","v":0},0,null,null,0,null,null,"NO"]
[{"$f":"'REPORTE PMI'!B895","v":0},{"$f":"'REPORTE PMI'!E895","v":0},{"$f":"'REPORTE PMI'!J895","v":0},{"$f":"'REPORTE PMI'!G895","v":0},null,null,null,{"$f":"'REPORTE PMI'!L895","v":0},{"$f":"'REPORTE PMI'!M895","v":0},0,null,null,0,null,null,"NO"]
[{"$f":"'REPORTE PMI'!B896","v":0},{"$f":"'REPORTE PMI'!E896","v":0},{"$f":"'REPORTE PMI'!J896","v":0},{"$f":"'REPORTE PMI'!G896","v":0},null,null,null,{"$f":"'REPORTE PMI'!L896","v":0},{"$f":"'REPORTE PMI'!M896","v":0},0,null,null,0,null,null,"NO"]
[{"$f":"'REPORTE PMI'!B897","v":0},{"$f":"'REPORTE PMI'!E897","v":0},{"$f":"'REPORTE PMI'!J897","v":0},{"$f":"'REPORTE PMI'!G897","v":0},null,null,null,{"$f":"'REPORTE PMI'!L897","v":0},{"$f":"'REPORTE PMI'!M897","v":0},0,null,null,0,null,null,"NO"]
[{"$f":"'REPORTE PMI'!B898","v":0},{"$f":"'REPORTE PMI'!E898","v":0},{"$f":"'REPORTE PMI'!J898","v":0},{"$f":"'REPORTE PMI'!G898","v":0},null,null,null,{"$f":"'REPORTE PMI'!L898","v":0},{"$f":"'REPORTE PMI'!M898","v":0},0,null,null,0,null,null,"NO"]
[{"$f":"'REPORTE PMI'!B899","v":0},{"$f":"'REPORTE PMI'!E899","v":0},{"$f":"'REPORTE PMI'!J899","v":0},{"$f":"'REPORTE PMI'!G899","v":0},null,null,null,{"$f":"'REPORTE PMI'!L899","v":0},{"$f":"'REPORTE PMI'!M899","v":0},0,null,null,0,null,null,"NO"]
[{"$f":"'REPORTE PMI'!B900","v":0},{"$f":"'REPORTE PMI'!E900","v":0},{"$f":"'REPORTE PMI'!J900","v":0},{"$f":"'REPORTE PMI'!G900","v":0},null,null,null,{"$f":"'REPORTE PMI'!L900","v":0},{"$f":"'REPORTE PMI'!M900","v":0},{"$f":"IFERROR(I909/H909, 0)","v":0},null,null,{"$f":"H909-I909","v":0},null,null,{"$f":"IF(E909=\"SI\",IF(J909>0%,IF(K909=\"SI\",IF(L909=\"NO\",IF(N909=\"SI\",IF(O909=\"NO\",\"SI\",\"NO\"),\"NO\"),\"NO\"),\"NO\"),\"NO\"),\"NO\")","v":"NO"}]
[{"$f":"'REPORTE PMI'!B901","v":0},{"$f":"'REPORTE PMI'!E901","v":0},{"$f":"'REPORTE PMI'!J901","v":0},{"$f":"'REPORTE PMI'!G901","v":0},null,null,null,{"$f":"'REPORTE PMI'!L901","v":0},{"$f":"'REPORTE PMI'!M901","v":0},0,null,null,0,null,null,"NO"]
[{"$f":"'REPORTE PMI'!B902","v":0},{"$f":"'REPORTE PMI'!E902","v":0},{"$f":"'REPORTE PMI'!J902","v":0},{"$f":"'REPORTE PMI'!G902","v":0},null,null,null,{"$f":"'REPORTE PMI'!L902","v":0},{"$f":"'REPORTE PMI'!M902","v":0},0,null,null,0,null,null,"NO"]
[{"$f":"'REPORTE PMI'!B903","v":0},{"$f":"'REPORTE PMI'!E903","v":0},{"$f":"'REPORTE PMI'!J903","v":0},{"$f":"'REPORTE PMI'!G903","v":0},null,null,null,{"$f":"'REPORTE PMI'!L903","v":0},{"$f":"'REPORTE PMI'!M903","v":0},0,null,null,0,null,null,"NO"]
[{"$f":"'REPORTE PMI'!B904","v":0},{"$f":"'REPORTE PMI'!E904","v":0},{"$f":"'REPORTE PMI'!J904","v":0},{"$f":"'REPORTE PMI'!G904","v":0},null,null,null,{"$f":"'REPORTE PMI'!L904","v":0},{"$f":"'REPORTE PMI'!M904","v":0},0,null,null,0,null,null,"NO"]
[{"$f":"'REPORTE PMI'!B905","v":0},{"$f":"'REPORTE PMI'!E905","v":0},{"$f":"'REPORTE PMI'!J905","v":0},{"$f":"'REPORTE PMI'!G905","v":0},null,null,null,{"$f":"'REPORTE PMI'!L905","v":0},{"$f":"'REPORTE PMI'!M905","v":0},0,null,null,0,null,null,"NO"]
[{"$f":"'REPORTE PMI'!B906","v":0},{"$f":"'REPORTE PMI'!E906","v":0},{"$f":"'REPORTE PMI'!J906","v":0},{"$f":"'REPORTE PMI'!G906","v":0},null,null,null,{"$f":"'REPORTE PMI'!L906","v":0},{"$f":"'REPORTE PMI'!M906","v":0},0,null,null,0,null,null,"NO"]
[{"$f":"'REPORTE PMI'!B907","v":0},{"$f":"'REPORTE PMI'!E907","v":0},{"$f":"'REPORTE PMI'!J907","v":0},{"$f":"'REPORTE PMI'!G907","v":0},null,null,null,{"$f":"'REPORTE PMI'!L907","v":0},{"$f":"'REPORTE PMI'!M907","v":0},0,null,null,0,null,null,"NO"]
[{"$f":"'REPORTE PMI'!B908","v":0},{"$f":"'REPORTE PMI'!E908","v":0},{"$f":"'REPORTE PMI'!J908","v":0},{"$f":"'REPORTE PMI'!G908","v":0},null,null,null,{"$f":"'REPORTE PMI'!L908","v":0},{"$f":"'REPORTE PMI'!M908","v":0},0,null,null,0,null,null,"NO"]
[{"$f":"'REPORTE PMI'!B909","v":0},{"$f":"'REPORTE PMI'!E909","v":0},{"$f":"'REPORTE PMI'!J909","v":0},{"$f":"'REPORTE PMI'!G909","v":0},null,null,null,{"$f":"'REPORTE PMI'!L909","v":0},{"$f":"'REPORTE PMI'!M909","v":0},0,null,null,0,null,null,"NO"]
[{"$f":"'REPORTE PMI'!B910","v":0},{"$f":"'REPORTE PMI'!E910","v":0},{"$f":"'REPORTE PMI'!J910","v":0},{"$f":"'REPORTE PMI'!G910","v":0},null,null,null,{"$f":"'REPORTE PMI'!L910","v":0},{"$f":"'REPORTE PMI'!M910","v":0},0,null,null,0,null,null,"NO"]
[{"$f":"'REPORTE PMI'!B911","v":0},{"$f":"'REPORTE PMI'!E911","v":0},{"$f":"'REPORTE PMI'!J911","v":0},{"$f":"'REPORTE PMI'!G911","v":0},null,null,null,{"$f":"'REPORTE PMI'!L911","v":0},{"$f":"'REPORTE PMI'!M911","v":0},0,null,null,0,null,null,"NO"]
[{"$f":"'REPORTE PMI'!B912","v":0},{"$f":"'REPORTE PMI'!E912","v":0},{"$f":"'REPORTE PMI'!J912","v":0},{"$f":"'REPORTE PMI'!G912","v":0},null,null,null,{"$f":"'REPORTE PMI'!L912","v":0},{"$f":"'REPORTE PMI'!M912","v":0},0,null,null,0,null,null,"NO"]
[{"$f":"'REPORTE PMI'!B913","v":0},{"$f":"'REPORTE PMI'!E913","v":0},{"$f":"'REPORTE PMI'!J913","v":0},{"$f":"'REPORTE PMI'!G913","v":0},null,null,null,{"$f":"'REPORTE PMI'!L913","v":0},{"$f":"'REPORTE PMI'!M913","v":0},0,null,null,0,null,null,"NO"]
[{"$f":"'REPORTE PMI'!B914","v":0},{"$f":"'REPORTE PMI'!E914","v":0},{"$f":"'REPORTE PMI'!J914","v":0},{"$f":"'REPORTE PMI'!G914","v":0},null,null,null,{"$f":"'REPORTE PMI'!L914","v":0},{"$f":"'REPORTE PMI'!M914","v":0},0,null,null,0,null,null,"NO"]
[{"$f":"'REPORTE PMI'!B915","v":0},{"$f":"'REPORTE PMI'!E915","v":0},{"$f":"'REPORTE PMI'!J915","v":0},{"$f":"'REPORTE PMI'!G915","v":0},null,null,null,{"$f":"'REPORTE PMI'!L915","v":0},{"$f":"'REPORTE PMI'!M915","v":0},0,null,null,0,null,null,"NO"]
[{"$f":"'REPORTE PMI'!B916","v":0},{"$f":"'REPORTE PMI'!E916","v":0},{"$f":"'REPORTE PMI'!J916","v":0},{"$f":"'REPORTE PMI'!G916","v":0},null,null,null,{"$f":"'REPORTE PMI'!L916","v":0},{"$f":"'REPORTE PMI'!M916","v":0},0,null,null,0,null,null,"NO"]
[{"$f":"'REPORTE PMI'!B917","v":0},{"$f":"'REPORTE PMI'!E917","v":0},{"$f":"'REPORTE PMI'!J917","v":0},{"$f":"'REPORTE PMI'!G917","v":0},null,null,null,{"$f":"'REPORTE PMI'!L917","v":0},{"$f":"'REPORTE PMI'!M917","v":0},0,null,null,0,null,null,"NO"]
[{"$f":"'REPORTE PMI'!B918","v":0},{"$f":"'REPORTE PMI'!E918","v":0},{"$f":"'REPORTE PMI'!J918","v":0},{"$f":"'REPORTE PMI'!G918","v":0},null,null,null,{"$f":"'REPORTE PMI'!L918","v":0},{"$f":"'REPORTE PMI'!M918","v":0},0,null,null,0,null,null,"NO"]
[{"$f":"'REPORTE PMI'!B919","v":0},{"$f":"'REPORTE PMI'!E919","v":0},{"$f":"'REPORTE PMI'!J919","v":0},{"$f":"'REPORTE PMI'!G919","v":0},null,null,null,{"$f":"'REPORTE PMI'!L919","v":0},{"$f":"'REPORTE PMI'!M919","v":0},0,null,null,0,null,null,"NO"]
[{"$f":"'REPORTE PMI'!B920","v":0},{"$f":"'REPORTE PMI'!E920","v":0},{"$f":"'REPORTE PMI'!J920","v":0},{"$f":"'REPORTE PMI'!G920","v":0},null,null,null,{"$f":"'REPORTE PMI'!L920","v":0},{"$f":"'REPORTE PMI'!M920","v":0},0,null,null,0,null,null,"NO"]
[{"$f":"'REPORTE PMI'!B921","v":0},{"$f":"'REPORTE PMI'!E921","v":0},{"$f":"'REPORTE PMI'!J921","v":0},{"$f":"'REPORTE PMI'!G921","v":0},null,null,null,{"$f":"'REPORTE PMI'!L921","v":0},{"$f":"'REPORTE PMI'!M921","v":0},0,null,null,0,null,null,"NO"]
[{"$f":"'REPORTE PMI'!B922","v":0},{"$f":"'REPORTE PMI'!E922","v":0},{"$f":"'REPORTE PMI'!J922","v":0},{"$f":"'REPORTE PMI'!G922","v":0},null,null,null,{"$f":"'REPORTE PMI'!L922","v":0},{"$f":"'REPORTE PMI'!M922","v":0},0,null,null,0,null,null,"NO"]
[{"$f":"'REPORTE PMI'!B923","v":0},{"$f":"'REPORTE PMI'!E923","v":0},{"$f":"'REPORTE PMI'!J923","v":0},{"$f":"'REPORTE PMI'!G923","v":0},null,null,null,{"$f":"'REPORTE PMI'!L923","v":0},{"$f":"'REPORTE PMI'!M923","v":0},0,null,null,0,null,null,"NO"]
[{"$f":"'REPORTE PMI'!B924","v":0},{"$f":"'REPORTE PMI'!E924","v":0},{"$f":"'REPORTE PMI'!J924","v":0},{"$f":"'REPORTE PMI'!G924","v":0},null,null,null,{"$f":"'REPORTE PMI'!L924","v":0},{"$f":"'REPORTE PMI'!M924","v":0},0,null,null,0,null,null,"NO"]
[{"$f":"'REPORTE PMI'!B925","v":0},{"$f":"'REPORTE PMI'!E925","v":0},{"$f":"'REPORTE PMI'!J925","v":0},{"$f":"'REPORTE PMI'!G925","v":0},null,null,null,{"$f":"'REPORTE PMI'!L925","v":0},{"$f":"'REPORTE PMI'!M925","v":0},0,null,null,0,null,null,"NO"]
[{"$f":"'REPORTE PMI'!B926","v":0},{"$f":"'REPORTE PMI'!E926","v":0},{"$f":"'REPORTE PMI'!J926","v":0},{"$f":"'REPORTE PMI'!G926","v":0},null,null,null,{"$f":"'REPORTE PMI'!L926","v":0},{"$f":"'REPORTE PMI'!M926","v":0},0,null,null,0,null,null,"NO"]
[{"$f":"'REPORTE PMI'!B927","v":0},{"$f":"'REPORTE PMI'!E927","v":0},{"$f":"'REPORTE PMI'!J927","v":0},{"$f":"'REPORTE PMI'!G927","v":0},null,null,null,{"$f":"'REPORTE PMI'!L927","v":0},{"$f":"'REPORTE PMI'!M927","v":0},0,null,null,0,null,null,"NO"]
[{"$f":"'REPORTE PMI'!B928","v":0},{"$f":"'REPORTE PMI'!E928","v":0},{"$f":"'REPORTE PMI'!J928","v":0},{"$f":"'REPORTE PMI'!G928","v":0},null,null,null,{"$f":"'REPORTE PMI'!L928","v":0},{"$f":"'REPORTE PMI'!M928","v":0},0,null,null,0,null,null,"NO"]
[{"$f":"'REPORTE PMI'!B929","v":0},{"$f":"'REPORTE PMI'!E929","v":0},{"$f":"'REPORTE PMI'!J929","v":0},{"$f":"'REPORTE PMI'!G929","v":0},null,null,null,{"$f":"'REPORTE PMI'!L929","v":0},{"$f":"'REPORTE PMI'!M929","v":0},0,null,null,0,null,null,"NO"]
[{"$f":"'REPORTE PMI'!B930","v":0},{"$f":"'REPORTE PMI'!E930","v":0},{"$f":"'REPORTE PMI'!J930","v":0},{"$f":"'REPORTE PMI'!G930","v":0},null,null,null,{"$f":"'REPORTE PMI'!L930","v":0},{"$f":"'REPORTE PMI'!M930","v":0},0,null,null,0,null,null,"NO"]
[{"$f":"'REPORTE PMI'!B931","v":0},{"$f":"'REPORTE PMI'!E931","v":0},{"$f":"'REPORTE PMI'!J931","v":0},{"$f":"'REPORTE PMI'!G931","v":0},null,null,null,{"$f":"'REPORTE PMI'!L931","v":0},{"$f":"'REPORTE PMI'!M931","v":0},0,null,null,0,null,null,"NO"]
[{"$f":"'REPORTE PMI'!B932","v":0},{"$f":"'REPORTE PMI'!E932","v":0},{"$f":"'REPORTE PMI'!J932","v":0},{"$f":"'REPORTE PMI'!G932","v":0},null,null,null,{"$f":"'REPORTE PMI'!L932","v":0},{"$f":"'REPORTE PMI'!M932","v":0},0,null,null,0,null,null,"NO"]
[{"$f":"'REPORTE PMI'!B933","v":0},{"$f":"'REPORTE PMI'!E933","v":0},{"$f":"'REPORTE PMI'!J933","v":0},{"$f":"'REPORTE PMI'!G933","v":0},null,null,null,{"$f":"'REPORTE PMI'!L933","v":0},{"$f":"'REPORTE PMI'!M933","v":0},0,null,null,0,null,null,"NO"]
[{"$f":"'REPORTE PMI'!B934","v":0},{"$f":"'REPORTE PMI'!E934","v":0},{"$f":"'REPORTE PMI'!J934","v":0},{"$f":"'REPORTE PMI'!G934","v":0},null,null,null,{"$f":"'REPORTE PMI'!L934","v":0},{"$f":"'REPORTE PMI'!M934","v":0},0,null,null,0,null,null,"NO"]
[{"$f":"'REPORTE PMI'!B935","v":0},{"$f":"'REPORTE PMI'!E935","v":0},{"$f":"'REPORTE PMI'!J935","v":0},{"$f":"'REPORTE PMI'!G935","v":0},null,null,null,{"$f":"'REPORTE PMI'!L935","v":0},{"$f":"'REPORTE PMI'!M935","v":0},0,null,null,0,null,null,"NO"]
[{"$f":"'REPORTE PMI'!B936","v":0},{"$f":"'REPORTE PMI'!E936","v":0},{"$f":"'REPORTE PMI'!J936","v":0},{"$f":"'REPORTE PMI'!G936","v":0},null,null,null,{"$f":"'REPORTE PMI'!L936","v":0},{"$f":"'REPORTE PMI'!M936","v":0},0,null,null,0,null,null,"NO"]
[{"$f":"'REPORTE PMI'!B937","v":0},{"$f":"'REPORTE PMI'!E937","v":0},{"$f":"'REPORTE PMI'!J937","v":0},{"$f":"'REPORTE PMI'!G937","v":0},null,null,null,{"$f":"'REPORTE PMI'!L937","v":0},{"$f":"'REPORTE PMI'!M937","v":0},0,null,null,0,null,null,"NO"]
[{"$f":"'REPORTE PMI'!B938","v":0},{"$f":"'REPORTE PMI'!E938","v":0},{"$f":"'REPORTE PMI'!J938","v":0},{"$f":"'REPORTE PMI'!G938","v":0},null,null,null,{"$f":"'REPORTE PMI'!L938","v":0},{"$f":"'REPORTE PMI'!M938","v":0},0,null,null,0,null,null,"NO"]
[{"$f":"'REPORTE PMI'!B939","v":0},{"$f":"'REPORTE PMI'!E939","v":0},{"$f":"'REPORTE PMI'!J939","v":0},{"$f":"'REPORTE PMI'!G939","v":0},null,null,null,{"$f":"'REPORTE PMI'!L939","v":0},{"$f":"'REPORTE PMI'!M939","v":0},0,null,null,0,null,null,"NO"]
[{"$f":"'REPORTE PMI'!B940","v":0},{"$f":"'REPORTE PMI'!E940","v":0},{"$f":"'REPORTE PMI'!J940","v":0},{"$f":"'REPORTE PMI'!G940","v":0},null,null,null,{"$f":"'REPORTE PMI'!L940","v":0},{"$f":"'REPORTE PMI'!M940","v":0},0,null,null,0,null,null,"NO"]
[{"$f":"'REPORTE PMI'!B941","v":0},{"$f":"'REPORTE PMI'!E941","v":0},{"$f":"'REPORTE PMI'!J941","v":0},{"$f":"'REPORTE PMI'!G941","v":0},null,null,null,{"$f":"'REPORTE PMI'!L941","v":0},{"$f":"'REPORTE PMI'!M941","v":0},0,null,null,0,null,null,"NO"]
[{"$f":"'REPORTE PMI'!B942","v":0},{"$f":"'REPORTE PMI'!E942","v":0},{"$f":"'REPORTE PMI'!J942","v":0},{"$f":"'REPORTE PMI'!G942","v":0},null,null,null,{"$f":"'REPORTE PMI'!L942","v":0},{"$f":"'REPORTE PMI'!M942","v":0},0,null,null,0,null,null,"NO"]
[{"$f":"'REPORTE PMI'!B943","v":0},{"$f":"'REPORTE PMI'!E943","v":0},{"$f":"'REPORTE PMI'!J943","v":0},{"$f":"'REPORTE PMI'!G943","v":0},null,null,null,{"$f":"'REPORTE PMI'!L943","v":0},{"$f":"'REPORTE PMI'!M943","v":0},0,null,null,0,null,null,"NO"]
[{"$f":"'REPORTE PMI'!B944","v":0},{"$f":"'REPORTE PMI'!E944","v":0},{"$f":"'REPORTE PMI'!J944","v":0},{"$f":"'REPORTE PMI'!G944","v":0},null,null,null,{"$f":"'REPORTE PMI'!L944","v":0},{"$f":"'REPORTE PMI'!M944","v":0},0,null,null,0,null,null,"NO"]
[{"$f":"'REPORTE PMI'!B945","v":0},{"$f":"'REPORTE PMI'!E945","v":0},{"$f":"'REPORTE PMI'!J945","v":0},{"$f":"'REPORTE PMI'!G945","v":0},null,null,null,{"$f":"'REPORTE PMI'!L945","v":0},{"$f":"'REPORTE PMI'!M945","v":0},0,null,null,0,null,null,"NO"]
[{"$f":"'REPORTE PMI'!B946","v":0},{"$f":"'REPORTE PMI'!E946","v":0},{"$f":"'REPORTE PMI'!J946","v":0},{"$f":"'REPORTE PMI'!G946","v":0},null,null,null,{"$f":"'REPORTE PMI'!L946","v":0},{"$f":"'REPORTE PMI'!M946","v":0},0,null,null,0,null,null,"NO"]
[{"$f":"'REPORTE PMI'!B947","v":0},{"$f":"'REPORTE PMI'!E947","v":0},{"$f":"'REPORTE PMI'!J947","v":0},{"$f":"'REPORTE PMI'!G947","v":0},null,null,null,{"$f":"'REPORTE PMI'!L947","v":0},{"$f":"'REPORTE PMI'!M947","v":0},0,null,null,0,null,null,"NO"]
[{"$f":"'REPORTE PMI'!B948","v":0},{"$f":"'REPORTE PMI'!E948","v":0},{"$f":"'REPORTE PMI'!J948","v":0},{"$f":"'REPORTE PMI'!G948","v":0},null,null,null,{"$f":"'REPORTE PMI'!L948","v":0},{"$f":"'REPORTE PMI'!M948","v":0},0,null,null,0,null,null,"NO"]
[{"$f":"'REPORTE PMI'!B949","v":0},{"$f":"'REPORTE PMI'!E949","v":0},{"$f":"'REPORTE PMI'!J949","v":0},{"$f":"'REPORTE PMI'!G949","v":0},null,null,null,{"$f":"'REPORTE PMI'!L949","v":0},{"$f":"'REPORTE PMI'!M949","v":0},0,null,null,0,null,null,"NO"]
[{"$f":"'REPORTE PMI'!B950","v":0},{"$f":"'REPORTE PMI'!E950","v":0},{"$f":"'REPORTE PMI'!J950","v":0},{"$f":"'REPORTE PMI'!G950","v":0},null,null,null,{"$f":"'REPORTE PMI'!L950","v":0},{"$f":"'REPORTE PMI'!M950","v":0},0,null,null,0,null,null,"NO"]
[{"$f":"'REPORTE PMI'!B951","v":0},{"$f":"'REPORTE PMI'!E951","v":0},{"$f":"'REPORTE PMI'!J951","v":0},{"$f":"'REPORTE PMI'!G951","v":0},null,null,null,{"$f":"'REPORTE PMI'!L951","v":0},{"$f":"'REPORTE PMI'!M951","v":0},0,null,null,0,null,null,"NO"]
[{"$f":"'REPORTE PMI'!B952","v":0},{"$f":"'REPORTE PMI'!E952","v":0},{"$f":"'REPORTE PMI'!J952","v":0},{"$f":"'REPORTE PMI'!G952","v":0},null,null,null,{"$f":"'REPORTE PMI'!L952","v":0},{"$f":"'REPORTE PMI'!M952","v":0},0,null,null,0,null,null,"NO"]
[{"$f":"'REPORTE PMI'!B953","v":0},{"$f":"'REPORTE PMI'!E953","v":0},{"$f":"'REPORTE PMI'!J953","v":0},{"$f":"'REPORTE PMI'!G953","v":0},null,null,null,{"$f":"'REPORTE PMI'!L953","v":0},{"$f":"'REPORTE PMI'!M953","v":0},0,null,null,0,null,null,"NO"]
[{"$f":"'REPORTE PMI'!B954","v":0},{"$f":"'REPORTE PMI'!E954","v":0},{"$f":"'REPORTE PMI'!J954","v":0},{"$f":"'REPORTE PMI'!G954","v":0},null,null,null,{"$f":"'REPORTE PMI'!L954","v":0},{"$f":"'REPORTE PMI'!M954","v":0},0,null,null,0,null,null,"NO"]
[{"$f":"'REPORTE PMI'!B955","v":0},{"$f":"'REPORTE PMI'!E955","v":0},{"$f":"'REPORTE PMI'!J955","v":0},{"$f":"'REPORTE PMI'!G955","v":0},null,null,null,{"$f":"'REPORTE PMI'!L955","v":0},{"$f":"'REPORTE PMI'!M955","v":0},0,null,null,0,null,null,"NO"]
[{"$f":"'REPORTE PMI'!B956","v":0},{"$f":"'REPORTE PMI'!E956","v":0},{"$f":"'REPORTE PMI'!J956","v":0},{"$f":"'REPORTE PMI'!G956","v":0},null,null,null,{"$f":"'REPORTE PMI'!L956","v":0},{"$f":"'REPORTE PMI'!M956","v":0},0,null,null,0,null,null,"NO"]
[{"$f":"'REPORTE PMI'!B957","v":0},{"$f":"'REPORTE PMI'!E957","v":0},{"$f":"'REPORTE PMI'!J957","v":0},{"$f":"'REPORTE PMI'!G957","v":0},null,null,null,{"$f":"'REPORTE PMI'!L957","v":0},{"$f":"'REPORTE PMI'!M957","v":0},0,null,null,0,null,null,"NO"]
[{"$f":"'REPORTE PMI'!B958","v":0},{"$f":"'REPORTE PMI'!E958","v":0},{"$f":"'REPORTE PMI'!J958","v":0},{"$f":"'REPORTE PMI'!G958","v":0},null,null,null,{"$f":"'REPORTE PMI'!L958","v":0},{"$f":"'REPORTE PMI'!M958","v":0},0,null,null,0,null,null,"NO"]
[{"$f":"'REPORTE PMI'!B959","v":0},{"$f":"'REPORTE PMI'!E959","v":0},{"$f":"'REPORTE PMI'!J959","v":0},{"$f":"'REPORTE PMI'!G959","v":0},null,null,null,{"$f":"'REPORTE PMI'!L959","v":0},{"$f":"'REPORTE PMI'!M959","v":0},0,null,null,0,null,null,"NO"]
[{"$f":"'REPORTE PMI'!B960","v":0},{"$f":"'REPORTE PMI'!E960","v":0},{"$f":"'REPORTE PMI'!J960","v":0},{"$f":"'REPORTE PMI'!G960","v":0},null,null,null,{"$f":"'REPORTE PMI'!L960","v":0},{"$f":"'REPORTE PMI'!M960","v":0},0,null,null,0,null,null,"NO"]
[{"$f":"'REPORTE PMI'!B961","v":0},{"$f":"'REPORTE PMI'!E961","v":0},{"$f":"'REPORTE PMI'!J961","v":0},{"$f":"'REPORTE PMI'!G961","v":0},null,null,null,{"$f":"'REPORTE PMI'!L961","v":0},{"$f":"'REPORTE PMI'!M961","v":0},0,null,null,0,null,null,"NO"]
[{"$f":"'REPORTE PMI'!B962","v":0},{"$f":"'REPORTE PMI'!E962","v":0},{"$f":"'REPORTE PMI'!J962","v":0},{"$f":"'REPORTE PMI'!G962","v":0},null,null,null,{"$f":"'REPORTE PMI'!L962","v":0},{"$f":"'REPORTE PMI'!M962","v":0},0,null,null,0,null,null,"NO"]
[{"$f":"'REPORTE PMI'!B963","v":0},{"$f":"'REPORTE PMI'!E963","v":0},{"$f":"'REPORTE PMI'!J963","v":0},{"$f":"'REPORTE PMI'!G963","v":0},null,null,null,{"$f":"'REPORTE PMI'!L963","v":0},{"$f":"'REPORTE PMI'!M963","v":0},0,null,null,0,null,null,"NO"]
[{"$f":"'REPORTE PMI'!B964","v":0},{"$f":"'REPORTE PMI'!E964","v":0},{"$f":"'REPORTE PMI'!J964","v":0},{"$f":"'REPORTE PMI'!G964","v":0},null,null,null,{"$f":"'REPORTE PMI'!L964","v":0},{"$f":"'REPORTE PMI'!M964","v":0},{"$f":"IFERROR(I973/H973, 0)","v":0},null,null,{"$f":"H973-I973","v":0},null,null,{"$f":"IF(E973=\"SI\",IF(J973>0%,IF(K973=\"SI\",IF(L973=\"NO\",IF(N973=\"SI\",IF(O973=\"NO\",\"SI\",\"NO\"),\"NO\"),\"NO\"),\"NO\"),\"NO\"),\"NO\")","v":"NO"}]
[{"$f":"'REPORTE PMI'!B965","v":0},{"$f":"'REPORTE PMI'!E965","v":0},{"$f":"'REPORTE PMI'!J965","v":0},{"$f":"'REPORTE PMI'!G965","v":0},null,null,null,{"$f":"'REPORTE PMI'!L965","v":0},{"$f":"'REPORTE PMI'!M965","v":0},0,null,null,0,null,null,"NO"]
[{"$f":"'REPORTE PMI'!B966","v":0},{"$f":"'REPORTE PMI'!E966","v":0},{"$f":"'REPORTE PMI'!J966","v":0},{"$f":"'REPORTE PMI'!G966","v":0},null,null,null,{"$f":"'REPORTE PMI'!L966","v":0},{"$f":"'REPORTE PMI'!M966","v":0},0,null,null,0,null,null,"NO"]
[{"$f":"'REPORTE PMI'!B967","v":0},{"$f":"'REPORTE PMI'!E967","v":0},{"$f":"'REPORTE PMI'!J967","v":0},{"$f":"'REPORTE PMI'!G967","v":0},null,null,null,{"$f":"'REPORTE PMI'!L967","v":0},{"$f":"'REPORTE PMI'!M967","v":0},0,null,null,0,null,null,"NO"]
[{"$f":"'REPORTE PMI'!B968","v":0},{"$f":"'REPORTE PMI'!E968","v":0},{"$f":"'REPORTE PMI'!J968","v":0},{"$f":"'REPORTE PMI'!G968","v":0},null,null,null,{"$f":"'REPORTE PMI'!L968","v":0},{"$f":"'REPORTE PMI'!M968","v":0},0,null,null,0,null,null,"NO"]
[{"$f":"'REPORTE PMI'!B969","v":0},{"$f":"'REPORTE PMI'!E969","v":0},{"$f":"'REPORTE PMI'!J969","v":0},{"$f":"'REPORTE PMI'!G969","v":0},null,null,null,{"$f":"'REPORTE PMI'!L969","v":0},{"$f":"'REPORTE PMI'!M969","v":0},0,null,null,0,null,null,"NO"]
[{"$f":"'REPORTE PMI'!B970","v":0},{"$f":"'REPORTE PMI'!E970","v":0},{"$f":"'REPORTE PMI'!J970","v":0},{"$f":"'REPORTE PMI'!G970","v":0},null,null,null,{"$f":"'REPORTE PMI'!L970","v":0},{"$f":"'REPORTE PMI'!M970","v":0},0,null,null,0,null,null,"NO"]
[{"$f":"'REPORTE PMI'!B971","v":0},{"$f":"'REPORTE PMI'!E971","v":0},{"$f":"'REPORTE PMI'!J971","v":0},{"$f":"'REPORTE PMI'!G971","v":0},null,null,null,{"$f":"'REPORTE PMI'!L971","v":0},{"$f":"'REPORTE PMI'!M971","v":0},0,null,null,0,null,null,"NO"]
[{"$f":"'REPORTE PMI'!B972","v":0},{"$f":"'REPORTE PMI'!E972","v":0},{"$f":"'REPORTE PMI'!J972","v":0},{"$f":"'REPORTE PMI'!G972","v":0},null,null,null,{"$f":"'REPORTE PMI'!L972","v":0},{"$f":"'REPORTE PMI'!M972","v":0},0,null,null,0,null,null,"NO"]
[{"$f":"'REPORTE PMI'!B973","v":0},{"$f":"'REPORTE PMI'!E973","v":0},{"$f":"'REPORTE PMI'!J973","v":0},{"$f":"'REPORTE PMI'!G973","v":0},null,null,null,{"$f":"'REPORTE PMI'!L973","v":0},{"$f":"'REPORTE PMI'!M973","v":0},0,null,null,0,null,null,"NO"]
[{"$f":"'REPORTE PMI'!B974","v":0},{"$f":"'REPORTE PMI'!E974","v":0},{"$f":"'REPORTE PMI'!J974","v":0},{"$f":"'REPORTE PMI'!G974","v":0},null,null,null,{"$f":"'REPORTE PMI'!L974","v":0},{"$f":"'REPORTE PMI'!M974","v":0},0,null,null,0,null,null,"NO"]
[{"$f":"'REPORTE PMI'!B975","v":0},{"$f":"'REPORTE PMI'!E975","v":0},{"$f":"'REPORTE PMI'!J975","v":0},{"$f":"'REPORTE PMI'!G975","v":0},null,null,null,{"$f":"'REPORTE PMI'!L975","v":0},{"$f":"'REPORTE PMI'!M975","v":0},0,null,null,0,null,null,"NO"]
[{"$f":"'REPORTE PMI'!B976","v":0},{"$f":"'REPORTE PMI'!E976","v":0},{"$f":"'REPORTE PMI'!J976","v":0},{"$f":"'REPORTE PMI'!G976","v":0},null,null,null,{"$f":"'REPORTE PMI'!L976","v":0},{"$f":"'REPORTE PMI'!M976","v":0},0,null,null,0,null,null,"NO"]
[{"$f":"'REPORTE PMI'!B977","v":0},{"$f":"'REPORTE PMI'!E977","v":0},{"$f":"'REPORTE PMI'!J977","v":0},{"$f":"'REPORTE PMI'!G977","v":0},null,null,null,{"$f":"'REPORTE PMI'!L977","v":0},{"$f":"'REPORTE PMI'!M977","v":0},0,null,null,0,null,null,"NO"]
[{"$f":"'REPORTE PMI'!B978","v":0},{"$f":"'REPORTE PMI'!E978","v":0},{"$f":"'REPORTE PMI'!J978","v":0},{"$f":"'REPORTE PMI'!G978","v":0},null,null,null,{"$f":"'REPORTE PMI'!L978","v":0},{"$f":"'REPORTE PMI'!M978","v":0},0,null,null,0,null,null,"NO"]
[{"$f":"'REPORTE PMI'!B979","v":0},{"$f":"'REPORTE PMI'!E979","v":0},{"$f":"'REPORTE PMI'!J979","v":0},{"$f":"'REPORTE PMI'!G979","v":0},null,null,null,{"$f":"'REPORTE PMI'!L979","v":0},{"$f":"'REPORTE PMI'!M979","v":0},0,null,null,0,null,null,"NO"]
[{"$f":"'REPORTE PMI'!B980","v":0},{"$f":"'REPORTE PMI'!E980","v":0},{"$f":"'REPORTE PMI'!J980","v":0},{"$f":"'REPORTE PMI'!G980","v":0},null,null,null,{"$f":"'REPORTE PMI'!L980","v":0},{"$f":"'REPORTE PMI'!M980","v":0},0,null,null,0,null,null,"NO"]
[{"$f":"'REPORTE PMI'!B981","v":0},{"$f":"'REPORTE PMI'!E981","v":0},{"$f":"'REPORTE PMI'!J981","v":0},{"$f":"'REPORTE PMI'!G981","v":0},null,null,null,{"$f":"'REPORTE PMI'!L981","v":0},{"$f":"'REPORTE PMI'!M981","v":0},0,null,null,0,null,null,"NO"]
[{"$f":"'REPORTE PMI'!B982","v":0},{"$f":"'REPORTE PMI'!E982","v":0},{"$f":"'REPORTE PMI'!J982","v":0},{"$f":"'REPORTE PMI'!G982","v":0},null,null,null,{"$f":"'REPORTE PMI'!L982","v":0},{"$f":"'REPORTE PMI'!M982","v":0},0,null,null,0,null,null,"NO"]
[{"$f":"'REPORTE PMI'!B983","v":0},{"$f":"'REPORTE PMI'!E983","v":0},{"$f":"'REPORTE PMI'!J983","v":0},{"$f":"'REPORTE PMI'!G983","v":0},null,null,null,{"$f":"'REPORTE PMI'!L983","v":0},{"$f":"'REPORTE PMI'!M983","v":0},0,null,null,0,null,null,"NO"]
[{"$f":"'REPORTE PMI'!B984","v":0},{"$f":"'REPORTE PMI'!E984","v":0},{"$f":"'REPORTE PMI'!J984","v":0},{"$f":"'REPORTE PMI'!G984","v":0},null,null,null,{"$f":"'REPORTE PMI'!L984","v":0},{"$f":"'REPORTE PMI'!M984","v":0},0,null,null,0,null,null,"NO"]
[{"$f":"'REPORTE PMI'!B985","v":0},{"$f":"'REPORTE PMI'!E985","v":0},{"$f":"'REPORTE PMI'!J985","v":0},{"$f":"'REPORTE PMI'!G985","v":0},null,null,null,{"$f":"'REPORTE PMI'!L985","v":0},{"$f":"'REPORTE PMI'!M985","v":0},0,null,null,0,null,null,"NO"]
[{"$f":"'REPORTE PMI'!B986","v":0},{"$f":"'REPORTE PMI'!E986","v":0},{"$f":"'REPORTE PMI'!J986","v":0},{"$f":"'REPORTE PMI'!G986","v":0},null,null,null,{"$f":"'REPORTE PMI'!L986","v":0},{"$f":"'REPORTE PMI'!M986","v":0},0,null,null,0,null,null,"NO"]
[{"$f":"'REPORTE PMI'!B987","v":0},{"$f":"'REPORTE PMI'!E987","v":0},{"$f":"'REPORTE PMI'!J987","v":0},{"$f":"'REPORTE PMI'!G987","v":0},null,null,null,{"$f":"'REPORTE PMI'!L987","v":0},{"$f":"'REPORTE PMI'!M987","v":0},0,null,null,0,null,null,"NO"]
[{"$f":"'REPORTE PMI'!B988","v":0},{"$f":"'REPORTE PMI'!E988","v":0},{"$f":"'REPORTE PMI'!J988","v":0},{"$f":"'REPORTE PMI'!G988","v":0},null,null,null,{"$f":"'REPORTE PMI'!L988","v":0},{"$f":"'REPORTE PMI'!M988","v":0},0,null,null,0,null,null,"NO"]
[{"$f":"'REPORTE PMI'!B989","v":0},{"$f":"'REPORTE PMI'!E989","v":0},{"$f":"'REPORTE PMI'!J989","v":0},{"$f":"'REPORTE PMI'!G989","v":0},null,null,null,{"$f":"'REPORTE PMI'!L989","v":0},{"$f":"'REPORTE PMI'!M989","v":0},0,null,null,0,null,null,"NO"]
[{"$f":"'REPORTE PMI'!B990","v":0},{"$f":"'REPORTE PMI'!E990","v":0},{"$f":"'REPORTE PMI'!J990","v":0},{"$f":"'REPORTE PMI'!G990","v":0},null,null,null,{"$f":"'REPORTE PMI'!L990","v":0},{"$f":"'REPORTE PMI'!M990","v":0},0,null,null,0,null,null,"NO"]
[{"$f":"'REPORTE PMI'!B991","v":0},{"$f":"'REPORTE PMI'!E991","v":0},{"$f":"'REPORTE PMI'!J991","v":0},{"$f":"'REPORTE PMI'!G991","v":0},null,null,null,{"$f":"'REPORTE PMI'!L991","v":0},{"$f":"'REPORTE PMI'!M991","v":0},0,null,null,0,null,null,"NO"]
[{"$f":"'REPORTE PMI'!B992","v":0},{"$f":"'REPORTE PMI'!E992","v":0},{"$f":"'REPORTE PMI'!J992","v":0},{"$f":"'REPORTE PMI'!G992","v":0},null,null,null,{"$f":"'REPORTE PMI'!L992","v":0},{"$f":"'REPORTE PMI'!M992","v":0},0,null,null,0,null,null,"NO"]
[{"$f":"'REPORTE PMI'!B993","v":0},{"$f":"'REPORTE PMI'!E993","v":0},{"$f":"'REPORTE PMI'!J993","v":0},{"$f":"'REPORTE PMI'!G993","v":0},null,null,null,{"$f":"'REPORTE PMI'!L993","v":0},{"$f":"'REPORTE PMI'!M993","v":0},0,null,null,0,null,null,"NO"]
[{"$f":"'REPORTE PMI'!B994","v":0},{"$f":"'REPORTE PMI'!E994","v":0},{"$f":"'REPORTE PMI'!J994","v":0},{"$f":"'REPORTE PMI'!G994","v":0},null,null,null,{"$f":"'REPORTE PMI'!L994","v":0},{"$f":"'REPORTE PMI'!M994","v":0},0,null,null,0,null,null,"NO"]
[{"$f":"'REPORTE PMI'!B995","v":0},{"$f":"'REPORTE PMI'!E995","v":0},{"$f":"'REPORTE PMI'!J995","v":0},{"$f":"'REPORTE PMI'!G995","v":0},null,null,null,{"$f":"'REPORTE PMI'!L995","v":0},{"$f":"'REPORTE PMI'!M995","v":0},0,null,null,0,null,null,"NO"]
[{"$f":"'REPORTE PMI'!B996","v":0},{"$f":"'REPORTE PMI'!E996","v":0},{"$f":"'REPORTE PMI'!J996","v":0},{"$f":"'REPORTE PMI'!G996","v":0},null,null,null,{"$f":"'REPORTE PMI'!L996","v":0},{"$f":"'REPORTE PMI'!M996","v":0},0,null,null,0,null,null,"NO"]
[{"$f":"'REPORTE PMI'!B997","v":0},{"$f":"'REPORTE PMI'!E997","v":0},{"$f":"'REPORTE PMI'!J997","v":0},{"$f":"'REPORTE PMI'!G997","v":0},null,null,null,{"$f":"'REPORTE PMI'!L997","v":0},{"$f":"'REPORTE PMI'!M997","v":0},0,null,null,0,null,null,"NO"]
[{"$f":"'REPORTE PMI'!B998","v":0},{"$f":"'REPORTE PMI'!E998","v":0},{"$f":"'REPORTE PMI'!J998","v":0},{"$f":"'REPORTE PMI'!G998","v":0},null,null,null,{"$f":"'REPORTE PMI'!L998","v":0},{"$f":"'REPORTE PMI'!M998","v":0},0,null,null,0,null,null,"NO"]
[{"$f":"'REPORTE PMI'!B999","v":0},{"$f":"'REPORTE PMI'!E999","v":0},{"$f":"'REPORTE PMI'!J999","v":0},{"$f":"'REPORTE PMI'!G999","v":0},null,null,null,{"$f":"'REPORTE PMI'!L999","v":0},{"$f":"'REPORTE PMI'!M999","v":0},0,null,null,0,null,null,"NO"]
[{"$f":"'REPORTE PMI'!B1000","v":0},{"$f":"'REPORTE PMI'!E1000","v":0},{"$f":"'REPORTE PMI'!J1000","v":0},{"$f":"'REPORTE PMI'!G1000","v":0},null,null,null,{"$f":"'REPORTE PMI'!L1000","v":0},{"$f":"'REPORTE PMI'!M1000","v":0},0,null,null,0,null,null,"NO"]
[{"$f":"'REPORTE PMI'!B1001","v":0},{"$f":"'REPORTE PMI'!E1001","v":0},{"$f":"'REPORTE PMI'!J1001","v":0},{"$f":"'REPORTE PMI'!G1001","v":0},null,null,null,{"$f":"'REPORTE PMI'!L1001","v":0},{"$f":"'REPORTE PMI'!M1001","v":0},0,null,null,0,null,null,"NO"]
[{"$f":"'REPORTE PMI'!B1002","v":0},{"$f":"'REPORTE PMI'!E1002","v":0},{"$f":"'REPORTE PMI'!J1002","v":0},{"$f":"'REPORTE PMI'!G1002","v":0},null,null,null,{"$f":"'REPORTE PMI'!L1002","v":0},{"$f":"'REPORTE PMI'!M1002","v":0},0,null,null,0,null,null,"NO"]
[{"$f":"'REPORTE PMI'!B1003","v":0},{"$f":"'REPORTE PMI'!E1003","v":0},{"$f":"'REPORTE PMI'!J1003","v":0},{"$f":"'REPORTE PMI'!G1003","v":0},null,null,null,{"$f":"'REPORTE PMI'!L1003","v":0},{"$f":"'REPORTE PMI'!M1003","v":0},0,null,null,0,null,null,"NO"]
[{"$f":"'REPORTE PMI'!B1004","v":0},{"$f":"'REPORTE PMI'!E1004","v":0},{"$f":"'REPORTE PMI'!J1004","v":0},{"$f":"'REPORTE PMI'!G1004","v":0},null,null,null,{"$f":"'REPORTE PMI'!L1004","v":0},{"$f":"'REPORTE PMI'!M1004","v":0},0,null,null,0,null,null,"NO"]
[{"$f":"'REPORTE PMI'!B1005","v":0},{"$f":"'REPORTE PMI'!E1005","v":0},{"$f":"'REPORTE PMI'!J1005","v":0},{"$f":"'REPORTE PMI'!G1005","v":0},null,null,null,{"$f":"'REPORTE PMI'!L1005","v":0},{"$f":"'REPORTE PMI'!M1005","v":0},0,null,null,0,null,null,"NO"]
[{"$f":"'REPORTE PMI'!B1006","v":0},{"$f":"'REPORTE PMI'!E1006","v":0},{"$f":"'REPORTE PMI'!J1006","v":0},{"$f":"'REPORTE PMI'!G1006","v":0},null,null,null,{"$f":"'REPORTE PMI'!L1006","v":0},{"$f":"'REPORTE PMI'!M1006","v":0},0,null,null,0,null,null,"NO"]
[{"$f":"'REPORTE PMI'!B1007","v":0},{"$f":"'REPORTE PMI'!E1007","v":0},{"$f":"'REPORTE PMI'!J1007","v":0},{"$f":"'REPORTE PMI'!G1007","v":0},null,null,null,{"$f":"'REPORTE PMI'!L1007","v":0},{"$f":"'REPORTE PMI'!M1007","v":0},0,null,null,0,null,null,"NO"]
[{"$f":"'REPORTE PMI'!B1008","v":0},{"$f":"'REPORTE PMI'!E1008","v":0},{"$f":"'REPORTE PMI'!J1008","v":0},{"$f":"'REPORTE PMI'!G1008","v":0},null,null,null,{"$f":"'REPORTE PMI'!L1008","v":0},{"$f":"'REPORTE PMI'!M1008","v":0},0,null,null,0,null,null,"NO"]
[{"$f":"'REPORTE PMI'!B1009","v":0},{"$f":"'REPORTE PMI'!E1009","v":0},{"$f":"'REPORTE PMI'!J1009","v":0},{"$f":"'REPORTE PMI'!G1009","v":0},null,null,null,{"$f":"'REPORTE PMI'!L1009","v":0},{"$f":"'REPORTE PMI'!M1009","v":0},0,null,null,0,null,null,"NO"]
[{"$f":"'REPORTE PMI'!B1010","v":0},{"$f":"'REPORTE PMI'!E1010","v":0},{"$f":"'REPORTE PMI'!J1010","v":0},{"$f":"'REPORTE PMI'!G1010","v":0},null,null,null,{"$f":"'REPORTE PMI'!L1010","v":0},{"$f":"'REPORTE PMI'!M1010","v":0},0,null,null,0,null,null,"NO"]
[{"$f":"'REPORTE PMI'!B1011","v":0},{"$f":"'REPORTE PMI'!E1011","v":0},{"$f":"'REPORTE PMI'!J1011","v":0},{"$f":"'REPORTE PMI'!G1011","v":0},null,null,null,{"$f":"'REPORTE PMI'!L1011","v":0},{"$f":"'REPORTE PMI'!M1011","v":0},0,null,null,0,null,null,"NO"]
[{"$f":"'REPORTE PMI'!B1012","v":0},{"$f":"'REPORTE PMI'!E1012","v":0},{"$f":"'REPORTE PMI'!J1012","v":0},{"$f":"'REPORTE PMI'!G1012","v":0},null,null,null,{"$f":"'REPORTE PMI'!L1012","v":0},{"$f":"'REPORTE PMI'!M1012","v":0},0,null,null,0,null,null,"NO"]
[{"$f":"'REPORTE PMI'!B1013","v":0},{"$f":"'REPORTE PMI'!E1013","v":0},{"$f":"'REPORTE PMI'!J1013","v":0},{"$f":"'REPORTE PMI'!G1013","v":0},null,null,null,{"$f":"'REPORTE PMI'!L1013","v":0},{"$f":"'REPORTE PMI'!M1013","v":0},0,null,null,0,null,null,"NO"]
[{"$f":"'REPORTE PMI'!B1014","v":0},{"$f":"'REPORTE PMI'!E1014","v":0},{"$f":"'REPORTE PMI'!J1014","v":0},{"$f":"'REPORTE PMI'!G1014","v":0},null,null,null,{"$f":"'REPORTE PMI'!L1014","v":0},{"$f":"'REPORTE PMI'!M1014","v":0},0,null,null,0,null,null,"NO"]
[{"$f":"'REPORTE PMI'!B1015","v":0},{"$f":"'REPORTE PMI'!E1015","v":0},{"$f":"'REPORTE PMI'!J1015","v":0},{"$f":"'REPORTE PMI'!G1015","v":0},null,null,null,{"$f":"'REPORTE PMI'!L1015","v":0},{"$f":"'REPORTE PMI'!M1015","v":0},0,null,null,0,null,null,"NO"]
[{"$f":"'REPORTE PMI'!B1016","v":0},{"$f":"'REPORTE PMI'!E1016","v":0},{"$f":"'REPORTE PMI'!J1016","v":0},{"$f":"'REPORTE PMI'!G1016","v":0},null,null,null,{"$f":"'REPORTE PMI'!L1016","v":0},{"$f":"'REPORTE PMI'!M1016","v":0},0,null,null,0,null,null,"NO"]
[{"$f":"'REPORTE PMI'!B1017","v":0},{"$f":"'REPORTE PMI'!E1017","v":0},{"$f":"'REPORTE PMI'!J1017","v":0},{"$f":"'REPORTE PMI'!G1017","v":0},null,null,null,{"$f":"'REPORTE PMI'!L1017","v":0},{"$f":"'REPORTE PMI'!M1017","v":0},0,null,null,0,null,null,"NO"]
[{"$f":"'REPORTE PMI'!B1018","v":0},{"$f":"'REPORTE PMI'!E1018","v":0},{"$f":"'REPORTE PMI'!J1018","v":0},{"$f":"'REPORTE PMI'!G1018","v":0},null,null,null,{"$f":"'REPORTE PMI'!L1018","v":0},{"$f":"'REPORTE PMI'!M1018","v":0},0,null,null,0,null,null,"NO"]
[{"$f":"'REPORTE PMI'!B1019","v":0},{"$f":"'REPORTE PMI'!E1019","v":0},{"$f":"'REPORTE PMI'!J1019","v":0},{"$f":"'REPORTE PMI'!G1019","v":0},null,null,null,{"$f":"'REPORTE PMI'!L1019","v":0},{"$f":"'REPORTE PMI'!M1019","v":0},0,null,null,0,null,null,"NO"]
[{"$f":"'REPORTE PMI'!B1020","v":0},{"$f":"'REPORTE PMI'!E1020","v":0},{"$f":"'REPORTE PMI'!J1020","v":0},{"$f":"'REPORTE PMI'!G1020","v":0},null,null,null,{"$f":"'REPORTE PMI'!L1020","v":0},{"$f":"'REPORTE PMI'!M1020","v":0},0,null,null,0,null,null,"NO"]
[{"$f":"'REPORTE PMI'!B1021","v":0},{"$f":"'REPORTE PMI'!E1021","v":0},{"$f":"'REPORTE PMI'!J1021","v":0},{"$f":"'REPORTE PMI'!G1021","v":0},null,null,null,{"$f":"'REPORTE PMI'!L1021","v":0},{"$f":"'REPORTE PMI'!M1021","v":0},0,null,null,0,null,null,"NO"]
[{"$f":"'REPORTE PMI'!B1022","v":0},{"$f":"'REPORTE PMI'!E1022","v":0},{"$f":"'REPORTE PMI'!J1022","v":0},{"$f":"'REPORTE PMI'!G1022","v":0},null,null,null,{"$f":"'REPORTE PMI'!L1022","v":0},{"$f":"'REPORTE PMI'!M1022","v":0},0,null,null,0,null,null,"NO"]
[{"$f":"'REPORTE PMI'!B1023","v":0},{"$f":"'REPORTE PMI'!E1023","v":0},{"$f":"'REPORTE PMI'!J1023","v":0},{"$f":"'REPORTE PMI'!G1023","v":0},null,null,null,{"$f":"'REPORTE PMI'!L1023","v":0},{"$f":"'REPORTE PMI'!M1023","v":0},0,null,null,0,null,null,"NO"]
[{"$f":"'REPORTE PMI'!B1024","v":0},{"$f":"'REPORTE PMI'!E1024","v":0},{"$f":"'REPORTE PMI'!J1024","v":0},{"$f":"'REPORTE PMI'!G1024","v":0},null,null,null,{"$f":"'REPORTE PMI'!L1024","v":0},{"$f":"'REPORTE PMI'!M1024","v":0},0,null,null,0,null,null,"NO"]
[{"$f":"'REPORTE PMI'!B1025","v":0},{"$f":"'REPORTE PMI'!E1025","v":0},{"$f":"'REPORTE PMI'!J1025","v":0},{"$f":"'REPORTE PMI'!G1025","v":0},null,null,null,{"$f":"'REPORTE PMI'!L1025","v":0},{"$f":"'REPORTE PMI'!M1025","v":0},0,null,null,0,null,null,"NO"]
[{"$f":"'REPORTE PMI'!B1026","v":0},{"$f":"'REPORTE PMI'!E1026","v":0},{"$f":"'REPORTE PMI'!J1026","v":0},{"$f":"'REPORTE PMI'!G1026","v":0},null,null,null,{"$f":"'REPORTE PMI'!L1026","v":0},{"$f":"'REPORTE PMI'!M1026","v":0},0,null,null,0,null,null,"NO"]
[{"$f":"'REPORTE PMI'!B1027","v":0},{"$f":"'REPORTE PMI'!E1027","v":0},{"$f":"'REPORTE PMI'!J1027","v":0},{"$f":"'REPORTE PMI'!G1027","v":0},null,null,null,{"$f":"'REPORTE PMI'!L1027","v":0},{"$f":"'REPORTE PMI'!M1027","v":0},0,null,null,0,null,null,"NO"]
[{"$f":"'REPORTE PMI'!B1028","v":0},{"$f":"'REPORTE PMI'!E1028","v":0},{"$f":"'REPORTE PMI'!J1028","v":0},{"$f":"'REPORTE PMI'!G1028","v":0},null,null,null,{"$f":"'REPORTE PMI'!L1028","v":0},{"$f":"'REPORTE PMI'!M1028","v":0},{"$f":"IFERROR(I1037/H1037, 0)","v":0},null,null,{"$f":"H1037-I1037","v":0},null,null,{"$f":"IF(E1037=\"SI\",IF(J1037>0%,IF(K1037=\"SI\",IF(L1037=\"NO\",IF(N1037=\"SI\",IF(O1037=\"NO\",\"SI\",\"NO\"),\"NO\"),\"NO\"),\"NO\"),\"NO\"),\"NO\")","v":"NO"}]
[{"$f":"'REPORTE PMI'!B1029","v":0},{"$f":"'REPORTE PMI'!E1029","v":0},{"$f":"'REPORTE PMI'!J1029","v":0},{"$f":"'REPORTE PMI'!G1029","v":0},null,null,null,{"$f":"'REPORTE PMI'!L1029","v":0},{"$f":"'REPORTE PMI'!M1029","v":0},0,null,null,0,null,null,"NO"]
[{"$f":"'REPORTE PMI'!B1030","v":0},{"$f":"'REPORTE PMI'!E1030","v":0},{"$f":"'REPORTE PMI'!J1030","v":0},{"$f":"'REPORTE PMI'!G1030","v":0},null,null,null,{"$f":"'REPORTE PMI'!L1030","v":0},{"$f":"'REPORTE PMI'!M1030","v":0},0,null,null,0,null,null,"NO"]
[{"$f":"'REPORTE PMI'!B1031","v":0},{"$f":"'REPORTE PMI'!E1031","v":0},{"$f":"'REPORTE PMI'!J1031","v":0},{"$f":"'REPORTE PMI'!G1031","v":0},null,null,null,{"$f":"'REPORTE PMI'!L1031","v":0},{"$f":"'REPORTE PMI'!M1031","v":0},0,null,null,0,null,null,"NO"]
[{"$f":"'REPORTE PMI'!B1032","v":0},{"$f":"'REPORTE PMI'!E1032","v":0},{"$f":"'REPORTE PMI'!J1032","v":0},{"$f":"'REPORTE PMI'!G1032","v":0},null,null,null,{"$f":"'REPORTE PMI'!L1032","v":0},{"$f":"'REPORTE PMI'!M1032","v":0},0,null,null,0,null,null,"NO"]
[{"$f":"'REPORTE PMI'!B1033","v":0},{"$f":"'REPORTE PMI'!E1033","v":0},{"$f":"'REPORTE PMI'!J1033","v":0},{"$f":"'REPORTE PMI'!G1033","v":0},null,null,null,{"$f":"'REPORTE PMI'!L1033","v":0},{"$f":"'REPORTE PMI'!M1033","v":0},0,null,null,0,null,null,"NO"]
[{"$f":"'REPORTE PMI'!B1034","v":0},{"$f":"'REPORTE PMI'!E1034","v":0},{"$f":"'REPORTE PMI'!J1034","v":0},{"$f":"'REPORTE PMI'!G1034","v":0},null,null,null,{"$f":"'REPORTE PMI'!L1034","v":0},{"$f":"'REPORTE PMI'!M1034","v":0},0,null,null,0,null,null,"NO"]
[{"$f":"'REPORTE PMI'!B1035","v":0},{"$f":"'REPORTE PMI'!E1035","v":0},{"$f":"'REPORTE PMI'!J1035","v":0},{"$f":"'REPORTE PMI'!G1035","v":0},null,null,null,{"$f":"'REPORTE PMI'!L1035","v":0},{"$f":"'REPORTE PMI'!M1035","v":0},0,null,null,0,null,null,"NO"]
[{"$f":"'REPORTE PMI'!B1036","v":0},{"$f":"'REPORTE PMI'!E1036","v":0},{"$f":"'REPORTE PMI'!J1036","v":0},{"$f":"'REPORTE PMI'!G1036","v":0},null,null,null,{"$f":"'REPORTE PMI'!L1036","v":0},{"$f":"'REPORTE PMI'!M1036","v":0},0,null,null,0,null,null,"NO"]
[{"$f":"'REPORTE PMI'!B1037","v":0},{"$f":"'REPORTE PMI'!E1037","v":0},{"$f":"'REPORTE PMI'!J1037","v":0},{"$f":"'REPORTE PMI'!G1037","v":0},null,null,null,{"$f":"'REPORTE PMI'!L1037","v":0},{"$f":"'REPORTE PMI'!M1037","v":0},0,null,null,0,null,null,"NO"]
[{"$f":"'REPORTE PMI'!B1038","v":0},{"$f":"'REPORTE PMI'!E1038","v":0},{"$f":"'REPORTE PMI'!J1038","v":0},{"$f":"'REPORTE PMI'!G1038","v":0},null,null,null,{"$f":"'REPORTE PMI'!L1038","v":0},{"$f":"'REPORTE PMI'!M1038","v":0},0,null,null,0,null,null,"NO"]
[{"$f":"'REPORTE PMI'!B1039","v":0},{"$f":"'REPORTE PMI'!E1039","v":0},{"$f":"'REPORTE PMI'!J1039","v":0},{"$f":"'REPORTE PMI'!G1039","v":0},null,null,null,{"$f":"'REPORTE PMI'!L1039","v":0},{"$f":"'REPORTE PMI'!M1039","v":0},0,null,null,0,null,null,"NO"]
[{"$f":"'REPORTE PMI'!B1040","v":0},{"$f":"'REPORTE PMI'!E1040","v":0},{"$f":"'REPORTE PMI'!J1040","v":0},{"$f":"'REPORTE PMI'!G1040","v":0},null,null,null,{"$f":"'REPORTE PMI'!L1040","v":0},{"$f":"'REPORTE PMI'!M1040","v":0},0,null,null,0,null,null,"NO"]
[{"$f":"'REPORTE PMI'!B1041","v":0},{"$f":"'REPORTE PMI'!E1041","v":0},{"$f":"'REPORTE PMI'!J1041","v":0},{"$f":"'REPORTE PMI'!G1041","v":0},null,null,null,{"$f":"'REPORTE PMI'!L1041","v":0},{"$f":"'REPORTE PMI'!M1041","v":0},0,null,null,0,null,null,"NO"]
[{"$f":"'REPORTE PMI'!B1042","v":0},{"$f":"'REPORTE PMI'!E1042","v":0},{"$f":"'REPORTE PMI'!J1042","v":0},{"$f":"'REPORTE PMI'!G1042","v":0},null,null,null,{"$f":"'REPORTE PMI'!L1042","v":0},{"$f":"'REPORTE PMI'!M1042","v":0},0,null,null,0,null,null,"NO"]
[{"$f":"'REPORTE PMI'!B1043","v":0},{"$f":"'REPORTE PMI'!E1043","v":0},{"$f":"'REPORTE PMI'!J1043","v":0},{"$f":"'REPORTE PMI'!G1043","v":0},null,null,null,{"$f":"'REPORTE PMI'!L1043","v":0},{"$f":"'REPORTE PMI'!M1043","v":0},0,null,null,0,null,null,"NO"]
[{"$f":"'REPORTE PMI'!B1044","v":0},{"$f":"'REPORTE PMI'!E1044","v":0},{"$f":"'REPORTE PMI'!J1044","v":0},{"$f":"'REPORTE PMI'!G1044","v":0},null,null,null,{"$f":"'REPORTE PMI'!L1044","v":0},{"$f":"'REPORTE PMI'!M1044","v":0},0,null,null,0,null,null,"NO"]
[{"$f":"'REPORTE PMI'!B1045","v":0},{"$f":"'REPORTE PMI'!E1045","v":0},{"$f":"'REPORTE PMI'!J1045","v":0},{"$f":"'REPORTE PMI'!G1045","v":0},null,null,null,{"$f":"'REPORTE PMI'!L1045","v":0},{"$f":"'REPORTE PMI'!M1045","v":0},0,null,null,0,null,null,"NO"]
[{"$f":"'REPORTE PMI'!B1046","v":0},{"$f":"'REPORTE PMI'!E1046","v":0},{"$f":"'REPORTE PMI'!J1046","v":0},{"$f":"'REPORTE PMI'!G1046","v":0},null,null,null,{"$f":"'REPORTE PMI'!L1046","v":0},{"$f":"'REPORTE PMI'!M1046","v":0},0,null,null,0,null,null,"NO"]
[{"$f":"'REPORTE PMI'!B1047","v":0},{"$f":"'REPORTE PMI'!E1047","v":0},{"$f":"'REPORTE PMI'!J1047","v":0},{"$f":"'REPORTE PMI'!G1047","v":0},null,null,null,{"$f":"'REPORTE PMI'!L1047","v":0},{"$f":"'REPORTE PMI'!M1047","v":0},0,null,null,0,null,null,"NO"]
[{"$f":"'REPORTE PMI'!B1048","v":0},{"$f":"'REPORTE PMI'!E1048","v":0},{"$f":"'REPORTE PMI'!J1048","v":0},{"$f":"'REPORTE PMI'!G1048","v":0},null,null,null,{"$f":"'REPORTE PMI'!L1048","v":0},{"$f":"'REPORTE PMI'!M1048","v":0},0,null,null,0,null,null,"NO"]
[{"$f":"'REPORTE PMI'!B1049","v":0},{"$f":"'REPORTE PMI'!E1049","v":0},{"$f":"'REPORTE PMI'!J1049","v":0},{"$f":"'REPORTE PMI'!G1049","v":0},null,null,null,{"$f":"'REPORTE PMI'!L1049","v":0},{"$f":"'REPORTE PMI'!M1049","v":0},0,null,null,0,null,null,"NO"]
[{"$f":"'REPORTE PMI'!B1050","v":0},{"$f":"'REPORTE PMI'!E1050","v":0},{"$f":"'REPORTE PMI'!J1050","v":0},{"$f":"'REPORTE PMI'!G1050","v":0},null,null,null,{"$f":"'REPORTE PMI'!L1050","v":0},{"$f":"'REPORTE PMI'!M1050","v":0},0,null,null,0,null,null,"NO"]
[{"$f":"'REPORTE PMI'!B1051","v":0},{"$f":"'REPORTE PMI'!E1051","v":0},{"$f":"'REPORTE PMI'!J1051","v":0},{"$f":"'REPORTE PMI'!G1051","v":0},null,null,null,{"$f":"'REPORTE PMI'!L1051","v":0},{"$f":"'REPORTE PMI'!M1051","v":0},0,null,null,0,null,null,"NO"]
[{"$f":"'REPORTE PMI'!B1052","v":0},{"$f":"'REPORTE PMI'!E1052","v":0},{"$f":"'REPORTE PMI'!J1052","v":0},{"$f":"'REPORTE PMI'!G1052","v":0},null,null,null,{"$f":"'REPORTE PMI'!L1052","v":0},{"$f":"'REPORTE PMI'!M1052","v":0},0,null,null,0,null,null,"NO"]
[{"$f":"'REPORTE PMI'!B1053","v":0},{"$f":"'REPORTE PMI'!E1053","v":0},{"$f":"'REPORTE PMI'!J1053","v":0},{"$f":"'REPORTE PMI'!G1053","v":0},null,null,null,{"$f":"'REPORTE PMI'!L1053","v":0},{"$f":"'REPORTE PMI'!M1053","v":0},0,null,null,0,null,null,"NO"]
[{"$f":"'REPORTE PMI'!B1054","v":0},{"$f":"'REPORTE PMI'!E1054","v":0},{"$f":"'REPORTE PMI'!J1054","v":0},{"$f":"'REPORTE PMI'!G1054","v":0},null,null,null,{"$f":"'REPORTE PMI'!L1054","v":0},{"$f":"'REPORTE PMI'!M1054","v":0},0,null,null,0,null,null,"NO"]
[{"$f":"'REPORTE PMI'!B1055","v":0},{"$f":"'REPORTE PMI'!E1055","v":0},{"$f":"'REPORTE PMI'!J1055","v":0},{"$f":"'REPORTE PMI'!G1055","v":0},null,null,null,{"$f":"'REPORTE PMI'!L1055","v":0},{"$f":"'REPORTE PMI'!M1055","v":0},0,null,null,0,null,null,"NO"]
[{"$f":"'REPORTE PMI'!B1056","v":0},{"$f":"'REPORTE PMI'!E1056","v":0},{"$f":"'REPORTE PMI'!J1056","v":0},{"$f":"'REPORTE PMI'!G1056","v":0},null,null,null,{"$f":"'REPORTE PMI'!L1056","v":0},{"$f":"'REPORTE PMI'!M1056","v":0},0,null,null,0,null,null,"NO"]
[{"$f":"'REPORTE PMI'!B1057","v":0},{"$f":"'REPORTE PMI'!E1057","v":0},{"$f":"'REPORTE PMI'!J1057","v":0},{"$f":"'REPORTE PMI'!G1057","v":0},null,null,null,{"$f":"'REPORTE PMI'!L1057","v":0},{"$f":"'REPORTE PMI'!M1057","v":0},0,null,null,0,null,null,"NO"]
[{"$f":"'REPORTE PMI'!B1058","v":0},{"$f":"'REPORTE PMI'!E1058","v":0},{"$f":"'REPORTE PMI'!J1058","v":0},{"$f":"'REPORTE PMI'!G1058","v":0},null,null,null,{"$f":"'REPORTE PMI'!L1058","v":0},{"$f":"'REPORTE PMI'!M1058","v":0},0,null,null,0,null,null,"NO"]
[{"$f":"'REPORTE PMI'!B1059","v":0},{"$f":"'REPORTE PMI'!E1059","v":0},{"$f":"'REPORTE PMI'!J1059","v":0},{"$f":"'REPORTE PMI'!G1059","v":0},null,null,null,{"$f":"'REPORTE PMI'!L1059","v":0},{"$f":"'REPORTE PMI'!M1059","v":0},0,null,null,0,null,null,"NO"]
[{"$f":"'REPORTE PMI'!B1060","v":0},{"$f":"'REPORTE PMI'!E1060","v":0},{"$f":"'REPORTE PMI'!J1060","v":0},{"$f":"'REPORTE PMI'!G1060","v":0},null,null,null,{"$f":"'REPORTE PMI'!L1060","v":0},{"$f":"'REPORTE PMI'!M1060","v":0},0,null,null,0,null,null,"NO"]
[{"$f":"'REPORTE PMI'!B1061","v":0},{"$f":"'REPORTE PMI'!E1061","v":0},{"$f":"'REPORTE PMI'!J1061","v":0},{"$f":"'REPORTE PMI'!G1061","v":0},null,null,null,{"$f":"'REPORTE PMI'!L1061","v":0},{"$f":"'REPORTE PMI'!M1061","v":0},0,null,null,0,null,null,"NO"]
[{"$f":"'REPORTE PMI'!B1062","v":0},{"$f":"'REPORTE PMI'!E1062","v":0},{"$f":"'REPORTE PMI'!J1062","v":0},{"$f":"'REPORTE PMI'!G1062","v":0},null,null,null,{"$f":"'REPORTE PMI'!L1062","v":0},{"$f":"'REPORTE PMI'!M1062","v":0},0,null,null,0,null,null,"NO"]
[{"$f":"'REPORTE PMI'!B1063","v":0},{"$f":"'REPORTE PMI'!E1063","v":0},{"$f":"'REPORTE PMI'!J1063","v":0},{"$f":"'REPORTE PMI'!G1063","v":0},null,null,null,{"$f":"'REPORTE PMI'!L1063","v":0},{"$f":"'REPORTE PMI'!M1063","v":0},0,null,null,0,null,null,"NO"]
[{"$f":"'REPORTE PMI'!B1064","v":0},{"$f":"'REPORTE PMI'!E1064","v":0},{"$f":"'REPORTE PMI'!J1064","v":0},{"$f":"'REPORTE PMI'!G1064","v":0},null,null,null,{"$f":"'REPORTE PMI'!L1064","v":0},{"$f":"'REPORTE PMI'!M1064","v":0},0,null,null,0,null,null,"NO"]
[{"$f":"'REPORTE PMI'!B1065","v":0},{"$f":"'REPORTE PMI'!E1065","v":0},{"$f":"'REPORTE PMI'!J1065","v":0},{"$f":"'REPORTE PMI'!G1065","v":0},null,null,null,{"$f":"'REPORTE PMI'!L1065","v":0},{"$f":"'REPORTE PMI'!M1065","v":0},0,null,null,0,null,null,"NO"]
[{"$f":"'REPORTE PMI'!B1066","v":0},{"$f":"'REPORTE PMI'!E1066","v":0},{"$f":"'REPORTE PMI'!J1066","v":0},{"$f":"'REPORTE PMI'!G1066","v":0},null,null,null,{"$f":"'REPORTE PMI'!L1066","v":0},{"$f":"'REPORTE PMI'!M1066","v":0},0,null,null,0,null,null,"NO"]
[{"$f":"'REPORTE PMI'!B1067","v":0},{"$f":"'REPORTE PMI'!E1067","v":0},{"$f":"'REPORTE PMI'!J1067","v":0},{"$f":"'REPORTE PMI'!G1067","v":0},null,null,null,{"$f":"'REPORTE PMI'!L1067","v":0},{"$f":"'REPORTE PMI'!M1067","v":0},0,null,null,0,null,null,"NO"]
[{"$f":"'REPORTE PMI'!B1068","v":0},{"$f":"'REPORTE PMI'!E1068","v":0},{"$f":"'REPORTE PMI'!J1068","v":0},{"$f":"'REPORTE PMI'!G1068","v":0},null,null,null,{"$f":"'REPORTE PMI'!L1068","v":0},{"$f":"'REPORTE PMI'!M1068","v":0},0,null,null,0,null,null,"NO"]
[{"$f":"'REPORTE PMI'!B1069","v":0},{"$f":"'REPORTE PMI'!E1069","v":0},{"$f":"'REPORTE PMI'!J1069","v":0},{"$f":"'REPORTE PMI'!G1069","v":0},null,null,null,{"$f":"'REPORTE PMI'!L1069","v":0},{"$f":"'REPORTE PMI'!M1069","v":0},0,null,null,0,null,null,"NO"]
[{"$f":"'REPORTE PMI'!B1070","v":0},{"$f":"'REPORTE PMI'!E1070","v":0},{"$f":"'REPORTE PMI'!J1070","v":0},{"$f":"'REPORTE PMI'!G1070","v":0},null,null,null,{"$f":"'REPORTE PMI'!L1070","v":0},{"$f":"'REPORTE PMI'!M1070","v":0},0,null,null,0,null,null,"NO"]
[{"$f":"'REPORTE PMI'!B1071","v":0},{"$f":"'REPORTE PMI'!E1071","v":0},{"$f":"'REPORTE PMI'!J1071","v":0},{"$f":"'REPORTE PMI'!G1071","v":0},null,null,null,{"$f":"'REPORTE PMI'!L1071","v":0},{"$f":"'REPORTE PMI'!M1071","v":0},0,null,null,0,null,null,"NO"]
[{"$f":"'REPORTE PMI'!B1072","v":0},{"$f":"'REPORTE PMI'!E1072","v":0},{"$f":"'REPORTE PMI'!J1072","v":0},{"$f":"'REPORTE PMI'!G1072","v":0},null,null,null,{"$f":"'REPORTE PMI'!L1072","v":0},{"$f":"'REPORTE PMI'!M1072","v":0},0,null,null,0,null,null,"NO"]
[{"$f":"'REPORTE PMI'!B1073","v":0},{"$f":"'REPORTE PMI'!E1073","v":0},{"$f":"'REPORTE PMI'!J1073","v":0},{"$f":"'REPORTE PMI'!G1073","v":0},null,null,null,{"$f":"'REPORTE PMI'!L1073","v":0},{"$f":"'REPORTE PMI'!M1073","v":0},0,null,null,0,null,null,"NO"]
[{"$f":"'REPORTE PMI'!B1074","v":0},{"$f":"'REPORTE PMI'!E1074","v":0},{"$f":"'REPORTE PMI'!J1074","v":0},{"$f":"'REPORTE PMI'!G1074","v":0},null,null,null,{"$f":"'REPORTE PMI'!L1074","v":0},{"$f":"'REPORTE PMI'!M1074","v":0},0,null,null,0,null,null,"NO"]
[{"$f":"'REPORTE PMI'!B1075","v":0},{"$f":"'REPORTE PMI'!E1075","v":0},{"$f":"'REPORTE PMI'!J1075","v":0},{"$f":"'REPORTE PMI'!G1075","v":0},null,null,null,{"$f":"'REPORTE PMI'!L1075","v":0},{"$f":"'REPORTE PMI'!M1075","v":0},0,null,null,0,null,null,"NO"]
[{"$f":"'REPORTE PMI'!B1076","v":0},{"$f":"'REPORTE PMI'!E1076","v":0},{"$f":"'REPORTE PMI'!J1076","v":0},{"$f":"'REPORTE PMI'!G1076","v":0},null,null,null,{"$f":"'REPORTE PMI'!L1076","v":0},{"$f":"'REPORTE PMI'!M1076","v":0},0,null,null,0,null,null,"NO"]
[{"$f":"'REPORTE PMI'!B1077","v":0},{"$f":"'REPORTE PMI'!E1077","v":0},{"$f":"'REPORTE PMI'!J1077","v":0},{"$f":"'REPORTE PMI'!G1077","v":0},null,null,null,{"$f":"'REPORTE PMI'!L1077","v":0},{"$f":"'REPORTE PMI'!M1077","v":0},0,null,null,0,null,null,"NO"]
[{"$f":"'REPORTE PMI'!B1078","v":0},{"$f":"'REPORTE PMI'!E1078","v":0},{"$f":"'REPORTE PMI'!J1078","v":0},{"$f":"'REPORTE PMI'!G1078","v":0},null,null,null,{"$f":"'REPORTE PMI'!L1078","v":0},{"$f":"'REPORTE PMI'!M1078","v":0},0,null,null,0,null,null,"NO"]
[{"$f":"'REPORTE PMI'!B1079","v":0},{"$f":"'REPORTE PMI'!E1079","v":0},{"$f":"'REPORTE PMI'!J1079","v":0},{"$f":"'REPORTE PMI'!G1079","v":0},null,null,null,{"$f":"'REPORTE PMI'!L1079","v":0},{"$f":"'REPORTE PMI'!M1079","v":0},0,null,null,0,null,null,"NO"]
[{"$f":"'REPORTE PMI'!B1080","v":0},{"$f":"'REPORTE PMI'!E1080","v":0},{"$f":"'REPORTE PMI'!J1080","v":0},{"$f":"'REPORTE PMI'!G1080","v":0},null,null,null,{"$f":"'REPORTE PMI'!L1080","v":0},{"$f":"'REPORTE PMI'!M1080","v":0},0,null,null,0,null,null,"NO"]
[{"$f":"'REPORTE PMI'!B1081","v":0},{"$f":"'REPORTE PMI'!E1081","v":0},{"$f":"'REPORTE PMI'!J1081","v":0},{"$f":"'REPORTE PMI'!G1081","v":0},null,null,null,{"$f":"'REPORTE PMI'!L1081","v":0},{"$f":"'REPORTE PMI'!M1081","v":0},0,null,null,0,null,null,"NO"]
[{"$f":"'REPORTE PMI'!B1082","v":0},{"$f":"'REPORTE PMI'!E1082","v":0},{"$f":"'REPORTE PMI'!J1082","v":0},{"$f":"'REPORTE PMI'!G1082","v":0},null,null,null,{"$f":"'REPORTE PMI'!L1082","v":0},{"$f":"'REPORTE PMI'!M1082","v":0},0,null,null,0,null,null,"NO"]
[{"$f":"'REPORTE PMI'!B1083","v":0},{"$f":"'REPORTE PMI'!E1083","v":0},{"$f":"'REPORTE PMI'!J1083","v":0},{"$f":"'REPORTE PMI'!G1083","v":0},null,null,null,{"$f":"'REPORTE PMI'!L1083","v":0},{"$f":"'REPORTE PMI'!M1083","v":0},0,null,null,0,null,null,"NO"]
[{"$f":"'REPORTE PMI'!B1084","v":0},{"$f":"'REPORTE PMI'!E1084","v":0},{"$f":"'REPORTE PMI'!J1084","v":0},{"$f":"'REPORTE PMI'!G1084","v":0},null,null,null,{"$f":"'REPORTE PMI'!L1084","v":0},{"$f":"'REPORTE PMI'!M1084","v":0},0,null,null,0,null,null,"NO"]
[{"$f":"'REPORTE PMI'!B1085","v":0},{"$f":"'REPORTE PMI'!E1085","v":0},{"$f":"'REPORTE PMI'!J1085","v":0},{"$f":"'REPORTE PMI'!G1085","v":0},null,null,null,{"$f":"'REPORTE PMI'!L1085","v":0},{"$f":"'REPORTE PMI'!M1085","v":0},0,null,null,0,null,null,"NO"]
[{"$f":"'REPORTE PMI'!B1086","v":0},{"$f":"'REPORTE PMI'!E1086","v":0},{"$f":"'REPORTE PMI'!J1086","v":0},{"$f":"'REPORTE PMI'!G1086","v":0},null,null,null,{"$f":"'REPORTE PMI'!L1086","v":0},{"$f":"'REPORTE PMI'!M1086","v":0},0,null,null,0,null,null,"NO"]
[{"$f":"'REPORTE PMI'!B1087","v":0},{"$f":"'REPORTE PMI'!E1087","v":0},{"$f":"'REPORTE PMI'!J1087","v":0},{"$f":"'REPORTE PMI'!G1087","v":0},null,null,null,{"$f":"'REPORTE PMI'!L1087","v":0},{"$f":"'REPORTE PMI'!M1087","v":0},0,null,null,0,null,null,"NO"]
[{"$f":"'REPORTE PMI'!B1088","v":0},{"$f":"'REPORTE PMI'!E1088","v":0},{"$f":"'REPORTE PMI'!J1088","v":0},{"$f":"'REPORTE PMI'!G1088","v":0},null,null,null,{"$f":"'REPORTE PMI'!L1088","v":0},{"$f":"'REPORTE PMI'!M1088","v":0},0,null,null,0,null,null,"NO"]
[{"$f":"'REPORTE PMI'!B1089","v":0},{"$f":"'REPORTE PMI'!E1089","v":0},{"$f":"'REPORTE PMI'!J1089","v":0},{"$f":"'REPORTE PMI'!G1089","v":0},null,null,null,{"$f":"'REPORTE PMI'!L1089","v":0},{"$f":"'REPORTE PMI'!M1089","v":0},0,null,null,0,null,null,"NO"]
[{"$f":"'REPORTE PMI'!B1090","v":0},{"$f":"'REPORTE PMI'!E1090","v":0},{"$f":"'REPORTE PMI'!J1090","v":0},{"$f":"'REPORTE PMI'!G1090","v":0},null,null,null,{"$f":"'REPORTE PMI'!L1090","v":0},{"$f":"'REPORTE PMI'!M1090","v":0},0,null,null,0,null,null,"NO"]
[{"$f":"'REPORTE PMI'!B1091","v":0},{"$f":"'REPORTE PMI'!E1091","v":0},{"$f":"'REPORTE PMI'!J1091","v":0},{"$f":"'REPORTE PMI'!G1091","v":0},null,null,null,{"$f":"'REPORTE PMI'!L1091","v":0},{"$f":"'REPORTE PMI'!M1091","v":0},0,null,null,0,null,null,"NO"]
[{"$f":"'REPORTE PMI'!B1092","v":0},{"$f":"'REPORTE PMI'!E1092","v":0},{"$f":"'REPORTE PMI'!J1092","v":0},{"$f":"'REPORTE PMI'!G1092","v":0},null,null,null,{"$f":"'REPORTE PMI'!L1092","v":0},{"$f":"'REPORTE PMI'!M1092","v":0},{"$f":"IFERROR(I1101/H1101, 0)","v":0},null,null,{"$f":"H1101-I1101","v":0},null,null,{"$f":"IF(E1101=\"SI\",IF(J1101>0%,IF(K1101=\"SI\",IF(L1101=\"NO\",IF(N1101=\"SI\",IF(O1101=\"NO\",\"SI\",\"NO\"),\"NO\"),\"NO\"),\"NO\"),\"NO\"),\"NO\")","v":"NO"}]
[{"$f":"'REPORTE PMI'!B1093","v":0},{"$f":"'REPORTE PMI'!E1093","v":0},{"$f":"'REPORTE PMI'!J1093","v":0},{"$f":"'REPORTE PMI'!G1093","v":0},null,null,null,{"$f":"'REPORTE PMI'!L1093","v":0},{"$f":"'REPORTE PMI'!M1093","v":0},0,null,null,0,null,null,"NO"]
[{"$f":"'REPORTE PMI'!B1094","v":0},{"$f":"'REPORTE PMI'!E1094","v":0},{"$f":"'REPORTE PMI'!J1094","v":0},{"$f":"'REPORTE PMI'!G1094","v":0},null,null,null,{"$f":"'REPORTE PMI'!L1094","v":0},{"$f":"'REPORTE PMI'!M1094","v":0},0,null,null,0,null,null,"NO"]
[{"$f":"'REPORTE PMI'!B1095","v":0},{"$f":"'REPORTE PMI'!E1095","v":0},{"$f":"'REPORTE PMI'!J1095","v":0},{"$f":"'REPORTE PMI'!G1095","v":0},null,null,null,{"$f":"'REPORTE PMI'!L1095","v":0},{"$f":"'REPORTE PMI'!M1095","v":0},0,null,null,0,null,null,"NO"]
[{"$f":"'REPORTE PMI'!B1096","v":0},{"$f":"'REPORTE PMI'!E1096","v":0},{"$f":"'REPORTE PMI'!J1096","v":0},{"$f":"'REPORTE PMI'!G1096","v":0},null,null,null,{"$f":"'REPORTE PMI'!L1096","v":0},{"$f":"'REPORTE PMI'!M1096","v":0},0,null,null,0,null,null,"NO"]
[{"$f":"'REPORTE PMI'!B1097","v":0},{"$f":"'REPORTE PMI'!E1097","v":0},{"$f":"'REPORTE PMI'!J1097","v":0},{"$f":"'REPORTE PMI'!G1097","v":0},null,null,null,{"$f":"'REPORTE PMI'!L1097","v":0},{"$f":"'REPORTE PMI'!M1097","v":0},0,null,null,0,null,null,"NO"]
[{"$f":"'REPORTE PMI'!B1098","v":0},{"$f":"'REPORTE PMI'!E1098","v":0},{"$f":"'REPORTE PMI'!J1098","v":0},{"$f":"'REPORTE PMI'!G1098","v":0},null,null,null,{"$f":"'REPORTE PMI'!L1098","v":0},{"$f":"'REPORTE PMI'!M1098","v":0},0,null,null,0,null,null,"NO"]
[{"$f":"'REPORTE PMI'!B1099","v":0},{"$f":"'REPORTE PMI'!E1099","v":0},{"$f":"'REPORTE PMI'!J1099","v":0},{"$f":"'REPORTE PMI'!G1099","v":0},null,null,null,{"$f":"'REPORTE PMI'!L1099","v":0},{"$f":"'REPORTE PMI'!M1099","v":0},0,null,null,0,null,null,"NO"]
[{"$f":"'REPORTE PMI'!B1100","v":0},{"$f":"'REPORTE PMI'!E1100","v":0},{"$f":"'REPORTE PMI'!J1100","v":0},{"$f":"'REPORTE PMI'!G1100","v":0},null,null,null,{"$f":"'REPORTE PMI'!L1100","v":0},{"$f":"'REPORTE PMI'!M1100","v":0},0,null,null,0,null,null,"NO"]
[{"$f":"'REPORTE PMI'!B1101","v":0},{"$f":"'REPORTE PMI'!E1101","v":0},{"$f":"'REPORTE PMI'!J1101","v":0},{"$f":"'REPORTE PMI'!G1101","v":0},null,null,null,{"$f":"'REPORTE PMI'!L1101","v":0},{"$f":"'REPORTE PMI'!M1101","v":0},0,null,null,0,null,null,"NO"]
[{"$f":"'REPORTE PMI'!B1102","v":0},{"$f":"'REPORTE PMI'!E1102","v":0},{"$f":"'REPORTE PMI'!J1102","v":0},{"$f":"'REPORTE PMI'!G1102","v":0},null,null,null,{"$f":"'REPORTE PMI'!L1102","v":0},{"$f":"'REPORTE PMI'!M1102","v":0},0,null,null,0,null,null,"NO"]
[{"$f":"'REPORTE PMI'!B1103","v":0},{"$f":"'REPORTE PMI'!E1103","v":0},{"$f":"'REPORTE PMI'!J1103","v":0},{"$f":"'REPORTE PMI'!G1103","v":0},null,null,null,{"$f":"'REPORTE PMI'!L1103","v":0},{"$f":"'REPORTE PMI'!M1103","v":0},0,null,null,0,null,null,"NO"]
[{"$f":"'REPORTE PMI'!B1104","v":0},{"$f":"'REPORTE PMI'!E1104","v":0},{"$f":"'REPORTE PMI'!J1104","v":0},{"$f":"'REPORTE PMI'!G1104","v":0},null,null,null,{"$f":"'REPORTE PMI'!L1104","v":0},{"$f":"'REPORTE PMI'!M1104","v":0},0,null,null,0,null,null,"NO"]
[{"$f":"'REPORTE PMI'!B1105","v":0},{"$f":"'REPORTE PMI'!E1105","v":0},{"$f":"'REPORTE PMI'!J1105","v":0},{"$f":"'REPORTE PMI'!G1105","v":0},null,null,null,{"$f":"'REPORTE PMI'!L1105","v":0},{"$f":"'REPORTE PMI'!M1105","v":0},0,null,null,0,null,null,"NO"]
[{"$f":"'REPORTE PMI'!B1106","v":0},{"$f":"'REPORTE PMI'!E1106","v":0},{"$f":"'REPORTE PMI'!J1106","v":0},{"$f":"'REPORTE PMI'!G1106","v":0},null,null,null,{"$f":"'REPORTE PMI'!L1106","v":0},{"$f":"'REPORTE PMI'!M1106","v":0},0,null,null,0,null,null,"NO"]
[{"$f":"'REPORTE PMI'!B1107","v":0},{"$f":"'REPORTE PMI'!E1107","v":0},{"$f":"'REPORTE PMI'!J1107","v":0},{"$f":"'REPORTE PMI'!G1107","v":0},null,null,null,{"$f":"'REPORTE PMI'!L1107","v":0},{"$f":"'REPORTE PMI'!M1107","v":0},0,null,null,0,null,null,"NO"]
[{"$f":"'REPORTE PMI'!B1108","v":0},{"$f":"'REPORTE PMI'!E1108","v":0},{"$f":"'REPORTE PMI'!J1108","v":0},{"$f":"'REPORTE PMI'!G1108","v":0},null,null,null,{"$f":"'REPORTE PMI'!L1108","v":0},{"$f":"'REPORTE PMI'!M1108","v":0},0,null,null,0,null,null,"NO"]
[{"$f":"'REPORTE PMI'!B1109","v":0},{"$f":"'REPORTE PMI'!E1109","v":0},{"$f":"'REPORTE PMI'!J1109","v":0},{"$f":"'REPORTE PMI'!G1109","v":0},null,null,null,{"$f":"'REPORTE PMI'!L1109","v":0},{"$f":"'REPORTE PMI'!M1109","v":0},0,null,null,0,null,null,"NO"]
[{"$f":"'REPORTE PMI'!B1110","v":0},{"$f":"'REPORTE PMI'!E1110","v":0},{"$f":"'REPORTE PMI'!J1110","v":0},{"$f":"'REPORTE PMI'!G1110","v":0},null,null,null,{"$f":"'REPORTE PMI'!L1110","v":0},{"$f":"'REPORTE PMI'!M1110","v":0},0,null,null,0,null,null,"NO"]
[{"$f":"'REPORTE PMI'!B1111","v":0},{"$f":"'REPORTE PMI'!E1111","v":0},{"$f":"'REPORTE PMI'!J1111","v":0},{"$f":"'REPORTE PMI'!G1111","v":0},null,null,null,{"$f":"'REPORTE PMI'!L1111","v":0},{"$f":"'REPORTE PMI'!M1111","v":0},0,null,null,0,null,null,"NO"]
[{"$f":"'REPORTE PMI'!B1112","v":0},{"$f":"'REPORTE PMI'!E1112","v":0},{"$f":"'REPORTE PMI'!J1112","v":0},{"$f":"'REPORTE PMI'!G1112","v":0},null,null,null,{"$f":"'REPORTE PMI'!L1112","v":0},{"$f":"'REPORTE PMI'!M1112","v":0},0,null,null,0,null,null,"NO"]
[{"$f":"'REPORTE PMI'!B1113","v":0},{"$f":"'REPORTE PMI'!E1113","v":0},{"$f":"'REPORTE PMI'!J1113","v":0},{"$f":"'REPORTE PMI'!G1113","v":0},null,null,null,{"$f":"'REPORTE PMI'!L1113","v":0},{"$f":"'REPORTE PMI'!M1113","v":0},0,null,null,0,null,null,"NO"]
[{"$f":"'REPORTE PMI'!B1114","v":0},{"$f":"'REPORTE PMI'!E1114","v":0},{"$f":"'REPORTE PMI'!J1114","v":0},{"$f":"'REPORTE PMI'!G1114","v":0},null,null,null,{"$f":"'REPORTE PMI'!L1114","v":0},{"$f":"'REPORTE PMI'!M1114","v":0},0,null,null,0,null,null,"NO"]
[{"$f":"'REPORTE PMI'!B1115","v":0},{"$f":"'REPORTE PMI'!E1115","v":0},{"$f":"'REPORTE PMI'!J1115","v":0},{"$f":"'REPORTE PMI'!G1115","v":0},null,null,null,{"$f":"'REPORTE PMI'!L1115","v":0},{"$f":"'REPORTE PMI'!M1115","v":0},0,null,null,0,null,null,"NO"]
[{"$f":"'REPORTE PMI'!B1116","v":0},{"$f":"'REPORTE PMI'!E1116","v":0},{"$f":"'REPORTE PMI'!J1116","v":0},{"$f":"'REPORTE PMI'!G1116","v":0},null,null,null,{"$f":"'REPORTE PMI'!L1116","v":0},{"$f":"'REPORTE PMI'!M1116","v":0},0,null,null,0,null,null,"NO"]
[{"$f":"'REPORTE PMI'!B1117","v":0},{"$f":"'REPORTE PMI'!E1117","v":0},{"$f":"'REPORTE PMI'!J1117","v":0},{"$f":"'REPORTE PMI'!G1117","v":0},null,null,null,{"$f":"'REPORTE PMI'!L1117","v":0},{"$f":"'REPORTE PMI'!M1117","v":0},0,null,null,0,null,null,"NO"]
[{"$f":"'REPORTE PMI'!B1118","v":0},{"$f":"'REPORTE PMI'!E1118","v":0},{"$f":"'REPORTE PMI'!J1118","v":0},{"$f":"'REPORTE PMI'!G1118","v":0},null,null,null,{"$f":"'REPORTE PMI'!L1118","v":0},{"$f":"'REPORTE PMI'!M1118","v":0},0,null,null,0,null,null,"NO"]
[{"$f":"'REPORTE PMI'!B1119","v":0},{"$f":"'REPORTE PMI'!E1119","v":0},{"$f":"'REPORTE PMI'!J1119","v":0},{"$f":"'REPORTE PMI'!G1119","v":0},null,null,null,{"$f":"'REPORTE PMI'!L1119","v":0},{"$f":"'REPORTE PMI'!M1119","v":0},0,null,null,0,null,null,"NO"]
[{"$f":"'REPORTE PMI'!B1120","v":0},{"$f":"'REPORTE PMI'!E1120","v":0},{"$f":"'REPORTE PMI'!J1120","v":0},{"$f":"'REPORTE PMI'!G1120","v":0},null,null,null,{"$f":"'REPORTE PMI'!L1120","v":0},{"$f":"'REPORTE PMI'!M1120","v":0},0,null,null,0,null,null,"NO"]
[{"$f":"'REPORTE PMI'!B1121","v":0},{"$f":"'REPORTE PMI'!E1121","v":0},{"$f":"'REPORTE PMI'!J1121","v":0},{"$f":"'REPORTE PMI'!G1121","v":0},null,null,null,{"$f":"'REPORTE PMI'!L1121","v":0},{"$f":"'REPORTE PMI'!M1121","v":0},0,null,null,0,null,null,"NO"]
[{"$f":"'REPORTE PMI'!B1122","v":0},{"$f":"'REPORTE PMI'!E1122","v":0},{"$f":"'REPORTE PMI'!J1122","v":0},{"$f":"'REPORTE PMI'!G1122","v":0},null,null,null,{"$f":"'REPORTE PMI'!L1122","v":0},{"$f":"'REPORTE PMI'!M1122","v":0},0,null,null,0,null,null,"NO"]
[{"$f":"'REPORTE PMI'!B1123","v":0},{"$f":"'REPORTE PMI'!E1123","v":0},{"$f":"'REPORTE PMI'!J1123","v":0},{"$f":"'REPORTE PMI'!G1123","v":0},null,null,null,{"$f":"'REPORTE PMI'!L1123","v":0},{"$f":"'REPORTE PMI'!M1123","v":0},0,null,null,0,null,null,"NO"]
[{"$f":"'REPORTE PMI'!B1124","v":0},{"$f":"'REPORTE PMI'!E1124","v":0},{"$f":"'REPORTE PMI'!J1124","v":0},{"$f":"'REPORTE PMI'!G1124","v":0},null,null,null,{"$f":"'REPORTE PMI'!L1124","v":0},{"$f":"'REPORTE PMI'!M1124","v":0},0,null,null,0,null,null,"NO"]
[{"$f":"'REPORTE PMI'!B1125","v":0},{"$f":"'REPORTE PMI'!E1125","v":0},{"$f":"'REPORTE PMI'!J1125","v":0},{"$f":"'REPORTE PMI'!G1125","v":0},null,null,null,{"$f":"'REPORTE PMI'!L1125","v":0},{"$f":"'REPORTE PMI'!M1125","v":0},0,null,null,0,null,null,"NO"]
[{"$f":"'REPORTE PMI'!B1126","v":0},{"$f":"'REPORTE PMI'!E1126","v":0},{"$f":"'REPORTE PMI'!J1126","v":0},{"$f":"'REPORTE PMI'!G1126","v":0},null,null,null,{"$f":"'REPORTE PMI'!L1126","v":0},{"$f":"'REPORTE PMI'!M1126","v":0},0,null,null,0,null,null,"NO"]
[{"$f":"'REPORTE PMI'!B1127","v":0},{"$f":"'REPORTE PMI'!E1127","v":0},{"$f":"'REPORTE PMI'!J1127","v":0},{"$f":"'REPORTE PMI'!G1127","v":0},null,null,null,{"$f":"'REPORTE PMI'!L1127","v":0},{"$f":"'REPORTE PMI'!M1127","v":0},0,null,null,0,null,null,"NO"]
[{"$f":"'REPORTE PMI'!B1128","v":0},{"$f":"'REPORTE PMI'!E1128","v":0},{"$f":"'REPORTE PMI'!J1128","v":0},{"$f":"'REPORTE PMI'!G1128","v":0},null,null,null,{"$f":"'REPORTE PMI'!L1128","v":0},{"$f":"'REPORTE PMI'!M1128","v":0},0,null,null,0,null,null,"NO"]
[{"$f":"'REPORTE PMI'!B1129","v":0},{"$f":"'REPORTE PMI'!E1129","v":0},{"$f":"'REPORTE PMI'!J1129","v":0},{"$f":"'REPORTE PMI'!G1129","v":0},null,null,null,{"$f":"'REPORTE PMI'!L1129","v":0},{"$f":"'REPORTE PMI'!M1129","v":0},0,null,null,0,null,null,"NO"]
[{"$f":"'REPORTE PMI'!B1130","v":0},{"$f":"'REPORTE PMI'!E1130","v":0},{"$f":"'REPORTE PMI'!J1130","v":0},{"$f":"'REPORTE PMI'!G1130","v":0},null,null,null,{"$f":"'REPORTE PMI'!L1130","v":0},{"$f":"'REPORTE PMI'!M1130","v":0},0,null,null,0,null,null,"NO"]
[{"$f":"'REPORTE PMI'!B1131","v":0},{"$f":"'REPORTE PMI'!E1131","v":0},{"$f":"'REPORTE PMI'!J1131","v":0},{"$f":"'REPORTE PMI'!G1131","v":0},null,null,null,{"$f":"'REPORTE PMI'!L1131","v":0},{"$f":"'REPORTE PMI'!M1131","v":0},0,null,null,0,null,null,"NO"]
[{"$f":"'REPORTE PMI'!B1132","v":0},{"$f":"'REPORTE PMI'!E1132","v":0},{"$f":"'REPORTE PMI'!J1132","v":0},{"$f":"'REPORTE PMI'!G1132","v":0},null,null,null,{"$f":"'REPORTE PMI'!L1132","v":0},{"$f":"'REPORTE PMI'!M1132","v":0},0,null,null,0,null,null,"NO"]
[{"$f":"'REPORTE PMI'!B1133","v":0},{"$f":"'REPORTE PMI'!E1133","v":0},{"$f":"'REPORTE PMI'!J1133","v":0},{"$f":"'REPORTE PMI'!G1133","v":0},null,null,null,{"$f":"'REPORTE PMI'!L1133","v":0},{"$f":"'REPORTE PMI'!M1133","v":0},0,null,null,0,null,null,"NO"]
[{"$f":"'REPORTE PMI'!B1134","v":0},{"$f":"'REPORTE PMI'!E1134","v":0},{"$f":"'REPORTE PMI'!J1134","v":0},{"$f":"'REPORTE PMI'!G1134","v":0},null,null,null,{"$f":"'REPORTE PMI'!L1134","v":0},{"$f":"'REPORTE PMI'!M1134","v":0},0,null,null,0,null,null,"NO"]
[{"$f":"'REPORTE PMI'!B1135","v":0},{"$f":"'REPORTE PMI'!E1135","v":0},{"$f":"'REPORTE PMI'!J1135","v":0},{"$f":"'REPORTE PMI'!G1135","v":0},null,null,null,{"$f":"'REPORTE PMI'!L1135","v":0},{"$f":"'REPORTE PMI'!M1135","v":0},0,null,null,0,null,null,"NO"]
[{"$f":"'REPORTE PMI'!B1136","v":0},{"$f":"'REPORTE PMI'!E1136","v":0},{"$f":"'REPORTE PMI'!J1136","v":0},{"$f":"'REPORTE PMI'!G1136","v":0},null,null,null,{"$f":"'REPORTE PMI'!L1136","v":0},{"$f":"'REPORTE PMI'!M1136","v":0},0,null,null,0,null,null,"NO"]
[{"$f":"'REPORTE PMI'!B1137","v":0},{"$f":"'REPORTE PMI'!E1137","v":0},{"$f":"'REPORTE PMI'!J1137","v":0},{"$f":"'REPORTE PMI'!G1137","v":0},null,null,null,{"$f":"'REPORTE PMI'!L1137","v":0},{"$f":"'REPORTE PMI'!M1137","v":0},0,null,null,0,null,null,"NO"]
[{"$f":"'REPORTE PMI'!B1138","v":0},{"$f":"'REPORTE PMI'!E1138","v":0},{"$f":"'REPORTE PMI'!J1138","v":0},{"$f":"'REPORTE PMI'!G1138","v":0},null,null,null,{"$f":"'REPORTE PMI'!L1138","v":0},{"$f":"'REPORTE PMI'!M1138","v":0},0,null,null,0,null,null,"NO"]
[{"$f":"'REPORTE PMI'!B1139","v":0},{"$f":"'REPORTE PMI'!E1139","v":0},{"$f":"'REPORTE PMI'!J1139","v":0},{"$f":"'REPORTE PMI'!G1139","v":0},null,null,null,{"$f":"'REPORTE PMI'!L1139","v":0},{"$f":"'REPORTE PMI'!M1139","v":0},0,null,null,0,null,null,"NO"]
[{"$f":"'REPORTE PMI'!B1140","v":0},{"$f":"'REPORTE PMI'!E1140","v":0},{"$f":"'REPORTE PMI'!J1140","v":0},{"$f":"'REPORTE PMI'!G1140","v":0},null,null,null,{"$f":"'REPORTE PMI'!L1140","v":0},{"$f":"'REPORTE PMI'!M1140","v":0},0,null,null,0,null,null,"NO"]
[{"$f":"'REPORTE PMI'!B1141","v":0},{"$f":"'REPORTE PMI'!E1141","v":0},{"$f":"'REPORTE PMI'!J1141","v":0},{"$f":"'REPORTE PMI'!G1141","v":0},null,null,null,{"$f":"'REPORTE PMI'!L1141","v":0},{"$f":"'REPORTE PMI'!M1141","v":0},0,null,null,0,null,null,"NO"]
[{"$f":"'REPORTE PMI'!B1142","v":0},{"$f":"'REPORTE PMI'!E1142","v":0},{"$f":"'REPORTE PMI'!J1142","v":0},{"$f":"'REPORTE PMI'!G1142","v":0},null,null,null,{"$f":"'REPORTE PMI'!L1142","v":0},{"$f":"'REPORTE PMI'!M1142","v":0},0,null,null,0,null,null,"NO"]
[{"$f":"'REPORTE PMI'!B1143","v":0},{"$f":"'REPORTE PMI'!E1143","v":0},{"$f":"'REPORTE PMI'!J1143","v":0},{"$f":"'REPORTE PMI'!G1143","v":0},null,null,null,{"$f":"'REPORTE PMI'!L1143","v":0},{"$f":"'REPORTE PMI'!M1143","v":0},0,null,null,0,null,null,"NO"]
[{"$f":"'REPORTE PMI'!B1144","v":0},{"$f":"'REPORTE PMI'!E1144","v":0},{"$f":"'REPORTE PMI'!J1144","v":0},{"$f":"'REPORTE PMI'!G1144","v":0},null,null,null,{"$f":"'REPORTE PMI'!L1144","v":0},{"$f":"'REPORTE PMI'!M1144","v":0},0,null,null,0,null,null,"NO"]
[{"$f":"'REPORTE PMI'!B1145","v":0},{"$f":"'REPORTE PMI'!E1145","v":0},{"$f":"'REPORTE PMI'!J1145","v":0},{"$f":"'REPORTE PMI'!G1145","v":0},null,null,null,{"$f":"'REPORTE PMI'!L1145","v":0},{"$f":"'REPORTE PMI'!M1145","v":0},0,null,null,0,null,null,"NO"]
[{"$f":"'REPORTE PMI'!B1146","v":0},{"$f":"'REPORTE PMI'!E1146","v":0},{"$f":"'REPORTE PMI'!J1146","v":0},{"$f":"'REPORTE PMI'!G1146","v":0},null,null,null,{"$f":"'REPORTE PMI'!L1146","v":0},{"$f":"'REPORTE PMI'!M1146","v":0},0,null,null,0,null,null,"NO"]
[{"$f":"'REPORTE PMI'!B1147","v":0},{"$f":"'REPORTE PMI'!E1147","v":0},{"$f":"'REPORTE PMI'!J1147","v":0},{"$f":"'REPORTE PMI'!G1147","v":0},null,null,null,{"$f":"'REPORTE PMI'!L1147","v":0},{"$f":"'REPORTE PMI'!M1147","v":0},0,null,null,0,null,null,"NO"]
[{"$f":"'REPORTE PMI'!B1148","v":0},{"$f":"'REPORTE PMI'!E1148","v":0},{"$f":"'REPORTE PMI'!J1148","v":0},{"$f":"'REPORTE PMI'!G1148","v":0},null,null,null,{"$f":"'REPORTE PMI'!L1148","v":0},{"$f":"'REPORTE PMI'!M1148","v":0},0,null,null,0,null,null,"NO"]
[{"$f":"'REPORTE PMI'!B1149","v":0},{"$f":"'REPORTE PMI'!E1149","v":0},{"$f":"'REPORTE PMI'!J1149","v":0},{"$f":"'REPORTE PMI'!G1149","v":0},null,null,null,{"$f":"'REPORTE PMI'!L1149","v":0},{"$f":"'REPORTE PMI'!M1149","v":0},0,null,null,0,null,null,"NO"]
[{"$f":"'REPORTE PMI'!B1150","v":0},{"$f":"'REPORTE PMI'!E1150","v":0},{"$f":"'REPORTE PMI'!J1150","v":0},{"$f":"'REPORTE PMI'!G1150","v":0},null,null,null,{"$f":"'REPORTE PMI'!L1150","v":0},{"$f":"'REPORTE PMI'!M1150","v":0},0,null,null,0,null,null,"NO"]
[{"$f":"'REPORTE PMI'!B1151","v":0},{"$f":"'REPORTE PMI'!E1151","v":0},{"$f":"'REPORTE PMI'!J1151","v":0},{"$f":"'REPORTE PMI'!G1151","v":0},null,null,null,{"$f":"'REPORTE PMI'!L1151","v":0},{"$f":"'REPORTE PMI'!M1151","v":0},0,null,null,0,null,null,"NO"]
[{"$f":"'REPORTE PMI'!B1152","v":0},{"$f":"'REPORTE PMI'!E1152","v":0},{"$f":"'REPORTE PMI'!J1152","v":0},{"$f":"'REPORTE PMI'!G1152","v":0},null,null,null,{"$f":"'REPORTE PMI'!L1152","v":0},{"$f":"'REPORTE PMI'!M1152","v":0},0,null,null,0,null,null,"NO"]
[{"$f":"'REPORTE PMI'!B1153","v":0},{"$f":"'REPORTE PMI'!E1153","v":0},{"$f":"'REPORTE PMI'!J1153","v":0},{"$f":"'REPORTE PMI'!G1153","v":0},null,null,null,{"$f":"'REPORTE PMI'!L1153","v":0},{"$f":"'REPORTE PMI'!M1153","v":0},0,null,null,0,null,null,"NO"]
[{"$f":"'REPORTE PMI'!B1154","v":0},{"$f":"'REPORTE PMI'!E1154","v":0},{"$f":"'REPORTE PMI'!J1154","v":0},{"$f":"'REPORTE PMI'!G1154","v":0},null,null,null,{"$f":"'REPORTE PMI'!L1154","v":0},{"$f":"'REPORTE PMI'!M1154","v":0},0,null,null,0,null,null,"NO"]
[{"$f":"'REPORTE PMI'!B1155","v":0},{"$f":"'REPORTE PMI'!E1155","v":0},{"$f":"'REPORTE PMI'!J1155","v":0},{"$f":"'REPORTE PMI'!G1155","v":0},null,null,null,{"$f":"'REPORTE PMI'!L1155","v":0},{"$f":"'REPORTE PMI'!M1155","v":0},0,null,null,0,null,null,"NO"]
[{"$f":"'REPORTE PMI'!B1156","v":0},{"$f":"'REPORTE PMI'!E1156","v":0},{"$f":"'REPORTE PMI'!J1156","v":0},{"$f":"'REPORTE PMI'!G1156","v":0},null,null,null,{"$f":"'REPORTE PMI'!L1156","v":0},{"$f":"'REPORTE PMI'!M1156","v":0},{"$f":"IFERROR(I1165/H1165, 0)","v":0},null,null,{"$f":"H1165-I1165","v":0},null,null,{"$f":"IF(E1165=\"SI\",IF(J1165>0%,IF(K1165=\"SI\",IF(L1165=\"NO\",IF(N1165=\"SI\",IF(O1165=\"NO\",\"SI\",\"NO\"),\"NO\"),\"NO\"),\"NO\"),\"NO\"),\"NO\")","v":"NO"}]
[{"$f":"'REPORTE PMI'!B1157","v":0},{"$f":"'REPORTE PMI'!E1157","v":0},{"$f":"'REPORTE PMI'!J1157","v":0},{"$f":"'REPORTE PMI'!G1157","v":0},null,null,null,{"$f":"'REPORTE PMI'!L1157","v":0},{"$f":"'REPORTE PMI'!M1157","v":0},0,null,null,0,null,null,"NO"]
[{"$f":"'REPORTE PMI'!B1158","v":0},{"$f":"'REPORTE PMI'!E1158","v":0},{"$f":"'REPORTE PMI'!J1158","v":0},{"$f":"'REPORTE PMI'!G1158","v":0},null,null,null,{"$f":"'REPORTE PMI'!L1158","v":0},{"$f":"'REPORTE PMI'!M1158","v":0},0,null,null,0,null,null,"NO"]
[{"$f":"'REPORTE PMI'!B1159","v":0},{"$f":"'REPORTE PMI'!E1159","v":0},{"$f":"'REPORTE PMI'!J1159","v":0},{"$f":"'REPORTE PMI'!G1159","v":0},null,null,null,{"$f":"'REPORTE PMI'!L1159","v":0},{"$f":"'REPORTE PMI'!M1159","v":0},0,null,null,0,null,null,"NO"]
[{"$f":"'REPORTE PMI'!B1160","v":0},{"$f":"'REPORTE PMI'!E1160","v":0},{"$f":"'REPORTE PMI'!J1160","v":0},{"$f":"'REPORTE PMI'!G1160","v":0},null,null,null,{"$f":"'REPORTE PMI'!L1160","v":0},{"$f":"'REPORTE PMI'!M1160","v":0},0,null,null,0,null,null,"NO"]
[{"$f":"'REPORTE PMI'!B1161","v":0},{"$f":"'REPORTE PMI'!E1161","v":0},{"$f":"'REPORTE PMI'!J1161","v":0},{"$f":"'REPORTE PMI'!G1161","v":0},null,null,null,{"$f":"'REPORTE PMI'!L1161","v":0},{"$f":"'REPORTE PMI'!M1161","v":0},0,null,null,0,null,null,"NO"]
[{"$f":"'REPORTE PMI'!B1162","v":0},{"$f":"'REPORTE PMI'!E1162","v":0},{"$f":"'REPORTE PMI'!J1162","v":0},{"$f":"'REPORTE PMI'!G1162","v":0},null,null,null,{"$f":"'REPORTE PMI'!L1162","v":0},{"$f":"'REPORTE PMI'!M1162","v":0},0,null,null,0,null,null,"NO"]
[{"$f":"'REPORTE PMI'!B1163","v":0},{"$f":"'REPORTE PMI'!E1163","v":0},{"$f":"'REPORTE PMI'!J1163","v":0},{"$f":"'REPORTE PMI'!G1163","v":0},null,null,null,{"$f":"'REPORTE PMI'!L1163","v":0},{"$f":"'REPORTE PMI'!M1163","v":0},0,null,null,0,null,null,"NO"]
[{"$f":"'REPORTE PMI'!B1164","v":0},{"$f":"'REPORTE PMI'!E1164","v":0},{"$f":"'REPORTE PMI'!J1164","v":0},{"$f":"'REPORTE PMI'!G1164","v":0},null,null,null,{"$f":"'REPORTE PMI'!L1164","v":0},{"$f":"'REPORTE PMI'!M1164","v":0},0,null,null,0,null,null,"NO"]
[{"$f":"'REPORTE PMI'!B1165","v":0},{"$f":"'REPORTE PMI'!E1165","v":0},{"$f":"'REPORTE PMI'!J1165","v":0},{"$f":"'REPORTE PMI'!G1165","v":0},null,null,null,{"$f":"'REPORTE PMI'!L1165","v":0},{"$f":"'REPORTE PMI'!M1165","v":0},0,null,null,0,null,null,"NO"]
[{"$f":"'REPORTE PMI'!B1166","v":0},{"$f":"'REPORTE PMI'!E1166","v":0},{"$f":"'REPORTE PMI'!J1166","v":0},{"$f":"'REPORTE PMI'!G1166","v":0},null,null,null,{"$f":"'REPORTE PMI'!L1166","v":0},{"$f":"'REPORTE PMI'!M1166","v":0},0,null,null,0,null,null,"NO"]
[{"$f":"'REPORTE PMI'!B1167","v":0},{"$f":"'REPORTE PMI'!E1167","v":0},{"$f":"'REPORTE PMI'!J1167","v":0},{"$f":"'REPORTE PMI'!G1167","v":0},null,null,null,{"$f":"'REPORTE PMI'!L1167","v":0},{"$f":"'REPORTE PMI'!M1167","v":0},0,null,null,0,null,null,"NO"]
[{"$f":"'REPORTE PMI'!B1168","v":0},{"$f":"'REPORTE PMI'!E1168","v":0},{"$f":"'REPORTE PMI'!J1168","v":0},{"$f":"'REPORTE PMI'!G1168","v":0},null,null,null,{"$f":"'REPORTE PMI'!L1168","v":0},{"$f":"'REPORTE PMI'!M1168","v":0},0,null,null,0,null,null,"NO"]
[{"$f":"'REPORTE PMI'!B1169","v":0},{"$f":"'REPORTE PMI'!E1169","v":0},{"$f":"'REPORTE PMI'!J1169","v":0},{"$f":"'REPORTE PMI'!G1169","v":0},null,null,null,{"$f":"'REPORTE PMI'!L1169","v":0},{"$f":"'REPORTE PMI'!M1169","v":0},0,null,null,0,null,null,"NO"]
[{"$f":"'REPORTE PMI'!B1170","v":0},{"$f":"'REPORTE PMI'!E1170","v":0},{"$f":"'REPORTE PMI'!J1170","v":0},{"$f":"'REPORTE PMI'!G1170","v":0},null,null,null,{"$f":"'REPORTE PMI'!L1170","v":0},{"$f":"'REPORTE PMI'!M1170","v":0},0,null,null,0,null,null,"NO"]
[{"$f":"'REPORTE PMI'!B1171","v":0},{"$f":"'REPORTE PMI'!E1171","v":0},{"$f":"'REPORTE PMI'!J1171","v":0},{"$f":"'REPORTE PMI'!G1171","v":0},null,null,null,{"$f":"'REPORTE PMI'!L1171","v":0},{"$f":"'REPORTE PMI'!M1171","v":0},0,null,null,0,null,null,"NO"]
[{"$f":"'REPORTE PMI'!B1172","v":0},{"$f":"'REPORTE PMI'!E1172","v":0},{"$f":"'REPORTE PMI'!J1172","v":0},{"$f":"'REPORTE PMI'!G1172","v":0},null,null,null,{"$f":"'REPORTE PMI'!L1172","v":0},{"$f":"'REPORTE PMI'!M1172","v":0},0,null,null,0,null,null,"NO"]
[{"$f":"'REPORTE PMI'!B1173","v":0},{"$f":"'REPORTE PMI'!E1173","v":0},{"$f":"'REPORTE PMI'!J1173","v":0},{"$f":"'REPORTE PMI'!G1173","v":0},null,null,null,{"$f":"'REPORTE PMI'!L1173","v":0},{"$f":"'REPORTE PMI'!M1173","v":0},0,null,null,0,null,null,"NO"]
[{"$f":"'REPORTE PMI'!B1174","v":0},{"$f":"'REPORTE PMI'!E1174","v":0},{"$f":"'REPORTE PMI'!J1174","v":0},{"$f":"'REPORTE PMI'!G1174","v":0},null,null,null,{"$f":"'REPORTE PMI'!L1174","v":0},{"$f":"'REPORTE PMI'!M1174","v":0},0,null,null,0,null,null,"NO"]
[{"$f":"'REPORTE PMI'!B1175","v":0},{"$f":"'REPORTE PMI'!E1175","v":0},{"$f":"'REPORTE PMI'!J1175","v":0},{"$f":"'REPORTE PMI'!G1175","v":0},null,null,null,{"$f":"'REPORTE PMI'!L1175","v":0},{"$f":"'REPORTE PMI'!M1175","v":0},0,null,null,0,null,null,"NO"]
[{"$f":"'REPORTE PMI'!B1176","v":0},{"$f":"'REPORTE PMI'!E1176","v":0},{"$f":"'REPORTE PMI'!J1176","v":0},{"$f":"'REPORTE PMI'!G1176","v":0},null,null,null,{"$f":"'REPORTE PMI'!L1176","v":0},{"$f":"'REPORTE PMI'!M1176","v":0},0,null,null,0,null,null,"NO"]
[{"$f":"'REPORTE PMI'!B1177","v":0},{"$f":"'REPORTE PMI'!E1177","v":0},{"$f":"'REPORTE PMI'!J1177","v":0},{"$f":"'REPORTE PMI'!G1177","v":0},null,null,null,{"$f":"'REPORTE PMI'!L1177","v":0},{"$f":"'REPORTE PMI'!M1177","v":0},0,null,null,0,null,null,"NO"]
[{"$f":"'REPORTE PMI'!B1178","v":0},{"$f":"'REPORTE PMI'!E1178","v":0},{"$f":"'REPORTE PMI'!J1178","v":0},{"$f":"'REPORTE PMI'!G1178","v":0},null,null,null,{"$f":"'REPORTE PMI'!L1178","v":0},{"$f":"'REPORTE PMI'!M1178","v":0},0,null,null,0,null,null,"NO"]
[{"$f":"'REPORTE PMI'!B1179","v":0},{"$f":"'REPORTE PMI'!E1179","v":0},{"$f":"'REPORTE PMI'!J1179","v":0},{"$f":"'REPORTE PMI'!G1179","v":0},null,null,null,{"$f":"'REPORTE PMI'!L1179","v":0},{"$f":"'REPORTE PMI'!M1179","v":0},0,null,null,0,null,null,"NO"]
[{"$f":"'REPORTE PMI'!B1180","v":0},{"$f":"'REPORTE PMI'!E1180","v":0},{"$f":"'REPORTE PMI'!J1180","v":0},{"$f":"'REPORTE PMI'!G1180","v":0},null,null,null,{"$f":"'REPORTE PMI'!L1180","v":0},{"$f":"'REPORTE PMI'!M1180","v":0},0,null,null,0,null,null,"NO"]
[{"$f":"'REPORTE PMI'!B1181","v":0},{"$f":"'REPORTE PMI'!E1181","v":0},{"$f":"'REPORTE PMI'!J1181","v":0},{"$f":"'REPORTE PMI'!G1181","v":0},null,null,null,{"$f":"'REPORTE PMI'!L1181","v":0},{"$f":"'REPORTE PMI'!M1181","v":0},0,null,null,0,null,null,"NO"]
[{"$f":"'REPORTE PMI'!B1182","v":0},{"$f":"'REPORTE PMI'!E1182","v":0},{"$f":"'REPORTE PMI'!J1182","v":0},{"$f":"'REPORTE PMI'!G1182","v":0},null,null,null,{"$f":"'REPORTE PMI'!L1182","v":0},{"$f":"'REPORTE PMI'!M1182","v":0},0,null,null,0,null,null,"NO"]
[{"$f":"'REPORTE PMI'!B1183","v":0},{"$f":"'REPORTE PMI'!E1183","v":0},{"$f":"'REPORTE PMI'!J1183","v":0},{"$f":"'REPORTE PMI'!G1183","v":0},null,null,null,{"$f":"'REPORTE PMI'!L1183","v":0},{"$f":"'REPORTE PMI'!M1183","v":0},0,null,null,0,null,null,"NO"]
[{"$f":"'REPORTE PMI'!B1184","v":0},{"$f":"'REPORTE PMI'!E1184","v":0},{"$f":"'REPORTE PMI'!J1184","v":0},{"$f":"'REPORTE PMI'!G1184","v":0},null,null,null,{"$f":"'REPORTE PMI'!L1184","v":0},{"$f":"'REPORTE PMI'!M1184","v":0},0,null,null,0,null,null,"NO"]
[{"$f":"'REPORTE PMI'!B1185","v":0},{"$f":"'REPORTE PMI'!E1185","v":0},{"$f":"'REPORTE PMI'!J1185","v":0},{"$f":"'REPORTE PMI'!G1185","v":0},null,null,null,{"$f":"'REPORTE PMI'!L1185","v":0},{"$f":"'REPORTE PMI'!M1185","v":0},0,null,null,0,null,null,"NO"]
[{"$f":"'REPORTE PMI'!B1186","v":0},{"$f":"'REPORTE PMI'!E1186","v":0},{"$f":"'REPORTE PMI'!J1186","v":0},{"$f":"'REPORTE PMI'!G1186","v":0},null,null,null,{"$f":"'REPORTE PMI'!L1186","v":0},{"$f":"'REPORTE PMI'!M1186","v":0},0,null,null,0,null,null,"NO"]
[{"$f":"'REPORTE PMI'!B1187","v":0},{"$f":"'REPORTE PMI'!E1187","v":0},{"$f":"'REPORTE PMI'!J1187","v":0},{"$f":"'REPORTE PMI'!G1187","v":0},null,null,null,{"$f":"'REPORTE PMI'!L1187","v":0},{"$f":"'REPORTE PMI'!M1187","v":0},0,null,null,0,null,null,"NO"]
[{"$f":"'REPORTE PMI'!B1188","v":0},{"$f":"'REPORTE PMI'!E1188","v":0},{"$f":"'REPORTE PMI'!J1188","v":0},{"$f":"'REPORTE PMI'!G1188","v":0},null,null,null,{"$f":"'REPORTE PMI'!L1188","v":0},{"$f":"'REPORTE PMI'!M1188","v":0},0,null,null,0,null,null,"NO"]
[{"$f":"'REPORTE PMI'!B1189","v":0},{"$f":"'REPORTE PMI'!E1189","v":0},{"$f":"'REPORTE PMI'!J1189","v":0},{"$f":"'REPORTE PMI'!G1189","v":0},null,null,null,{"$f":"'REPORTE PMI'!L1189","v":0},{"$f":"'REPORTE PMI'!M1189","v":0},0,null,null,0,null,null,"NO"]
[{"$f":"'REPORTE PMI'!B1190","v":0},{"$f":"'REPORTE PMI'!E1190","v":0},{"$f":"'REPORTE PMI'!J1190","v":0},{"$f":"'REPORTE PMI'!G1190","v":0},null,null,null,{"$f":"'REPORTE PMI'!L1190","v":0},{"$f":"'REPORTE PMI'!M1190","v":0},0,null,null,0,null,null,"NO"]
[{"$f":"'REPORTE PMI'!B1191","v":0},{"$f":"'REPORTE PMI'!E1191","v":0},{"$f":"'REPORTE PMI'!J1191","v":0},{"$f":"'REPORTE PMI'!G1191","v":0},null,null,null,{"$f":"'REPORTE PMI'!L1191","v":0},{"$f":"'REPORTE PMI'!M1191","v":0},0,null,null,0,null,null,"NO"]
[{"$f":"'REPORTE PMI'!B1192","v":0},{"$f":"'REPORTE PMI'!E1192","v":0},{"$f":"'REPORTE PMI'!J1192","v":0},{"$f":"'REPORTE PMI'!G1192","v":0},null,null,null,{"$f":"'REPORTE PMI'!L1192","v":0},{"$f":"'REPORTE PMI'!M1192","v":0},0,null,null,0,null,null,"NO"]
[{"$f":"'REPORTE PMI'!B1193","v":0},{"$f":"'REPORTE PMI'!E1193","v":0},{"$f":"'REPORTE PMI'!J1193","v":0},{"$f":"'REPORTE PMI'!G1193","v":0},null,null,null,{"$f":"'REPORTE PMI'!L1193","v":0},{"$f":"'REPORTE PMI'!M1193","v":0},0,null,null,0,null,null,"NO"]
[{"$f":"'REPORTE PMI'!B1194","v":0},{"$f":"'REPORTE PMI'!E1194","v":0},{"$f":"'REPORTE PMI'!J1194","v":0},{"$f":"'REPORTE PMI'!G1194","v":0},null,null,null,{"$f":"'REPORTE PMI'!L1194","v":0},{"$f":"'REPORTE PMI'!M1194","v":0},0,null,null,0,null,null,"NO"]
[{"$f":"'REPORTE PMI'!B1195","v":0},{"$f":"'REPORTE PMI'!E1195","v":0},{"$f":"'REPORTE PMI'!J1195","v":0},{"$f":"'REPORTE PMI'!G1195","v":0},null,null,null,{"$f":"'REPORTE PMI'!L1195","v":0},{"$f":"'REPORTE PMI'!M1195","v":0},0,null,null,0,null,null,"NO"]
[{"$f":"'REPORTE PMI'!B1196","v":0},{"$f":"'REPORTE PMI'!E1196","v":0},{"$f":"'REPORTE PMI'!J1196","v":0},{"$f":"'REPORTE PMI'!G1196","v":0},null,null,null,{"$f":"'REPORTE PMI'!L1196","v":0},{"$f":"'REPORTE PMI'!M1196","v":0},0,null,null,0,null,null,"NO"]
[{"$f":"'REPORTE PMI'!B1197","v":0},{"$f":"'REPORTE PMI'!E1197","v":0},{"$f":"'REPORTE PMI'!J1197","v":0},{"$f":"'REPORTE PMI'!G1197","v":0},null,null,null,{"$f":"'REPORTE PMI'!L1197","v":0},{"$f":"'REPORTE PMI'!M1197","v":0},0,null,null,0,null,null,"NO"]
[{"$f":"'REPORTE PMI'!B1198","v":0},{"$f":"'REPORTE PMI'!E1198","v":0},{"$f":"'REPORTE PMI'!J1198","v":0},{"$f":"'REPORTE PMI'!G1198","v":0},null,null,null,{"$f":"'REPORTE PMI'!L1198","v":0},{"$f":"'REPORTE PMI'!M1198","v":0},0,null,null,0,null,null,"NO"]
[{"$f":"'REPORTE PMI'!B1199","v":0},{"$f":"'REPORTE PMI'!E1199","v":0},{"$f":"'REPORTE PMI'!J1199","v":0},{"$f":"'REPORTE PMI'!G1199","v":0},null,null,null,{"$f":"'REPORTE PMI'!L1199","v":0},{"$f":"'REPORTE PMI'!M1199","v":0},0,null,null,0,null,null,"NO"]
[{"$f":"'REPORTE PMI'!B1200","v":0},{"$f":"'REPORTE PMI'!E1200","v":0},{"$f":"'REPORTE PMI'!J1200","v":0},{"$f":"'REPORTE PMI'!G1200","v":0},null,null,null,{"$f":"'REPORTE PMI'!L1200","v":0},{"$f":"'REPORTE PMI'!M1200","v":0},0,null,null,0,null,null,"NO"]
[{"$f":"'REPORTE PMI'!B1201","v":0},{"$f":"'REPORTE PMI'!E1201","v":0},{"$f":"'REPORTE PMI'!J1201","v":0},{"$f":"'REPORTE PMI'!G1201","v":0},null,null,null,{"$f":"'REPORTE PMI'!L1201","v":0},{"$f":"'REPORTE PMI'!M1201","v":0},0,null,null,0,null,null,"NO"]
[{"$f":"'REPORTE PMI'!B1202","v":0},{"$f":"'REPORTE PMI'!E1202","v":0},{"$f":"'REPORTE PMI'!J1202","v":0},{"$f":"'REPORTE PMI'!G1202","v":0},null,null,null,{"$f":"'REPORTE PMI'!L1202","v":0},{"$f":"'REPORTE PMI'!M1202","v":0},0,null,null,0,null,null,"NO"]
[{"$f":"'REPORTE PMI'!B1203","v":0},{"$f":"'REPORTE PMI'!E1203","v":0},{"$f":"'REPORTE PMI'!J1203","v":0},{"$f":"'REPORTE PMI'!G1203","v":0},null,null,null,{"$f":"'REPORTE PMI'!L1203","v":0},{"$f":"'REPORTE PMI'!M1203","v":0},0,null,null,0,null,null,"NO"]
[{"$f":"'REPORTE PMI'!B1204","v":0},{"$f":"'REPORTE PMI'!E1204","v":0},{"$f":"'REPORTE PMI'!J1204","v":0},{"$f":"'REPORTE PMI'!G1204","v":0},null,null,null,{"$f":"'REPORTE PMI'!L1204","v":0},{"$f":"'REPORTE PMI'!M1204","v":0},0,null,null,0,null,null,"NO"]
[{"$f":"'REPORTE PMI'!B1205","v":0},{"$f":"'REPORTE PMI'!E1205","v":0},{"$f":"'REPORTE PMI'!J1205","v":0},{"$f":"'REPORTE PMI'!G1205","v":0},null,null,null,{"$f":"'REPORTE PMI'!L1205","v":0},{"$f":"'REPORTE PMI'!M1205","v":0},0,null,null,0,null,null,"NO"]
[{"$f":"'REPORTE PMI'!B1206","v":0},{"$f":"'REPORTE PMI'!E1206","v":0},{"$f":"'REPORTE PMI'!J1206","v":0},{"$f":"'REPORTE PMI'!G1206","v":0},null,null,null,{"$f":"'REPORTE PMI'!L1206","v":0},{"$f":"'REPORTE PMI'!M1206","v":0},0,null,null,0,null,null,"NO"]
[{"$f":"'REPORTE PMI'!B1207","v":0},{"$f":"'REPORTE PMI'!E1207","v":0},{"$f":"'REPORTE PMI'!J1207","v":0},{"$f":"'REPORTE PMI'!G1207","v":0},null,null,null,{"$f":"'REPORTE PMI'!L1207","v":0},{"$f":"'REPORTE PMI'!M1207","v":0},0,null,null,0,null,null,"NO"]
[{"$f":"'REPORTE PMI'!B1208","v":0},{"$f":"'REPORTE PMI'!E1208","v":0},{"$f":"'REPORTE PMI'!J1208","v":0},{"$f":"'REPORTE PMI'!G1208","v":0},null,null,null,{"$f":"'REPORTE PMI'!L1208","v":0},{"$f":"'REPORTE PMI'!M1208","v":0},0,null,null,0,null,null,"NO"]
[{"$f":"'REPORTE PMI'!B1209","v":0},{"$f":"'REPORTE PMI'!E1209","v":0},{"$f":"'REPORTE PMI'!J1209","v":0},{"$f":"'REPORTE PMI'!G1209","v":0},null,null,null,{"$f":"'REPORTE PMI'!L1209","v":0},{"$f":"'REPORTE PMI'!M1209","v":0},0,null,null,0,null,null,"NO"]
[{"$f":"'REPORTE PMI'!B1210","v":0},{"$f":"'REPORTE PMI'!E1210","v":0},{"$f":"'REPORTE PMI'!J1210","v":0},{"$f":"'REPORTE PMI'!G1210","v":0},null,null,null,{"$f":"'REPORTE PMI'!L1210","v":0},{"$f":"'REPORTE PMI'!M1210","v":0},0,null,null,0,null,null,"NO"]
[{"$f":"'REPORTE PMI'!B1211","v":0},{"$f":"'REPORTE PMI'!E1211","v":0},{"$f":"'REPORTE PMI'!J1211","v":0},{"$f":"'REPORTE PMI'!G1211","v":0},null,null,null,{"$f":"'REPORTE PMI'!L1211","v":0},{"$f":"'REPORTE PMI'!M1211","v":0},0,null,null,0,null,null,"NO"]
[{"$f":"'REPORTE PMI'!B1212","v":0},{"$f":"'REPORTE PMI'!E1212","v":0},{"$f":"'REPORTE PMI'!J1212","v":0},{"$f":"'REPORTE PMI'!G1212","v":0},null,null,null,{"$f":"'REPORTE PMI'!L1212","v":0},{"$f":"'REPORTE PMI'!M1212","v":0},0,null,null,0,null,null,"NO"]
[{"$f":"'REPORTE PMI'!B1213","v":0},{"$f":"'REPORTE PMI'!E1213","v":0},{"$f":"'REPORTE PMI'!J1213","v":0},{"$f":"'REPORTE PMI'!G1213","v":0},null,null,null,{"$f":"'REPORTE PMI'!L1213","v":0},{"$f":"'REPORTE PMI'!M1213","v":0},0,null,null,0,null,null,"NO"]
[{"$f":"'REPORTE PMI'!B1214","v":0},{"$f":"'REPORTE PMI'!E1214","v":0},{"$f":"'REPORTE PMI'!J1214","v":0},{"$f":"'REPORTE PMI'!G1214","v":0},null,null,null,{"$f":"'REPORTE PMI'!L1214","v":0},{"$f":"'REPORTE PMI'!M1214","v":0},0,null,null,0,null,null,"NO"]
[{"$f":"'REPORTE PMI'!B1215","v":0},{"$f":"'REPORTE PMI'!E1215","v":0},{"$f":"'REPORTE PMI'!J1215","v":0},{"$f":"'REPORTE PMI'!G1215","v":0},null,null,null,{"$f":"'REPORTE PMI'!L1215","v":0},{"$f":"'REPORTE PMI'!M1215","v":0},0,null,null,0,null,null,"NO"]
[{"$f":"'REPORTE PMI'!B1216","v":0},{"$f":"'REPORTE PMI'!E1216","v":0},{"$f":"'REPORTE PMI'!J1216","v":0},{"$f":"'REPORTE PMI'!G1216","v":0},null,null,null,{"$f":"'REPORTE PMI'!L1216","v":0},{"$f":"'REPORTE PMI'!M1216","v":0},0,null,null,0,null,null,"NO"]
[{"$f":"'REPORTE PMI'!B1217","v":0},{"$f":"'REPORTE PMI'!E1217","v":0},{"$f":"'REPORTE PMI'!J1217","v":0},{"$f":"'REPORTE PMI'!G1217","v":0},null,null,null,{"$f":"'REPORTE PMI'!L1217","v":0},{"$f":"'REPORTE PMI'!M1217","v":0},0,null,null,0,null,null,"NO"]
[{"$f":"'REPORTE PMI'!B1218","v":0},{"$f":"'REPORTE PMI'!E1218","v":0},{"$f":"'REPORTE PMI'!J1218","v":0},{"$f":"'REPORTE PMI'!G1218","v":0},null,null,null,{"$f":"'REPORTE PMI'!L1218","v":0},{"$f":"'REPORTE PMI'!M1218","v":0},0,null,null,0,null,null,"NO"]
[{"$f":"'REPORTE PMI'!B1219","v":0},{"$f":"'REPORTE PMI'!E1219","v":0},{"$f":"'REPORTE PMI'!J1219","v":0},{"$f":"'REPORTE PMI'!G1219","v":0},null,null,null,{"$f":"'REPORTE PMI'!L1219","v":0},{"$f":"'REPORTE PMI'!M1219","v":0},0,null,null,0,null,null,"NO"]
[{"$f":"'REPORTE PMI'!B1220","v":0},{"$f":"'REPORTE PMI'!E1220","v":0},{"$f":"'REPORTE PMI'!J1220","v":0},{"$f":"'REPORTE PMI'!G1220","v":0},null,null,null,{"$f":"'REPORTE PMI'!L1220","v":0},{"$f":"'REPORTE PMI'!M1220","v":0},{"$f":"IFERROR(I1229/H1229, 0)","v":0},null,null,{"$f":"H1229-I1229","v":0},null,null,{"$f":"IF(E1229=\"SI\",IF(J1229>0%,IF(K1229=\"SI\",IF(L1229=\"NO\",IF(N1229=\"SI\",IF(O1229=\"NO\",\"SI\",\"NO\"),\"NO\"),\"NO\"),\"NO\"),\"NO\"),\"NO\")","v":"NO"}]
[{"$f":"'REPORTE PMI'!B1221","v":0},{"$f":"'REPORTE PMI'!E1221","v":0},{"$f":"'REPORTE PMI'!J1221","v":0},{"$f":"'REPORTE PMI'!G1221","v":0},null,null,null,{"$f":"'REPORTE PMI'!L1221","v":0},{"$f":"'REPORTE PMI'!M1221","v":0},0,null,null,0,null,null,"NO"]
[{"$f":"'REPORTE PMI'!B1222","v":0},{"$f":"'REPORTE PMI'!E1222","v":0},{"$f":"'REPORTE PMI'!J1222","v":0},{"$f":"'REPORTE PMI'!G1222","v":0},null,null,null,{"$f":"'REPORTE PMI'!L1222","v":0},{"$f":"'REPORTE PMI'!M1222","v":0},0,null,null,0,null,null,"NO"]
[{"$f":"'REPORTE PMI'!B1223","v":0},{"$f":"'REPORTE PMI'!E1223","v":0},{"$f":"'REPORTE PMI'!J1223","v":0},{"$f":"'REPORTE PMI'!G1223","v":0},null,null,null,{"$f":"'REPORTE PMI'!L1223","v":0},{"$f":"'REPORTE PMI'!M1223","v":0},0,null,null,0,null,null,"NO"]
[{"$f":"'REPORTE PMI'!B1224","v":0},{"$f":"'REPORTE PMI'!E1224","v":0},{"$f":"'REPORTE PMI'!J1224","v":0},{"$f":"'REPORTE PMI'!G1224","v":0},null,null,null,{"$f":"'REPORTE PMI'!L1224","v":0},{"$f":"'REPORTE PMI'!M1224","v":0},0,null,null,0,null,null,"NO"]
[{"$f":"'REPORTE PMI'!B1225","v":0},{"$f":"'REPORTE PMI'!E1225","v":0},{"$f":"'REPORTE PMI'!J1225","v":0},{"$f":"'REPORTE PMI'!G1225","v":0},null,null,null,{"$f":"'REPORTE PMI'!L1225","v":0},{"$f":"'REPORTE PMI'!M1225","v":0},0,null,null,0,null,null,"NO"]
[{"$f":"'REPORTE PMI'!B1226","v":0},{"$f":"'REPORTE PMI'!E1226","v":0},{"$f":"'REPORTE PMI'!J1226","v":0},{"$f":"'REPORTE PMI'!G1226","v":0},null,null,null,{"$f":"'REPORTE PMI'!L1226","v":0},{"$f":"'REPORTE PMI'!M1226","v":0},0,null,null,0,null,null,"NO"]
[{"$f":"'REPORTE PMI'!B1227","v":0},{"$f":"'REPORTE PMI'!E1227","v":0},{"$f":"'REPORTE PMI'!J1227","v":0},{"$f":"'REPORTE PMI'!G1227","v":0},null,null,null,{"$f":"'REPORTE PMI'!L1227","v":0},{"$f":"'REPORTE PMI'!M1227","v":0},0,null,null,0,null,null,"NO"]
[{"$f":"'REPORTE PMI'!B1228","v":0},{"$f":"'REPORTE PMI'!E1228","v":0},{"$f":"'REPORTE PMI'!J1228","v":0},{"$f":"'REPORTE PMI'!G1228","v":0},null,null,null,{"$f":"'REPORTE PMI'!L1228","v":0},{"$f":"'REPORTE PMI'!M1228","v":0},0,null,null,0,null,null,"NO"]
[{"$f":"'REPORTE PMI'!B1229","v":0},{"$f":"'REPORTE PMI'!E1229","v":0},{"$f":"'REPORTE PMI'!J1229","v":0},{"$f":"'REPORTE PMI'!G1229","v":0},null,null,null,{"$f":"'REPORTE PMI'!L1229","v":0},{"$f":"'REPORTE PMI'!M1229","v":0},0,null,null,0,null,null,"NO"]
[{"$f":"'REPORTE PMI'!B1230","v":0},{"$f":"'REPORTE PMI'!E1230","v":0},{"$f":"'REPORTE PMI'!J1230","v":0},{"$f":"'REPORTE PMI'!G1230","v":0},null,null,null,{"$f":"'REPORTE PMI'!L1230","v":0},{"$f":"'REPORTE PMI'!M1230","v":0},0,null,null,0,null,null,"NO"]
[{"$f":"'REPORTE PMI'!B1231","v":0},{"$f":"'REPORTE PMI'!E1231","v":0},{"$f":"'REPORTE PMI'!J1231","v":0},{"$f":"'REPORTE PMI'!G1231","v":0},null,null,null,{"$f":"'REPORTE PMI'!L1231","v":0},{"$f":"'REPORTE PMI'!M1231","v":0},0,null,null,0,null,null,"NO"]
[{"$f":"'REPORTE PMI'!B1232","v":0},{"$f":"'REPORTE PMI'!E1232","v":0},{"$f":"'REPORTE PMI'!J1232","v":0},{"$f":"'REPORTE PMI'!G1232","v":0},null,null,null,{"$f":"'REPORTE PMI'!L1232","v":0},{"$f":"'REPORTE PMI'!M1232","v":0},0,null,null,0,null,null,"NO"]
[{"$f":"'REPORTE PMI'!B1233","v":0},{"$f":"'REPORTE PMI'!E1233","v":0},{"$f":"'REPORTE PMI'!J1233","v":0},{"$f":"'REPORTE PMI'!G1233","v":0},null,null,null,{"$f":"'REPORTE PMI'!L1233","v":0},{"$f":"'REPORTE PMI'!M1233","v":0},0,null,null,0,null,null,"NO"]
[{"$f":"'REPORTE PMI'!B1234","v":0},{"$f":"'REPORTE PMI'!E1234","v":0},{"$f":"'REPORTE PMI'!J1234","v":0},{"$f":"'REPORTE PMI'!G1234","v":0},null,null,null,{"$f":"'REPORTE PMI'!L1234","v":0},{"$f":"'REPORTE PMI'!M1234","v":0},0,null,null,0,null,null,"NO"]
[{"$f":"'REPORTE PMI'!B1235","v":0},{"$f":"'REPORTE PMI'!E1235","v":0},{"$f":"'REPORTE PMI'!J1235","v":0},{"$f":"'REPORTE PMI'!G1235","v":0},null,null,null,{"$f":"'REPORTE PMI'!L1235","v":0},{"$f":"'REPORTE PMI'!M1235","v":0},0,null,null,0,null,null,"NO"]
[{"$f":"'REPORTE PMI'!B1236","v":0},{"$f":"'REPORTE PMI'!E1236","v":0},{"$f":"'REPORTE PMI'!J1236","v":0},{"$f":"'REPORTE PMI'!G1236","v":0},null,null,null,{"$f":"'REPORTE PMI'!L1236","v":0},{"$f":"'REPORTE PMI'!M1236","v":0},0,null,null,0,null,null,"NO"]
[{"$f":"'REPORTE PMI'!B1237","v":0},{"$f":"'REPORTE PMI'!E1237","v":0},{"$f":"'REPORTE PMI'!J1237","v":0},{"$f":"'REPORTE PMI'!G1237","v":0},null,null,null,{"$f":"'REPORTE PMI'!L1237","v":0},{"$f":"'REPORTE PMI'!M1237","v":0},0,null,null,0,null,null,"NO"]
[{"$f":"'REPORTE PMI'!B1238","v":0},{"$f":"'REPORTE PMI'!E1238","v":0},{"$f":"'REPORTE PMI'!J1238","v":0},{"$f":"'REPORTE PMI'!G1238","v":0},null,null,null,{"$f":"'REPORTE PMI'!L1238","v":0},{"$f":"'REPORTE PMI'!M1238","v":0},0,null,null,0,null,null,"NO"]
[{"$f":"'REPORTE PMI'!B1239","v":0},{"$f":"'REPORTE PMI'!E1239","v":0},{"$f":"'REPORTE PMI'!J1239","v":0},{"$f":"'REPORTE PMI'!G1239","v":0},null,null,null,{"$f":"'REPORTE PMI'!L1239","v":0},{"$f":"'REPORTE PMI'!M1239","v":0},0,null,null,0,null,null,"NO"]
[{"$f":"'REPORTE PMI'!B1240","v":0},{"$f":"'REPORTE PMI'!E1240","v":0},{"$f":"'REPORTE PMI'!J1240","v":0},{"$f":"'REPORTE PMI'!G1240","v":0},null,null,null,{"$f":"'REPORTE PMI'!L1240","v":0},{"$f":"'REPORTE PMI'!M1240","v":0},0,null,null,0,null,null,"NO"]
[{"$f":"'REPORTE PMI'!B1241","v":0},{"$f":"'REPORTE PMI'!E1241","v":0},{"$f":"'REPORTE PMI'!J1241","v":0},{"$f":"'REPORTE PMI'!G1241","v":0},null,null,null,{"$f":"'REPORTE PMI'!L1241","v":0},{"$f":"'REPORTE PMI'!M1241","v":0},0,null,null,0,null,null,"NO"]
[{"$f":"'REPORTE PMI'!B1242","v":0},{"$f":"'REPORTE PMI'!E1242","v":0},{"$f":"'REPORTE PMI'!J1242","v":0},{"$f":"'REPORTE PMI'!G1242","v":0},null,null,null,{"$f":"'REPORTE PMI'!L1242","v":0},{"$f":"'REPORTE PMI'!M1242","v":0},0,null,null,0,null,null,"NO"]
[{"$f":"'REPORTE PMI'!B1243","v":0},{"$f":"'REPORTE PMI'!E1243","v":0},{"$f":"'REPORTE PMI'!J1243","v":0},{"$f":"'REPORTE PMI'!G1243","v":0},null,null,null,{"$f":"'REPORTE PMI'!L1243","v":0},{"$f":"'REPORTE PMI'!M1243","v":0},0,null,null,0,null,null,"NO"]
[{"$f":"'REPORTE PMI'!B1244","v":0},{"$f":"'REPORTE PMI'!E1244","v":0},{"$f":"'REPORTE PMI'!J1244","v":0},{"$f":"'REPORTE PMI'!G1244","v":0},null,null,null,{"$f":"'REPORTE PMI'!L1244","v":0},{"$f":"'REPORTE PMI'!M1244","v":0},0,null,null,0,null,null,"NO"]
[{"$f":"'REPORTE PMI'!B1245","v":0},{"$f":"'REPORTE PMI'!E1245","v":0},{"$f":"'REPORTE PMI'!J1245","v":0},{"$f":"'REPORTE PMI'!G1245","v":0},null,null,null,{"$f":"'REPORTE PMI'!L1245","v":0},{"$f":"'REPORTE PMI'!M1245","v":0},0,null,null,0,null,null,"NO"]
[{"$f":"'REPORTE PMI'!B1246","v":0},{"$f":"'REPORTE PMI'!E1246","v":0},{"$f":"'REPORTE PMI'!J1246","v":0},{"$f":"'REPORTE PMI'!G1246","v":0},null,null,null,{"$f":"'REPORTE PMI'!L1246","v":0},{"$f":"'REPORTE PMI'!M1246","v":0},0,null,null,0,null,null,"NO"]
[{"$f":"'REPORTE PMI'!B1247","v":0},{"$f":"'REPORTE PMI'!E1247","v":0},{"$f":"'REPORTE PMI'!J1247","v":0},{"$f":"'REPORTE PMI'!G1247","v":0},null,null,null,{"$f":"'REPORTE PMI'!L1247","v":0},{"$f":"'REPORTE PMI'!M1247","v":0},0,null,null,0,null,null,"NO"]
[{"$f":"'REPORTE PMI'!B1248","v":0},{"$f":"'REPORTE PMI'!E1248","v":0},{"$f":"'REPORTE PMI'!J1248","v":0},{"$f":"'REPORTE PMI'!G1248","v":0},null,null,null,{"$f":"'REPORTE PMI'!L1248","v":0},{"$f":"'REPORTE PMI'!M1248","v":0},0,null,null,0,null,null,"NO"]
[{"$f":"'REPORTE PMI'!B1249","v":0},{"$f":"'REPORTE PMI'!E1249","v":0},{"$f":"'REPORTE PMI'!J1249","v":0},{"$f":"'REPORTE PMI'!G1249","v":0},null,null,null,{"$f":"'REPORTE PMI'!L1249","v":0},{"$f":"'REPORTE PMI'!M1249","v":0},0,null,null,0,null,null,"NO"]
[{"$f":"'REPORTE PMI'!B1250","v":0},{"$f":"'REPORTE PMI'!E1250","v":0},{"$f":"'REPORTE PMI'!J1250","v":0},{"$f":"'REPORTE PMI'!G1250","v":0},null,null,null,{"$f":"'REPORTE PMI'!L1250","v":0},{"$f":"'REPORTE PMI'!M1250","v":0},0,null,null,0,null,null,"NO"]
[{"$f":"'REPORTE PMI'!B1251","v":0},{"$f":"'REPORTE PMI'!E1251","v":0},{"$f":"'REPORTE PMI'!J1251","v":0},{"$f":"'REPORTE PMI'!G1251","v":0},null,null,null,{"$f":"'REPORTE PMI'!L1251","v":0},{"$f":"'REPORTE PMI'!M1251","v":0},0,null,null,0,null,null,"NO"]
[{"$f":"'REPORTE PMI'!B1252","v":0},{"$f":"'REPORTE PMI'!E1252","v":0},{"$f":"'REPORTE PMI'!J1252","v":0},{"$f":"'REPORTE PMI'!G1252","v":0},null,null,null,{"$f":"'REPORTE PMI'!L1252","v":0},{"$f":"'REPORTE PMI'!M1252","v":0},0,null,null,0,null,null,"NO"]
[{"$f":"'REPORTE PMI'!B1253","v":0},{"$f":"'REPORTE PMI'!E1253","v":0},{"$f":"'REPORTE PMI'!J1253","v":0},{"$f":"'REPORTE PMI'!G1253","v":0},null,null,null,{"$f":"'REPORTE PMI'!L1253","v":0},{"$f":"'REPORTE PMI'!M1253","v":0},0,null,null,0,null,null,"NO"]
[{"$f":"'REPORTE PMI'!B1254","v":0},{"$f":"'REPORTE PMI'!E1254","v":0},{"$f":"'REPORTE PMI'!J1254","v":0},{"$f":"'REPORTE PMI'!G1254","v":0},null,null,null,{"$f":"'REPORTE PMI'!L1254","v":0},{"$f":"'REPORTE PMI'!M1254","v":0},0,null,null,0,null,null,"NO"]
[{"$f":"'REPORTE PMI'!B1255","v":0},{"$f":"'REPORTE PMI'!E1255","v":0},{"$f":"'REPORTE PMI'!J1255","v":0},{"$f":"'REPORTE PMI'!G1255","v":0},null,null,null,{"$f":"'REPORTE PMI'!L1255","v":0},{"$f":"'REPORTE PMI'!M1255","v":0},0,null,null,0,null,null,"NO"]
[{"$f":"'REPORTE PMI'!B1256","v":0},{"$f":"'REPORTE PMI'!E1256","v":0},{"$f":"'REPORTE PMI'!J1256","v":0},{"$f":"'REPORTE PMI'!G1256","v":0},null,null,null,{"$f":"'REPORTE PMI'!L1256","v":0},{"$f":"'REPORTE PMI'!M1256","v":0},0,null,null,0,null,null,"NO"]
[{"$f":"'REPORTE PMI'!B1257","v":0},{"$f":"'REPORTE PMI'!E1257","v":0},{"$f":"'REPORTE PMI'!J1257","v":0},{"$f":"'REPORTE PMI'!G1257","v":0},null,null,null,{"$f":"'REPORTE PMI'!L1257","v":0},{"$f":"'REPORTE PMI'!M1257","v":0},0,null,null,0,null,null,"NO"]
[{"$f":"'REPORTE PMI'!B1258","v":0},{"$f":"'REPORTE PMI'!E1258","v":0},{"$f":"'REPORTE PMI'!J1258","v":0},{"$f":"'REPORTE PMI'!G1258","v":0},null,null,null,{"$f":"'REPORTE PMI'!L1258","v":0},{"$f":"'REPORTE PMI'!M1258","v":0},0,null,null,0,null,null,"NO"]
[{"$f":"'REPORTE PMI'!B1259","v":0},{"$f":"'REPORTE PMI'!E1259","v":0},{"$f":"'REPORTE PMI'!J1259","v":0},{"$f":"'REPORTE PMI'!G1259","v":0},null,null,null,{"$f":"'REPORTE PMI'!L1259","v":0},{"$f":"'REPORTE PMI'!M1259","v":0},0,null,null,0,null,null,"NO"]
[{"$f":"'REPORTE PMI'!B1260","v":0},{"$f":"'REPORTE PMI'!E1260","v":0},{"$f":"'REPORTE PMI'!J1260","v":0},{"$f":"'REPORTE PMI'!G1260","v":0},null,null,null,{"$f":"'REPORTE PMI'!L1260","v":0},{"$f":"'REPORTE PMI'!M1260","v":0},0,null,null,0,null,null,"NO"]
[{"$f":"'REPORTE PMI'!B1261","v":0},{"$f":"'REPORTE PMI'!E1261","v":0},{"$f":"'REPORTE PMI'!J1261","v":0},{"$f":"'REPORTE PMI'!G1261","v":0},null,null,null,{"$f":"'REPORTE PMI'!L1261","v":0},{"$f":"'REPORTE PMI'!M1261","v":0},0,null,null,0,null,null,"NO"]
[{"$f":"'REPORTE PMI'!B1262","v":0},{"$f":"'REPORTE PMI'!E1262","v":0},{"$f":"'REPORTE PMI'!J1262","v":0},{"$f":"'REPORTE PMI'!G1262","v":0},null,null,null,{"$f":"'REPORTE PMI'!L1262","v":0},{"$f":"'REPORTE PMI'!M1262","v":0},0,null,null,0,null,null,"NO"]
[{"$f":"'REPORTE PMI'!B1263","v":0},{"$f":"'REPORTE PMI'!E1263","v":0},{"$f":"'REPORTE PMI'!J1263","v":0},{"$f":"'REPORTE PMI'!G1263","v":0},null,null,null,{"$f":"'REPORTE PMI'!L1263","v":0},{"$f":"'REPORTE PMI'!M1263","v":0},0,null,null,0,null,null,"NO"]
[{"$f":"'REPORTE PMI'!B1264","v":0},{"$f":"'REPORTE PMI'!E1264","v":0},{"$f":"'REPORTE PMI'!J1264","v":0},{"$f":"'REPORTE PMI'!G1264","v":0},null,null,null,{"$f":"'REPORTE PMI'!L1264","v":0},{"$f":"'REPORTE PMI'!M1264","v":0},0,null,null,0,null,null,"NO"]
[{"$f":"'REPORTE PMI'!B1265","v":0},{"$f":"'REPORTE PMI'!E1265","v":0},{"$f":"'REPORTE PMI'!J1265","v":0},{"$f":"'REPORTE PMI'!G1265","v":0},null,null,null,{"$f":"'REPORTE PMI'!L1265","v":0},{"$f":"'REPORTE PMI'!M1265","v":0},0,null,null,0,null,null,"NO"]
[{"$f":"'REPORTE PMI'!B1266","v":0},{"$f":"'REPORTE PMI'!E1266","v":0},{"$f":"'REPORTE PMI'!J1266","v":0},{"$f":"'REPORTE PMI'!G1266","v":0},null,null,null,{"$f":"'REPORTE PMI'!L1266","v":0},{"$f":"'REPORTE PMI'!M1266","v":0},0,null,null,0,null,null,"NO"]
[{"$f":"'REPORTE PMI'!B1267","v":0},{"$f":"'REPORTE PMI'!E1267","v":0},{"$f":"'REPORTE PMI'!J1267","v":0},{"$f":"'REPORTE PMI'!G1267","v":0},null,null,null,{"$f":"'REPORTE PMI'!L1267","v":0},{"$f":"'REPORTE PMI'!M1267","v":0},0,null,null,0,null,null,"NO"]
[{"$f":"'REPORTE PMI'!B1268","v":0},{"$f":"'REPORTE PMI'!E1268","v":0},{"$f":"'REPORTE PMI'!J1268","v":0},{"$f":"'REPORTE PMI'!G1268","v":0},null,null,null,{"$f":"'REPORTE PMI'!L1268","v":0},{"$f":"'REPORTE PMI'!M1268","v":0},0,null,null,0,null,null,"NO"]
[{"$f":"'REPORTE PMI'!B1269","v":0},{"$f":"'REPORTE PMI'!E1269","v":0},{"$f":"'REPORTE PMI'!J1269","v":0},{"$f":"'REPORTE PMI'!G1269","v":0},null,null,null,{"$f":"'REPORTE PMI'!L1269","v":0},{"$f":"'REPORTE PMI'!M1269","v":0},0,null,null,0,null,null,"NO"]
[{"$f":"'REPORTE PMI'!B1270","v":0},{"$f":"'REPORTE PMI'!E1270","v":0},{"$f":"'REPORTE PMI'!J1270","v":0},{"$f":"'REPORTE PMI'!G1270","v":0},null,null,null,{"$f":"'REPORTE PMI'!L1270","v":0},{"$f":"'REPORTE PMI'!M1270","v":0},0,null,null,0,null,null,"NO"]
[{"$f":"'REPORTE PMI'!B1271","v":0},{"$f":"'REPORTE PMI'!E1271","v":0},{"$f":"'REPORTE PMI'!J1271","v":0},{"$f":"'REPORTE PMI'!G1271","v":0},null,null,null,{"$f":"'REPORTE PMI'!L1271","v":0},{"$f":"'REPORTE PMI'!M1271","v":0},0,null,null,0,null,null,"NO"]
[{"$f":"'REPORTE PMI'!B1272","v":0},{"$f":"'REPORTE PMI'!E1272","v":0},{"$f":"'REPORTE PMI'!J1272","v":0},{"$f":"'REPORTE PMI'!G1272","v":0},null,null,null,{"$f":"'REPORTE PMI'!L1272","v":0},{"$f":"'REPORTE PMI'!M1272","v":0},0,null,null,0,null,null,"NO"]
[{"$f":"'REPORTE PMI'!B1273","v":0},{"$f":"'REPORTE PMI'!E1273","v":0},{"$f":"'REPORTE PMI'!J1273","v":0},{"$f":"'REPORTE PMI'!G1273","v":0},null,null,null,{"$f":"'REPORTE PMI'!L1273","v":0},{"$f":"'REPORTE PMI'!M1273","v":0},0,null,null,0,null,null,"NO"]
[{"$f":"'REPORTE PMI'!B1274","v":0},{"$f":"'REPORTE PMI'!E1274","v":0},{"$f":"'REPORTE PMI'!J1274","v":0},{"$f":"'REPORTE PMI'!G1274","v":0},null,null,null,{"$f":"'REPORTE PMI'!L1274","v":0},{"$f":"'REPORTE PMI'!M1274","v":0},0,null,null,0,null,null,"NO"]
[{"$f":"'REPORTE PMI'!B1275","v":0},{"$f":"'REPORTE PMI'!E1275","v":0},{"$f":"'REPORTE PMI'!J1275","v":0},{"$f":"'REPORTE PMI'!G1275","v":0},null,null,null,{"$f":"'REPORTE PMI'!L1275","v":0},{"$f":"'REPORTE PMI'!M1275","v":0},0,null,null,0,null,null,"NO"]
[{"$f":"'REPORTE PMI'!B1276","v":0},{"$f":"'REPORTE PMI'!E1276","v":0},{"$f":"'REPORTE PMI'!J1276","v":0},{"$f":"'REPORTE PMI'!G1276","v":0},null,null,null,{"$f":"'REPORTE PMI'!L1276","v":0},{"$f":"'REPORTE PMI'!M1276","v":0},0,null,null,0,null,null,"NO"]
[{"$f":"'REPORTE PMI'!B1277","v":0},{"$f":"'REPORTE PMI'!E1277","v":0},{"$f":"'REPORTE PMI'!J1277","v":0},{"$f":"'REPORTE PMI'!G1277","v":0},null,null,null,{"$f":"'REPORTE PMI'!L1277","v":0},{"$f":"'REPORTE PMI'!M1277","v":0},0,null,null,0,null,null,"NO"]
[{"$f":"'REPORTE PMI'!B1278","v":0},{"$f":"'REPORTE PMI'!E1278","v":0},{"$f":"'REPORTE PMI'!J1278","v":0},{"$f":"'REPORTE PMI'!G1278","v":0},null,null,null,{"$f":"'REPORTE PMI'!L1278","v":0},{"$f":"'REPORTE PMI'!M1278","v":0},0,null,null,0,null,null,"NO"]
[{"$f":"'REPORTE PMI'!B1279","v":0},{"$f":"'REPORTE PMI'!E1279","v":0},{"$f":"'REPORTE PMI'!J1279","v":0},{"$f":"'REPORTE PMI'!G1279","v":0},null,null,null,{"$f":"'REPORTE PMI'!L1279","v":0},{"$f":"'REPORTE PMI'!M1279","v":0},0,null,null,0,null,null,"NO"]
[{"$f":"'REPORTE PMI'!B1280","v":0},{"$f":"'REPORTE PMI'!E1280","v":0},{"$f":"'REPORTE PMI'!J1280","v":0},{"$f":"'REPORTE PMI'!G1280","v":0},null,null,null,{"$f":"'REPORTE PMI'!L1280","v":0},{"$f":"'REPORTE PMI'!M1280","v":0},0,null,null,0,null,null,"NO"]
[{"$f":"'REPORTE PMI'!B1281","v":0},{"$f":"'REPORTE PMI'!E1281","v":0},{"$f":"'REPORTE PMI'!J1281","v":0},{"$f":"'REPORTE PMI'!G1281","v":0},null,null,null,{"$f":"'REPORTE PMI'!L1281","v":0},{"$f":"'REPORTE PMI'!M1281","v":0},0,null,null,0,null,null,"NO"]
[{"$f":"'REPORTE PMI'!B1282","v":0},{"$f":"'REPORTE PMI'!E1282","v":0},{"$f":"'REPORTE PMI'!J1282","v":0},{"$f":"'REPORTE PMI'!G1282","v":0},null,null,null,{"$f":"'REPORTE PMI'!L1282","v":0},{"$f":"'REPORTE PMI'!M1282","v":0},0,null,null,0,null,null,"NO"]
[{"$f":"'REPORTE PMI'!B1283","v":0},{"$f":"'REPORTE PMI'!E1283","v":0},{"$f":"'REPORTE PMI'!J1283","v":0},{"$f":"'REPORTE PMI'!G1283","v":0},null,null,null,{"$f":"'REPORTE PMI'!L1283","v":0},{"$f":"'REPORTE PMI'!M1283","v":0},0,null,null,0,null,null,"NO"]
[{"$f":"'REPORTE PMI'!B1284","v":0},{"$f":"'REPORTE PMI'!E1284","v":0},{"$f":"'REPORTE PMI'!J1284","v":0},{"$f":"'REPORTE PMI'!G1284","v":0},null,null,null,{"$f":"'REPORTE PMI'!L1284","v":0},{"$f":"'REPORTE PMI'!M1284","v":0},{"$f":"IFERROR(I1293/H1293, 0)","v":0},null,null,{"$f":"H1293-I1293","v":0},null,null,{"$f":"IF(E1293=\"SI\",IF(J1293>0%,IF(K1293=\"SI\",IF(L1293=\"NO\",IF(N1293=\"SI\",IF(O1293=\"NO\",\"SI\",\"NO\"),\"NO\"),\"NO\"),\"NO\"),\"NO\"),\"NO\")","v":"NO"}]
[{"$f":"'REPORTE PMI'!B1285","v":0},{"$f":"'REPORTE PMI'!E1285","v":0},{"$f":"'REPORTE PMI'!J1285","v":0},{"$f":"'REPORTE PMI'!G1285","v":0},null,null,null,{"$f":"'REPORTE PMI'!L1285","v":0},{"$f":"'REPORTE PMI'!M1285","v":0},0,null,null,0,null,null,"NO"]
[{"$f":"'REPORTE PMI'!B1286","v":0},{"$f":"'REPORTE PMI'!E1286","v":0},{"$f":"'REPORTE PMI'!J1286","v":0},{"$f":"'REPORTE PMI'!G1286","v":0},null,null,null,{"$f":"'REPORTE PMI'!L1286","v":0},{"$f":"'REPORTE PMI'!M1286","v":0},0,null,null,0,null,null,"NO"]
[{"$f":"'REPORTE PMI'!B1287","v":0},{"$f":"'REPORTE PMI'!E1287","v":0},{"$f":"'REPORTE PMI'!J1287","v":0},{"$f":"'REPORTE PMI'!G1287","v":0},null,null,null,{"$f":"'REPORTE PMI'!L1287","v":0},{"$f":"'REPORTE PMI'!M1287","v":0},0,null,null,0,null,null,"NO"]
[{"$f":"'REPORTE PMI'!B1288","v":0},{"$f":"'REPORTE PMI'!E1288","v":0},{"$f":"'REPORTE PMI'!J1288","v":0},{"$f":"'REPORTE PMI'!G1288","v":0},null,null,null,{"$f":"'REPORTE PMI'!L1288","v":0},{"$f":"'REPORTE PMI'!M1288","v":0},0,null,null,0,null,null,"NO"]
[{"$f":"'REPORTE PMI'!B1289","v":0},{"$f":"'REPORTE PMI'!E1289","v":0},{"$f":"'REPORTE PMI'!J1289","v":0},{"$f":"'REPORTE PMI'!G1289","v":0},null,null,null,{"$f":"'REPORTE PMI'!L1289","v":0},{"$f":"'REPORTE PMI'!M1289","v":0},0,null,null,0,null,null,"NO"]
[{"$f":"'REPORTE PMI'!B1290","v":0},{"$f":"'REPORTE PMI'!E1290","v":0},{"$f":"'REPORTE PMI'!J1290","v":0},{"$f":"'REPORTE PMI'!G1290","v":0},null,null,null,{"$f":"'REPORTE PMI'!L1290","v":0},{"$f":"'REPORTE PMI'!M1290","v":0},0,null,null,0,null,null,"NO"]
[{"$f":"'REPORTE PMI'!B1291","v":0},{"$f":"'REPORTE PMI'!E1291","v":0},{"$f":"'REPORTE PMI'!J1291","v":0},{"$f":"'REPORTE PMI'!G1291","v":0},null,null,null,{"$f":"'REPORTE PMI'!L1291","v":0},{"$f":"'REPORTE PMI'!M1291","v":0},0,null,null,0,null,null,"NO"]
[{"$f":"'REPORTE PMI'!B1292","v":0},{"$f":"'REPORTE PMI'!E1292","v":0},{"$f":"'REPORTE PMI'!J1292","v":0},{"$f":"'REPORTE PMI'!G1292","v":0},null,null,null,{"$f":"'REPORTE PMI'!L1292","v":0},{"$f":"'REPORTE PMI'!M1292","v":0},0,null,null,0,null,null,"NO"]
[{"$f":"'REPORTE PMI'!B1293","v":0},{"$f":"'REPORTE PMI'!E1293","v":0},{"$f":"'REPORTE PMI'!J1293","v":0},{"$f":"'REPORTE PMI'!G1293","v":0},null,null,null,{"$f":"'REPORTE PMI'!L1293","v":0},{"$f":"'REPORTE PMI'!M1293","v":0},0,null,null,0,null,null,"NO"]
[{"$f":"'REPORTE PMI'!B1294","v":0},{"$f":"'REPORTE PMI'!E1294","v":0},{"$f":"'REPORTE PMI'!J1294","v":0},{"$f":"'REPORTE PMI'!G1294","v":0},null,null,null,{"$f":"'REPORTE PMI'!L1294","v":0},{"$f":"'REPORTE PMI'!M1294","v":0},0,null,null,0,null,null,"NO"]
[{"$f":"'REPORTE PMI'!B1295","v":0},{"$f":"'REPORTE PMI'!E1295","v":0},{"$f":"'REPORTE PMI'!J1295","v":0},{"$f":"'REPORTE PMI'!G1295","v":0},null,null,null,{"$f":"'REPORTE PMI'!L1295","v":0},{"$f":"'REPORTE PMI'!M1295","v":0},0,null,null,0,null,null,"NO"]
[{"$f":"'REPORTE PMI'!B1296","v":0},{"$f":"'REPORTE PMI'!E1296","v":0},{"$f":"'REPORTE PMI'!J1296","v":0},{"$f":"'REPORTE PMI'!G1296","v":0},null,null,null,{"$f":"'REPORTE PMI'!L1296","v":0},{"$f":"'REPORTE PMI'!M1296","v":0},0,null,null,0,null,null,"NO"]
[{"$f":"'REPORTE PMI'!B1297","v":0},{"$f":"'REPORTE PMI'!E1297","v":0},{"$f":"'REPORTE PMI'!J1297","v":0},{"$f":"'REPORTE PMI'!G1297","v":0},null,null,null,{"$f":"'REPORTE PMI'!L1297","v":0},{"$f":"'REPORTE PMI'!M1297","v":0},0,null,null,0,null,null,"NO"]
[{"$f":"'REPORTE PMI'!B1298","v":0},{"$f":"'REPORTE PMI'!E1298","v":0},{"$f":"'REPORTE PMI'!J1298","v":0},{"$f":"'REPORTE PMI'!G1298","v":0},null,null,null,{"$f":"'REPORTE PMI'!L1298","v":0},{"$f":"'REPORTE PMI'!M1298","v":0},0,null,null,0,null,null,"NO"]
[{"$f":"'REPORTE PMI'!B1299","v":0},{"$f":"'REPORTE PMI'!E1299","v":0},{"$f":"'REPORTE PMI'!J1299","v":0},{"$f":"'REPORTE PMI'!G1299","v":0},null,null,null,{"$f":"'REPORTE PMI'!L1299","v":0},{"$f":"'REPORTE PMI'!M1299","v":0},0,null,null,0,null,null,"NO"]
[{"$f":"'REPORTE PMI'!B1300","v":0},{"$f":"'REPORTE PMI'!E1300","v":0},{"$f":"'REPORTE PMI'!J1300","v":0},{"$f":"'REPORTE PMI'!G1300","v":0},null,null,null,{"$f":"'REPORTE PMI'!L1300","v":0},{"$f":"'REPORTE PMI'!M1300","v":0},0,null,null,0,null,null,"NO"]
[{"$f":"'REPORTE PMI'!B1301","v":0},{"$f":"'REPORTE PMI'!E1301","v":0},{"$f":"'REPORTE PMI'!J1301","v":0},{"$f":"'REPORTE PMI'!G1301","v":0},null,null,null,{"$f":"'REPORTE PMI'!L1301","v":0},{"$f":"'REPORTE PMI'!M1301","v":0},0,null,null,0,null,null,"NO"]
[{"$f":"'REPORTE PMI'!B1302","v":0},{"$f":"'REPORTE PMI'!E1302","v":0},{"$f":"'REPORTE PMI'!J1302","v":0},{"$f":"'REPORTE PMI'!G1302","v":0},null,null,null,{"$f":"'REPORTE PMI'!L1302","v":0},{"$f":"'REPORTE PMI'!M1302","v":0},0,null,null,0,null,null,"NO"]
[{"$f":"'REPORTE PMI'!B1303","v":0},{"$f":"'REPORTE PMI'!E1303","v":0},{"$f":"'REPORTE PMI'!J1303","v":0},{"$f":"'REPORTE PMI'!G1303","v":0},null,null,null,{"$f":"'REPORTE PMI'!L1303","v":0},{"$f":"'REPORTE PMI'!M1303","v":0},0,null,null,0,null,null,"NO"]
[{"$f":"'REPORTE PMI'!B1304","v":0},{"$f":"'REPORTE PMI'!E1304","v":0},{"$f":"'REPORTE PMI'!J1304","v":0},{"$f":"'REPORTE PMI'!G1304","v":0},null,null,null,{"$f":"'REPORTE PMI'!L1304","v":0},{"$f":"'REPORTE PMI'!M1304","v":0},0,null,null,0,null,null,"NO"]
[{"$f":"'REPORTE PMI'!B1305","v":0},{"$f":"'REPORTE PMI'!E1305","v":0},{"$f":"'REPORTE PMI'!J1305","v":0},{"$f":"'REPORTE PMI'!G1305","v":0},null,null,null,{"$f":"'REPORTE PMI'!L1305","v":0},{"$f":"'REPORTE PMI'!M1305","v":0},0,null,null,0,null,null,"NO"]
[{"$f":"'REPORTE PMI'!B1306","v":0},{"$f":"'REPORTE PMI'!E1306","v":0},{"$f":"'REPORTE PMI'!J1306","v":0},{"$f":"'REPORTE PMI'!G1306","v":0},null,null,null,{"$f":"'REPORTE PMI'!L1306","v":0},{"$f":"'REPORTE PMI'!M1306","v":0},0,null,null,0,null,null,"NO"]
[{"$f":"'REPORTE PMI'!B1307","v":0},{"$f":"'REPORTE PMI'!E1307","v":0},{"$f":"'REPORTE PMI'!J1307","v":0},{"$f":"'REPORTE PMI'!G1307","v":0},null,null,null,{"$f":"'REPORTE PMI'!L1307","v":0},{"$f":"'REPORTE PMI'!M1307","v":0},0,null,null,0,null,null,"NO"]
[{"$f":"'REPORTE PMI'!B1308","v":0},{"$f":"'REPORTE PMI'!E1308","v":0},{"$f":"'REPORTE PMI'!J1308","v":0},{"$f":"'REPORTE PMI'!G1308","v":0},null,null,null,{"$f":"'REPORTE PMI'!L1308","v":0},{"$f":"'REPORTE PMI'!M1308","v":0},0,null,null,0,null,null,"NO"]
[{"$f":"'REPORTE PMI'!B1309","v":0},{"$f":"'REPORTE PMI'!E1309","v":0},{"$f":"'REPORTE PMI'!J1309","v":0},{"$f":"'REPORTE PMI'!G1309","v":0},null,null,null,{"$f":"'REPORTE PMI'!L1309","v":0},{"$f":"'REPORTE PMI'!M1309","v":0},0,null,null,0,null,null,"NO"]
[{"$f":"'REPORTE PMI'!B1310","v":0},{"$f":"'REPORTE PMI'!E1310","v":0},{"$f":"'REPORTE PMI'!J1310","v":0},{"$f":"'REPORTE PMI'!G1310","v":0},null,null,null,{"$f":"'REPORTE PMI'!L1310","v":0},{"$f":"'REPORTE PMI'!M1310","v":0},0,null,null,0,null,null,"NO"]
[{"$f":"'REPORTE PMI'!B1311","v":0},{"$f":"'REPORTE PMI'!E1311","v":0},{"$f":"'REPORTE PMI'!J1311","v":0},{"$f":"'REPORTE PMI'!G1311","v":0},null,null,null,{"$f":"'REPORTE PMI'!L1311","v":0},{"$f":"'REPORTE PMI'!M1311","v":0},0,null,null,0,null,null,"NO"]
[{"$f":"'REPORTE PMI'!B1312","v":0},{"$f":"'REPORTE PMI'!E1312","v":0},{"$f":"'REPORTE PMI'!J1312","v":0},{"$f":"'REPORTE PMI'!G1312","v":0},null,null,null,{"$f":"'REPORTE PMI'!L1312","v":0},{"$f":"'REPORTE PMI'!M1312","v":0},0,null,null,0,null,null,"NO"]
[{"$f":"'REPORTE PMI'!B1313","v":0},{"$f":"'REPORTE PMI'!E1313","v":0},{"$f":"'REPORTE PMI'!J1313","v":0},{"$f":"'REPORTE PMI'!G1313","v":0},null,null,null,{"$f":"'REPORTE PMI'!L1313","v":0},{"$f":"'REPORTE PMI'!M1313","v":0},0,null,null,0,null,null,"NO"]
[{"$f":"'REPORTE PMI'!B1314","v":0},{"$f":"'REPORTE PMI'!E1314","v":0},{"$f":"'REPORTE PMI'!J1314","v":0},{"$f":"'REPORTE PMI'!G1314","v":0},null,null,null,{"$f":"'REPORTE PMI'!L1314","v":0},{"$f":"'REPORTE PMI'!M1314","v":0},0,null,null,0,null,null,"NO"]
[{"$f":"'REPORTE PMI'!B1315","v":0},{"$f":"'REPORTE PMI'!E1315","v":0},{"$f":"'REPORTE PMI'!J1315","v":0},{"$f":"'REPORTE PMI'!G1315","v":0},null,null,null,{"$f":"'REPORTE PMI'!L1315","v":0},{"$f":"'REPORTE PMI'!M1315","v":0},0,null,null,0,null,null,"NO"]
[{"$f":"'REPORTE PMI'!B1316","v":0},{"$f":"'REPORTE PMI'!E1316","v":0},{"$f":"'REPORTE PMI'!J1316","v":0},{"$f":"'REPORTE PMI'!G1316","v":0},null,null,null,{"$f":"'REPORTE PMI'!L1316","v":0},{"$f":"'REPORTE PMI'!M1316","v":0},0,null,null,0,null,null,"NO"]
[{"$f":"'REPORTE PMI'!B1317","v":0},{"$f":"'REPORTE PMI'!E1317","v":0},{"$f":"'REPORTE PMI'!J1317","v":0},{"$f":"'REPORTE PMI'!G1317","v":0},null,null,null,{"$f":"'REPORTE PMI'!L1317","v":0},{"$f":"'REPORTE PMI'!M1317","v":0},0,null,null,0,null,null,"NO"]
[{"$f":"'REPORTE PMI'!B1318","v":0},{"$f":"'REPORTE PMI'!E1318","v":0},{"$f":"'REPORTE PMI'!J1318","v":0},{"$f":"'REPORTE PMI'!G1318","v":0},null,null,null,{"$f":"'REPORTE PMI'!L1318","v":0},{"$f":"'REPORTE PMI'!M1318","v":0},0,null,null,0,null,null,"NO"]
[{"$f":"'REPORTE PMI'!B1319","v":0},{"$f":"'REPORTE PMI'!E1319","v":0},{"$f":"'REPORTE PMI'!J1319","v":0},{"$f":"'REPORTE PMI'!G1319","v":0},null,null,null,{"$f":"'REPORTE PMI'!L1319","v":0},{"$f":"'REPORTE PMI'!M1319","v":0},0,null,null,0,null,null,"NO"]
[{"$f":"'REPORTE PMI'!B1320","v":0},{"$f":"'REPORTE PMI'!E1320","v":0},{"$f":"'REPORTE PMI'!J1320","v":0},{"$f":"'REPORTE PMI'!G1320","v":0},null,null,null,{"$f":"'REPORTE PMI'!L1320","v":0},{"$f":"'REPORTE PMI'!M1320","v":0},0,null,null,0,null,null,"NO"]
[{"$f":"'REPORTE PMI'!B1321","v":0},{"$f":"'REPORTE PMI'!E1321","v":0},{"$f":"'REPORTE PMI'!J1321","v":0},{"$f":"'REPORTE PMI'!G1321","v":0},null,null,null,{"$f":"'REPORTE PMI'!L1321","v":0},{"$f":"'REPORTE PMI'!M1321","v":0},0,null,null,0,null,null,"NO"]
[{"$f":"'REPORTE PMI'!B1322","v":0},{"$f":"'REPORTE PMI'!E1322","v":0},{"$f":"'REPORTE PMI'!J1322","v":0},{"$f":"'REPORTE PMI'!G1322","v":0},null,null,null,{"$f":"'REPORTE PMI'!L1322","v":0},{"$f":"'REPORTE PMI'!M1322","v":0},0,null,null,0,null,null,"NO"]
[{"$f":"'REPORTE PMI'!B1323","v":0},{"$f":"'REPORTE PMI'!E1323","v":0},{"$f":"'REPORTE PMI'!J1323","v":0},{"$f":"'REPORTE PMI'!G1323","v":0},null,null,null,{"$f":"'REPORTE PMI'!L1323","v":0},{"$f":"'REPORTE PMI'!M1323","v":0},0,null,null,0,null,null,"NO"]
[{"$f":"'REPORTE PMI'!B1324","v":0},{"$f":"'REPORTE PMI'!E1324","v":0},{"$f":"'REPORTE PMI'!J1324","v":0},{"$f":"'REPORTE PMI'!G1324","v":0},null,null,null,{"$f":"'REPORTE PMI'!L1324","v":0},{"$f":"'REPORTE PMI'!M1324","v":0},0,null,null,0,null,null,"NO"]
[{"$f":"'REPORTE PMI'!B1325","v":0},{"$f":"'REPORTE PMI'!E1325","v":0},{"$f":"'REPORTE PMI'!J1325","v":0},{"$f":"'REPORTE PMI'!G1325","v":0},null,null,null,{"$f":"'REPORTE PMI'!L1325","v":0},{"$f":"'REPORTE PMI'!M1325","v":0},0,null,null,0,null,null,"NO"]
[{"$f":"'REPORTE PMI'!B1326","v":0},{"$f":"'REPORTE PMI'!E1326","v":0},{"$f":"'REPORTE PMI'!J1326","v":0},{"$f":"'REPORTE PMI'!G1326","v":0},null,null,null,{"$f":"'REPORTE PMI'!L1326","v":0},{"$f":"'REPORTE PMI'!M1326","v":0},0,null,null,0,null,null,"NO"]
[{"$f":"'REPORTE PMI'!B1327","v":0},{"$f":"'REPORTE PMI'!E1327","v":0},{"$f":"'REPORTE PMI'!J1327","v":0},{"$f":"'REPORTE PMI'!G1327","v":0},null,null,null,{"$f":"'REPORTE PMI'!L1327","v":0},{"$f":"'REPORTE PMI'!M1327","v":0},0,null,null,0,null,null,"NO"]
[{"$f":"'REPORTE PMI'!B1328","v":0},{"$f":"'REPORTE PMI'!E1328","v":0},{"$f":"'REPORTE PMI'!J1328","v":0},{"$f":"'REPORTE PMI'!G1328","v":0},null,null,null,{"$f":"'REPORTE PMI'!L1328","v":0},{"$f":"'REPORTE PMI'!M1328","v":0},0,null,null,0,null,null,"NO"]
[{"$f":"'REPORTE PMI'!B1329","v":0},{"$f":"'REPORTE PMI'!E1329","v":0},{"$f":"'REPORTE PMI'!J1329","v":0},{"$f":"'REPORTE PMI'!G1329","v":0},null,null,null,{"$f":"'REPORTE PMI'!L1329","v":0},{"$f":"'REPORTE PMI'!M1329","v":0},0,null,null,0,null,null,"NO"]
[{"$f":"'REPORTE PMI'!B1330","v":0},{"$f":"'REPORTE PMI'!E1330","v":0},{"$f":"'REPORTE PMI'!J1330","v":0},{"$f":"'REPORTE PMI'!G1330","v":0},null,null,null,{"$f":"'REPORTE PMI'!L1330","v":0},{"$f":"'REPORTE PMI'!M1330","v":0},0,null,null,0,null,null,"NO"]
[{"$f":"'REPORTE PMI'!B1331","v":0},{"$f":"'REPORTE PMI'!E1331","v":0},{"$f":"'REPORTE PMI'!J1331","v":0},{"$f":"'REPORTE PMI'!G1331","v":0},null,null,null,{"$f":"'REPORTE PMI'!L1331","v":0},{"$f":"'REPORTE PMI'!M1331","v":0},0,null,null,0,null,null,"NO"]
[{"$f":"'REPORTE PMI'!B1332","v":0},{"$f":"'REPORTE PMI'!E1332","v":0},{"$f":"'REPORTE PMI'!J1332","v":0},{"$f":"'REPORTE PMI'!G1332","v":0},null,null,null,{"$f":"'REPORTE PMI'!L1332","v":0},{"$f":"'REPORTE PMI'!M1332","v":0},0,null,null,0,null,null,"NO"]
[{"$f":"'REPORTE PMI'!B1333","v":0},{"$f":"'REPORTE PMI'!E1333","v":0},{"$f":"'REPORTE PMI'!J1333","v":0},{"$f":"'REPORTE PMI'!G1333","v":0},null,null,null,{"$f":"'REPORTE PMI'!L1333","v":0},{"$f":"'REPORTE PMI'!M1333","v":0},0,null,null,0,null,null,"NO"]
[{"$f":"'REPORTE PMI'!B1334","v":0},{"$f":"'REPORTE PMI'!E1334","v":0},{"$f":"'REPORTE PMI'!J1334","v":0},{"$f":"'REPORTE PMI'!G1334","v":0},null,null,null,{"$f":"'REPORTE PMI'!L1334","v":0},{"$f":"'REPORTE PMI'!M1334","v":0},0,null,null,0,null,null,"NO"]
[{"$f":"'REPORTE PMI'!B1335","v":0},{"$f":"'REPORTE PMI'!E1335","v":0},{"$f":"'REPORTE PMI'!J1335","v":0},{"$f":"'REPORTE PMI'!G1335","v":0},null,null,null,{"$f":"'REPORTE PMI'!L1335","v":0},{"$f":"'REPORTE PMI'!M1335","v":0},0,null,null,0,null,null,"NO"]
[{"$f":"'REPORTE PMI'!B1336","v":0},{"$f":"'REPORTE PMI'!E1336","v":0},{"$f":"'REPORTE PMI'!J1336","v":0},{"$f":"'REPORTE PMI'!G1336","v":0},null,null,null,{"$f":"'REPORTE PMI'!L1336","v":0},{"$f":"'REPORTE PMI'!M1336","v":0},0,null,null,0,null,null,"NO"]
[{"$f":"'REPORTE PMI'!B1337","v":0},{"$f":"'REPORTE PMI'!E1337","v":0},{"$f":"'REPORTE PMI'!J1337","v":0},{"$f":"'REPORTE PMI'!G1337","v":0},null,null,null,{"$f":"'REPORTE PMI'!L1337","v":0},{"$f":"'REPORTE PMI'!M1337","v":0},0,null,null,0,null,null,"NO"]
[{"$f":"'REPORTE PMI'!B1338","v":0},{"$f":"'REPORTE PMI'!E1338","v":0},{"$f":"'REPORTE PMI'!J1338","v":0},{"$f":"'REPORTE PMI'!G1338","v":0},null,null,null,{"$f":"'REPORTE PMI'!L1338","v":0},{"$f":"'REPORTE PMI'!M1338","v":0},0,null,null,0,null,null,"NO"]
[{"$f":"'REPORTE PMI'!B1339","v":0},{"$f":"'REPORTE PMI'!E1339","v":0},{"$f":"'REPORTE PMI'!J1339","v":0},{"$f":"'REPORTE PMI'!G1339","v":0},null,null,null,{"$f":"'REPORTE PMI'!L1339","v":0},{"$f":"'REPORTE PMI'!M1339","v":0},0,null,null,0,null,null,"NO"]
[{"$f":"'REPORTE PMI'!B1340","v":0},{"$f":"'REPORTE PMI'!E1340","v":0},{"$f":"'REPORTE PMI'!J1340","v":0},{"$f":"'REPORTE PMI'!G1340","v":0},null,null,null,{"$f":"'REPORTE PMI'!L1340","v":0},{"$f":"'REPORTE PMI'!M1340","v":0},0,null,null,0,null,null,"NO"]
[{"$f":"'REPORTE PMI'!B1341","v":0},{"$f":"'REPORTE PMI'!E1341","v":0},{"$f":"'REPORTE PMI'!J1341","v":0},{"$f":"'REPORTE PMI'!G1341","v":0},null,null,null,{"$f":"'REPORTE PMI'!L1341","v":0},{"$f":"'REPORTE PMI'!M1341","v":0},0,null,null,0,null,null,"NO"]
[{"$f":"'REPORTE PMI'!B1342","v":0},{"$f":"'REPORTE PMI'!E1342","v":0},{"$f":"'REPORTE PMI'!J1342","v":0},{"$f":"'REPORTE PMI'!G1342","v":0},null,null,null,{"$f":"'REPORTE PMI'!L1342","v":0},{"$f":"'REPORTE PMI'!M1342","v":0},0,null,null,0,null,null,"NO"]
[{"$f":"'REPORTE PMI'!B1343","v":0},{"$f":"'REPORTE PMI'!E1343","v":0},{"$f":"'REPORTE PMI'!J1343","v":0},{"$f":"'REPORTE PMI'!G1343","v":0},null,null,null,{"$f":"'REPORTE PMI'!L1343","v":0},{"$f":"'REPORTE PMI'!M1343","v":0},0,null,null,0,null,null,"NO"]
[{"$f":"'REPORTE PMI'!B1344","v":0},{"$f":"'REPORTE PMI'!E1344","v":0},{"$f":"'REPORTE PMI'!J1344","v":0},{"$f":"'REPORTE PMI'!G1344","v":0},null,null,null,{"$f":"'REPORTE PMI'!L1344","v":0},{"$f":"'REPORTE PMI'!M1344","v":0},0,null,null,0,null,null,"NO"]
[{"$f":"'REPORTE PMI'!B1345","v":0},{"$f":"'REPORTE PMI'!E1345","v":0},{"$f":"'REPORTE PMI'!J1345","v":0},{"$f":"'REPORTE PMI'!G1345","v":0},null,null,null,{"$f":"'REPORTE PMI'!L1345","v":0},{"$f":"'REPORTE PMI'!M1345","v":0},0,null,null,0,null,null,"NO"]
[{"$f":"'REPORTE PMI'!B1346","v":0},{"$f":"'REPORTE PMI'!E1346","v":0},{"$f":"'REPORTE PMI'!J1346","v":0},{"$f":"'REPORTE PMI'!G1346","v":0},null,null,null,{"$f":"'REPORTE PMI'!L1346","v":0},{"$f":"'REPORTE PMI'!M1346","v":0},0,null,null,0,null,null,"NO"]
[{"$f":"'REPORTE PMI'!B1347","v":0},{"$f":"'REPORTE PMI'!E1347","v":0},{"$f":"'REPORTE PMI'!J1347","v":0},{"$f":"'REPORTE PMI'!G1347","v":0},null,null,null,{"$f":"'REPORTE PMI'!L1347","v":0},{"$f":"'REPORTE PMI'!M1347","v":0},0,null,null,0,null,null,"NO"]
[{"$f":"'REPORTE PMI'!B1348","v":0},{"$f":"'REPORTE PMI'!E1348","v":0},{"$f":"'REPORTE PMI'!J1348","v":0},{"$f":"'REPORTE PMI'!G1348","v":0},null,null,null,{"$f":"'REPORTE PMI'!L1348","v":0},{"$f":"'REPORTE PMI'!M1348","v":0},{"$f":"IFERROR(I1357/H1357, 0)","v":0},null,null,{"$f":"H1357-I1357","v":0},null,null,{"$f":"IF(E1357=\"SI\",IF(J1357>0%,IF(K1357=\"SI\",IF(L1357=\"NO\",IF(N1357=\"SI\",IF(O1357=\"NO\",\"SI\",\"NO\"),\"NO\"),\"NO\"),\"NO\"),\"NO\"),\"NO\")","v":"NO"}]
[{"$f":"'REPORTE PMI'!B1349","v":0},{"$f":"'REPORTE PMI'!E1349","v":0},{"$f":"'REPORTE PMI'!J1349","v":0},{"$f":"'REPORTE PMI'!G1349","v":0},null,null,null,{"$f":"'REPORTE PMI'!L1349","v":0},{"$f":"'REPORTE PMI'!M1349","v":0},0,null,null,0,null,null,"NO"]
[{"$f":"'REPORTE PMI'!B1350","v":0},{"$f":"'REPORTE PMI'!E1350","v":0},{"$f":"'REPORTE PMI'!J1350","v":0},{"$f":"'REPORTE PMI'!G1350","v":0},null,null,null,{"$f":"'REPORTE PMI'!L1350","v":0},{"$f":"'REPORTE PMI'!M1350","v":0},0,null,null,0,null,null,"NO"]
[{"$f":"'REPORTE PMI'!B1351","v":0},{"$f":"'REPORTE PMI'!E1351","v":0},{"$f":"'REPORTE PMI'!J1351","v":0},{"$f":"'REPORTE PMI'!G1351","v":0},null,null,null,{"$f":"'REPORTE PMI'!L1351","v":0},{"$f":"'REPORTE PMI'!M1351","v":0},0,null,null,0,null,null,"NO"]
[{"$f":"'REPORTE PMI'!B1352","v":0},{"$f":"'REPORTE PMI'!E1352","v":0},{"$f":"'REPORTE PMI'!J1352","v":0},{"$f":"'REPORTE PMI'!G1352","v":0},null,null,null,{"$f":"'REPORTE PMI'!L1352","v":0},{"$f":"'REPORTE PMI'!M1352","v":0},0,null,null,0,null,null,"NO"]
[{"$f":"'REPORTE PMI'!B1353","v":0},{"$f":"'REPORTE PMI'!E1353","v":0},{"$f":"'REPORTE PMI'!J1353","v":0},{"$f":"'REPORTE PMI'!G1353","v":0},null,null,null,{"$f":"'REPORTE PMI'!L1353","v":0},{"$f":"'REPORTE PMI'!M1353","v":0},0,null,null,0,null,null,"NO"]
[{"$f":"'REPORTE PMI'!B1354","v":0},{"$f":"'REPORTE PMI'!E1354","v":0},{"$f":"'REPORTE PMI'!J1354","v":0},{"$f":"'REPORTE PMI'!G1354","v":0},null,null,null,{"$f":"'REPORTE PMI'!L1354","v":0},{"$f":"'REPORTE PMI'!M1354","v":0},0,null,null,0,null,null,"NO"]
[{"$f":"'REPORTE PMI'!B1355","v":0},{"$f":"'REPORTE PMI'!E1355","v":0},{"$f":"'REPORTE PMI'!J1355","v":0},{"$f":"'REPORTE PMI'!G1355","v":0},null,null,null,{"$f":"'REPORTE PMI'!L1355","v":0},{"$f":"'REPORTE PMI'!M1355","v":0},0,null,null,0,null,null,"NO"]
[{"$f":"'REPORTE PMI'!B1356","v":0},{"$f":"'REPORTE PMI'!E1356","v":0},{"$f":"'REPORTE PMI'!J1356","v":0},{"$f":"'REPORTE PMI'!G1356","v":0},null,null,null,{"$f":"'REPORTE PMI'!L1356","v":0},{"$f":"'REPORTE PMI'!M1356","v":0},0,null,null,0,null,null,"NO"]
[{"$f":"'REPORTE PMI'!B1357","v":0},{"$f":"'REPORTE PMI'!E1357","v":0},{"$f":"'REPORTE PMI'!J1357","v":0},{"$f":"'REPORTE PMI'!G1357","v":0},null,null,null,{"$f":"'REPORTE PMI'!L1357","v":0},{"$f":"'REPORTE PMI'!M1357","v":0},0,null,null,0,null,null,"NO"]
[{"$f":"'REPORTE PMI'!B1358","v":0},{"$f":"'REPORTE PMI'!E1358","v":0},{"$f":"'REPORTE PMI'!J1358","v":0},{"$f":"'REPORTE PMI'!G1358","v":0},null,null,null,{"$f":"'REPORTE PMI'!L1358","v":0},{"$f":"'REPORTE PMI'!M1358","v":0},0,null,null,0,null,null,"NO"]
[{"$f":"'REPORTE PMI'!B1359","v":0},{"$f":"'REPORTE PMI'!E1359","v":0},{"$f":"'REPORTE PMI'!J1359","v":0},{"$f":"'REPORTE PMI'!G1359","v":0},null,null,null,{"$f":"'REPORTE PMI'!L1359","v":0},{"$f":"'REPORTE PMI'!M1359","v":0},0,null,null,0,null,null,"NO"]
[{"$f":"'REPORTE PMI'!B1360","v":0},{"$f":"'REPORTE PMI'!E1360","v":0},{"$f":"'REPORTE PMI'!J1360","v":0},{"$f":"'REPORTE PMI'!G1360","v":0},null,null,null,{"$f":"'REPORTE PMI'!L1360","v":0},{"$f":"'REPORTE PMI'!M1360","v":0},0,null,null,0,null,null,"NO"]
[{"$f":"'REPORTE PMI'!B1361","v":0},{"$f":"'REPORTE PMI'!E1361","v":0},{"$f":"'REPORTE PMI'!J1361","v":0},{"$f":"'REPORTE PMI'!G1361","v":0},null,null,null,{"$f":"'REPORTE PMI'!L1361","v":0},{"$f":"'REPORTE PMI'!M1361","v":0},0,null,null,0,null,null,"NO"]
[{"$f":"'REPORTE PMI'!B1362","v":0},{"$f":"'REPORTE PMI'!E1362","v":0},{"$f":"'REPORTE PMI'!J1362","v":0},{"$f":"'REPORTE PMI'!G1362","v":0},null,null,null,{"$f":"'REPORTE PMI'!L1362","v":0},{"$f":"'REPORTE PMI'!M1362","v":0},0,null,null,0,null,null,"NO"]
[{"$f":"'REPORTE PMI'!B1363","v":0},{"$f":"'REPORTE PMI'!E1363","v":0},{"$f":"'REPORTE PMI'!J1363","v":0},{"$f":"'REPORTE PMI'!G1363","v":0},null,null,null,{"$f":"'REPORTE PMI'!L1363","v":0},{"$f":"'REPORTE PMI'!M1363","v":0},0,null,null,0,null,null,"NO"]
[{"$f":"'REPORTE PMI'!B1364","v":0},{"$f":"'REPORTE PMI'!E1364","v":0},{"$f":"'REPORTE PMI'!J1364","v":0},{"$f":"'REPORTE PMI'!G1364","v":0},null,null,null,{"$f":"'REPORTE PMI'!L1364","v":0},{"$f":"'REPORTE PMI'!M1364","v":0},0,null,null,0,null,null,"NO"]
[{"$f":"'REPORTE PMI'!B1365","v":0},{"$f":"'REPORTE PMI'!E1365","v":0},{"$f":"'REPORTE PMI'!J1365","v":0},{"$f":"'REPORTE PMI'!G1365","v":0},null,null,null,{"$f":"'REPORTE PMI'!L1365","v":0},{"$f":"'REPORTE PMI'!M1365","v":0},0,null,null,0,null,null,"NO"]
[{"$f":"'REPORTE PMI'!B1366","v":0},{"$f":"'REPORTE PMI'!E1366","v":0},{"$f":"'REPORTE PMI'!J1366","v":0},{"$f":"'REPORTE PMI'!G1366","v":0},null,null,null,{"$f":"'REPORTE PMI'!L1366","v":0},{"$f":"'REPORTE PMI'!M1366","v":0},0,null,null,0,null,null,"NO"]
[{"$f":"'REPORTE PMI'!B1367","v":0},{"$f":"'REPORTE PMI'!E1367","v":0},{"$f":"'REPORTE PMI'!J1367","v":0},{"$f":"'REPORTE PMI'!G1367","v":0},null,null,null,{"$f":"'REPORTE PMI'!L1367","v":0},{"$f":"'REPORTE PMI'!M1367","v":0},0,null,null,0,null,null,"NO"]
[{"$f":"'REPORTE PMI'!B1368","v":0},{"$f":"'REPORTE PMI'!E1368","v":0},{"$f":"'REPORTE PMI'!J1368","v":0},{"$f":"'REPORTE PMI'!G1368","v":0},null,null,null,{"$f":"'REPORTE PMI'!L1368","v":0},{"$f":"'REPORTE PMI'!M1368","v":0},0,null,null,0,null,null,"NO"]
[{"$f":"'REPORTE PMI'!B1369","v":0},{"$f":"'REPORTE PMI'!E1369","v":0},{"$f":"'REPORTE PMI'!J1369","v":0},{"$f":"'REPORTE PMI'!G1369","v":0},null,null,null,{"$f":"'REPORTE PMI'!L1369","v":0},{"$f":"'REPORTE PMI'!M1369","v":0},0,null,null,0,null,null,"NO"]
[{"$f":"'REPORTE PMI'!B1370","v":0},{"$f":"'REPORTE PMI'!E1370","v":0},{"$f":"'REPORTE PMI'!J1370","v":0},{"$f":"'REPORTE PMI'!G1370","v":0},null,null,null,{"$f":"'REPORTE PMI'!L1370","v":0},{"$f":"'REPORTE PMI'!M1370","v":0},0,null,null,0,null,null,"NO"]
[{"$f":"'REPORTE PMI'!B1371","v":0},{"$f":"'REPORTE PMI'!E1371","v":0},{"$f":"'REPORTE PMI'!J1371","v":0},{"$f":"'REPORTE PMI'!G1371","v":0},null,null,null,{"$f":"'REPORTE PMI'!L1371","v":0},{"$f":"'REPORTE PMI'!M1371","v":0},0,null,null,0,null,null,"NO"]
[{"$f":"'REPORTE PMI'!B1372","v":0},{"$f":"'REPORTE PMI'!E1372","v":0},{"$f":"'REPORTE PMI'!J1372","v":0},{"$f":"'REPORTE PMI'!G1372","v":0},null,null,null,{"$f":"'REPORTE PMI'!L1372","v":0},{"$f":"'REPORTE PMI'!M1372","v":0},0,null,null,0,null,null,"NO"]
[{"$f":"'REPORTE PMI'!B1373","v":0},{"$f":"'REPORTE PMI'!E1373","v":0},{"$f":"'REPORTE PMI'!J1373","v":0},{"$f":"'REPORTE PMI'!G1373","v":0},null,null,null,{"$f":"'REPORTE PMI'!L1373","v":0},{"$f":"'REPORTE PMI'!M1373","v":0},0,null,null,0,null,null,"NO"]
[{"$f":"'REPORTE PMI'!B1374","v":0},{"$f":"'REPORTE PMI'!E1374","v":0},{"$f":"'REPORTE PMI'!J1374","v":0},{"$f":"'REPORTE PMI'!G1374","v":0},null,null,null,{"$f":"'REPORTE PMI'!L1374","v":0},{"$f":"'REPORTE PMI'!M1374","v":0},0,null,null,0,null,null,"NO"]
[{"$f":"'REPORTE PMI'!B1375","v":0},{"$f":"'REPORTE PMI'!E1375","v":0},{"$f":"'REPORTE PMI'!J1375","v":0},{"$f":"'REPORTE PMI'!G1375","v":0},null,null,null,{"$f":"'REPORTE PMI'!L1375","v":0},{"$f":"'REPORTE PMI'!M1375","v":0},0,null,null,0,null,null,"NO"]
[{"$f":"'REPORTE PMI'!B1376","v":0},{"$f":"'REPORTE PMI'!E1376","v":0},{"$f":"'REPORTE PMI'!J1376","v":0},{"$f":"'REPORTE PMI'!G1376","v":0},null,null,null,{"$f":"'REPORTE PMI'!L1376","v":0},{"$f":"'REPORTE PMI'!M1376","v":0},0,null,null,0,null,null,"NO"]
[{"$f":"'REPORTE PMI'!B1377","v":0},{"$f":"'REPORTE PMI'!E1377","v":0},{"$f":"'REPORTE PMI'!J1377","v":0},{"$f":"'REPORTE PMI'!G1377","v":0},null,null,null,{"$f":"'REPORTE PMI'!L1377","v":0},{"$f":"'REPORTE PMI'!M1377","v":0},0,null,null,0,null,null,"NO"]
[{"$f":"'REPORTE PMI'!B1378","v":0},{"$f":"'REPORTE PMI'!E1378","v":0},{"$f":"'REPORTE PMI'!J1378","v":0},{"$f":"'REPORTE PMI'!G1378","v":0},null,null,null,{"$f":"'REPORTE PMI'!L1378","v":0},{"$f":"'REPORTE PMI'!M1378","v":0},0,null,null,0,null,null,"NO"]
[{"$f":"'REPORTE PMI'!B1379","v":0},{"$f":"'REPORTE PMI'!E1379","v":0},{"$f":"'REPORTE PMI'!J1379","v":0},{"$f":"'REPORTE PMI'!G1379","v":0},null,null,null,{"$f":"'REPORTE PMI'!L1379","v":0},{"$f":"'REPORTE PMI'!M1379","v":0},0,null,null,0,null,null,"NO"]
[{"$f":"'REPORTE PMI'!B1380","v":0},{"$f":"'REPORTE PMI'!E1380","v":0},{"$f":"'REPORTE PMI'!J1380","v":0},{"$f":"'REPORTE PMI'!G1380","v":0},null,null,null,{"$f":"'REPORTE PMI'!L1380","v":0},{"$f":"'REPORTE PMI'!M1380","v":0},0,null,null,0,null,null,"NO"]
[{"$f":"'REPORTE PMI'!B1381","v":0},{"$f":"'REPORTE PMI'!E1381","v":0},{"$f":"'REPORTE PMI'!J1381","v":0},{"$f":"'REPORTE PMI'!G1381","v":0},null,null,null,{"$f":"'REPORTE PMI'!L1381","v":0},{"$f":"'REPORTE PMI'!M1381","v":0},0,null,null,0,null,null,"NO"]
[{"$f":"'REPORTE PMI'!B1382","v":0},{"$f":"'REPORTE PMI'!E1382","v":0},{"$f":"'REPORTE PMI'!J1382","v":0},{"$f":"'REPORTE PMI'!G1382","v":0},null,null,null,{"$f":"'REPORTE PMI'!L1382","v":0},{"$f":"'REPORTE PMI'!M1382","v":0},0,null,null,0,null,null,"NO"]
[{"$f":"'REPORTE PMI'!B1383","v":0},{"$f":"'REPORTE PMI'!E1383","v":0},{"$f":"'REPORTE PMI'!J1383","v":0},{"$f":"'REPORTE PMI'!G1383","v":0},null,null,null,{"$f":"'REPORTE PMI'!L1383","v":0},{"$f":"'REPORTE PMI'!M1383","v":0},0,null,null,0,null,null,"NO"]
[{"$f":"'REPORTE PMI'!B1384","v":0},{"$f":"'REPORTE PMI'!E1384","v":0},{"$f":"'REPORTE PMI'!J1384","v":0},{"$f":"'REPORTE PMI'!G1384","v":0},null,null,null,{"$f":"'REPORTE PMI'!L1384","v":0},{"$f":"'REPORTE PMI'!M1384","v":0},0,null,null,0,null,null,"NO"]
[{"$f":"'REPORTE PMI'!B1385","v":0},{"$f":"'REPORTE PMI'!E1385","v":0},{"$f":"'REPORTE PMI'!J1385","v":0},{"$f":"'REPORTE PMI'!G1385","v":0},null,null,null,{"$f":"'REPORTE PMI'!L1385","v":0},{"$f":"'REPORTE PMI'!M1385","v":0},0,null,null,0,null,null,"NO"]
[{"$f":"'REPORTE PMI'!B1386","v":0},{"$f":"'REPORTE PMI'!E1386","v":0},{"$f":"'REPORTE PMI'!J1386","v":0},{"$f":"'REPORTE PMI'!G1386","v":0},null,null,null,{"$f":"'REPORTE PMI'!L1386","v":0},{"$f":"'REPORTE PMI'!M1386","v":0},0,null,null,0,null,null,"NO"]
[{"$f":"'REPORTE PMI'!B1387","v":0},{"$f":"'REPORTE PMI'!E1387","v":0},{"$f":"'REPORTE PMI'!J1387","v":0},{"$f":"'REPORTE PMI'!G1387","v":0},null,null,null,{"$f":"'REPORTE PMI'!L1387","v":0},{"$f":"'REPORTE PMI'!M1387","v":0},0,null,null,0,null,null,"NO"]
[{"$f":"'REPORTE PMI'!B1388","v":0},{"$f":"'REPORTE PMI'!E1388","v":0},{"$f":"'REPORTE PMI'!J1388","v":0},{"$f":"'REPORTE PMI'!G1388","v":0},null,null,null,{"$f":"'REPORTE PMI'!L1388","v":0},{"$f":"'REPORTE PMI'!M1388","v":0},0,null,null,0,null,null,"NO"]
[{"$f":"'REPORTE PMI'!B1389","v":0},{"$f":"'REPORTE PMI'!E1389","v":0},{"$f":"'REPORTE PMI'!J1389","v":0},{"$f":"'REPORTE PMI'!G1389","v":0},null,null,null,{"$f":"'REPORTE PMI'!L1389","v":0},{"$f":"'REPORTE PMI'!M1389","v":0},0,null,null,0,null,null,"NO"]
[{"$f":"'REPORTE PMI'!B1390","v":0},{"$f":"'REPORTE PMI'!E1390","v":0},{"$f":"'REPORTE PMI'!J1390","v":0},{"$f":"'REPORTE PMI'!G1390","v":0},null,null,null,{"$f":"'REPORTE PMI'!L1390","v":0},{"$f":"'REPORTE PMI'!M1390","v":0},0,null,null,0,null,null,"NO"]
[{"$f":"'REPORTE PMI'!B1391","v":0},{"$f":"'REPORTE PMI'!E1391","v":0},{"$f":"'REPORTE PMI'!J1391","v":0},{"$f":"'REPORTE PMI'!G1391","v":0},null,null,null,{"$f":"'REPORTE PMI'!L1391","v":0},{"$f":"'REPORTE PMI'!M1391","v":0},0,null,null,0,null,null,"NO"]
[{"$f":"'REPORTE PMI'!B1392","v":0},{"$f":"'REPORTE PMI'!E1392","v":0},{"$f":"'REPORTE PMI'!J1392","v":0},{"$f":"'REPORTE PMI'!G1392","v":0},null,null,null,{"$f":"'REPORTE PMI'!L1392","v":0},{"$f":"'REPORTE PMI'!M1392","v":0},0,null,null,0,null,null,"NO"]
[{"$f":"'REPORTE PMI'!B1393","v":0},{"$f":"'REPORTE PMI'!E1393","v":0},{"$f":"'REPORTE PMI'!J1393","v":0},{"$f":"'REPORTE PMI'!G1393","v":0},null,null,null,{"$f":"'REPORTE PMI'!L1393","v":0},{"$f":"'REPORTE PMI'!M1393","v":0},0,null,null,0,null,null,"NO"]
[{"$f":"'REPORTE PMI'!B1394","v":0},{"$f":"'REPORTE PMI'!E1394","v":0},{"$f":"'REPORTE PMI'!J1394","v":0},{"$f":"'REPORTE PMI'!G1394","v":0},null,null,null,{"$f":"'REPORTE PMI'!L1394","v":0},{"$f":"'REPORTE PMI'!M1394","v":0},0,null,null,0,null,null,"NO"]
[{"$f":"'REPORTE PMI'!B1395","v":0},{"$f":"'REPORTE PMI'!E1395","v":0},{"$f":"'REPORTE PMI'!J1395","v":0},{"$f":"'REPORTE PMI'!G1395","v":0},null,null,null,{"$f":"'REPORTE PMI'!L1395","v":0},{"$f":"'REPORTE PMI'!M1395","v":0},0,null,null,0,null,null,"NO"]
[{"$f":"'REPORTE PMI'!B1396","v":0},{"$f":"'REPORTE PMI'!E1396","v":0},{"$f":"'REPORTE PMI'!J1396","v":0},{"$f":"'REPORTE PMI'!G1396","v":0},null,null,null,{"$f":"'REPORTE PMI'!L1396","v":0},{"$f":"'REPORTE PMI'!M1396","v":0},0,null,null,0,null,null,"NO"]
[{"$f":"'REPORTE PMI'!B1397","v":0},{"$f":"'REPORTE PMI'!E1397","v":0},{"$f":"'REPORTE PMI'!J1397","v":0},{"$f":"'REPORTE PMI'!G1397","v":0},null,null,null,{"$f":"'REPORTE PMI'!L1397","v":0},{"$f":"'REPORTE PMI'!M1397","v":0},0,null,null,0,null,null,"NO"]
[{"$f":"'REPORTE PMI'!B1398","v":0},{"$f":"'REPORTE PMI'!E1398","v":0},{"$f":"'REPORTE PMI'!J1398","v":0},{"$f":"'REPORTE PMI'!G1398","v":0},null,null,null,{"$f":"'REPORTE PMI'!L1398","v":0},{"$f":"'REPORTE PMI'!M1398","v":0},0,null,null,0,null,null,"NO"]
[{"$f":"'REPORTE PMI'!B1399","v":0},{"$f":"'REPORTE PMI'!E1399","v":0},{"$f":"'REPORTE PMI'!J1399","v":0},{"$f":"'REPORTE PMI'!G1399","v":0},null,null,null,{"$f":"'REPORTE PMI'!L1399","v":0},{"$f":"'REPORTE PMI'!M1399","v":0},0,null,null,0,null,null,"NO"]
[{"$f":"'REPORTE PMI'!B1400","v":0},{"$f":"'REPORTE PMI'!E1400","v":0},{"$f":"'REPORTE PMI'!J1400","v":0},{"$f":"'REPORTE PMI'!G1400","v":0},null,null,null,{"$f":"'REPORTE PMI'!L1400","v":0},{"$f":"'REPORTE PMI'!M1400","v":0},0,null,null,0,null,null,"NO"]
[{"$f":"'REPORTE PMI'!B1401","v":0},{"$f":"'REPORTE PMI'!E1401","v":0},{"$f":"'REPORTE PMI'!J1401","v":0},{"$f":"'REPORTE PMI'!G1401","v":0},null,null,null,{"$f":"'REPORTE PMI'!L1401","v":0},{"$f":"'REPORTE PMI'!M1401","v":0},0,null,null,0,null,null,"NO"]
[{"$f":"'REPORTE PMI'!B1402","v":0},{"$f":"'REPORTE PMI'!E1402","v":0},{"$f":"'REPORTE PMI'!J1402","v":0},{"$f":"'REPORTE PMI'!G1402","v":0},null,null,null,{"$f":"'REPORTE PMI'!L1402","v":0},{"$f":"'REPORTE PMI'!M1402","v":0},0,null,null,0,null,null,"NO"]
[{"$f":"'REPORTE PMI'!B1403","v":0},{"$f":"'REPORTE PMI'!E1403","v":0},{"$f":"'REPORTE PMI'!J1403","v":0},{"$f":"'REPORTE PMI'!G1403","v":0},null,null,null,{"$f":"'REPORTE PMI'!L1403","v":0},{"$f":"'REPORTE PMI'!M1403","v":0},0,null,null,0,null,null,"NO"]
[{"$f":"'REPORTE PMI'!B1404","v":0},{"$f":"'REPORTE PMI'!E1404","v":0},{"$f":"'REPORTE PMI'!J1404","v":0},{"$f":"'REPORTE PMI'!G1404","v":0},null,null,null,{"$f":"'REPORTE PMI'!L1404","v":0},{"$f":"'REPORTE PMI'!M1404","v":0},0,null,null,0,null,null,"NO"]
[{"$f":"'REPORTE PMI'!B1405","v":0},{"$f":"'REPORTE PMI'!E1405","v":0},{"$f":"'REPORTE PMI'!J1405","v":0},{"$f":"'REPORTE PMI'!G1405","v":0},null,null,null,{"$f":"'REPORTE PMI'!L1405","v":0},{"$f":"'REPORTE PMI'!M1405","v":0},0,null,null,0,null,null,"NO"]
[{"$f":"'REPORTE PMI'!B1406","v":0},{"$f":"'REPORTE PMI'!E1406","v":0},{"$f":"'REPORTE PMI'!J1406","v":0},{"$f":"'REPORTE PMI'!G1406","v":0},null,null,null,{"$f":"'REPORTE PMI'!L1406","v":0},{"$f":"'REPORTE PMI'!M1406","v":0},0,null,null,0,null,null,"NO"]
[{"$f":"'REPORTE PMI'!B1407","v":0},{"$f":"'REPORTE PMI'!E1407","v":0},{"$f":"'REPORTE PMI'!J1407","v":0},{"$f":"'REPORTE PMI'!G1407","v":0},null,null,null,{"$f":"'REPORTE PMI'!L1407","v":0},{"$f":"'REPORTE PMI'!M1407","v":0},0,null,null,0,null,null,"NO"]
[{"$f":"'REPORTE PMI'!B1408","v":0},{"$f":"'REPORTE PMI'!E1408","v":0},{"$f":"'REPORTE PMI'!J1408","v":0},{"$f":"'REPORTE PMI'!G1408","v":0},null,null,null,{"$f":"'REPORTE PMI'!L1408","v":0},{"$f":"'REPORTE PMI'!M1408","v":0},0,null,null,0,null,null,"NO"]
[{"$f":"'REPORTE PMI'!B1409","v":0},{"$f":"'REPORTE PMI'!E1409","v":0},{"$f":"'REPORTE PMI'!J1409","v":0},{"$f":"'REPORTE PMI'!G1409","v":0},null,null,null,{"$f":"'REPORTE PMI'!L1409","v":0},{"$f":"'REPORTE PMI'!M1409","v":0},0,null,null,0,null,null,"NO"]
[{"$f":"'REPORTE PMI'!B1410","v":0},{"$f":"'REPORTE PMI'!E1410","v":0},{"$f":"'REPORTE PMI'!J1410","v":0},{"$f":"'REPORTE PMI'!G1410","v":0},null,null,null,{"$f":"'REPORTE PMI'!L1410","v":0},{"$f":"'REPORTE PMI'!M1410","v":0},0,null,null,0,null,null,"NO"]
[{"$f":"'REPORTE PMI'!B1411","v":0},{"$f":"'REPORTE PMI'!E1411","v":0},{"$f":"'REPORTE PMI'!J1411","v":0},{"$f":"'REPORTE PMI'!G1411","v":0},null,null,null,{"$f":"'REPORTE PMI'!L1411","v":0},{"$f":"'REPORTE PMI'!M1411","v":0},0,null,null,0,null,null,"NO"]
[{"$f":"'REPORTE PMI'!B1412","v":0},{"$f":"'REPORTE PMI'!E1412","v":0},{"$f":"'REPORTE PMI'!J1412","v":0},{"$f":"'REPORTE PMI'!G1412","v":0},null,null,null,{"$f":"'REPORTE PMI'!L1412","v":0},{"$f":"'REPORTE PMI'!M1412","v":0},{"$f":"IFERROR(I1421/H1421, 0)","v":0},null,null,{"$f":"H1421-I1421","v":0},null,null,{"$f":"IF(E1421=\"SI\",IF(J1421>0%,IF(K1421=\"SI\",IF(L1421=\"NO\",IF(N1421=\"SI\",IF(O1421=\"NO\",\"SI\",\"NO\"),\"NO\"),\"NO\"),\"NO\"),\"NO\"),\"NO\")","v":"NO"}]
[{"$f":"'REPORTE PMI'!B1413","v":0},{"$f":"'REPORTE PMI'!E1413","v":0},{"$f":"'REPORTE PMI'!J1413","v":0},{"$f":"'REPORTE PMI'!G1413","v":0},null,null,null,{"$f":"'REPORTE PMI'!L1413","v":0},{"$f":"'REPORTE PMI'!M1413","v":0},0,null,null,0,null,null,"NO"]
[{"$f":"'REPORTE PMI'!B1414","v":0},{"$f":"'REPORTE PMI'!E1414","v":0},{"$f":"'REPORTE PMI'!J1414","v":0},{"$f":"'REPORTE PMI'!G1414","v":0},null,null,null,{"$f":"'REPORTE PMI'!L1414","v":0},{"$f":"'REPORTE PMI'!M1414","v":0},0,null,null,0,null,null,"NO"]
[{"$f":"'REPORTE PMI'!B1415","v":0},{"$f":"'REPORTE PMI'!E1415","v":0},{"$f":"'REPORTE PMI'!J1415","v":0},{"$f":"'REPORTE PMI'!G1415","v":0},null,null,null,{"$f":"'REPORTE PMI'!L1415","v":0},{"$f":"'REPORTE PMI'!M1415","v":0},0,null,null,0,null,null,"NO"]
[{"$f":"'REPORTE PMI'!B1416","v":0},{"$f":"'REPORTE PMI'!E1416","v":0},{"$f":"'REPORTE PMI'!J1416","v":0},{"$f":"'REPORTE PMI'!G1416","v":0},null,null,null,{"$f":"'REPORTE PMI'!L1416","v":0},{"$f":"'REPORTE PMI'!M1416","v":0},0,null,null,0,null,null,"NO"]
[{"$f":"'REPORTE PMI'!B1417","v":0},{"$f":"'REPORTE PMI'!E1417","v":0},{"$f":"'REPORTE PMI'!J1417","v":0},{"$f":"'REPORTE PMI'!G1417","v":0},null,null,null,{"$f":"'REPORTE PMI'!L1417","v":0},{"$f":"'REPORTE PMI'!M1417","v":0},0,null,null,0,null,null,"NO"]
[{"$f":"'REPORTE PMI'!B1418","v":0},{"$f":"'REPORTE PMI'!E1418","v":0},{"$f":"'REPORTE PMI'!J1418","v":0},{"$f":"'REPORTE PMI'!G1418","v":0},null,null,null,{"$f":"'REPORTE PMI'!L1418","v":0},{"$f":"'REPORTE PMI'!M1418","v":0},0,null,null,0,null,null,"NO"]
[{"$f":"'REPORTE PMI'!B1419","v":0},{"$f":"'REPORTE PMI'!E1419","v":0},{"$f":"'REPORTE PMI'!J1419","v":0},{"$f":"'REPORTE PMI'!G1419","v":0},null,null,null,{"$f":"'REPORTE PMI'!L1419","v":0},{"$f":"'REPORTE PMI'!M1419","v":0},0,null,null,0,null,null,"NO"]
[{"$f":"'REPORTE PMI'!B1420","v":0},{"$f":"'REPORTE PMI'!E1420","v":0},{"$f":"'REPORTE PMI'!J1420","v":0},{"$f":"'REPORTE PMI'!G1420","v":0},null,null,null,{"$f":"'REPORTE PMI'!L1420","v":0},{"$f":"'REPORTE PMI'!M1420","v":0},0,null,null,0,null,null,"NO"]
[{"$f":"'REPORTE PMI'!B1421","v":0},{"$f":"'REPORTE PMI'!E1421","v":0},{"$f":"'REPORTE PMI'!J1421","v":0},{"$f":"'REPORTE PMI'!G1421","v":0},null,null,null,{"$f":"'REPORTE PMI'!L1421","v":0},{"$f":"'REPORTE PMI'!M1421","v":0},0,null,null,0,null,null,"NO"]
[{"$f":"'REPORTE PMI'!B1422","v":0},{"$f":"'REPORTE PMI'!E1422","v":0},{"$f":"'REPORTE PMI'!J1422","v":0},{"$f":"'REPORTE PMI'!G1422","v":0},null,null,null,{"$f":"'REPORTE PMI'!L1422","v":0},{"$f":"'REPORTE PMI'!M1422","v":0},0,null,null,0,null,null,"NO"]
[{"$f":"'REPORTE PMI'!B1423","v":0},{"$f":"'REPORTE PMI'!E1423","v":0},{"$f":"'REPORTE PMI'!J1423","v":0},{"$f":"'REPORTE PMI'!G1423","v":0},null,null,null,{"$f":"'REPORTE PMI'!L1423","v":0},{"$f":"'REPORTE PMI'!M1423","v":0},0,null,null,0,null,null,"NO"]
[{"$f":"'REPORTE PMI'!B1424","v":0},{"$f":"'REPORTE PMI'!E1424","v":0},{"$f":"'REPORTE PMI'!J1424","v":0},{"$f":"'REPORTE PMI'!G1424","v":0},null,null,null,{"$f":"'REPORTE PMI'!L1424","v":0},{"$f":"'REPORTE PMI'!M1424","v":0},0,null,null,0,null,null,"NO"]
[{"$f":"'REPORTE PMI'!B1425","v":0},{"$f":"'REPORTE PMI'!E1425","v":0},{"$f":"'REPORTE PMI'!J1425","v":0},{"$f":"'REPORTE PMI'!G1425","v":0},null,null,null,{"$f":"'REPORTE PMI'!L1425","v":0},{"$f":"'REPORTE PMI'!M1425","v":0},0,null,null,0,null,null,"NO"]
[{"$f":"'REPORTE PMI'!B1426","v":0},{"$f":"'REPORTE PMI'!E1426","v":0},{"$f":"'REPORTE PMI'!J1426","v":0},{"$f":"'REPORTE PMI'!G1426","v":0},null,null,null,{"$f":"'REPORTE PMI'!L1426","v":0},{"$f":"'REPORTE PMI'!M1426","v":0},0,null,null,0,null,null,"NO"]
[{"$f":"'REPORTE PMI'!B1427","v":0},{"$f":"'REPORTE PMI'!E1427","v":0},{"$f":"'REPORTE PMI'!J1427","v":0},{"$f":"'REPORTE PMI'!G1427","v":0},null,null,null,{"$f":"'REPORTE PMI'!L1427","v":0},{"$f":"'REPORTE PMI'!M1427","v":0},0,null,null,0,null,null,"NO"]
[{"$f":"'REPORTE PMI'!B1428","v":0},{"$f":"'REPORTE PMI'!E1428","v":0},{"$f":"'REPORTE PMI'!J1428","v":0},{"$f":"'REPORTE PMI'!G1428","v":0},null,null,null,{"$f":"'REPORTE PMI'!L1428","v":0},{"$f":"'REPORTE PMI'!M1428","v":0},0,null,null,0,null,null,"NO"]
[{"$f":"'REPORTE PMI'!B1429","v":0},{"$f":"'REPORTE PMI'!E1429","v":0},{"$f":"'REPORTE PMI'!J1429","v":0},{"$f":"'REPORTE PMI'!G1429","v":0},null,null,null,{"$f":"'REPORTE PMI'!L1429","v":0},{"$f":"'REPORTE PMI'!M1429","v":0},0,null,null,0,null,null,"NO"]
[{"$f":"'REPORTE PMI'!B1430","v":0},{"$f":"'REPORTE PMI'!E1430","v":0},{"$f":"'REPORTE PMI'!J1430","v":0},{"$f":"'REPORTE PMI'!G1430","v":0},null,null,null,{"$f":"'REPORTE PMI'!L1430","v":0},{"$f":"'REPORTE PMI'!M1430","v":0},0,null,null,0,null,null,"NO"]
[{"$f":"'REPORTE PMI'!B1431","v":0},{"$f":"'REPORTE PMI'!E1431","v":0},{"$f":"'REPORTE PMI'!J1431","v":0},{"$f":"'REPORTE PMI'!G1431","v":0},null,null,null,{"$f":"'REPORTE PMI'!L1431","v":0},{"$f":"'REPORTE PMI'!M1431","v":0},0,null,null,0,null,null,"NO"]
[{"$f":"'REPORTE PMI'!B1432","v":0},{"$f":"'REPORTE PMI'!E1432","v":0},{"$f":"'REPORTE PMI'!J1432","v":0},{"$f":"'REPORTE PMI'!G1432","v":0},null,null,null,{"$f":"'REPORTE PMI'!L1432","v":0},{"$f":"'REPORTE PMI'!M1432","v":0},0,null,null,0,null,null,"NO"]
[{"$f":"'REPORTE PMI'!B1433","v":0},{"$f":"'REPORTE PMI'!E1433","v":0},{"$f":"'REPORTE PMI'!J1433","v":0},{"$f":"'REPORTE PMI'!G1433","v":0},null,null,null,{"$f":"'REPORTE PMI'!L1433","v":0},{"$f":"'REPORTE PMI'!M1433","v":0},0,null,null,0,null,null,"NO"]
[{"$f":"'REPORTE PMI'!B1434","v":0},{"$f":"'REPORTE PMI'!E1434","v":0},{"$f":"'REPORTE PMI'!J1434","v":0},{"$f":"'REPORTE PMI'!G1434","v":0},null,null,null,{"$f":"'REPORTE PMI'!L1434","v":0},{"$f":"'REPORTE PMI'!M1434","v":0},0,null,null,0,null,null,"NO"]
[{"$f":"'REPORTE PMI'!B1435","v":0},{"$f":"'REPORTE PMI'!E1435","v":0},{"$f":"'REPORTE PMI'!J1435","v":0},{"$f":"'REPORTE PMI'!G1435","v":0},null,null,null,{"$f":"'REPORTE PMI'!L1435","v":0},{"$f":"'REPORTE PMI'!M1435","v":0},0,null,null,0,null,null,"NO"]
[{"$f":"'REPORTE PMI'!B1436","v":0},{"$f":"'REPORTE PMI'!E1436","v":0},{"$f":"'REPORTE PMI'!J1436","v":0},{"$f":"'REPORTE PMI'!G1436","v":0},null,null,null,{"$f":"'REPORTE PMI'!L1436","v":0},{"$f":"'REPORTE PMI'!M1436","v":0},0,null,null,0,null,null,"NO"]
[{"$f":"'REPORTE PMI'!B1437","v":0},{"$f":"'REPORTE PMI'!E1437","v":0},{"$f":"'REPORTE PMI'!J1437","v":0},{"$f":"'REPORTE PMI'!G1437","v":0},null,null,null,{"$f":"'REPORTE PMI'!L1437","v":0},{"$f":"'REPORTE PMI'!M1437","v":0},0,null,null,0,null,null,"NO"]
[{"$f":"'REPORTE PMI'!B1438","v":0},{"$f":"'REPORTE PMI'!E1438","v":0},{"$f":"'REPORTE PMI'!J1438","v":0},{"$f":"'REPORTE PMI'!G1438","v":0},null,null,null,{"$f":"'REPORTE PMI'!L1438","v":0},{"$f":"'REPORTE PMI'!M1438","v":0},0,null,null,0,null,null,"NO"]
[{"$f":"'REPORTE PMI'!B1439","v":0},{"$f":"'REPORTE PMI'!E1439","v":0},{"$f":"'REPORTE PMI'!J1439","v":0},{"$f":"'REPORTE PMI'!G1439","v":0},null,null,null,{"$f":"'REPORTE PMI'!L1439","v":0},{"$f":"'REPORTE PMI'!M1439","v":0},0,null,null,0,null,null,"NO"]
[{"$f":"'REPORTE PMI'!B1440","v":0},{"$f":"'REPORTE PMI'!E1440","v":0},{"$f":"'REPORTE PMI'!J1440","v":0},{"$f":"'REPORTE PMI'!G1440","v":0},null,null,null,{"$f":"'REPORTE PMI'!L1440","v":0},{"$f":"'REPORTE PMI'!M1440","v":0},0,null,null,0,null,null,"NO"]
[{"$f":"'REPORTE PMI'!B1441","v":0},{"$f":"'REPORTE PMI'!E1441","v":0},{"$f":"'REPORTE PMI'!J1441","v":0},{"$f":"'REPORTE PMI'!G1441","v":0},null,null,null,{"$f":"'REPORTE PMI'!L1441","v":0},{"$f":"'REPORTE PMI'!M1441","v":0},0,null,null,0,null,null,"NO"]
[{"$f":"'REPORTE PMI'!B1442","v":0},{"$f":"'REPORTE PMI'!E1442","v":0},{"$f":"'REPORTE PMI'!J1442","v":0},{"$f":"'REPORTE PMI'!G1442","v":0},null,null,null,{"$f":"'REPORTE PMI'!L1442","v":0},{"$f":"'REPORTE PMI'!M1442","v":0},0,null,null,0,null,null,"NO"]
[{"$f":"'REPORTE PMI'!B1443","v":0},{"$f":"'REPORTE PMI'!E1443","v":0},{"$f":"'REPORTE PMI'!J1443","v":0},{"$f":"'REPORTE PMI'!G1443","v":0},null,null,null,{"$f":"'REPORTE PMI'!L1443","v":0},{"$f":"'REPORTE PMI'!M1443","v":0},0,null,null,0,null,null,"NO"]
[{"$f":"'REPORTE PMI'!B1444","v":0},{"$f":"'REPORTE PMI'!E1444","v":0},{"$f":"'REPORTE PMI'!J1444","v":0},{"$f":"'REPORTE PMI'!G1444","v":0},null,null,null,{"$f":"'REPORTE PMI'!L1444","v":0},{"$f":"'REPORTE PMI'!M1444","v":0},0,null,null,0,null,null,"NO"]
[{"$f":"'REPORTE PMI'!B1445","v":0},{"$f":"'REPORTE PMI'!E1445","v":0},{"$f":"'REPORTE PMI'!J1445","v":0},{"$f":"'REPORTE PMI'!G1445","v":0},null,null,null,{"$f":"'REPORTE PMI'!L1445","v":0},{"$f":"'REPORTE PMI'!M1445","v":0},0,null,null,0,null,null,"NO"]
[{"$f":"'REPORTE PMI'!B1446","v":0},{"$f":"'REPORTE PMI'!E1446","v":0},{"$f":"'REPORTE PMI'!J1446","v":0},{"$f":"'REPORTE PMI'!G1446","v":0},null,null,null,{"$f":"'REPORTE PMI'!L1446","v":0},{"$f":"'REPORTE PMI'!M1446","v":0},0,null,null,0,null,null,"NO"]
[{"$f":"'REPORTE PMI'!B1447","v":0},{"$f":"'REPORTE PMI'!E1447","v":0},{"$f":"'REPORTE PMI'!J1447","v":0},{"$f":"'REPORTE PMI'!G1447","v":0},null,null,null,{"$f":"'REPORTE PMI'!L1447","v":0},{"$f":"'REPORTE PMI'!M1447","v":0},0,null,null,0,null,null,"NO"]
[{"$f":"'REPORTE PMI'!B1448","v":0},{"$f":"'REPORTE PMI'!E1448","v":0},{"$f":"'REPORTE PMI'!J1448","v":0},{"$f":"'REPORTE PMI'!G1448","v":0},null,null,null,{"$f":"'REPORTE PMI'!L1448","v":0},{"$f":"'REPORTE PMI'!M1448","v":0},0,null,null,0,null,null,"NO"]
[{"$f":"'REPORTE PMI'!B1449","v":0},{"$f":"'REPORTE PMI'!E1449","v":0},{"$f":"'REPORTE PMI'!J1449","v":0},{"$f":"'REPORTE PMI'!G1449","v":0},null,null,null,{"$f":"'REPORTE PMI'!L1449","v":0},{"$f":"'REPORTE PMI'!M1449","v":0},0,null,null,0,null,null,"NO"]
[{"$f":"'REPORTE PMI'!B1450","v":0},{"$f":"'REPORTE PMI'!E1450","v":0},{"$f":"'REPORTE PMI'!J1450","v":0},{"$f":"'REPORTE PMI'!G1450","v":0},null,null,null,{"$f":"'REPORTE PMI'!L1450","v":0},{"$f":"'REPORTE PMI'!M1450","v":0},0,null,null,0,null,null,"NO"]
[{"$f":"'REPORTE PMI'!B1451","v":0},{"$f":"'REPORTE PMI'!E1451","v":0},{"$f":"'REPORTE PMI'!J1451","v":0},{"$f":"'REPORTE PMI'!G1451","v":0},null,null,null,{"$f":"'REPORTE PMI'!L1451","v":0},{"$f":"'REPORTE PMI'!M1451","v":0},0,null,null,0,null,null,"NO"]
[{"$f":"'REPORTE PMI'!B1452","v":0},{"$f":"'REPORTE PMI'!E1452","v":0},{"$f":"'REPORTE PMI'!J1452","v":0},{"$f":"'REPORTE PMI'!G1452","v":0},null,null,null,{"$f":"'REPORTE PMI'!L1452","v":0},{"$f":"'REPORTE PMI'!M1452","v":0},0,null,null,0,null,null,"NO"]
[{"$f":"'REPORTE PMI'!B1453","v":0},{"$f":"'REPORTE PMI'!E1453","v":0},{"$f":"'REPORTE PMI'!J1453","v":0},{"$f":"'REPORTE PMI'!G1453","v":0},null,null,null,{"$f":"'REPORTE PMI'!L1453","v":0},{"$f":"'REPORTE PMI'!M1453","v":0},0,null,null,0,null,null,"NO"]
[{"$f":"'REPORTE PMI'!B1454","v":0},{"$f":"'REPORTE PMI'!E1454","v":0},{"$f":"'REPORTE PMI'!J1454","v":0},{"$f":"'REPORTE PMI'!G1454","v":0},null,null,null,{"$f":"'REPORTE PMI'!L1454","v":0},{"$f":"'REPORTE PMI'!M1454","v":0},0,null,null,0,null,null,"NO"]
[{"$f":"'REPORTE PMI'!B1455","v":0},{"$f":"'REPORTE PMI'!E1455","v":0},{"$f":"'REPORTE PMI'!J1455","v":0},{"$f":"'REPORTE PMI'!G1455","v":0},null,null,null,{"$f":"'REPORTE PMI'!L1455","v":0},{"$f":"'REPORTE PMI'!M1455","v":0},0,null,null,0,null,null,"NO"]
[{"$f":"'REPORTE PMI'!B1456","v":0},{"$f":"'REPORTE PMI'!E1456","v":0},{"$f":"'REPORTE PMI'!J1456","v":0},{"$f":"'REPORTE PMI'!G1456","v":0},null,null,null,{"$f":"'REPORTE PMI'!L1456","v":0},{"$f":"'REPORTE PMI'!M1456","v":0},0,null,null,0,null,null,"NO"]
[{"$f":"'REPORTE PMI'!B1457","v":0},{"$f":"'REPORTE PMI'!E1457","v":0},{"$f":"'REPORTE PMI'!J1457","v":0},{"$f":"'REPORTE PMI'!G1457","v":0},null,null,null,{"$f":"'REPORTE PMI'!L1457","v":0},{"$f":"'REPORTE PMI'!M1457","v":0},0,null,null,0,null,null,"NO"]
[{"$f":"'REPORTE PMI'!B1458","v":0},{"$f":"'REPORTE PMI'!E1458","v":0},{"$f":"'REPORTE PMI'!J1458","v":0},{"$f":"'REPORTE PMI'!G1458","v":0},null,null,null,{"$f":"'REPORTE PMI'!L1458","v":0},{"$f":"'REPORTE PMI'!M1458","v":0},0,null,null,0,null,null,"NO"]
[{"$f":"'REPORTE PMI'!B1459","v":0},{"$f":"'REPORTE PMI'!E1459","v":0},{"$f":"'REPORTE PMI'!J1459","v":0},{"$f":"'REPORTE PMI'!G1459","v":0},null,null,null,{"$f":"'REPORTE PMI'!L1459","v":0},{"$f":"'REPORTE PMI'!M1459","v":0},0,null,null,0,null,null,"NO"]
[{"$f":"'REPORTE PMI'!B1460","v":0},{"$f":"'REPORTE PMI'!E1460","v":0},{"$f":"'REPORTE PMI'!J1460","v":0},{"$f":"'REPORTE PMI'!G1460","v":0},null,null,null,{"$f":"'REPORTE PMI'!L1460","v":0},{"$f":"'REPORTE PMI'!M1460","v":0},0,null,null,0,null,null,"NO"]
[{"$f":"'REPORTE PMI'!B1461","v":0},{"$f":"'REPORTE PMI'!E1461","v":0},{"$f":"'REPORTE PMI'!J1461","v":0},{"$f":"'REPORTE PMI'!G1461","v":0},null,null,null,{"$f":"'REPORTE PMI'!L1461","v":0},{"$f":"'REPORTE PMI'!M1461","v":0},0,null,null,0,null,null,"NO"]
[{"$f":"'REPORTE PMI'!B1462","v":0},{"$f":"'REPORTE PMI'!E1462","v":0},{"$f":"'REPORTE PMI'!J1462","v":0},{"$f":"'REPORTE PMI'!G1462","v":0},null,null,null,{"$f":"'REPORTE PMI'!L1462","v":0},{"$f":"'REPORTE PMI'!M1462","v":0},0,null,null,0,null,null,"NO"]
[{"$f":"'REPORTE PMI'!B1463","v":0},{"$f":"'REPORTE PMI'!E1463","v":0},{"$f":"'REPORTE PMI'!J1463","v":0},{"$f":"'REPORTE PMI'!G1463","v":0},null,null,null,{"$f":"'REPORTE PMI'!L1463","v":0},{"$f":"'REPORTE PMI'!M1463","v":0},0,null,null,0,null,null,"NO"]
[{"$f":"'REPORTE PMI'!B1464","v":0},{"$f":"'REPORTE PMI'!E1464","v":0},{"$f":"'REPORTE PMI'!J1464","v":0},{"$f":"'REPORTE PMI'!G1464","v":0},null,null,null,{"$f":"'REPORTE PMI'!L1464","v":0},{"$f":"'REPORTE PMI'!M1464","v":0},0,null,null,0,null,null,"NO"]
[{"$f":"'REPORTE PMI'!B1465","v":0},{"$f":"'REPORTE PMI'!E1465","v":0},{"$f":"'REPORTE PMI'!J1465","v":0},{"$f":"'REPORTE PMI'!G1465","v":0},null,null,null,{"$f":"'REPORTE PMI'!L1465","v":0},{"$f":"'REPORTE PMI'!M1465","v":0},0,null,null,0,null,null,"NO"]
[{"$f":"'REPORTE PMI'!B1466","v":0},{"$f":"'REPORTE PMI'!E1466","v":0},{"$f":"'REPORTE PMI'!J1466","v":0},{"$f":"'REPORTE PMI'!G1466","v":0},null,null,null,{"$f":"'REPORTE PMI'!L1466","v":0},{"$f":"'REPORTE PMI'!M1466","v":0},0,null,null,0,null,null,"NO"]
[{"$f":"'REPORTE PMI'!B1467","v":0},{"$f":"'REPORTE PMI'!E1467","v":0},{"$f":"'REPORTE PMI'!J1467","v":0},{"$f":"'REPORTE PMI'!G1467","v":0},null,null,null,{"$f":"'REPORTE PMI'!L1467","v":0},{"$f":"'REPORTE PMI'!M1467","v":0},0,null,null,0,null,null,"NO"]
[{"$f":"'REPORTE PMI'!B1468","v":0},{"$f":"'REPORTE PMI'!E1468","v":0},{"$f":"'REPORTE PMI'!J1468","v":0},{"$f":"'REPORTE PMI'!G1468","v":0},null,null,null,{"$f":"'REPORTE PMI'!L1468","v":0},{"$f":"'REPORTE PMI'!M1468","v":0},0,null,null,0,null,null,"NO"]
[{"$f":"'REPORTE PMI'!B1469","v":0},{"$f":"'REPORTE PMI'!E1469","v":0},{"$f":"'REPORTE PMI'!J1469","v":0},{"$f":"'REPORTE PMI'!G1469","v":0},null,null,null,{"$f":"'REPORTE PMI'!L1469","v":0},{"$f":"'REPORTE PMI'!M1469","v":0},0,null,null,0,null,null,"NO"]
[{"$f":"'REPORTE PMI'!B1470","v":0},{"$f":"'REPORTE PMI'!E1470","v":0},{"$f":"'REPORTE PMI'!J1470","v":0},{"$f":"'REPORTE PMI'!G1470","v":0},null,null,null,{"$f":"'REPORTE PMI'!L1470","v":0},{"$f":"'REPORTE PMI'!M1470","v":0},0,null,null,0,null,null,"NO"]
[{"$f":"'REPORTE PMI'!B1471","v":0},{"$f":"'REPORTE PMI'!E1471","v":0},{"$f":"'REPORTE PMI'!J1471","v":0},{"$f":"'REPORTE PMI'!G1471","v":0},null,null,null,{"$f":"'REPORTE PMI'!L1471","v":0},{"$f":"'REPORTE PMI'!M1471","v":0},0,null,null,0,null,null,"NO"]
[{"$f":"'REPORTE PMI'!B1472","v":0},{"$f":"'REPORTE PMI'!E1472","v":0},{"$f":"'REPORTE PMI'!J1472","v":0},{"$f":"'REPORTE PMI'!G1472","v":0},null,null,null,{"$f":"'REPORTE PMI'!L1472","v":0},{"$f":"'REPORTE PMI'!M1472","v":0},0,null,null,0,null,null,"NO"]
[{"$f":"'REPORTE PMI'!B1473","v":0},{"$f":"'REPORTE PMI'!E1473","v":0},{"$f":"'REPORTE PMI'!J1473","v":0},{"$f":"'REPORTE PMI'!G1473","v":0},null,null,null,{"$f":"'REPORTE PMI'!L1473","v":0},{"$f":"'REPORTE PMI'!M1473","v":0},0,null,null,0,null,null,"NO"]
[{"$f":"'REPORTE PMI'!B1474","v":0},{"$f":"'REPORTE PMI'!E1474","v":0},{"$f":"'REPORTE PMI'!J1474","v":0},{"$f":"'REPORTE PMI'!G1474","v":0},null,null,null,{"$f":"'REPORTE PMI'!L1474","v":0},{"$f":"'REPORTE PMI'!M1474","v":0},0,null,null,0,null,null,"NO"]
[{"$f":"'REPORTE PMI'!B1475","v":0},{"$f":"'REPORTE PMI'!E1475","v":0},{"$f":"'REPORTE PMI'!J1475","v":0},{"$f":"'REPORTE PMI'!G1475","v":0},null,null,null,{"$f":"'REPORTE PMI'!L1475","v":0},{"$f":"'REPORTE PMI'!M1475","v":0},0,null,null,0,null,null,"NO"]
[{"$f":"'REPORTE PMI'!B1476","v":0},{"$f":"'REPORTE PMI'!E1476","v":0},{"$f":"'REPORTE PMI'!J1476","v":0},{"$f":"'REPORTE PMI'!G1476","v":0},null,null,null,{"$f":"'REPORTE PMI'!L1476","v":0},{"$f":"'REPORTE PMI'!M1476","v":0},{"$f":"IFERROR(I1485/H1485, 0)","v":0},null,null,{"$f":"H1485-I1485","v":0},null,null,{"$f":"IF(E1485=\"SI\",IF(J1485>0%,IF(K1485=\"SI\",IF(L1485=\"NO\",IF(N1485=\"SI\",IF(O1485=\"NO\",\"SI\",\"NO\"),\"NO\"),\"NO\"),\"NO\"),\"NO\"),\"NO\")","v":"NO"}]
[{"$f":"'REPORTE PMI'!B1477","v":0},{"$f":"'REPORTE PMI'!E1477","v":0},{"$f":"'REPORTE PMI'!J1477","v":0},{"$f":"'REPORTE PMI'!G1477","v":0},null,null,null,{"$f":"'REPORTE PMI'!L1477","v":0},{"$f":"'REPORTE PMI'!M1477","v":0},0,null,null,0,null,null,"NO"]
[{"$f":"'REPORTE PMI'!B1478","v":0},{"$f":"'REPORTE PMI'!E1478","v":0},{"$f":"'REPORTE PMI'!J1478","v":0},{"$f":"'REPORTE PMI'!G1478","v":0},null,null,null,{"$f":"'REPORTE PMI'!L1478","v":0},{"$f":"'REPORTE PMI'!M1478","v":0},0,null,null,0,null,null,"NO"]
[{"$f":"'REPORTE PMI'!B1479","v":0},{"$f":"'REPORTE PMI'!E1479","v":0},{"$f":"'REPORTE PMI'!J1479","v":0},{"$f":"'REPORTE PMI'!G1479","v":0},null,null,null,{"$f":"'REPORTE PMI'!L1479","v":0},{"$f":"'REPORTE PMI'!M1479","v":0},0,null,null,0,null,null,"NO"]
[{"$f":"'REPORTE PMI'!B1480","v":0},{"$f":"'REPORTE PMI'!E1480","v":0},{"$f":"'REPORTE PMI'!J1480","v":0},{"$f":"'REPORTE PMI'!G1480","v":0},null,null,null,{"$f":"'REPORTE PMI'!L1480","v":0},{"$f":"'REPORTE PMI'!M1480","v":0},0,null,null,0,null,null,"NO"]
[{"$f":"'REPORTE PMI'!B1481","v":0},{"$f":"'REPORTE PMI'!E1481","v":0},{"$f":"'REPORTE PMI'!J1481","v":0},{"$f":"'REPORTE PMI'!G1481","v":0},null,null,null,{"$f":"'REPORTE PMI'!L1481","v":0},{"$f":"'REPORTE PMI'!M1481","v":0},0,null,null,0,null,null,"NO"]
[{"$f":"'REPORTE PMI'!B1482","v":0},{"$f":"'REPORTE PMI'!E1482","v":0},{"$f":"'REPORTE PMI'!J1482","v":0},{"$f":"'REPORTE PMI'!G1482","v":0},null,null,null,{"$f":"'REPORTE PMI'!L1482","v":0},{"$f":"'REPORTE PMI'!M1482","v":0},0,null,null,0,null,null,"NO"]
[{"$f":"'REPORTE PMI'!B1483","v":0},{"$f":"'REPORTE PMI'!E1483","v":0},{"$f":"'REPORTE PMI'!J1483","v":0},{"$f":"'REPORTE PMI'!G1483","v":0},null,null,null,{"$f":"'REPORTE PMI'!L1483","v":0},{"$f":"'REPORTE PMI'!M1483","v":0},0,null,null,0,null,null,"NO"]
[{"$f":"'REPORTE PMI'!B1484","v":0},{"$f":"'REPORTE PMI'!E1484","v":0},{"$f":"'REPORTE PMI'!J1484","v":0},{"$f":"'REPORTE PMI'!G1484","v":0},null,null,null,{"$f":"'REPORTE PMI'!L1484","v":0},{"$f":"'REPORTE PMI'!M1484","v":0},0,null,null,0,null,null,"NO"]
[{"$f":"'REPORTE PMI'!B1485","v":0},{"$f":"'REPORTE PMI'!E1485","v":0},{"$f":"'REPORTE PMI'!J1485","v":0},{"$f":"'REPORTE PMI'!G1485","v":0},null,null,null,{"$f":"'REPORTE PMI'!L1485","v":0},{"$f":"'REPORTE PMI'!M1485","v":0},0,null,null,0,null,null,"NO"]
[{"$f":"'REPORTE PMI'!B1486","v":0},{"$f":"'REPORTE PMI'!E1486","v":0},{"$f":"'REPORTE PMI'!J1486","v":0},{"$f":"'REPORTE PMI'!G1486","v":0},null,null,null,{"$f":"'REPORTE PMI'!L1486","v":0},{"$f":"'REPORTE PMI'!M1486","v":0},0,null,null,0,null,null,"NO"]
[{"$f":"'REPORTE PMI'!B1487","v":0},{"$f":"'REPORTE PMI'!E1487","v":0},{"$f":"'REPORTE PMI'!J1487","v":0},{"$f":"'REPORTE PMI'!G1487","v":0},null,null,null,{"$f":"'REPORTE PMI'!L1487","v":0},{"$f":"'REPORTE PMI'!M1487","v":0},0,null,null,0,null,null,"NO"]
[{"$f":"'REPORTE PMI'!B1488","v":0},{"$f":"'REPORTE PMI'!E1488","v":0},{"$f":"'REPORTE PMI'!J1488","v":0},{"$f":"'REPORTE PMI'!G1488","v":0},null,null,null,{"$f":"'REPORTE PMI'!L1488","v":0},{"$f":"'REPORTE PMI'!M1488","v":0},0,null,null,0,null,null,"NO"]
[{"$f":"'REPORTE PMI'!B1489","v":0},{"$f":"'REPORTE PMI'!E1489","v":0},{"$f":"'REPORTE PMI'!J1489","v":0},{"$f":"'REPORTE PMI'!G1489","v":0},null,null,null,{"$f":"'REPORTE PMI'!L1489","v":0},{"$f":"'REPORTE PMI'!M1489","v":0},0,null,null,0,null,null,"NO"]
[{"$f":"'REPORTE PMI'!B1490","v":0},{"$f":"'REPORTE PMI'!E1490","v":0},{"$f":"'REPORTE PMI'!J1490","v":0},{"$f":"'REPORTE PMI'!G1490","v":0},null,null,null,{"$f":"'REPORTE PMI'!L1490","v":0},{"$f":"'REPORTE PMI'!M1490","v":0},0,null,null,0,null,null,"NO"]
[{"$f":"'REPORTE PMI'!B1491","v":0},{"$f":"'REPORTE PMI'!E1491","v":0},{"$f":"'REPORTE PMI'!J1491","v":0},{"$f":"'REPORTE PMI'!G1491","v":0},null,null,null,{"$f":"'REPORTE PMI'!L1491","v":0},{"$f":"'REPORTE PMI'!M1491","v":0},0,null,null,0,null,null,"NO"]
[{"$f":"'REPORTE PMI'!B1492","v":0},{"$f":"'REPORTE PMI'!E1492","v":0},{"$f":"'REPORTE PMI'!J1492","v":0},{"$f":"'REPORTE PMI'!G1492","v":0},null,null,null,{"$f":"'REPORTE PMI'!L1492","v":0},{"$f":"'REPORTE PMI'!M1492","v":0},0,null,null,0,null,null,"NO"]
[{"$f":"'REPORTE PMI'!B1493","v":0},{"$f":"'REPORTE PMI'!E1493","v":0},{"$f":"'REPORTE PMI'!J1493","v":0},{"$f":"'REPORTE PMI'!G1493","v":0},null,null,null,{"$f":"'REPORTE PMI'!L1493","v":0},{"$f":"'REPORTE PMI'!M1493","v":0},0,null,null,0,null,null,"NO"]
[{"$f":"'REPORTE PMI'!B1494","v":0},{"$f":"'REPORTE PMI'!E1494","v":0},{"$f":"'REPORTE PMI'!J1494","v":0},{"$f":"'REPORTE PMI'!G1494","v":0},null,null,null,{"$f":"'REPORTE PMI'!L1494","v":0},{"$f":"'REPORTE PMI'!M1494","v":0},0,null,null,0,null,null,"NO"]
[{"$f":"'REPORTE PMI'!B1495","v":0},{"$f":"'REPORTE PMI'!E1495","v":0},{"$f":"'REPORTE PMI'!J1495","v":0},{"$f":"'REPORTE PMI'!G1495","v":0},null,null,null,{"$f":"'REPORTE PMI'!L1495","v":0},{"$f":"'REPORTE PMI'!M1495","v":0},0,null,null,0,null,null,"NO"]
[{"$f":"'REPORTE PMI'!B1496","v":0},{"$f":"'REPORTE PMI'!E1496","v":0},{"$f":"'REPORTE PMI'!J1496","v":0},{"$f":"'REPORTE PMI'!G1496","v":0},null,null,null,{"$f":"'REPORTE PMI'!L1496","v":0},{"$f":"'REPORTE PMI'!M1496","v":0},0,null,null,0,null,null,"NO"]
[{"$f":"'REPORTE PMI'!B1497","v":0},{"$f":"'REPORTE PMI'!E1497","v":0},{"$f":"'REPORTE PMI'!J1497","v":0},{"$f":"'REPORTE PMI'!G1497","v":0},null,null,null,{"$f":"'REPORTE PMI'!L1497","v":0},{"$f":"'REPORTE PMI'!M1497","v":0},0,null,null,0,null,null,"NO"]
[{"$f":"'REPORTE PMI'!B1498","v":0},{"$f":"'REPORTE PMI'!E1498","v":0},{"$f":"'REPORTE PMI'!J1498","v":0},{"$f":"'REPORTE PMI'!G1498","v":0},null,null,null,{"$f":"'REPORTE PMI'!L1498","v":0},{"$f":"'REPORTE PMI'!M1498","v":0},0,null,null,0,null,null,"NO"]
[{"$f":"'REPORTE PMI'!B1499","v":0},{"$f":"'REPORTE PMI'!E1499","v":0},{"$f":"'REPORTE PMI'!J1499","v":0},{"$f":"'REPORTE PMI'!G1499","v":0},null,null,null,{"$f":"'REPORTE PMI'!L1499","v":0},{"$f":"'REPORTE PMI'!M1499","v":0},0,null,null,0,null,null,"NO"]
[{"$f":"'REPORTE PMI'!B1500","v":0},{"$f":"'REPORTE PMI'!E1500","v":0},{"$f":"'REPORTE PMI'!J1500","v":0},{"$f":"'REPORTE PMI'!G1500","v":0},null,null,null,{"$f":"'REPORTE PMI'!L1500","v":0},{"$f":"'REPORTE PMI'!M1500","v":0},0,null,null,0,null,null,"NO"]
[{"$f":"'REPORTE PMI'!B1501","v":0},{"$f":"'REPORTE PMI'!E1501","v":0},{"$f":"'REPORTE PMI'!J1501","v":0},{"$f":"'REPORTE PMI'!G1501","v":0},null,null,null,{"$f":"'REPORTE PMI'!L1501","v":0},{"$f":"'REPORTE PMI'!M1501","v":0},0,null,null,0,null,null,"NO"]
[{"$f":"'REPORTE PMI'!B1502","v":0},{"$f":"'REPORTE PMI'!E1502","v":0},{"$f":"'REPORTE PMI'!J1502","v":0},{"$f":"'REPORTE PMI'!G1502","v":0},null,null,null,{"$f":"'REPORTE PMI'!L1502","v":0},{"$f":"'REPORTE PMI'!M1502","v":0},0,null,null,0,null,null,"NO"]
[{"$f":"'REPORTE PMI'!B1503","v":0},{"$f":"'REPORTE PMI'!E1503","v":0},{"$f":"'REPORTE PMI'!J1503","v":0},{"$f":"'REPORTE PMI'!G1503","v":0},null,null,null,{"$f":"'REPORTE PMI'!L1503","v":0},{"$f":"'REPORTE PMI'!M1503","v":0},0,null,null,0,null,null,"NO"]
[{"$f":"'REPORTE PMI'!B1504","v":0},{"$f":"'REPORTE PMI'!E1504","v":0},{"$f":"'REPORTE PMI'!J1504","v":0},{"$f":"'REPORTE PMI'!G1504","v":0},null,null,null,{"$f":"'REPORTE PMI'!L1504","v":0},{"$f":"'REPORTE PMI'!M1504","v":0},0,null,null,0,null,null,"NO"]
[{"$f":"'REPORTE PMI'!B1505","v":0},{"$f":"'REPORTE PMI'!E1505","v":0},{"$f":"'REPORTE PMI'!J1505","v":0},{"$f":"'REPORTE PMI'!G1505","v":0},null,null,null,{"$f":"'REPORTE PMI'!L1505","v":0},{"$f":"'REPORTE PMI'!M1505","v":0},0,null,null,0,null,null,"NO"]
[{"$f":"'REPORTE PMI'!B1506","v":0},{"$f":"'REPORTE PMI'!E1506","v":0},{"$f":"'REPORTE PMI'!J1506","v":0},{"$f":"'REPORTE PMI'!G1506","v":0},null,null,null,{"$f":"'REPORTE PMI'!L1506","v":0},{"$f":"'REPORTE PMI'!M1506","v":0},0,null,null,0,null,null,"NO"]
[{"$f":"'REPORTE PMI'!B1507","v":0},{"$f":"'REPORTE PMI'!E1507","v":0},{"$f":"'REPORTE PMI'!J1507","v":0},{"$f":"'REPORTE PMI'!G1507","v":0},null,null,null,{"$f":"'REPORTE PMI'!L1507","v":0},{"$f":"'REPORTE PMI'!M1507","v":0},0,null,null,0,null,null,"NO"]
[{"$f":"'REPORTE PMI'!B1508","v":0},{"$f":"'REPORTE PMI'!E1508","v":0},{"$f":"'REPORTE PMI'!J1508","v":0},{"$f":"'REPORTE PMI'!G1508","v":0},null,null,null,{"$f":"'REPORTE PMI'!L1508","v":0},{"$f":"'REPORTE PMI'!M1508","v":0},0,null,null,0,null,null,"NO"]
[{"$f":"'REPORTE PMI'!B1509","v":0},{"$f":"'REPORTE PMI'!E1509","v":0},{"$f":"'REPORTE PMI'!J1509","v":0},{"$f":"'REPORTE PMI'!G1509","v":0},null,null,null,{"$f":"'REPORTE PMI'!L1509","v":0},{"$f":"'REPORTE PMI'!M1509","v":0},0,null,null,0,null,null,"NO"]
[{"$f":"'REPORTE PMI'!B1510","v":0},{"$f":"'REPORTE PMI'!E1510","v":0},{"$f":"'REPORTE PMI'!J1510","v":0},{"$f":"'REPORTE PMI'!G1510","v":0},null,null,null,{"$f":"'REPORTE PMI'!L1510","v":0},{"$f":"'REPORTE PMI'!M1510","v":0},0,null,null,0,null,null,"NO"]
[{"$f":"'REPORTE PMI'!B1511","v":0},{"$f":"'REPORTE PMI'!E1511","v":0},{"$f":"'REPORTE PMI'!J1511","v":0},{"$f":"'REPORTE PMI'!G1511","v":0},null,null,null,{"$f":"'REPORTE PMI'!L1511","v":0},{"$f":"'REPORTE PMI'!M1511","v":0},0,null,null,0,null,null,"NO"]
[{"$f":"'REPORTE PMI'!B1512","v":0},{"$f":"'REPORTE PMI'!E1512","v":0},{"$f":"'REPORTE PMI'!J1512","v":0},{"$f":"'REPORTE PMI'!G1512","v":0},null,null,null,{"$f":"'REPORTE PMI'!L1512","v":0},{"$f":"'REPORTE PMI'!M1512","v":0},0,null,null,0,null,null,"NO"]
[{"$f":"'REPORTE PMI'!B1513","v":0},{"$f":"'REPORTE PMI'!E1513","v":0},{"$f":"'REPORTE PMI'!J1513","v":0},{"$f":"'REPORTE PMI'!G1513","v":0},null,null,null,{"$f":"'REPORTE PMI'!L1513","v":0},{"$f":"'REPORTE PMI'!M1513","v":0},0,null,null,0,null,null,"NO"]
[{"$f":"'REPORTE PMI'!B1514","v":0},{"$f":"'REPORTE PMI'!E1514","v":0},{"$f":"'REPORTE PMI'!J1514","v":0},{"$f":"'REPORTE PMI'!G1514","v":0},null,null,null,{"$f":"'REPORTE PMI'!L1514","v":0},{"$f":"'REPORTE PMI'!M1514","v":0},0,null,null,0,null,null,"NO"]
[{"$f":"'REPORTE PMI'!B1515","v":0},{"$f":"'REPORTE PMI'!E1515","v":0},{"$f":"'REPORTE PMI'!J1515","v":0},{"$f":"'REPORTE PMI'!G1515","v":0},null,null,null,{"$f":"'REPORTE PMI'!L1515","v":0},{"$f":"'REPORTE PMI'!M1515","v":0},0,null,null,0,null,null,"NO"]
[{"$f":"'REPORTE PMI'!B1516","v":0},{"$f":"'REPORTE PMI'!E1516","v":0},{"$f":"'REPORTE PMI'!J1516","v":0},{"$f":"'REPORTE PMI'!G1516","v":0},null,null,null,{"$f":"'REPORTE PMI'!L1516","v":0},{"$f":"'REPORTE PMI'!M1516","v":0},0,null,null,0,null,null,"NO"]
[{"$f":"'REPORTE PMI'!B1517","v":0},{"$f":"'REPORTE PMI'!E1517","v":0},{"$f":"'REPORTE PMI'!J1517","v":0},{"$f":"'REPORTE PMI'!G1517","v":0},null,null,null,{"$f":"'REPORTE PMI'!L1517","v":0},{"$f":"'REPORTE PMI'!M1517","v":0},0,null,null,0,null,null,"NO"]
[{"$f":"'REPORTE PMI'!B1518","v":0},{"$f":"'REPORTE PMI'!E1518","v":0},{"$f":"'REPORTE PMI'!J1518","v":0},{"$f":"'REPORTE PMI'!G1518","v":0},null,null,null,{"$f":"'REPORTE PMI'!L1518","v":0},{"$f":"'REPORTE PMI'!M1518","v":0},0,null,null,0,null,null,"NO"]
[{"$f":"'REPORTE PMI'!B1519","v":0},{"$f":"'REPORTE PMI'!E1519","v":0},{"$f":"'REPORTE PMI'!J1519","v":0},{"$f":"'REPORTE PMI'!G1519","v":0},null,null,null,{"$f":"'REPORTE PMI'!L1519","v":0},{"$f":"'REPORTE PMI'!M1519","v":0},0,null,null,0,null,null,"NO"]
[{"$f":"'REPORTE PMI'!B1520","v":0},{"$f":"'REPORTE PMI'!E1520","v":0},{"$f":"'REPORTE PMI'!J1520","v":0},{"$f":"'REPORTE PMI'!G1520","v":0},null,null,null,{"$f":"'REPORTE PMI'!L1520","v":0},{"$f":"'REPORTE PMI'!M1520","v":0},0,null,null,0,null,null,"NO"]
[{"$f":"'REPORTE PMI'!B1521","v":0},{"$f":"'REPORTE PMI'!E1521","v":0},{"$f":"'REPORTE PMI'!J1521","v":0},{"$f":"'REPORTE PMI'!G1521","v":0},null,null,null,{"$f":"'REPORTE PMI'!L1521","v":0},{"$f":"'REPORTE PMI'!M1521","v":0},0,null,null,0,null,null,"NO"]
[{"$f":"'REPORTE PMI'!B1522","v":0},{"$f":"'REPORTE PMI'!E1522","v":0},{"$f":"'REPORTE PMI'!J1522","v":0},{"$f":"'REPORTE PMI'!G1522","v":0},null,null,null,{"$f":"'REPORTE PMI'!L1522","v":0},{"$f":"'REPORTE PMI'!M1522","v":0},0,null,null,0,null,null,"NO"]
[{"$f":"'REPORTE PMI'!B1523","v":0},{"$f":"'REPORTE PMI'!E1523","v":0},{"$f":"'REPORTE PMI'!J1523","v":0},{"$f":"'REPORTE PMI'!G1523","v":0},null,null,null,{"$f":"'REPORTE PMI'!L1523","v":0},{"$f":"'REPORTE PMI'!M1523","v":0},0,null,null,0,null,null,"NO"]
[{"$f":"'REPORTE PMI'!B1524","v":0},{"$f":"'REPORTE PMI'!E1524","v":0},{"$f":"'REPORTE PMI'!J1524","v":0},{"$f":"'REPORTE PMI'!G1524","v":0},null,null,null,{"$f":"'REPORTE PMI'!L1524","v":0},{"$f":"'REPORTE PMI'!M1524","v":0},0,null,null,0,null,null,"NO"]
[{"$f":"'REPORTE PMI'!B1525","v":0},{"$f":"'REPORTE PMI'!E1525","v":0},{"$f":"'REPORTE PMI'!J1525","v":0},{"$f":"'REPORTE PMI'!G1525","v":0},null,null,null,{"$f":"'REPORTE PMI'!L1525","v":0},{"$f":"'REPORTE PMI'!M1525","v":0},0,null,null,0,null,null,"NO"]
[{"$f":"'REPORTE PMI'!B1526","v":0},{"$f":"'REPORTE PMI'!E1526","v":0},{"$f":"'REPORTE PMI'!J1526","v":0},{"$f":"'REPORTE PMI'!G1526","v":0},null,null,null,{"$f":"'REPORTE PMI'!L1526","v":0},{"$f":"'REPORTE PMI'!M1526","v":0},0,null,null,0,null,null,"NO"]
[{"$f":"'REPORTE PMI'!B1527","v":0},{"$f":"'REPORTE PMI'!E1527","v":0},{"$f":"'REPORTE PMI'!J1527","v":0},{"$f":"'REPORTE PMI'!G1527","v":0},null,null,null,{"$f":"'REPORTE PMI'!L1527","v":0},{"$f":"'REPORTE PMI'!M1527","v":0},0,null,null,0,null,null,"NO"]
[{"$f":"'REPORTE PMI'!B1528","v":0},{"$f":"'REPORTE PMI'!E1528","v":0},{"$f":"'REPORTE PMI'!J1528","v":0},{"$f":"'REPORTE PMI'!G1528","v":0},null,null,null,{"$f":"'REPORTE PMI'!L1528","v":0},{"$f":"'REPORTE PMI'!M1528","v":0},0,null,null,0,null,null,"NO"]
[{"$f":"'REPORTE PMI'!B1529","v":0},{"$f":"'REPORTE PMI'!E1529","v":0},{"$f":"'REPORTE PMI'!J1529","v":0},{"$f":"'REPORTE PMI'!G1529","v":0},null,null,null,{"$f":"'REPORTE PMI'!L1529","v":0},{"$f":"'REPORTE PMI'!M1529","v":0},0,null,null,0,null,null,"NO"]
[{"$f":"'REPORTE PMI'!B1530","v":0},{"$f":"'REPORTE PMI'!E1530","v":0},{"$f":"'REPORTE PMI'!J1530","v":0},{"$f":"'REPORTE PMI'!G1530","v":0},null,null,null,{"$f":"'REPORTE PMI'!L1530","v":0},{"$f":"'REPORTE PMI'!M1530","v":0},0,null,null,0,null,null,"NO"]
[{"$f":"'REPORTE PMI'!B1531","v":0},{"$f":"'REPORTE PMI'!E1531","v":0},{"$f":"'REPORTE PMI'!J1531","v":0},{"$f":"'REPORTE PMI'!G1531","v":0},null,null,null,{"$f":"'REPORTE PMI'!L1531","v":0},{"$f":"'REPORTE PMI'!M1531","v":0},0,null,null,0,null,null,"NO"]
[{"$f":"'REPORTE PMI'!B1532","v":0},{"$f":"'REPORTE PMI'!E1532","v":0},{"$f":"'REPORTE PMI'!J1532","v":0},{"$f":"'REPORTE PMI'!G1532","v":0},null,null,null,{"$f":"'REPORTE PMI'!L1532","v":0},{"$f":"'REPORTE PMI'!M1532","v":0},0,null,null,0,null,null,"NO"]
[{"$f":"'REPORTE PMI'!B1533","v":0},{"$f":"'REPORTE PMI'!E1533","v":0},{"$f":"'REPORTE PMI'!J1533","v":0},{"$f":"'REPORTE PMI'!G1533","v":0},null,null,null,{"$f":"'REPORTE PMI'!L1533","v":0},{"$f":"'REPORTE PMI'!M1533","v":0},0,null,null,0,null,null,"NO"]
[{"$f":"'REPORTE PMI'!B1534","v":0},{"$f":"'REPORTE PMI'!E1534","v":0},{"$f":"'REPORTE PMI'!J1534","v":0},{"$f":"'REPORTE PMI'!G1534","v":0},null,null,null,{"$f":"'REPORTE PMI'!L1534","v":0},{"$f":"'REPORTE PMI'!M1534","v":0},0,null,null,0,null,null,"NO"]
[{"$f":"'REPORTE PMI'!B1535","v":0},{"$f":"'REPORTE PMI'!E1535","v":0},{"$f":"'REPORTE PMI'!J1535","v":0},{"$f":"'REPORTE PMI'!G1535","v":0},null,null,null,{"$f":"'REPORTE PMI'!L1535","v":0},{"$f":"'REPORTE PMI'!M1535","v":0},0,null,null,0,null,null,"NO"]
[{"$f":"'REPORTE PMI'!B1536","v":0},{"$f":"'REPORTE PMI'!E1536","v":0},{"$f":"'REPORTE PMI'!J1536","v":0},{"$f":"'REPORTE PMI'!G1536","v":0},null,null,null,{"$f":"'REPORTE PMI'!L1536","v":0},{"$f":"'REPORTE PMI'!M1536","v":0},0,null,null,0,null,null,"NO"]
[{"$f":"'REPORTE PMI'!B1537","v":0},{"$f":"'REPORTE PMI'!E1537","v":0},{"$f":"'REPORTE PMI'!J1537","v":0},{"$f":"'REPORTE PMI'!G1537","v":0},null,null,null,{"$f":"'REPORTE PMI'!L1537","v":0},{"$f":"'REPORTE PMI'!M1537","v":0},0,null,null,0,null,null,"NO"]
[{"$f":"'REPORTE PMI'!B1538","v":0},{"$f":"'REPORTE PMI'!E1538","v":0},{"$f":"'REPORTE PMI'!J1538","v":0},{"$f":"'REPORTE PMI'!G1538","v":0},null,null,null,{"$f":"'REPORTE PMI'!L1538","v":0},{"$f":"'REPORTE PMI'!M1538","v":0},0,null,null,0,null,null,"NO"]
[{"$f":"'REPORTE PMI'!B1539","v":0},{"$f":"'REPORTE PMI'!E1539","v":0},{"$f":"'REPORTE PMI'!J1539","v":0},{"$f":"'REPORTE PMI'!G1539","v":0},null,null,null,{"$f":"'REPORTE PMI'!L1539","v":0},{"$f":"'REPORTE PMI'!M1539","v":0},0,null,null,0,null,null,"NO"]
[{"$f":"'REPORTE PMI'!B1540","v":0},{"$f":"'REPORTE PMI'!E1540","v":0},{"$f":"'REPORTE PMI'!J1540","v":0},{"$f":"'REPORTE PMI'!G1540","v":0},null,null,null,{"$f":"'REPORTE PMI'!L1540","v":0},{"$f":"'REPORTE PMI'!M1540","v":0},{"$f":"IFERROR(I1549/H1549, 0)","v":0},null,null,{"$f":"H1549-I1549","v":0},null,null,{"$f":"IF(E1549=\"SI\",IF(J1549>0%,IF(K1549=\"SI\",IF(L1549=\"NO\",IF(N1549=\"SI\",IF(O1549=\"NO\",\"SI\",\"NO\"),\"NO\"),\"NO\"),\"NO\"),\"NO\"),\"NO\")","v":"NO"}]
[{"$f":"'REPORTE PMI'!B1541","v":0},{"$f":"'REPORTE PMI'!E1541","v":0},{"$f":"'REPORTE PMI'!J1541","v":0},{"$f":"'REPORTE PMI'!G1541","v":0},null,null,null,{"$f":"'REPORTE PMI'!L1541","v":0},{"$f":"'REPORTE PMI'!M1541","v":0},0,null,null,0,null,null,"NO"]
[{"$f":"'REPORTE PMI'!B1542","v":0},{"$f":"'REPORTE PMI'!E1542","v":0},{"$f":"'REPORTE PMI'!J1542","v":0},{"$f":"'REPORTE PMI'!G1542","v":0},null,null,null,{"$f":"'REPORTE PMI'!L1542","v":0},{"$f":"'REPORTE PMI'!M1542","v":0},0,null,null,0,null,null,"NO"]
[{"$f":"'REPORTE PMI'!B1543","v":0},{"$f":"'REPORTE PMI'!E1543","v":0},{"$f":"'REPORTE PMI'!J1543","v":0},{"$f":"'REPORTE PMI'!G1543","v":0},null,null,null,{"$f":"'REPORTE PMI'!L1543","v":0},{"$f":"'REPORTE PMI'!M1543","v":0},0,null,null,0,null,null,"NO"]
[{"$f":"'REPORTE PMI'!B1544","v":0},{"$f":"'REPORTE PMI'!E1544","v":0},{"$f":"'REPORTE PMI'!J1544","v":0},{"$f":"'REPORTE PMI'!G1544","v":0},null,null,null,{"$f":"'REPORTE PMI'!L1544","v":0},{"$f":"'REPORTE PMI'!M1544","v":0},0,null,null,0,null,null,"NO"]
[{"$f":"'REPORTE PMI'!B1545","v":0},{"$f":"'REPORTE PMI'!E1545","v":0},{"$f":"'REPORTE PMI'!J1545","v":0},{"$f":"'REPORTE PMI'!G1545","v":0},null,null,null,{"$f":"'REPORTE PMI'!L1545","v":0},{"$f":"'REPORTE PMI'!M1545","v":0},0,null,null,0,null,null,"NO"]
[{"$f":"'REPORTE PMI'!B1546","v":0},{"$f":"'REPORTE PMI'!E1546","v":0},{"$f":"'REPORTE PMI'!J1546","v":0},{"$f":"'REPORTE PMI'!G1546","v":0},null,null,null,{"$f":"'REPORTE PMI'!L1546","v":0},{"$f":"'REPORTE PMI'!M1546","v":0},0,null,null,0,null,null,"NO"]
[{"$f":"'REPORTE PMI'!B1547","v":0},{"$f":"'REPORTE PMI'!E1547","v":0},{"$f":"'REPORTE PMI'!J1547","v":0},{"$f":"'REPORTE PMI'!G1547","v":0},null,null,null,{"$f":"'REPORTE PMI'!L1547","v":0},{"$f":"'REPORTE PMI'!M1547","v":0},0,null,null,0,null,null,"NO"]
[{"$f":"'REPORTE PMI'!B1548","v":0},{"$f":"'REPORTE PMI'!E1548","v":0},{"$f":"'REPORTE PMI'!J1548","v":0},{"$f":"'REPORTE PMI'!G1548","v":0},null,null,null,{"$f":"'REPORTE PMI'!L1548","v":0},{"$f":"'REPORTE PMI'!M1548","v":0},0,null,null,0,null,null,"NO"]
[{"$f":"'REPORTE PMI'!B1549","v":0},{"$f":"'REPORTE PMI'!E1549","v":0},{"$f":"'REPORTE PMI'!J1549","v":0},{"$f":"'REPORTE PMI'!G1549","v":0},null,null,null,{"$f":"'REPORTE PMI'!L1549","v":0},{"$f":"'REPORTE PMI'!M1549","v":0},0,null,null,0,null,null,"NO"]
[{"$f":"'REPORTE PMI'!B1550","v":0},{"$f":"'REPORTE PMI'!E1550","v":0},{"$f":"'REPORTE PMI'!J1550","v":0},{"$f":"'REPORTE PMI'!G1550","v":0},null,null,null,{"$f":"'REPORTE PMI'!L1550","v":0},{"$f":"'REPORTE PMI'!M1550","v":0},0,null,null,0,null,null,"NO"]
[{"$f":"'REPORTE PMI'!B1551","v":0},{"$f":"'REPORTE PMI'!E1551","v":0},{"$f":"'REPORTE PMI'!J1551","v":0},{"$f":"'REPORTE PMI'!G1551","v":0},null,null,null,{"$f":"'REPORTE PMI'!L1551","v":0},{"$f":"'REPORTE PMI'!M1551","v":0},0,null,null,0,null,null,"NO"]
[{"$f":"'REPORTE PMI'!B1552","v":0},{"$f":"'REPORTE PMI'!E1552","v":0},{"$f":"'REPORTE PMI'!J1552","v":0},{"$f":"'REPORTE PMI'!G1552","v":0},null,null,null,{"$f":"'REPORTE PMI'!L1552","v":0},{"$f":"'REPORTE PMI'!M1552","v":0},0,null,null,0,null,null,"NO"]
[{"$f":"'REPORTE PMI'!B1553","v":0},{"$f":"'REPORTE PMI'!E1553","v":0},{"$f":"'REPORTE PMI'!J1553","v":0},{"$f":"'REPORTE PMI'!G1553","v":0},null,null,null,{"$f":"'REPORTE PMI'!L1553","v":0},{"$f":"'REPORTE PMI'!M1553","v":0},0,null,null,0,null,null,"NO"]
[{"$f":"'REPORTE PMI'!B1554","v":0},{"$f":"'REPORTE PMI'!E1554","v":0},{"$f":"'REPORTE PMI'!J1554","v":0},{"$f":"'REPORTE PMI'!G1554","v":0},null,null,null,{"$f":"'REPORTE PMI'!L1554","v":0},{"$f":"'REPORTE PMI'!M1554","v":0},0,null,null,0,null,null,"NO"]
[{"$f":"'REPORTE PMI'!B1555","v":0},{"$f":"'REPORTE PMI'!E1555","v":0},{"$f":"'REPORTE PMI'!J1555","v":0},{"$f":"'REPORTE PMI'!G1555","v":0},null,null,null,{"$f":"'REPORTE PMI'!L1555","v":0},{"$f":"'REPORTE PMI'!M1555","v":0},0,null,null,0,null,null,"NO"]
[{"$f":"'REPORTE PMI'!B1556","v":0},{"$f":"'REPORTE PMI'!E1556","v":0},{"$f":"'REPORTE PMI'!J1556","v":0},{"$f":"'REPORTE PMI'!G1556","v":0},null,null,null,{"$f":"'REPORTE PMI'!L1556","v":0},{"$f":"'REPORTE PMI'!M1556","v":0},0,null,null,0,null,null,"NO"]
[{"$f":"'REPORTE PMI'!B1557","v":0},{"$f":"'REPORTE PMI'!E1557","v":0},{"$f":"'REPORTE PMI'!J1557","v":0},{"$f":"'REPORTE PMI'!G1557","v":0},null,null,null,{"$f":"'REPORTE PMI'!L1557","v":0},{"$f":"'REPORTE PMI'!M1557","v":0},0,null,null,0,null,null,"NO"]
[{"$f":"'REPORTE PMI'!B1558","v":0},{"$f":"'REPORTE PMI'!E1558","v":0},{"$f":"'REPORTE PMI'!J1558","v":0},{"$f":"'REPORTE PMI'!G1558","v":0},null,null,null,{"$f":"'REPORTE PMI'!L1558","v":0},{"$f":"'REPORTE PMI'!M1558","v":0},0,null,null,0,null,null,"NO"]
[{"$f":"'REPORTE PMI'!B1559","v":0},{"$f":"'REPORTE PMI'!E1559","v":0},{"$f":"'REPORTE PMI'!J1559","v":0},{"$f":"'REPORTE PMI'!G1559","v":0},null,null,null,{"$f":"'REPORTE PMI'!L1559","v":0},{"$f":"'REPORTE PMI'!M1559","v":0},0,null,null,0,null,null,"NO"]
[{"$f":"'REPORTE PMI'!B1560","v":0},{"$f":"'REPORTE PMI'!E1560","v":0},{"$f":"'REPORTE PMI'!J1560","v":0},{"$f":"'REPORTE PMI'!G1560","v":0},null,null,null,{"$f":"'REPORTE PMI'!L1560","v":0},{"$f":"'REPORTE PMI'!M1560","v":0},0,null,null,0,null,null,"NO"]
[{"$f":"'REPORTE PMI'!B1561","v":0},{"$f":"'REPORTE PMI'!E1561","v":0},{"$f":"'REPORTE PMI'!J1561","v":0},{"$f":"'REPORTE PMI'!G1561","v":0},null,null,null,{"$f":"'REPORTE PMI'!L1561","v":0},{"$f":"'REPORTE PMI'!M1561","v":0},0,null,null,0,null,null,"NO"]
[{"$f":"'REPORTE PMI'!B1562","v":0},{"$f":"'REPORTE PMI'!E1562","v":0},{"$f":"'REPORTE PMI'!J1562","v":0},{"$f":"'REPORTE PMI'!G1562","v":0},null,null,null,{"$f":"'REPORTE PMI'!L1562","v":0},{"$f":"'REPORTE PMI'!M1562","v":0},0,null,null,0,null,null,"NO"]
[{"$f":"'REPORTE PMI'!B1563","v":0},{"$f":"'REPORTE PMI'!E1563","v":0},{"$f":"'REPORTE PMI'!J1563","v":0},{"$f":"'REPORTE PMI'!G1563","v":0},null,null,null,{"$f":"'REPORTE PMI'!L1563","v":0},{"$f":"'REPORTE PMI'!M1563","v":0},0,null,null,0,null,null,"NO"]
[{"$f":"'REPORTE PMI'!B1564","v":0},{"$f":"'REPORTE PMI'!E1564","v":0},{"$f":"'REPORTE PMI'!J1564","v":0},{"$f":"'REPORTE PMI'!G1564","v":0},null,null,null,{"$f":"'REPORTE PMI'!L1564","v":0},{"$f":"'REPORTE PMI'!M1564","v":0},0,null,null,0,null,null,"NO"]
[{"$f":"'REPORTE PMI'!B1565","v":0},{"$f":"'REPORTE PMI'!E1565","v":0},{"$f":"'REPORTE PMI'!J1565","v":0},{"$f":"'REPORTE PMI'!G1565","v":0},null,null,null,{"$f":"'REPORTE PMI'!L1565","v":0},{"$f":"'REPORTE PMI'!M1565","v":0},0,null,null,0,null,null,"NO"]
[{"$f":"'REPORTE PMI'!B1566","v":0},{"$f":"'REPORTE PMI'!E1566","v":0},{"$f":"'REPORTE PMI'!J1566","v":0},{"$f":"'REPORTE PMI'!G1566","v":0},null,null,null,{"$f":"'REPORTE PMI'!L1566","v":0},{"$f":"'REPORTE PMI'!M1566","v":0},0,null,null,0,null,null,"NO"]
[{"$f":"'REPORTE PMI'!B1567","v":0},{"$f":"'REPORTE PMI'!E1567","v":0},{"$f":"'REPORTE PMI'!J1567","v":0},{"$f":"'REPORTE PMI'!G1567","v":0},null,null,null,{"$f":"'REPORTE PMI'!L1567","v":0},{"$f":"'REPORTE PMI'!M1567","v":0},0,null,null,0,null,null,"NO"]
[{"$f":"'REPORTE PMI'!B1568","v":0},{"$f":"'REPORTE PMI'!E1568","v":0},{"$f":"'REPORTE PMI'!J1568","v":0},{"$f":"'REPORTE PMI'!G1568","v":0},null,null,null,{"$f":"'REPORTE PMI'!L1568","v":0},{"$f":"'REPORTE PMI'!M1568","v":0},0,null,null,0,null,null,"NO"]
[{"$f":"'REPORTE PMI'!B1569","v":0},{"$f":"'REPORTE PMI'!E1569","v":0},{"$f":"'REPORTE PMI'!J1569","v":0},{"$f":"'REPORTE PMI'!G1569","v":0},null,null,null,{"$f":"'REPORTE PMI'!L1569","v":0},{"$f":"'REPORTE PMI'!M1569","v":0},0,null,null,0,null,null,"NO"]
[{"$f":"'REPORTE PMI'!B1570","v":0},{"$f":"'REPORTE PMI'!E1570","v":0},{"$f":"'REPORTE PMI'!J1570","v":0},{"$f":"'REPORTE PMI'!G1570","v":0},null,null,null,{"$f":"'REPORTE PMI'!L1570","v":0},{"$f":"'REPORTE PMI'!M1570","v":0},0,null,null,0,null,null,"NO"]
[{"$f":"'REPORTE PMI'!B1571","v":0},{"$f":"'REPORTE PMI'!E1571","v":0},{"$f":"'REPORTE PMI'!J1571","v":0},{"$f":"'REPORTE PMI'!G1571","v":0},null,null,null,{"$f":"'REPORTE PMI'!L1571","v":0},{"$f":"'REPORTE PMI'!M1571","v":0},0,null,null,0,null,null,"NO"]
[{"$f":"'REPORTE PMI'!B1572","v":0},{"$f":"'REPORTE PMI'!E1572","v":0},{"$f":"'REPORTE PMI'!J1572","v":0},{"$f":"'REPORTE PMI'!G1572","v":0},null,null,null,{"$f":"'REPORTE PMI'!L1572","v":0},{"$f":"'REPORTE PMI'!M1572","v":0},0,null,null,0,null,null,"NO"]
[{"$f":"'REPORTE PMI'!B1573","v":0},{"$f":"'REPORTE PMI'!E1573","v":0},{"$f":"'REPORTE PMI'!J1573","v":0},{"$f":"'REPORTE PMI'!G1573","v":0},null,null,null,{"$f":"'REPORTE PMI'!L1573","v":0},{"$f":"'REPORTE PMI'!M1573","v":0},0,null,null,0,null,null,"NO"]
[{"$f":"'REPORTE PMI'!B1574","v":0},{"$f":"'REPORTE PMI'!E1574","v":0},{"$f":"'REPORTE PMI'!J1574","v":0},{"$f":"'REPORTE PMI'!G1574","v":0},null,null,null,{"$f":"'REPORTE PMI'!L1574","v":0},{"$f":"'REPORTE PMI'!M1574","v":0},0,null,null,0,null,null,"NO"]
[{"$f":"'REPORTE PMI'!B1575","v":0},{"$f":"'REPORTE PMI'!E1575","v":0},{"$f":"'REPORTE PMI'!J1575","v":0},{"$f":"'REPORTE PMI'!G1575","v":0},null,null,null,{"$f":"'REPORTE PMI'!L1575","v":0},{"$f":"'REPORTE PMI'!M1575","v":0},0,null,null,0,null,null,"NO"]
[{"$f":"'REPORTE PMI'!B1576","v":0},{"$f":"'REPORTE PMI'!E1576","v":0},{"$f":"'REPORTE PMI'!J1576","v":0},{"$f":"'REPORTE PMI'!G1576","v":0},null,null,null,{"$f":"'REPORTE PMI'!L1576","v":0},{"$f":"'REPORTE PMI'!M1576","v":0},0,null,null,0,null,null,"NO"]
[{"$f":"'REPORTE PMI'!B1577","v":0},{"$f":"'REPORTE PMI'!E1577","v":0},{"$f":"'REPORTE PMI'!J1577","v":0},{"$f":"'REPORTE PMI'!G1577","v":0},null,null,null,{"$f":"'REPORTE PMI'!L1577","v":0},{"$f":"'REPORTE PMI'!M1577","v":0},0,null,null,0,null,null,"NO"]
[{"$f":"'REPORTE PMI'!B1578","v":0},{"$f":"'REPORTE PMI'!E1578","v":0},{"$f":"'REPORTE PMI'!J1578","v":0},{"$f":"'REPORTE PMI'!G1578","v":0},null,null,null,{"$f":"'REPORTE PMI'!L1578","v":0},{"$f":"'REPORTE PMI'!M1578","v":0},0,null,null,0,null,null,"NO"]
[{"$f":"'REPORTE PMI'!B1579","v":0},{"$f":"'REPORTE PMI'!E1579","v":0},{"$f":"'REPORTE PMI'!J1579","v":0},{"$f":"'REPORTE PMI'!G1579","v":0},null,null,null,{"$f":"'REPORTE PMI'!L1579","v":0},{"$f":"'REPORTE PMI'!M1579","v":0},0,null,null,0,null,null,"NO"]
[{"$f":"'REPORTE PMI'!B1580","v":0},{"$f":"'REPORTE PMI'!E1580","v":0},{"$f":"'REPORTE PMI'!J1580","v":0},{"$f":"'REPORTE PMI'!G1580","v":0},null,null,null,{"$f":"'REPORTE PMI'!L1580","v":0},{"$f":"'REPORTE PMI'!M1580","v":0},0,null,null,0,null,null,"NO"]
[{"$f":"'REPORTE PMI'!B1581","v":0},{"$f":"'REPORTE PMI'!E1581","v":0},{"$f":"'REPORTE PMI'!J1581","v":0},{"$f":"'REPORTE PMI'!G1581","v":0},null,null,null,{"$f":"'REPORTE PMI'!L1581","v":0},{"$f":"'REPORTE PMI'!M1581","v":0},0,null,null,0,null,null,"NO"]
[{"$f":"'REPORTE PMI'!B1582","v":0},{"$f":"'REPORTE PMI'!E1582","v":0},{"$f":"'REPORTE PMI'!J1582","v":0},{"$f":"'REPORTE PMI'!G1582","v":0},null,null,null,{"$f":"'REPORTE PMI'!L1582","v":0},{"$f":"'REPORTE PMI'!M1582","v":0},0,null,null,0,null,null,"NO"]
[{"$f":"'REPORTE PMI'!B1583","v":0},{"$f":"'REPORTE PMI'!E1583","v":0},{"$f":"'REPORTE PMI'!J1583","v":0},{"$f":"'REPORTE PMI'!G1583","v":0},null,null,null,{"$f":"'REPORTE PMI'!L1583","v":0},{"$f":"'REPORTE PMI'!M1583","v":0},0,null,null,0,null,null,"NO"]
[{"$f":"'REPORTE PMI'!B1584","v":0},{"$f":"'REPORTE PMI'!E1584","v":0},{"$f":"'REPORTE PMI'!J1584","v":0},{"$f":"'REPORTE PMI'!G1584","v":0},null,null,null,{"$f":"'REPORTE PMI'!L1584","v":0},{"$f":"'REPORTE PMI'!M1584","v":0},0,null,null,0,null,null,"NO"]
[{"$f":"'REPORTE PMI'!B1585","v":0},{"$f":"'REPORTE PMI'!E1585","v":0},{"$f":"'REPORTE PMI'!J1585","v":0},{"$f":"'REPORTE PMI'!G1585","v":0},null,null,null,{"$f":"'REPORTE PMI'!L1585","v":0},{"$f":"'REPORTE PMI'!M1585","v":0},0,null,null,0,null,null,"NO"]
[{"$f":"'REPORTE PMI'!B1586","v":0},{"$f":"'REPORTE PMI'!E1586","v":0},{"$f":"'REPORTE PMI'!J1586","v":0},{"$f":"'REPORTE PMI'!G1586","v":0},null,null,null,{"$f":"'REPORTE PMI'!L1586","v":0},{"$f":"'REPORTE PMI'!M1586","v":0},0,null,null,0,null,null,"NO"]
[{"$f":"'REPORTE PMI'!B1587","v":0},{"$f":"'REPORTE PMI'!E1587","v":0},{"$f":"'REPORTE PMI'!J1587","v":0},{"$f":"'REPORTE PMI'!G1587","v":0},null,null,null,{"$f":"'REPORTE PMI'!L1587","v":0},{"$f":"'REPORTE PMI'!M1587","v":0},0,null,null,0,null,null,"NO"]
[{"$f":"'REPORTE PMI'!B1588","v":0},{"$f":"'REPORTE PMI'!E1588","v":0},{"$f":"'REPORTE PMI'!J1588","v":0},{"$f":"'REPORTE PMI'!G1588","v":0},null,null,null,{"$f":"'REPORTE PMI'!L1588","v":0},{"$f":"'REPORTE PMI'!M1588","v":0},0,null,null,0,null,null,"NO"]
[{"$f":"'REPORTE PMI'!B1589","v":0},{"$f":"'REPORTE PMI'!E1589","v":0},{"$f":"'REPORTE PMI'!J1589","v":0},{"$f":"'REPORTE PMI'!G1589","v":0},null,null,null,{"$f":"'REPORTE PMI'!L1589","v":0},{"$f":"'REPORTE PMI'!M1589","v":0},0,null,null,0,null,null,"NO"]
[{"$f":"'REPORTE PMI'!B1590","v":0},{"$f":"'REPORTE PMI'!E1590","v":0},{"$f":"'REPORTE PMI'!J1590","v":0},{"$f":"'REPORTE PMI'!G1590","v":0},null,null,null,{"$f":"'REPORTE PMI'!L1590","v":0},{"$f":"'REPORTE PMI'!M1590","v":0},0,null,null,0,null,null,"NO"]
[{"$f":"'REPORTE PMI'!B1591","v":0},{"$f":"'REPORTE PMI'!E1591","v":0},{"$f":"'REPORTE PMI'!J1591","v":0},{"$f":"'REPORTE PMI'!G1591","v":0},null,null,null,{"$f":"'REPORTE PMI'!L1591","v":0},{"$f":"'REPORTE PMI'!M1591","v":0},0,null,null,0,null,null,"NO"]
[{"$f":"'REPORTE PMI'!B1592","v":0},{"$f":"'REPORTE PMI'!E1592","v":0},{"$f":"'REPORTE PMI'!J1592","v":0},{"$f":"'REPORTE PMI'!G1592","v":0},null,null,null,{"$f":"'REPORTE PMI'!L1592","v":0},{"$f":"'REPORTE PMI'!M1592","v":0},0,null,null,0,null,null,"NO"]
[{"$f":"'REPORTE PMI'!B1593","v":0},{"$f":"'REPORTE PMI'!E1593","v":0},{"$f":"'REPORTE PMI'!J1593","v":0},{"$f":"'REPORTE PMI'!G1593","v":0},null,null,null,{"$f":"'REPORTE PMI'!L1593","v":0},{"$f":"'REPORTE PMI'!M1593","v":0},0,null,null,0,null,null,"NO"]
[{"$f":"'REPORTE PMI'!B1594","v":0},{"$f":"'REPORTE PMI'!E1594","v":0},{"$f":"'REPORTE PMI'!J1594","v":0},{"$f":"'REPORTE PMI'!G1594","v":0},null,null,null,{"$f":"'REPORTE PMI'!L1594","v":0},{"$f":"'REPORTE PMI'!M1594","v":0},0,null,null,0,null,null,"NO"]
[{"$f":"'REPORTE PMI'!B1595","v":0},{"$f":"'REPORTE PMI'!E1595","v":0},{"$f":"'REPORTE PMI'!J1595","v":0},{"$f":"'REPORTE PMI'!G1595","v":0},null,null,null,{"$f":"'REPORTE PMI'!L1595","v":0},{"$f":"'REPORTE PMI'!M1595","v":0},0,null,null,0,null,null,"NO"]
[{"$f":"'REPORTE PMI'!B1596","v":0},{"$f":"'REPORTE PMI'!E1596","v":0},{"$f":"'REPORTE PMI'!J1596","v":0},{"$f":"'REPORTE PMI'!G1596","v":0},null,null,null,{"$f":"'REPORTE PMI'!L1596","v":0},{"$f":"'REPORTE PMI'!M1596","v":0},0,null,null,0,null,null,"NO"]
[{"$f":"'REPORTE PMI'!B1597","v":0},{"$f":"'REPORTE PMI'!E1597","v":0},{"$f":"'REPORTE PMI'!J1597","v":0},{"$f":"'REPORTE PMI'!G1597","v":0},null,null,null,{"$f":"'REPORTE PMI'!L1597","v":0},{"$f":"'REPORTE PMI'!M1597","v":0},0,null,null,0,null,null,"NO"]
[{"$f":"'REPORTE PMI'!B1598","v":0},{"$f":"'REPORTE PMI'!E1598","v":0},{"$f":"'REPORTE PMI'!J1598","v":0},{"$f":"'REPORTE PMI'!G1598","v":0},null,null,null,{"$f":"'REPORTE PMI'!L1598","v":0},{"$f":"'REPORTE PMI'!M1598","v":0},0,null,null,0,null,null,"NO"]
[{"$f":"'REPORTE PMI'!B1599","v":0},{"$f":"'REPORTE PMI'!E1599","v":0},{"$f":"'REPORTE PMI'!J1599","v":0},{"$f":"'REPORTE PMI'!G1599","v":0},null,null,null,{"$f":"'REPORTE PMI'!L1599","v":0},{"$f":"'REPORTE PMI'!M1599","v":0},0,null,null,0,null,null,"NO"]
[{"$f":"'REPORTE PMI'!B1600","v":0},{"$f":"'REPORTE PMI'!E1600","v":0},{"$f":"'REPORTE PMI'!J1600","v":0},{"$f":"'REPORTE PMI'!G1600","v":0},null,null,null,{"$f":"'REPORTE PMI'!L1600","v":0},{"$f":"'REPORTE PMI'!M1600","v":0},0,null,null,0,null,null,"NO"]
[{"$f":"'REPORTE PMI'!B1601","v":0},{"$f":"'REPORTE PMI'!E1601","v":0},{"$f":"'REPORTE PMI'!J1601","v":0},{"$f":"'REPORTE PMI'!G1601","v":0},null,null,null,{"$f":"'REPORTE PMI'!L1601","v":0},{"$f":"'REPORTE PMI'!M1601","v":0},0,null,null,0,null,null,"NO"]
[{"$f":"'REPORTE PMI'!B1602","v":0},{"$f":"'REPORTE PMI'!E1602","v":0},{"$f":"'REPORTE PMI'!J1602","v":0},{"$f":"'REPORTE PMI'!G1602","v":0},null,null,null,{"$f":"'REPORTE PMI'!L1602","v":0},{"$f":"'REPORTE PMI'!M1602","v":0},0,null,null,0,null,null,"NO"]
[{"$f":"'REPORTE PMI'!B1603","v":0},{"$f":"'REPORTE PMI'!E1603","v":0},{"$f":"'REPORTE PMI'!J1603","v":0},{"$f":"'REPORTE PMI'!G1603","v":0},null,null,null,{"$f":"'REPORTE PMI'!L1603","v":0},{"$f":"'REPORTE PMI'!M1603","v":0},0,null,null,0,null,null,"NO"]
[{"$f":"'REPORTE PMI'!B1604","v":0},{"$f":"'REPORTE PMI'!E1604","v":0},{"$f":"'REPORTE PMI'!J1604","v":0},{"$f":"'REPORTE PMI'!G1604","v":0},null,null,null,{"$f":"'REPORTE PMI'!L1604","v":0},{"$f":"'REPORTE PMI'!M1604","v":0},{"$f":"IFERROR(I1613/H1613, 0)","v":0},null,null,{"$f":"H1613-I1613","v":0},null,null,{"$f":"IF(E1613=\"SI\",IF(J1613>0%,IF(K1613=\"SI\",IF(L1613=\"NO\",IF(N1613=\"SI\",IF(O1613=\"NO\",\"SI\",\"NO\"),\"NO\"),\"NO\"),\"NO\"),\"NO\"),\"NO\")","v":"NO"}]
[{"$f":"'REPORTE PMI'!B1605","v":0},{"$f":"'REPORTE PMI'!E1605","v":0},{"$f":"'REPORTE PMI'!J1605","v":0},{"$f":"'REPORTE PMI'!G1605","v":0},null,null,null,{"$f":"'REPORTE PMI'!L1605","v":0},{"$f":"'REPORTE PMI'!M1605","v":0},0,null,null,0,null,null,"NO"]
[{"$f":"'REPORTE PMI'!B1606","v":0},{"$f":"'REPORTE PMI'!E1606","v":0},{"$f":"'REPORTE PMI'!J1606","v":0},{"$f":"'REPORTE PMI'!G1606","v":0},null,null,null,{"$f":"'REPORTE PMI'!L1606","v":0},{"$f":"'REPORTE PMI'!M1606","v":0},0,null,null,0,null,null,"NO"]
[{"$f":"'REPORTE PMI'!B1607","v":0},{"$f":"'REPORTE PMI'!E1607","v":0},{"$f":"'REPORTE PMI'!J1607","v":0},{"$f":"'REPORTE PMI'!G1607","v":0},null,null,null,{"$f":"'REPORTE PMI'!L1607","v":0},{"$f":"'REPORTE PMI'!M1607","v":0},0,null,null,0,null,null,"NO"]
[{"$f":"'REPORTE PMI'!B1608","v":0},{"$f":"'REPORTE PMI'!E1608","v":0},{"$f":"'REPORTE PMI'!J1608","v":0},{"$f":"'REPORTE PMI'!G1608","v":0},null,null,null,{"$f":"'REPORTE PMI'!L1608","v":0},{"$f":"'REPORTE PMI'!M1608","v":0},0,null,null,0,null,null,"NO"]
[{"$f":"'REPORTE PMI'!B1609","v":0},{"$f":"'REPORTE PMI'!E1609","v":0},{"$f":"'REPORTE PMI'!J1609","v":0},{"$f":"'REPORTE PMI'!G1609","v":0},null,null,null,{"$f":"'REPORTE PMI'!L1609","v":0},{"$f":"'REPORTE PMI'!M1609","v":0},0,null,null,0,null,null,"NO"]
[{"$f":"'REPORTE PMI'!B1610","v":0},{"$f":"'REPORTE PMI'!E1610","v":0},{"$f":"'REPORTE PMI'!J1610","v":0},{"$f":"'REPORTE PMI'!G1610","v":0},null,null,null,{"$f":"'REPORTE PMI'!L1610","v":0},{"$f":"'REPORTE PMI'!M1610","v":0},0,null,null,0,null,null,"NO"]
[{"$f":"'REPORTE PMI'!B1611","v":0},{"$f":"'REPORTE PMI'!E1611","v":0},{"$f":"'REPORTE PMI'!J1611","v":0},{"$f":"'REPORTE PMI'!G1611","v":0},null,null,null,{"$f":"'REPORTE PMI'!L1611","v":0},{"$f":"'REPORTE PMI'!M1611","v":0},0,null,null,0,null,null,"NO"]
[{"$f":"'REPORTE PMI'!B1612","v":0},{"$f":"'REPORTE PMI'!E1612","v":0},{"$f":"'REPORTE PMI'!J1612","v":0},{"$f":"'REPORTE PMI'!G1612","v":0},null,null,null,{"$f":"'REPORTE PMI'!L1612","v":0},{"$f":"'REPORTE PMI'!M1612","v":0},0,null,null,0,null,null,"NO"]
[{"$f":"'REPORTE PMI'!B1613","v":0},{"$f":"'REPORTE PMI'!E1613","v":0},{"$f":"'REPORTE PMI'!J1613","v":0},{"$f":"'REPORTE PMI'!G1613","v":0},null,null,null,{"$f":"'REPORTE PMI'!L1613","v":0},{"$f":"'REPORTE PMI'!M1613","v":0},0,null,null,0,null,null,"NO"]
[{"$f":"'REPORTE PMI'!B1614","v":0},{"$f":"'REPORTE PMI'!E1614","v":0},{"$f":"'REPORTE PMI'!J1614","v":0},{"$f":"'REPORTE PMI'!G1614","v":0},null,null,null,{"$f":"'REPORTE PMI'!L1614","v":0},{"$f":"'REPORTE PMI'!M1614","v":0},0,null,null,0,null,null,"NO"]
[{"$f":"'REPORTE PMI'!B1615","v":0},{"$f":"'REPORTE PMI'!E1615","v":0},{"$f":"'REPORTE PMI'!J1615","v":0},{"$f":"'REPORTE PMI'!G1615","v":0},null,null,null,{"$f":"'REPORTE PMI'!L1615","v":0},{"$f":"'REPORTE PMI'!M1615","v":0},0,null,null,0,null,null,"NO"]
[{"$f":"'REPORTE PMI'!B1616","v":0},{"$f":"'REPORTE PMI'!E1616","v":0},{"$f":"'REPORTE PMI'!J1616","v":0},{"$f":"'REPORTE PMI'!G1616","v":0},null,null,null,{"$f":"'REPORTE PMI'!L1616","v":0},{"$f":"'REPORTE PMI'!M1616","v":0},0,null,null,0,null,null,"NO"]
[{"$f":"'REPORTE PMI'!B1617","v":0},{"$f":"'REPORTE PMI'!E1617","v":0},{"$f":"'REPORTE PMI'!J1617","v":0},{"$f":"'REPORTE PMI'!G1617","v":0},null,null,null,{"$f":"'REPORTE PMI'!L1617","v":0},{"$f":"'REPORTE PMI'!M1617","v":0},0,null,null,0,null,null,"NO"]
[{"$f":"'REPORTE PMI'!B1618","v":0},{"$f":"'REPORTE PMI'!E1618","v":0},{"$f":"'REPORTE PMI'!J1618","v":0},{"$f":"'REPORTE PMI'!G1618","v":0},null,null,null,{"$f":"'REPORTE PMI'!L1618","v":0},{"$f":"'REPORTE PMI'!M1618","v":0},0,null,null,0,null,null,"NO"]
[{"$f":"'REPORTE PMI'!B1619","v":0},{"$f":"'REPORTE PMI'!E1619","v":0},{"$f":"'REPORTE PMI'!J1619","v":0},{"$f":"'REPORTE PMI'!G1619","v":0},null,null,null,{"$f":"'REPORTE PMI'!L1619","v":0},{"$f":"'REPORTE PMI'!M1619","v":0},0,null,null,0,null,null,"NO"]
[{"$f":"'REPORTE PMI'!B1620","v":0},{"$f":"'REPORTE PMI'!E1620","v":0},{"$f":"'REPORTE PMI'!J1620","v":0},{"$f":"'REPORTE PMI'!G1620","v":0},null,null,null,{"$f":"'REPORTE PMI'!L1620","v":0},{"$f":"'REPORTE PMI'!M1620","v":0},0,null,null,0,null,null,"NO"]
[{"$f":"'REPORTE PMI'!B1621","v":0},{"$f":"'REPORTE PMI'!E1621","v":0},{"$f":"'REPORTE PMI'!J1621","v":0},{"$f":"'REPORTE PMI'!G1621","v":0},null,null,null,{"$f":"'REPORTE PMI'!L1621","v":0},{"$f":"'REPORTE PMI'!M1621","v":0},0,null,null,0,null,null,"NO"]
[{"$f":"'REPORTE PMI'!B1622","v":0},{"$f":"'REPORTE PMI'!E1622","v":0},{"$f":"'REPORTE PMI'!J1622","v":0},{"$f":"'REPORTE PMI'!G1622","v":0},null,null,null,{"$f":"'REPORTE PMI'!L1622","v":0},{"$f":"'REPORTE PMI'!M1622","v":0},0,null,null,0,null,null,"NO"]
[{"$f":"'REPORTE PMI'!B1623","v":0},{"$f":"'REPORTE PMI'!E1623","v":0},{"$f":"'REPORTE PMI'!J1623","v":0},{"$f":"'REPORTE PMI'!G1623","v":0},null,null,null,{"$f":"'REPORTE PMI'!L1623","v":0},{"$f":"'REPORTE PMI'!M1623","v":0},0,null,null,0,null,null,"NO"]
[{"$f":"'REPORTE PMI'!B1624","v":0},{"$f":"'REPORTE PMI'!E1624","v":0},{"$f":"'REPORTE PMI'!J1624","v":0},{"$f":"'REPORTE PMI'!G1624","v":0},null,null,null,{"$f":"'REPORTE PMI'!L1624","v":0},{"$f":"'REPORTE PMI'!M1624","v":0},0,null,null,0,null,null,"NO"]
[{"$f":"'REPORTE PMI'!B1625","v":0},{"$f":"'REPORTE PMI'!E1625","v":0},{"$f":"'REPORTE PMI'!J1625","v":0},{"$f":"'REPORTE PMI'!G1625","v":0},null,null,null,{"$f":"'REPORTE PMI'!L1625","v":0},{"$f":"'REPORTE PMI'!M1625","v":0},0,null,null,0,null,null,"NO"]
[{"$f":"'REPORTE PMI'!B1626","v":0},{"$f":"'REPORTE PMI'!E1626","v":0},{"$f":"'REPORTE PMI'!J1626","v":0},{"$f":"'REPORTE PMI'!G1626","v":0},null,null,null,{"$f":"'REPORTE PMI'!L1626","v":0},{"$f":"'REPORTE PMI'!M1626","v":0},0,null,null,0,null,null,"NO"]
[{"$f":"'REPORTE PMI'!B1627","v":0},{"$f":"'REPORTE PMI'!E1627","v":0},{"$f":"'REPORTE PMI'!J1627","v":0},{"$f":"'REPORTE PMI'!G1627","v":0},null,null,null,{"$f":"'REPORTE PMI'!L1627","v":0},{"$f":"'REPORTE PMI'!M1627","v":0},0,null,null,0,null,null,"NO"]
[{"$f":"'REPORTE PMI'!B1628","v":0},{"$f":"'REPORTE PMI'!E1628","v":0},{"$f":"'REPORTE PMI'!J1628","v":0},{"$f":"'REPORTE PMI'!G1628","v":0},null,null,null,{"$f":"'REPORTE PMI'!L1628","v":0},{"$f":"'REPORTE PMI'!M1628","v":0},0,null,null,0,null,null,"NO"]
[{"$f":"'REPORTE PMI'!B1629","v":0},{"$f":"'REPORTE PMI'!E1629","v":0},{"$f":"'REPORTE PMI'!J1629","v":0},{"$f":"'REPORTE PMI'!G1629","v":0},null,null,null,{"$f":"'REPORTE PMI'!L1629","v":0},{"$f":"'REPORTE PMI'!M1629","v":0},0,null,null,0,null,null,"NO"]
[{"$f":"'REPORTE PMI'!B1630","v":0},{"$f":"'REPORTE PMI'!E1630","v":0},{"$f":"'REPORTE PMI'!J1630","v":0},{"$f":"'REPORTE PMI'!G1630","v":0},null,null,null,{"$f":"'REPORTE PMI'!L1630","v":0},{"$f":"'REPORTE PMI'!M1630","v":0},0,null,null,0,null,null,"NO"]
[{"$f":"'REPORTE PMI'!B1631","v":0},{"$f":"'REPORTE PMI'!E1631","v":0},{"$f":"'REPORTE PMI'!J1631","v":0},{"$f":"'REPORTE PMI'!G1631","v":0},null,null,null,{"$f":"'REPORTE PMI'!L1631","v":0},{"$f":"'REPORTE PMI'!M1631","v":0},0,null,null,0,null,null,"NO"]
[{"$f":"'REPORTE PMI'!B1632","v":0},{"$f":"'REPORTE PMI'!E1632","v":0},{"$f":"'REPORTE PMI'!J1632","v":0},{"$f":"'REPORTE PMI'!G1632","v":0},null,null,null,{"$f":"'REPORTE PMI'!L1632","v":0},{"$f":"'REPORTE PMI'!M1632","v":0},0,null,null,0,null,null,"NO"]
[{"$f":"'REPORTE PMI'!B1633","v":0},{"$f":"'REPORTE PMI'!E1633","v":0},{"$f":"'REPORTE PMI'!J1633","v":0},{"$f":"'REPORTE PMI'!G1633","v":0},null,null,null,{"$f":"'REPORTE PMI'!L1633","v":0},{"$f":"'REPORTE PMI'!M1633","v":0},0,null,null,0,null,null,"NO"]
[{"$f":"'REPORTE PMI'!B1634","v":0},{"$f":"'REPORTE PMI'!E1634","v":0},{"$f":"'REPORTE PMI'!J1634","v":0},{"$f":"'REPORTE PMI'!G1634","v":0},null,null,null,{"$f":"'REPORTE PMI'!L1634","v":0},{"$f":"'REPORTE PMI'!M1634","v":0},0,null,null,0,null,null,"NO"]
[{"$f":"'REPORTE PMI'!B1635","v":0},{"$f":"'REPORTE PMI'!E1635","v":0},{"$f":"'REPORTE PMI'!J1635","v":0},{"$f":"'REPORTE PMI'!G1635","v":0},null,null,null,{"$f":"'REPORTE PMI'!L1635","v":0},{"$f":"'REPORTE PMI'!M1635","v":0},0,null,null,0,null,null,"NO"]
[{"$f":"'REPORTE PMI'!B1636","v":0},{"$f":"'REPORTE PMI'!E1636","v":0},{"$f":"'REPORTE PMI'!J1636","v":0},{"$f":"'REPORTE PMI'!G1636","v":0},null,null,null,{"$f":"'REPORTE PMI'!L1636","v":0},{"$f":"'REPORTE PMI'!M1636","v":0},0,null,null,0,null,null,"NO"]
[{"$f":"'REPORTE PMI'!B1637","v":0},{"$f":"'REPORTE PMI'!E1637","v":0},{"$f":"'REPORTE PMI'!J1637","v":0},{"$f":"'REPORTE PMI'!G1637","v":0},null,null,null,{"$f":"'REPORTE PMI'!L1637","v":0},{"$f":"'REPORTE PMI'!M1637","v":0},0,null,null,0,null,null,"NO"]
[{"$f":"'REPORTE PMI'!B1638","v":0},{"$f":"'REPORTE PMI'!E1638","v":0},{"$f":"'REPORTE PMI'!J1638","v":0},{"$f":"'REPORTE PMI'!G1638","v":0},null,null,null,{"$f":"'REPORTE PMI'!L1638","v":0},{"$f":"'REPORTE PMI'!M1638","v":0},0,null,null,0,null,null,"NO"]
[{"$f":"'REPORTE PMI'!B1639","v":0},{"$f":"'REPORTE PMI'!E1639","v":0},{"$f":"'REPORTE PMI'!J1639","v":0},{"$f":"'REPORTE PMI'!G1639","v":0},null,null,null,{"$f":"'REPORTE PMI'!L1639","v":0},{"$f":"'REPORTE PMI'!M1639","v":0},0,null,null,0,null,null,"NO"]
[{"$f":"'REPORTE PMI'!B1640","v":0},{"$f":"'REPORTE PMI'!E1640","v":0},{"$f":"'REPORTE PMI'!J1640","v":0},{"$f":"'REPORTE PMI'!G1640","v":0},null,null,null,{"$f":"'REPORTE PMI'!L1640","v":0},{"$f":"'REPORTE PMI'!M1640","v":0},0,null,null,0,null,null,"NO"]
[{"$f":"'REPORTE PMI'!B1641","v":0},{"$f":"'REPORTE PMI'!E1641","v":0},{"$f":"'REPORTE PMI'!J1641","v":0},{"$f":"'REPORTE PMI'!G1641","v":0},null,null,null,{"$f":"'REPORTE PMI'!L1641","v":0},{"$f":"'REPORTE PMI'!M1641","v":0},0,null,null,0,null,null,"NO"]
[{"$f":"'REPORTE PMI'!B1642","v":0},{"$f":"'REPORTE PMI'!E1642","v":0},{"$f":"'REPORTE PMI'!J1642","v":0},{"$f":"'REPORTE PMI'!G1642","v":0},null,null,null,{"$f":"'REPORTE PMI'!L1642","v":0},{"$f":"'REPORTE PMI'!M1642","v":0},0,null,null,0,null,null,"NO"]
[{"$f":"'REPORTE PMI'!B1643","v":0},{"$f":"'REPORTE PMI'!E1643","v":0},{"$f":"'REPORTE PMI'!J1643","v":0},{"$f":"'REPORTE PMI'!G1643","v":0},null,null,null,{"$f":"'REPORTE PMI'!L1643","v":0},{"$f":"'REPORTE PMI'!M1643","v":0},0,null,null,0,null,null,"NO"]
[{"$f":"'REPORTE PMI'!B1644","v":0},{"$f":"'REPORTE PMI'!E1644","v":0},{"$f":"'REPORTE PMI'!J1644","v":0},{"$f":"'REPORTE PMI'!G1644","v":0},null,null,null,{"$f":"'REPORTE PMI'!L1644","v":0},{"$f":"'REPORTE PMI'!M1644","v":0},0,null,null,0,null,null,"NO"]
[{"$f":"'REPORTE PMI'!B1645","v":0},{"$f":"'REPORTE PMI'!E1645","v":0},{"$f":"'REPORTE PMI'!J1645","v":0},{"$f":"'REPORTE PMI'!G1645","v":0},null,null,null,{"$f":"'REPORTE PMI'!L1645","v":0},{"$f":"'REPORTE PMI'!M1645","v":0},0,null,null,0,null,null,"NO"]
[{"$f":"'REPORTE PMI'!B1646","v":0},{"$f":"'REPORTE PMI'!E1646","v":0},{"$f":"'REPORTE PMI'!J1646","v":0},{"$f":"'REPORTE PMI'!G1646","v":0},null,null,null,{"$f":"'REPORTE PMI'!L1646","v":0},{"$f":"'REPORTE PMI'!M1646","v":0},0,null,null,0,null,null,"NO"]
[{"$f":"'REPORTE PMI'!B1647","v":0},{"$f":"'REPORTE PMI'!E1647","v":0},{"$f":"'REPORTE PMI'!J1647","v":0},{"$f":"'REPORTE PMI'!G1647","v":0},null,null,null,{"$f":"'REPORTE PMI'!L1647","v":0},{"$f":"'REPORTE PMI'!M1647","v":0},0,null,null,0,null,null,"NO"]
[{"$f":"'REPORTE PMI'!B1648","v":0},{"$f":"'REPORTE PMI'!E1648","v":0},{"$f":"'REPORTE PMI'!J1648","v":0},{"$f":"'REPORTE PMI'!G1648","v":0},null,null,null,{"$f":"'REPORTE PMI'!L1648","v":0},{"$f":"'REPORTE PMI'!M1648","v":0},0,null,null,0,null,null,"NO"]
[{"$f":"'REPORTE PMI'!B1649","v":0},{"$f":"'REPORTE PMI'!E1649","v":0},{"$f":"'REPORTE PMI'!J1649","v":0},{"$f":"'REPORTE PMI'!G1649","v":0},null,null,null,{"$f":"'REPORTE PMI'!L1649","v":0},{"$f":"'REPORTE PMI'!M1649","v":0},0,null,null,0,null,null,"NO"]
[{"$f":"'REPORTE PMI'!B1650","v":0},{"$f":"'REPORTE PMI'!E1650","v":0},{"$f":"'REPORTE PMI'!J1650","v":0},{"$f":"'REPORTE PMI'!G1650","v":0},null,null,null,{"$f":"'REPORTE PMI'!L1650","v":0},{"$f":"'REPORTE PMI'!M1650","v":0},0,null,null,0,null,null,"NO"]
[{"$f":"'REPORTE PMI'!B1651","v":0},{"$f":"'REPORTE PMI'!E1651","v":0},{"$f":"'REPORTE PMI'!J1651","v":0},{"$f":"'REPORTE PMI'!G1651","v":0},null,null,null,{"$f":"'REPORTE PMI'!L1651","v":0},{"$f":"'REPORTE PMI'!M1651","v":0},0,null,null,0,null,null,"NO"]
[{"$f":"'REPORTE PMI'!B1652","v":0},{"$f":"'REPORTE PMI'!E1652","v":0},{"$f":"'REPORTE PMI'!J1652","v":0},{"$f":"'REPORTE PMI'!G1652","v":0},null,null,null,{"$f":"'REPORTE PMI'!L1652","v":0},{"$f":"'REPORTE PMI'!M1652","v":0},0,null,null,0,null,null,"NO"]
[{"$f":"'REPORTE PMI'!B1653","v":0},{"$f":"'REPORTE PMI'!E1653","v":0},{"$f":"'REPORTE PMI'!J1653","v":0},{"$f":"'REPORTE PMI'!G1653","v":0},null,null,null,{"$f":"'REPORTE PMI'!L1653","v":0},{"$f":"'REPORTE PMI'!M1653","v":0},0,null,null,0,null,null,"NO"]
[{"$f":"'REPORTE PMI'!B1654","v":0},{"$f":"'REPORTE PMI'!E1654","v":0},{"$f":"'REPORTE PMI'!J1654","v":0},{"$f":"'REPORTE PMI'!G1654","v":0},null,null,null,{"$f":"'REPORTE PMI'!L1654","v":0},{"$f":"'REPORTE PMI'!M1654","v":0},0,null,null,0,null,null,"NO"]
[{"$f":"'REPORTE PMI'!B1655","v":0},{"$f":"'REPORTE PMI'!E1655","v":0},{"$f":"'REPORTE PMI'!J1655","v":0},{"$f":"'REPORTE PMI'!G1655","v":0},null,null,null,{"$f":"'REPORTE PMI'!L1655","v":0},{"$f":"'REPORTE PMI'!M1655","v":0},0,null,null,0,null,null,"NO"]
[{"$f":"'REPORTE PMI'!B1656","v":0},{"$f":"'REPORTE PMI'!E1656","v":0},{"$f":"'REPORTE PMI'!J1656","v":0},{"$f":"'REPORTE PMI'!G1656","v":0},null,null,null,{"$f":"'REPORTE PMI'!L1656","v":0},{"$f":"'REPORTE PMI'!M1656","v":0},0,null,null,0,null,null,"NO"]
[{"$f":"'REPORTE PMI'!B1657","v":0},{"$f":"'REPORTE PMI'!E1657","v":0},{"$f":"'REPORTE PMI'!J1657","v":0},{"$f":"'REPORTE PMI'!G1657","v":0},null,null,null,{"$f":"'REPORTE PMI'!L1657","v":0},{"$f":"'REPORTE PMI'!M1657","v":0},0,null,null,0,null,null,"NO"]
[{"$f":"'REPORTE PMI'!B1658","v":0},{"$f":"'REPORTE PMI'!E1658","v":0},{"$f":"'REPORTE PMI'!J1658","v":0},{"$f":"'REPORTE PMI'!G1658","v":0},null,null,null,{"$f":"'REPORTE PMI'!L1658","v":0},{"$f":"'REPORTE PMI'!M1658","v":0},0,null,null,0,null,null,"NO"]
[{"$f":"'REPORTE PMI'!B1659","v":0},{"$f":"'REPORTE PMI'!E1659","v":0},{"$f":"'REPORTE PMI'!J1659","v":0},{"$f":"'REPORTE PMI'!G1659","v":0},null,null,null,{"$f":"'REPORTE PMI'!L1659","v":0},{"$f":"'REPORTE PMI'!M1659","v":0},0,null,null,0,null,null,"NO"]
[{"$f":"'REPORTE PMI'!B1660","v":0},{"$f":"'REPORTE PMI'!E1660","v":0},{"$f":"'REPORTE PMI'!J1660","v":0},{"$f":"'REPORTE PMI'!G1660","v":0},null,null,null,{"$f":"'REPORTE PMI'!L1660","v":0},{"$f":"'REPORTE PMI'!M1660","v":0},0,null,null,0,null,null,"NO"]
[{"$f":"'REPORTE PMI'!B1661","v":0},{"$f":"'REPORTE PMI'!E1661","v":0},{"$f":"'REPORTE PMI'!J1661","v":0},{"$f":"'REPORTE PMI'!G1661","v":0},null,null,null,{"$f":"'REPORTE PMI'!L1661","v":0},{"$f":"'REPORTE PMI'!M1661","v":0},0,null,null,0,null,null,"NO"]
[{"$f":"'REPORTE PMI'!B1662","v":0},{"$f":"'REPORTE PMI'!E1662","v":0},{"$f":"'REPORTE PMI'!J1662","v":0},{"$f":"'REPORTE PMI'!G1662","v":0},null,null,null,{"$f":"'REPORTE PMI'!L1662","v":0},{"$f":"'REPORTE PMI'!M1662","v":0},0,null,null,0,null,null,"NO"]
[{"$f":"'REPORTE PMI'!B1663","v":0},{"$f":"'REPORTE PMI'!E1663","v":0},{"$f":"'REPORTE PMI'!J1663","v":0},{"$f":"'REPORTE PMI'!G1663","v":0},null,null,null,{"$f":"'REPORTE PMI'!L1663","v":0},{"$f":"'REPORTE PMI'!M1663","v":0},0,null,null,0,null,null,"NO"]
[{"$f":"'REPORTE PMI'!B1664","v":0},{"$f":"'REPORTE PMI'!E1664","v":0},{"$f":"'REPORTE PMI'!J1664","v":0},{"$f":"'REPORTE PMI'!G1664","v":0},null,null,null,{"$f":"'REPORTE PMI'!L1664","v":0},{"$f":"'REPORTE PMI'!M1664","v":0},0,null,null,0,null,null,"NO"]
[{"$f":"'REPORTE PMI'!B1665","v":0},{"$f":"'REPORTE PMI'!E1665","v":0},{"$f":"'REPORTE PMI'!J1665","v":0},{"$f":"'REPORTE PMI'!G1665","v":0},null,null,null,{"$f":"'REPORTE PMI'!L1665","v":0},{"$f":"'REPORTE PMI'!M1665","v":0},0,null,null,0,null,null,"NO"]
[{"$f":"'REPORTE PMI'!B1666","v":0},{"$f":"'REPORTE PMI'!E1666","v":0},{"$f":"'REPORTE PMI'!J1666","v":0},{"$f":"'REPORTE PMI'!G1666","v":0},null,null,null,{"$f":"'REPORTE PMI'!L1666","v":0},{"$f":"'REPORTE PMI'!M1666","v":0},0,null,null,0,null,null,"NO"]
[{"$f":"'REPORTE PMI'!B1667","v":0},{"$f":"'REPORTE PMI'!E1667","v":0},{"$f":"'REPORTE PMI'!J1667","v":0},{"$f":"'REPORTE PMI'!G1667","v":0},null,null,null,{"$f":"'REPORTE PMI'!L1667","v":0},{"$f":"'REPORTE PMI'!M1667","v":0},0,null,null,0,null,null,"NO"]
[{"$f":"'REPORTE PMI'!B1668","v":0},{"$f":"'REPORTE PMI'!E1668","v":0},{"$f":"'REPORTE PMI'!J1668","v":0},{"$f":"'REPORTE PMI'!G1668","v":0},null,null,null,{"$f":"'REPORTE PMI'!L1668","v":0},{"$f":"'REPORTE PMI'!M1668","v":0},{"$f":"IFERROR(I1677/H1677, 0)","v":0},null,null,{"$f":"H1677-I1677","v":0},null,null,{"$f":"IF(E1677=\"SI\",IF(J1677>0%,IF(K1677=\"SI\",IF(L1677=\"NO\",IF(N1677=\"SI\",IF(O1677=\"NO\",\"SI\",\"NO\"),\"NO\"),\"NO\"),\"NO\"),\"NO\"),\"NO\")","v":"NO"}]
[{"$f":"'REPORTE PMI'!B1669","v":0},{"$f":"'REPORTE PMI'!E1669","v":0},{"$f":"'REPORTE PMI'!J1669","v":0},{"$f":"'REPORTE PMI'!G1669","v":0},null,null,null,{"$f":"'REPORTE PMI'!L1669","v":0},{"$f":"'REPORTE PMI'!M1669","v":0},0,null,null,0,null,null,"NO"]
[{"$f":"'REPORTE PMI'!B1670","v":0},{"$f":"'REPORTE PMI'!E1670","v":0},{"$f":"'REPORTE PMI'!J1670","v":0},{"$f":"'REPORTE PMI'!G1670","v":0},null,null,null,{"$f":"'REPORTE PMI'!L1670","v":0},{"$f":"'REPORTE PMI'!M1670","v":0},0,null,null,0,null,null,"NO"]
[{"$f":"'REPORTE PMI'!B1671","v":0},{"$f":"'REPORTE PMI'!E1671","v":0},{"$f":"'REPORTE PMI'!J1671","v":0},{"$f":"'REPORTE PMI'!G1671","v":0},null,null,null,{"$f":"'REPORTE PMI'!L1671","v":0},{"$f":"'REPORTE PMI'!M1671","v":0},0,null,null,0,null,null,"NO"]
[{"$f":"'REPORTE PMI'!B1672","v":0},{"$f":"'REPORTE PMI'!E1672","v":0},{"$f":"'REPORTE PMI'!J1672","v":0},{"$f":"'REPORTE PMI'!G1672","v":0},null,null,null,{"$f":"'REPORTE PMI'!L1672","v":0},{"$f":"'REPORTE PMI'!M1672","v":0},0,null,null,0,null,null,"NO"]
[{"$f":"'REPORTE PMI'!B1673","v":0},{"$f":"'REPORTE PMI'!E1673","v":0},{"$f":"'REPORTE PMI'!J1673","v":0},{"$f":"'REPORTE PMI'!G1673","v":0},null,null,null,{"$f":"'REPORTE PMI'!L1673","v":0},{"$f":"'REPORTE PMI'!M1673","v":0},0,null,null,0,null,null,"NO"]
[{"$f":"'REPORTE PMI'!B1674","v":0},{"$f":"'REPORTE PMI'!E1674","v":0},{"$f":"'REPORTE PMI'!J1674","v":0},{"$f":"'REPORTE PMI'!G1674","v":0},null,null,null,{"$f":"'REPORTE PMI'!L1674","v":0},{"$f":"'REPORTE PMI'!M1674","v":0},0,null,null,0,null,null,"NO"]
[{"$f":"'REPORTE PMI'!B1675","v":0},{"$f":"'REPORTE PMI'!E1675","v":0},{"$f":"'REPORTE PMI'!J1675","v":0},{"$f":"'REPORTE PMI'!G1675","v":0},null,null,null,{"$f":"'REPORTE PMI'!L1675","v":0},{"$f":"'REPORTE PMI'!M1675","v":0},0,null,null,0,null,null,"NO"]
[{"$f":"'REPORTE PMI'!B1676","v":0},{"$f":"'REPORTE PMI'!E1676","v":0},{"$f":"'REPORTE PMI'!J1676","v":0},{"$f":"'REPORTE PMI'!G1676","v":0},null,null,null,{"$f":"'REPORTE PMI'!L1676","v":0},{"$f":"'REPORTE PMI'!M1676","v":0},0,null,null,0,null,null,"NO"]
[{"$f":"'REPORTE PMI'!B1677","v":0},{"$f":"'REPORTE PMI'!E1677","v":0},{"$f":"'REPORTE PMI'!J1677","v":0},{"$f":"'REPORTE PMI'!G1677","v":0},null,null,null,{"$f":"'REPORTE PMI'!L1677","v":0},{"$f":"'REPORTE PMI'!M1677","v":0},0,null,null,0,null,null,"NO"]
[{"$f":"'REPORTE PMI'!B1678","v":0},{"$f":"'REPORTE PMI'!E1678","v":0},{"$f":"'REPORTE PMI'!J1678","v":0},{"$f":"'REPORTE PMI'!G1678","v":0},null,null,null,{"$f":"'REPORTE PMI'!L1678","v":0},{"$f":"'REPORTE PMI'!M1678","v":0},0,null,null,0,null,null,"NO"]
[{"$f":"'REPORTE PMI'!B1679","v":0},{"$f":"'REPORTE PMI'!E1679","v":0},{"$f":"'REPORTE PMI'!J1679","v":0},{"$f":"'REPORTE PMI'!G1679","v":0},null,null,null,{"$f":"'REPORTE PMI'!L1679","v":0},{"$f":"'REPORTE PMI'!M1679","v":0},0,null,null,0,null,null,"NO"]
[{"$f":"'REPORTE PMI'!B1680","v":0},{"$f":"'REPORTE PMI'!E1680","v":0},{"$f":"'REPORTE PMI'!J1680","v":0},{"$f":"'REPORTE PMI'!G1680","v":0},null,null,null,{"$f":"'REPORTE PMI'!L1680","v":0},{"$f":"'REPORTE PMI'!M1680","v":0},0,null,null,0,null,null,"NO"]
[{"$f":"'REPORTE PMI'!B1681","v":0},{"$f":"'REPORTE PMI'!E1681","v":0},{"$f":"'REPORTE PMI'!J1681","v":0},{"$f":"'REPORTE PMI'!G1681","v":0},null,null,null,{"$f":"'REPORTE PMI'!L1681","v":0},{"$f":"'REPORTE PMI'!M1681","v":0},0,null,null,0,null,null,"NO"]
[{"$f":"'REPORTE PMI'!B1682","v":0},{"$f":"'REPORTE PMI'!E1682","v":0},{"$f":"'REPORTE PMI'!J1682","v":0},{"$f":"'REPORTE PMI'!G1682","v":0},null,null,null,{"$f":"'REPORTE PMI'!L1682","v":0},{"$f":"'REPORTE PMI'!M1682","v":0},0,null,null,0,null,null,"NO"]
[{"$f":"'REPORTE PMI'!B1683","v":0},{"$f":"'REPORTE PMI'!E1683","v":0},{"$f":"'REPORTE PMI'!J1683","v":0},{"$f":"'REPORTE PMI'!G1683","v":0},null,null,null,{"$f":"'REPORTE PMI'!L1683","v":0},{"$f":"'REPORTE PMI'!M1683","v":0},0,null,null,0,null,null,"NO"]
[{"$f":"'REPORTE PMI'!B1684","v":0},{"$f":"'REPORTE PMI'!E1684","v":0},{"$f":"'REPORTE PMI'!J1684","v":0},{"$f":"'REPORTE PMI'!G1684","v":0},null,null,null,{"$f":"'REPORTE PMI'!L1684","v":0},{"$f":"'REPORTE PMI'!M1684","v":0},0,null,null,0,null,null,"NO"]
[{"$f":"'REPORTE PMI'!B1685","v":0},{"$f":"'REPORTE PMI'!E1685","v":0},{"$f":"'REPORTE PMI'!J1685","v":0},{"$f":"'REPORTE PMI'!G1685","v":0},null,null,null,{"$f":"'REPORTE PMI'!L1685","v":0},{"$f":"'REPORTE PMI'!M1685","v":0},0,null,null,0,null,null,"NO"]
[{"$f":"'REPORTE PMI'!B1686","v":0},{"$f":"'REPORTE PMI'!E1686","v":0},{"$f":"'REPORTE PMI'!J1686","v":0},{"$f":"'REPORTE PMI'!G1686","v":0},null,null,null,{"$f":"'REPORTE PMI'!L1686","v":0},{"$f":"'REPORTE PMI'!M1686","v":0},0,null,null,0,null,null,"NO"]
[{"$f":"'REPORTE PMI'!B1687","v":0},{"$f":"'REPORTE PMI'!E1687","v":0},{"$f":"'REPORTE PMI'!J1687","v":0},{"$f":"'REPORTE PMI'!G1687","v":0},null,null,null,{"$f":"'REPORTE PMI'!L1687","v":0},{"$f":"'REPORTE PMI'!M1687","v":0},0,null,null,0,null,null,"NO"]
[{"$f":"'REPORTE PMI'!B1688","v":0},{"$f":"'REPORTE PMI'!E1688","v":0},{"$f":"'REPORTE PMI'!J1688","v":0},{"$f":"'REPORTE PMI'!G1688","v":0},null,null,null,{"$f":"'REPORTE PMI'!L1688","v":0},{"$f":"'REPORTE PMI'!M1688","v":0},0,null,null,0,null,null,"NO"]
[{"$f":"'REPORTE PMI'!B1689","v":0},{"$f":"'REPORTE PMI'!E1689","v":0},{"$f":"'REPORTE PMI'!J1689","v":0},{"$f":"'REPORTE PMI'!G1689","v":0},null,null,null,{"$f":"'REPORTE PMI'!L1689","v":0},{"$f":"'REPORTE PMI'!M1689","v":0},0,null,null,0,null,null,"NO"]
[{"$f":"'REPORTE PMI'!B1690","v":0},{"$f":"'REPORTE PMI'!E1690","v":0},{"$f":"'REPORTE PMI'!J1690","v":0},{"$f":"'REPORTE PMI'!G1690","v":0},null,null,null,{"$f":"'REPORTE PMI'!L1690","v":0},{"$f":"'REPORTE PMI'!M1690","v":0},0,null,null,0,null,null,"NO"]
[{"$f":"'REPORTE PMI'!B1691","v":0},{"$f":"'REPORTE PMI'!E1691","v":0},{"$f":"'REPORTE PMI'!J1691","v":0},{"$f":"'REPORTE PMI'!G1691","v":0},null,null,null,{"$f":"'REPORTE PMI'!L1691","v":0},{"$f":"'REPORTE PMI'!M1691","v":0},0,null,null,0,null,null,"NO"]
[{"$f":"'REPORTE PMI'!B1692","v":0},{"$f":"'REPORTE PMI'!E1692","v":0},{"$f":"'REPORTE PMI'!J1692","v":0},{"$f":"'REPORTE PMI'!G1692","v":0},null,null,null,{"$f":"'REPORTE PMI'!L1692","v":0},{"$f":"'REPORTE PMI'!M1692","v":0},0,null,null,0,null,null,"NO"]
[{"$f":"'REPORTE PMI'!B1693","v":0},{"$f":"'REPORTE PMI'!E1693","v":0},{"$f":"'REPORTE PMI'!J1693","v":0},{"$f":"'REPORTE PMI'!G1693","v":0},null,null,null,{"$f":"'REPORTE PMI'!L1693","v":0},{"$f":"'REPORTE PMI'!M1693","v":0},0,null,null,0,null,null,"NO"]
[{"$f":"'REPORTE PMI'!B1694","v":0},{"$f":"'REPORTE PMI'!E1694","v":0},{"$f":"'REPORTE PMI'!J1694","v":0},{"$f":"'REPORTE PMI'!G1694","v":0},null,null,null,{"$f":"'REPORTE PMI'!L1694","v":0},{"$f":"'REPORTE PMI'!M1694","v":0},0,null,null,0,null,null,"NO"]
[{"$f":"'REPORTE PMI'!B1695","v":0},{"$f":"'REPORTE PMI'!E1695","v":0},{"$f":"'REPORTE PMI'!J1695","v":0},{"$f":"'REPORTE PMI'!G1695","v":0},null,null,null,{"$f":"'REPORTE PMI'!L1695","v":0},{"$f":"'REPORTE PMI'!M1695","v":0},0,null,null,0,null,null,"NO"]
[{"$f":"'REPORTE PMI'!B1696","v":0},{"$f":"'REPORTE PMI'!E1696","v":0},{"$f":"'REPORTE PMI'!J1696","v":0},{"$f":"'REPORTE PMI'!G1696","v":0},null,null,null,{"$f":"'REPORTE PMI'!L1696","v":0},{"$f":"'REPORTE PMI'!M1696","v":0},0,null,null,0,null,null,"NO"]
[{"$f":"'REPORTE PMI'!B1697","v":0},{"$f":"'REPORTE PMI'!E1697","v":0},{"$f":"'REPORTE PMI'!J1697","v":0},{"$f":"'REPORTE PMI'!G1697","v":0},null,null,null,{"$f":"'REPORTE PMI'!L1697","v":0},{"$f":"'REPORTE PMI'!M1697","v":0},0,null,null,0,null,null,"NO"]
[{"$f":"'REPORTE PMI'!B1698","v":0},{"$f":"'REPORTE PMI'!E1698","v":0},{"$f":"'REPORTE PMI'!J1698","v":0},{"$f":"'REPORTE PMI'!G1698","v":0},null,null,null,{"$f":"'REPORTE PMI'!L1698","v":0},{"$f":"'REPORTE PMI'!M1698","v":0},0,null,null,0,null,null,"NO"]
[{"$f":"'REPORTE PMI'!B1699","v":0},{"$f":"'REPORTE PMI'!E1699","v":0},{"$f":"'REPORTE PMI'!J1699","v":0},{"$f":"'REPORTE PMI'!G1699","v":0},null,null,null,{"$f":"'REPORTE PMI'!L1699","v":0},{"$f":"'REPORTE PMI'!M1699","v":0},0,null,null,0,null,null,"NO"]
[{"$f":"'REPORTE PMI'!B1700","v":0},{"$f":"'REPORTE PMI'!E1700","v":0},{"$f":"'REPORTE PMI'!J1700","v":0},{"$f":"'REPORTE PMI'!G1700","v":0},null,null,null,{"$f":"'REPORTE PMI'!L1700","v":0},{"$f":"'REPORTE PMI'!M1700","v":0},0,null,null,0,null,null,"NO"]
[{"$f":"'REPORTE PMI'!B1701","v":0},{"$f":"'REPORTE PMI'!E1701","v":0},{"$f":"'REPORTE PMI'!J1701","v":0},{"$f":"'REPORTE PMI'!G1701","v":0},null,null,null,{"$f":"'REPORTE PMI'!L1701","v":0},{"$f":"'REPORTE PMI'!M1701","v":0},0,null,null,0,null,null,"NO"]
[{"$f":"'REPORTE PMI'!B1702","v":0},{"$f":"'REPORTE PMI'!E1702","v":0},{"$f":"'REPORTE PMI'!J1702","v":0},{"$f":"'REPORTE PMI'!G1702","v":0},null,null,null,{"$f":"'REPORTE PMI'!L1702","v":0},{"$f":"'REPORTE PMI'!M1702","v":0},0,null,null,0,null,null,"NO"]
[{"$f":"'REPORTE PMI'!B1703","v":0},{"$f":"'REPORTE PMI'!E1703","v":0},{"$f":"'REPORTE PMI'!J1703","v":0},{"$f":"'REPORTE PMI'!G1703","v":0},null,null,null,{"$f":"'REPORTE PMI'!L1703","v":0},{"$f":"'REPORTE PMI'!M1703","v":0},0,null,null,0,null,null,"NO"]
[{"$f":"'REPORTE PMI'!B1704","v":0},{"$f":"'REPORTE PMI'!E1704","v":0},{"$f":"'REPORTE PMI'!J1704","v":0},{"$f":"'REPORTE PMI'!G1704","v":0},null,null,null,{"$f":"'REPORTE PMI'!L1704","v":0},{"$f":"'REPORTE PMI'!M1704","v":0},0,null,null,0,null,null,"NO"]
[{"$f":"'REPORTE PMI'!B1705","v":0},{"$f":"'REPORTE PMI'!E1705","v":0},{"$f":"'REPORTE PMI'!J1705","v":0},{"$f":"'REPORTE PMI'!G1705","v":0},null,null,null,{"$f":"'REPORTE PMI'!L1705","v":0},{"$f":"'REPORTE PMI'!M1705","v":0},0,null,null,0,null,null,"NO"]
[{"$f":"'REPORTE PMI'!B1706","v":0},{"$f":"'REPORTE PMI'!E1706","v":0},{"$f":"'REPORTE PMI'!J1706","v":0},{"$f":"'REPORTE PMI'!G1706","v":0},null,null,null,{"$f":"'REPORTE PMI'!L1706","v":0},{"$f":"'REPORTE PMI'!M1706","v":0},0,null,null,0,null,null,"NO"]
[{"$f":"'REPORTE PMI'!B1707","v":0},{"$f":"'REPORTE PMI'!E1707","v":0},{"$f":"'REPORTE PMI'!J1707","v":0},{"$f":"'REPORTE PMI'!G1707","v":0},null,null,null,{"$f":"'REPORTE PMI'!L1707","v":0},{"$f":"'REPORTE PMI'!M1707","v":0},0,null,null,0,null,null,"NO"]
[{"$f":"'REPORTE PMI'!B1708","v":0},{"$f":"'REPORTE PMI'!E1708","v":0},{"$f":"'REPORTE PMI'!J1708","v":0},{"$f":"'REPORTE PMI'!G1708","v":0},null,null,null,{"$f":"'REPORTE PMI'!L1708","v":0},{"$f":"'REPORTE PMI'!M1708","v":0},0,null,null,0,null,null,"NO"]
[{"$f":"'REPORTE PMI'!B1709","v":0},{"$f":"'REPORTE PMI'!E1709","v":0},{"$f":"'REPORTE PMI'!J1709","v":0},{"$f":"'REPORTE PMI'!G1709","v":0},null,null,null,{"$f":"'REPORTE PMI'!L1709","v":0},{"$f":"'REPORTE PMI'!M1709","v":0},0,null,null,0,null,null,"NO"]
[{"$f":"'REPORTE PMI'!B1710","v":0},{"$f":"'REPORTE PMI'!E1710","v":0},{"$f":"'REPORTE PMI'!J1710","v":0},{"$f":"'REPORTE PMI'!G1710","v":0},null,null,null,{"$f":"'REPORTE PMI'!L1710","v":0},{"$f":"'REPORTE PMI'!M1710","v":0},0,null,null,0,null,null,"NO"]
[{"$f":"'REPORTE PMI'!B1711","v":0},{"$f":"'REPORTE PMI'!E1711","v":0},{"$f":"'REPORTE PMI'!J1711","v":0},{"$f":"'REPORTE PMI'!G1711","v":0},null,null,null,{"$f":"'REPORTE PMI'!L1711","v":0},{"$f":"'REPORTE PMI'!M1711","v":0},0,null,null,0,null,null,"NO"]
[{"$f":"'REPORTE PMI'!B1712","v":0},{"$f":"'REPORTE PMI'!E1712","v":0},{"$f":"'REPORTE PMI'!J1712","v":0},{"$f":"'REPORTE PMI'!G1712","v":0},null,null,null,{"$f":"'REPORTE PMI'!L1712","v":0},{"$f":"'REPORTE PMI'!M1712","v":0},0,null,null,0,null,null,"NO"]
[{"$f":"'REPORTE PMI'!B1713","v":0},{"$f":"'REPORTE PMI'!E1713","v":0},{"$f":"'REPORTE PMI'!J1713","v":0},{"$f":"'REPORTE PMI'!G1713","v":0},null,null,null,{"$f":"'REPORTE PMI'!L1713","v":0},{"$f":"'REPORTE PMI'!M1713","v":0},0,null,null,0,null,null,"NO"]
[{"$f":"'REPORTE PMI'!B1714","v":0},{"$f":"'REPORTE PMI'!E1714","v":0},{"$f":"'REPORTE PMI'!J1714","v":0},{"$f":"'REPORTE PMI'!G1714","v":0},null,null,null,{"$f":"'REPORTE PMI'!L1714","v":0},{"$f":"'REPORTE PMI'!M1714","v":0},0,null,null,0,null,null,"NO"]
[{"$f":"'REPORTE PMI'!B1715","v":0},{"$f":"'REPORTE PMI'!E1715","v":0},{"$f":"'REPORTE PMI'!J1715","v":0},{"$f":"'REPORTE PMI'!G1715","v":0},null,null,null,{"$f":"'REPORTE PMI'!L1715","v":0},{"$f":"'REPORTE PMI'!M1715","v":0},0,null,null,0,null,null,"NO"]
[{"$f":"'REPORTE PMI'!B1716","v":0},{"$f":"'REPORTE PMI'!E1716","v":0},{"$f":"'REPORTE PMI'!J1716","v":0},{"$f":"'REPORTE PMI'!G1716","v":0},null,null,null,{"$f":"'REPORTE PMI'!L1716","v":0},{"$f":"'REPORTE PMI'!M1716","v":0},0,null,null,0,null,null,"NO"]
[{"$f":"'REPORTE PMI'!B1717","v":0},{"$f":"'REPORTE PMI'!E1717","v":0},{"$f":"'REPORTE PMI'!J1717","v":0},{"$f":"'REPORTE PMI'!G1717","v":0},null,null,null,{"$f":"'REPORTE PMI'!L1717","v":0},{"$f":"'REPORTE PMI'!M1717","v":0},0,null,null,0,null,null,"NO"]
[{"$f":"'REPORTE PMI'!B1718","v":0},{"$f":"'REPORTE PMI'!E1718","v":0},{"$f":"'REPORTE PMI'!J1718","v":0},{"$f":"'REPORTE PMI'!G1718","v":0},null,null,null,{"$f":"'REPORTE PMI'!L1718","v":0},{"$f":"'REPORTE PMI'!M1718","v":0},0,null,null,0,null,null,"NO"]
[{"$f":"'REPORTE PMI'!B1719","v":0},{"$f":"'REPORTE PMI'!E1719","v":0},{"$f":"'REPORTE PMI'!J1719","v":0},{"$f":"'REPORTE PMI'!G1719","v":0},null,null,null,{"$f":"'REPORTE PMI'!L1719","v":0},{"$f":"'REPORTE PMI'!M1719","v":0},0,null,null,0,null,null,"NO"]
[{"$f":"'REPORTE PMI'!B1720","v":0},{"$f":"'REPORTE PMI'!E1720","v":0},{"$f":"'REPORTE PMI'!J1720","v":0},{"$f":"'REPORTE PMI'!G1720","v":0},null,null,null,{"$f":"'REPORTE PMI'!L1720","v":0},{"$f":"'REPORTE PMI'!M1720","v":0},0,null,null,0,null,null,"NO"]
[{"$f":"'REPORTE PMI'!B1721","v":0},{"$f":"'REPORTE PMI'!E1721","v":0},{"$f":"'REPORTE PMI'!J1721","v":0},{"$f":"'REPORTE PMI'!G1721","v":0},null,null,null,{"$f":"'REPORTE PMI'!L1721","v":0},{"$f":"'REPORTE PMI'!M1721","v":0},0,null,null,0,null,null,"NO"]
[{"$f":"'REPORTE PMI'!B1722","v":0},{"$f":"'REPORTE PMI'!E1722","v":0},{"$f":"'REPORTE PMI'!J1722","v":0},{"$f":"'REPORTE PMI'!G1722","v":0},null,null,null,{"$f":"'REPORTE PMI'!L1722","v":0},{"$f":"'REPORTE PMI'!M1722","v":0},0,null,null,0,null,null,"NO"]
[{"$f":"'REPORTE PMI'!B1723","v":0},{"$f":"'REPORTE PMI'!E1723","v":0},{"$f":"'REPORTE PMI'!J1723","v":0},{"$f":"'REPORTE PMI'!G1723","v":0},null,null,null,{"$f":"'REPORTE PMI'!L1723","v":0},{"$f":"'REPORTE PMI'!M1723","v":0},0,null,null,0,null,null,"NO"]
[{"$f":"'REPORTE PMI'!B1724","v":0},{"$f":"'REPORTE PMI'!E1724","v":0},{"$f":"'REPORTE PMI'!J1724","v":0},{"$f":"'REPORTE PMI'!G1724","v":0},null,null,null,{"$f":"'REPORTE PMI'!L1724","v":0},{"$f":"'REPORTE PMI'!M1724","v":0},0,null,null,0,null,null,"NO"]
[{"$f":"'REPORTE PMI'!B1725","v":0},{"$f":"'REPORTE PMI'!E1725","v":0},{"$f":"'REPORTE PMI'!J1725","v":0},{"$f":"'REPORTE PMI'!G1725","v":0},null,null,null,{"$f":"'REPORTE PMI'!L1725","v":0},{"$f":"'REPORTE PMI'!M1725","v":0},0,null,null,0,null,null,"NO"]
[{"$f":"'REPORTE PMI'!B1726","v":0},{"$f":"'REPORTE PMI'!E1726","v":0},{"$f":"'REPORTE PMI'!J1726","v":0},{"$f":"'REPORTE PMI'!G1726","v":0},null,null,null,{"$f":"'REPORTE PMI'!L1726","v":0},{"$f":"'REPORTE PMI'!M1726","v":0},0,null,null,0,null,null,"NO"]
[{"$f":"'REPORTE PMI'!B1727","v":0},{"$f":"'REPORTE PMI'!E1727","v":0},{"$f":"'REPORTE PMI'!J1727","v":0},{"$f":"'REPORTE PMI'!G1727","v":0},null,null,null,{"$f":"'REPORTE PMI'!L1727","v":0},{"$f":"'REPORTE PMI'!M1727","v":0},0,null,null,0,null,null,"NO"]
[{"$f":"'REPORTE PMI'!B1728","v":0},{"$f":"'REPORTE PMI'!E1728","v":0},{"$f":"'REPORTE PMI'!J1728","v":0},{"$f":"'REPORTE PMI'!G1728","v":0},null,null,null,{"$f":"'REPORTE PMI'!L1728","v":0},{"$f":"'REPORTE PMI'!M1728","v":0},0,null,null,0,null,null,"NO"]
[{"$f":"'REPORTE PMI'!B1729","v":0},{"$f":"'REPORTE PMI'!E1729","v":0},{"$f":"'REPORTE PMI'!J1729","v":0},{"$f":"'REPORTE PMI'!G1729","v":0},null,null,null,{"$f":"'REPORTE PMI'!L1729","v":0},{"$f":"'REPORTE PMI'!M1729","v":0},0,null,null,0,null,null,"NO"]
[{"$f":"'REPORTE PMI'!B1730","v":0},{"$f":"'REPORTE PMI'!E1730","v":0},{"$f":"'REPORTE PMI'!J1730","v":0},{"$f":"'REPORTE PMI'!G1730","v":0},null,null,null,{"$f":"'REPORTE PMI'!L1730","v":0},{"$f":"'REPORTE PMI'!M1730","v":0},0,null,null,0,null,null,"NO"]
[{"$f":"'REPORTE PMI'!B1731","v":0},{"$f":"'REPORTE PMI'!E1731","v":0},{"$f":"'REPORTE PMI'!J1731","v":0},{"$f":"'REPORTE PMI'!G1731","v":0},null,null,null,{"$f":"'REPORTE PMI'!L1731","v":0},{"$f":"'REPORTE PMI'!M1731","v":0},0,null,null,0,null,null,"NO"]
[{"$f":"'REPORTE PMI'!B1732","v":0},{"$f":"'REPORTE PMI'!E1732","v":0},{"$f":"'REPORTE PMI'!J1732","v":0},{"$f":"'REPORTE PMI'!G1732","v":0},null,null,null,{"$f":"'REPORTE PMI'!L1732","v":0},{"$f":"'REPORTE PMI'!M1732","v":0},{"$f":"IFERROR(I1741/H1741, 0)","v":0},null,null,{"$f":"H1741-I1741","v":0},null,null,{"$f":"IF(E1741=\"SI\",IF(J1741>0%,IF(K1741=\"SI\",IF(L1741=\"NO\",IF(N1741=\"SI\",IF(O1741=\"NO\",\"SI\",\"NO\"),\"NO\"),\"NO\"),\"NO\"),\"NO\"),\"NO\")","v":"NO"}]
[{"$f":"'REPORTE PMI'!B1733","v":0},{"$f":"'REPORTE PMI'!E1733","v":0},{"$f":"'REPORTE PMI'!J1733","v":0},{"$f":"'REPORTE PMI'!G1733","v":0},null,null,null,{"$f":"'REPORTE PMI'!L1733","v":0},{"$f":"'REPORTE PMI'!M1733","v":0},0,null,null,0,null,null,"NO"]
[{"$f":"'REPORTE PMI'!B1734","v":0},{"$f":"'REPORTE PMI'!E1734","v":0},{"$f":"'REPORTE PMI'!J1734","v":0},{"$f":"'REPORTE PMI'!G1734","v":0},null,null,null,{"$f":"'REPORTE PMI'!L1734","v":0},{"$f":"'REPORTE PMI'!M1734","v":0},0,null,null,0,null,null,"NO"]
[{"$f":"'REPORTE PMI'!B1735","v":0},{"$f":"'REPORTE PMI'!E1735","v":0},{"$f":"'REPORTE PMI'!J1735","v":0},{"$f":"'REPORTE PMI'!G1735","v":0},null,null,null,{"$f":"'REPORTE PMI'!L1735","v":0},{"$f":"'REPORTE PMI'!M1735","v":0},0,null,null,0,null,null,"NO"]
[{"$f":"'REPORTE PMI'!B1736","v":0},{"$f":"'REPORTE PMI'!E1736","v":0},{"$f":"'REPORTE PMI'!J1736","v":0},{"$f":"'REPORTE PMI'!G1736","v":0},null,null,null,{"$f":"'REPORTE PMI'!L1736","v":0},{"$f":"'REPORTE PMI'!M1736","v":0},0,null,null,0,null,null,"NO"]
[{"$f":"'REPORTE PMI'!B1737","v":0},{"$f":"'REPORTE PMI'!E1737","v":0},{"$f":"'REPORTE PMI'!J1737","v":0},{"$f":"'REPORTE PMI'!G1737","v":0},null,null,null,{"$f":"'REPORTE PMI'!L1737","v":0},{"$f":"'REPORTE PMI'!M1737","v":0},0,null,null,0,null,null,"NO"]
[{"$f":"'REPORTE PMI'!B1738","v":0},{"$f":"'REPORTE PMI'!E1738","v":0},{"$f":"'REPORTE PMI'!J1738","v":0},{"$f":"'REPORTE PMI'!G1738","v":0},null,null,null,{"$f":"'REPORTE PMI'!L1738","v":0},{"$f":"'REPORTE PMI'!M1738","v":0},0,null,null,0,null,null,"NO"]
[{"$f":"'REPORTE PMI'!B1739","v":0},{"$f":"'REPORTE PMI'!E1739","v":0},{"$f":"'REPORTE PMI'!J1739","v":0},{"$f":"'REPORTE PMI'!G1739","v":0},null,null,null,{"$f":"'REPORTE PMI'!L1739","v":0},{"$f":"'REPORTE PMI'!M1739","v":0},0,null,null,0,null,null,"NO"]
[{"$f":"'REPORTE PMI'!B1740","v":0},{"$f":"'REPORTE PMI'!E1740","v":0},{"$f":"'REPORTE PMI'!J1740","v":0},{"$f":"'REPORTE PMI'!G1740","v":0},null,null,null,{"$f":"'REPORTE PMI'!L1740","v":0},{"$f":"'REPORTE PMI'!M1740","v":0},0,null,null,0,null,null,"NO"]
[{"$f":"'REPORTE PMI'!B1741","v":0},{"$f":"'REPORTE PMI'!E1741","v":0},{"$f":"'REPORTE PMI'!J1741","v":0},{"$f":"'REPORTE PMI'!G1741","v":0},null,null,null,{"$f":"'REPORTE PMI'!L1741","v":0},{"$f":"'REPORTE PMI'!M1741","v":0},0,null,null,0,null,null,"NO"]
[{"$f":"'REPORTE PMI'!B1742","v":0},{"$f":"'REPORTE PMI'!E1742","v":0},{"$f":"'REPORTE PMI'!J1742","v":0},{"$f":"'REPORTE PMI'!G1742","v":0},null,null,null,{"$f":"'REPORTE PMI'!L1742","v":0},{"$f":"'REPORTE PMI'!M1742","v":0},0,null,null,0,null,null,"NO"]
[{"$f":"'REPORTE PMI'!B1743","v":0},{"$f":"'REPORTE PMI'!E1743","v":0},{"$f":"'REPORTE PMI'!J1743","v":0},{"$f":"'REPORTE PMI'!G1743","v":0},null,null,null,{"$f":"'REPORTE PMI'!L1743","v":0},{"$f":"'REPORTE PMI'!M1743","v":0},0,null,null,0,null,null,"NO"]
[{"$f":"'REPORTE PMI'!B1744","v":0},{"$f":"'REPORTE PMI'!E1744","v":0},{"$f":"'REPORTE PMI'!J1744","v":0},{"$f":"'REPORTE PMI'!G1744","v":0},null,null,null,{"$f":"'REPORTE PMI'!L1744","v":0},{"$f":"'REPORTE PMI'!M1744","v":0},0,null,null,0,null,null,"NO"]
[{"$f":"'REPORTE PMI'!B1745","v":0},{"$f":"'REPORTE PMI'!E1745","v":0},{"$f":"'REPORTE PMI'!J1745","v":0},{"$f":"'REPORTE PMI'!G1745","v":0},null,null,null,{"$f":"'REPORTE PMI'!L1745","v":0},{"$f":"'REPORTE PMI'!M1745","v":0},0,null,null,0,null,null,"NO"]
[{"$f":"'REPORTE PMI'!B1746","v":0},{"$f":"'REPORTE PMI'!E1746","v":0},{"$f":"'REPORTE PMI'!J1746","v":0},{"$f":"'REPORTE PMI'!G1746","v":0},null,null,null,{"$f":"'REPORTE PMI'!L1746","v":0},{"$f":"'REPORTE PMI'!M1746","v":0},0,null,null,0,null,null,"NO"]
[{"$f":"'REPORTE PMI'!B1747","v":0},{"$f":"'REPORTE PMI'!E1747","v":0},{"$f":"'REPORTE PMI'!J1747","v":0},{"$f":"'REPORTE PMI'!G1747","v":0},null,null,null,{"$f":"'REPORTE PMI'!L1747","v":0},{"$f":"'REPORTE PMI'!M1747","v":0},0,null,null,0,null,null,"NO"]
[{"$f":"'REPORTE PMI'!B1748","v":0},{"$f":"'REPORTE PMI'!E1748","v":0},{"$f":"'REPORTE PMI'!J1748","v":0},{"$f":"'REPORTE PMI'!G1748","v":0},null,null,null,{"$f":"'REPORTE PMI'!L1748","v":0},{"$f":"'REPORTE PMI'!M1748","v":0},0,null,null,0,null,null,"NO"]
[{"$f":"'REPORTE PMI'!B1749","v":0},{"$f":"'REPORTE PMI'!E1749","v":0},{"$f":"'REPORTE PMI'!J1749","v":0},{"$f":"'REPORTE PMI'!G1749","v":0},null,null,null,{"$f":"'REPORTE PMI'!L1749","v":0},{"$f":"'REPORTE PMI'!M1749","v":0},0,null,null,0,null,null,"NO"]
[{"$f":"'REPORTE PMI'!B1750","v":0},{"$f":"'REPORTE PMI'!E1750","v":0},{"$f":"'REPORTE PMI'!J1750","v":0},{"$f":"'REPORTE PMI'!G1750","v":0},null,null,null,{"$f":"'REPORTE PMI'!L1750","v":0},{"$f":"'REPORTE PMI'!M1750","v":0},0,null,null,0,null,null,"NO"]
[{"$f":"'REPORTE PMI'!B1751","v":0},{"$f":"'REPORTE PMI'!E1751","v":0},{"$f":"'REPORTE PMI'!J1751","v":0},{"$f":"'REPORTE PMI'!G1751","v":0},null,null,null,{"$f":"'REPORTE PMI'!L1751","v":0},{"$f":"'REPORTE PMI'!M1751","v":0},0,null,null,0,null,null,"NO"]
[{"$f":"'REPORTE PMI'!B1752","v":0},{"$f":"'REPORTE PMI'!E1752","v":0},{"$f":"'REPORTE PMI'!J1752","v":0},{"$f":"'REPORTE PMI'!G1752","v":0},null,null,null,{"$f":"'REPORTE PMI'!L1752","v":0},{"$f":"'REPORTE PMI'!M1752","v":0},0,null,null,0,null,null,"NO"]
[{"$f":"'REPORTE PMI'!B1753","v":0},{"$f":"'REPORTE PMI'!E1753","v":0},{"$f":"'REPORTE PMI'!J1753","v":0},{"$f":"'REPORTE PMI'!G1753","v":0},null,null,null,{"$f":"'REPORTE PMI'!L1753","v":0},{"$f":"'REPORTE PMI'!M1753","v":0},0,null,null,0,null,null,"NO"]
[{"$f":"'REPORTE PMI'!B1754","v":0},{"$f":"'REPORTE PMI'!E1754","v":0},{"$f":"'REPORTE PMI'!J1754","v":0},{"$f":"'REPORTE PMI'!G1754","v":0},null,null,null,{"$f":"'REPORTE PMI'!L1754","v":0},{"$f":"'REPORTE PMI'!M1754","v":0},0,null,null,0,null,null,"NO"]
[{"$f":"'REPORTE PMI'!B1755","v":0},{"$f":"'REPORTE PMI'!E1755","v":0},{"$f":"'REPORTE PMI'!J1755","v":0},{"$f":"'REPORTE PMI'!G1755","v":0},null,null,null,{"$f":"'REPORTE PMI'!L1755","v":0},{"$f":"'REPORTE PMI'!M1755","v":0},0,null,null,0,null,null,"NO"]
[{"$f":"'REPORTE PMI'!B1756","v":0},{"$f":"'REPORTE PMI'!E1756","v":0},{"$f":"'REPORTE PMI'!J1756","v":0},{"$f":"'REPORTE PMI'!G1756","v":0},null,null,null,{"$f":"'REPORTE PMI'!L1756","v":0},{"$f":"'REPORTE PMI'!M1756","v":0},0,null,null,0,null,null,"NO"]
[{"$f":"'REPORTE PMI'!B1757","v":0},{"$f":"'REPORTE PMI'!E1757","v":0},{"$f":"'REPORTE PMI'!J1757","v":0},{"$f":"'REPORTE PMI'!G1757","v":0},null,null,null,{"$f":"'REPORTE PMI'!L1757","v":0},{"$f":"'REPORTE PMI'!M1757","v":0},0,null,null,0,null,null,"NO"]
[{"$f":"'REPORTE PMI'!B1758","v":0},{"$f":"'REPORTE PMI'!E1758","v":0},{"$f":"'REPORTE PMI'!J1758","v":0},{"$f":"'REPORTE PMI'!G1758","v":0},null,null,null,{"$f":"'REPORTE PMI'!L1758","v":0},{"$f":"'REPORTE PMI'!M1758","v":0},0,null,null,0,null,null,"NO"]
[{"$f":"'REPORTE PMI'!B1759","v":0},{"$f":"'REPORTE PMI'!E1759","v":0},{"$f":"'REPORTE PMI'!J1759","v":0},{"$f":"'REPORTE PMI'!G1759","v":0},null,null,null,{"$f":"'REPORTE PMI'!L1759","v":0},{"$f":"'REPORTE PMI'!M1759","v":0},0,null,null,0,null,null,"NO"]
[{"$f":"'REPORTE PMI'!B1760","v":0},{"$f":"'REPORTE PMI'!E1760","v":0},{"$f":"'REPORTE PMI'!J1760","v":0},{"$f":"'REPORTE PMI'!G1760","v":0},null,null,null,{"$f":"'REPORTE PMI'!L1760","v":0},{"$f":"'REPORTE PMI'!M1760","v":0},0,null,null,0,null,null,"NO"]
[{"$f":"'REPORTE PMI'!B1761","v":0},{"$f":"'REPORTE PMI'!E1761","v":0},{"$f":"'REPORTE PMI'!J1761","v":0},{"$f":"'REPORTE PMI'!G1761","v":0},null,null,null,{"$f":"'REPORTE PMI'!L1761","v":0},{"$f":"'REPORTE PMI'!M1761","v":0},0,null,null,0,null,null,"NO"]
[{"$f":"'REPORTE PMI'!B1762","v":0},{"$f":"'REPORTE PMI'!E1762","v":0},{"$f":"'REPORTE PMI'!J1762","v":0},{"$f":"'REPORTE PMI'!G1762","v":0},null,null,null,{"$f":"'REPORTE PMI'!L1762","v":0},{"$f":"'REPORTE PMI'!M1762","v":0},0,null,null,0,null,null,"NO"]
[{"$f":"'REPORTE PMI'!B1763","v":0},{"$f":"'REPORTE PMI'!E1763","v":0},{"$f":"'REPORTE PMI'!J1763","v":0},{"$f":"'REPORTE PMI'!G1763","v":0},null,null,null,{"$f":"'REPORTE PMI'!L1763","v":0},{"$f":"'REPORTE PMI'!M1763","v":0},0,null,null,0,null,null,"NO"]
[{"$f":"'REPORTE PMI'!B1764","v":0},{"$f":"'REPORTE PMI'!E1764","v":0},{"$f":"'REPORTE PMI'!J1764","v":0},{"$f":"'REPORTE PMI'!G1764","v":0},null,null,null,{"$f":"'REPORTE PMI'!L1764","v":0},{"$f":"'REPORTE PMI'!M1764","v":0},0,null,null,0,null,null,"NO"]
[{"$f":"'REPORTE PMI'!B1765","v":0},{"$f":"'REPORTE PMI'!E1765","v":0},{"$f":"'REPORTE PMI'!J1765","v":0},{"$f":"'REPORTE PMI'!G1765","v":0},null,null,null,{"$f":"'REPORTE PMI'!L1765","v":0},{"$f":"'REPORTE PMI'!M1765","v":0},0,null,null,0,null,null,"NO"]
[{"$f":"'REPORTE PMI'!B1766","v":0},{"$f":"'REPORTE PMI'!E1766","v":0},{"$f":"'REPORTE PMI'!J1766","v":0},{"$f":"'REPORTE PMI'!G1766","v":0},null,null,null,{"$f":"'REPORTE PMI'!L1766","v":0},{"$f":"'REPORTE PMI'!M1766","v":0},0,null,null,0,null,null,"NO"]
[{"$f":"'REPORTE PMI'!B1767","v":0},{"$f":"'REPORTE PMI'!E1767","v":0},{"$f":"'REPORTE PMI'!J1767","v":0},{"$f":"'REPORTE PMI'!G1767","v":0},null,null,null,{"$f":"'REPORTE PMI'!L1767","v":0},{"$f":"'REPORTE PMI'!M1767","v":0},0,null,null,0,null,null,"NO"]
[{"$f":"'REPORTE PMI'!B1768","v":0},{"$f":"'REPORTE PMI'!E1768","v":0},{"$f":"'REPORTE PMI'!J1768","v":0},{"$f":"'REPORTE PMI'!G1768","v":0},null,null,null,{"$f":"'REPORTE PMI'!L1768","v":0},{"$f":"'REPORTE PMI'!M1768","v":0},0,null,null,0,null,null,"NO"]
[{"$f":"'REPORTE PMI'!B1769","v":0},{"$f":"'REPORTE PMI'!E1769","v":0},{"$f":"'REPORTE PMI'!J1769","v":0},{"$f":"'REPORTE PMI'!G1769","v":0},null,null,null,{"$f":"'REPORTE PMI'!L1769","v":0},{"$f":"'REPORTE PMI'!M1769","v":0},0,null,null,0,null,null,"NO"]
[{"$f":"'REPORTE PMI'!B1770","v":0},{"$f":"'REPORTE PMI'!E1770","v":0},{"$f":"'REPORTE PMI'!J1770","v":0},{"$f":"'REPORTE PMI'!G1770","v":0},null,null,null,{"$f":"'REPORTE PMI'!L1770","v":0},{"$f":"'REPORTE PMI'!M1770","v":0},0,null,null,0,null,null,"NO"]
[{"$f":"'REPORTE PMI'!B1771","v":0},{"$f":"'REPORTE PMI'!E1771","v":0},{"$f":"'REPORTE PMI'!J1771","v":0},{"$f":"'REPORTE PMI'!G1771","v":0},null,null,null,{"$f":"'REPORTE PMI'!L1771","v":0},{"$f":"'REPORTE PMI'!M1771","v":0},0,null,null,0,null,null,"NO"]
[{"$f":"'REPORTE PMI'!B1772","v":0},{"$f":"'REPORTE PMI'!E1772","v":0},{"$f":"'REPORTE PMI'!J1772","v":0},{"$f":"'REPORTE PMI'!G1772","v":0},null,null,null,{"$f":"'REPORTE PMI'!L1772","v":0},{"$f":"'REPORTE PMI'!M1772","v":0},0,null,null,0,null,null,"NO"]
[{"$f":"'REPORTE PMI'!B1773","v":0},{"$f":"'REPORTE PMI'!E1773","v":0},{"$f":"'REPORTE PMI'!J1773","v":0},{"$f":"'REPORTE PMI'!G1773","v":0},null,null,null,{"$f":"'REPORTE PMI'!L1773","v":0},{"$f":"'REPORTE PMI'!M1773","v":0},0,null,null,0,null,null,"NO"]
[{"$f":"'REPORTE PMI'!B1774","v":0},{"$f":"'REPORTE PMI'!E1774","v":0},{"$f":"'REPORTE PMI'!J1774","v":0},{"$f":"'REPORTE PMI'!G1774","v":0},null,null,null,{"$f":"'REPORTE PMI'!L1774","v":0},{"$f":"'REPORTE PMI'!M1774","v":0},0,null,null,0,null,null,"NO"]
[{"$f":"'REPORTE PMI'!B1775","v":0},{"$f":"'REPORTE PMI'!E1775","v":0},{"$f":"'REPORTE PMI'!J1775","v":0},{"$f":"'REPORTE PMI'!G1775","v":0},null,null,null,{"$f":"'REPORTE PMI'!L1775","v":0},{"$f":"'REPORTE PMI'!M1775","v":0},0,null,null,0,null,null,"NO"]
[{"$f":"'REPORTE PMI'!B1776","v":0},{"$f":"'REPORTE PMI'!E1776","v":0},{"$f":"'REPORTE PMI'!J1776","v":0},{"$f":"'REPORTE PMI'!G1776","v":0},null,null,null,{"$f":"'REPORTE PMI'!L1776","v":0},{"$f":"'REPORTE PMI'!M1776","v":0},0,null,null,0,null,null,"NO"]
[{"$f":"'REPORTE PMI'!B1777","v":0},{"$f":"'REPORTE PMI'!E1777","v":0},{"$f":"'REPORTE PMI'!J1777","v":0},{"$f":"'REPORTE PMI'!G1777","v":0},null,null,null,{"$f":"'REPORTE PMI'!L1777","v":0},{"$f":"'REPORTE PMI'!M1777","v":0},0,null,null,0,null,null,"NO"]
[{"$f":"'REPORTE PMI'!B1778","v":0},{"$f":"'REPORTE PMI'!E1778","v":0},{"$f":"'REPORTE PMI'!J1778","v":0},{"$f":"'REPORTE PMI'!G1778","v":0},null,null,null,{"$f":"'REPORTE PMI'!L1778","v":0},{"$f":"'REPORTE PMI'!M1778","v":0},0,null,null,0,null,null,"NO"]
[{"$f":"'REPORTE PMI'!B1779","v":0},{"$f":"'REPORTE PMI'!E1779","v":0},{"$f":"'REPORTE PMI'!J1779","v":0},{"$f":"'REPORTE PMI'!G1779","v":0},null,null,null,{"$f":"'REPORTE PMI'!L1779","v":0},{"$f":"'REPORTE PMI'!M1779","v":0},0,null,null,0,null,null,"NO"]
[{"$f":"'REPORTE PMI'!B1780","v":0},{"$f":"'REPORTE PMI'!E1780","v":0},{"$f":"'REPORTE PMI'!J1780","v":0},{"$f":"'REPORTE PMI'!G1780","v":0},null,null,null,{"$f":"'REPORTE PMI'!L1780","v":0},{"$f":"'REPORTE PMI'!M1780","v":0},0,null,null,0,null,null,"NO"]
[{"$f":"'REPORTE PMI'!B1781","v":0},{"$f":"'REPORTE PMI'!E1781","v":0},{"$f":"'REPORTE PMI'!J1781","v":0},{"$f":"'REPORTE PMI'!G1781","v":0},null,null,null,{"$f":"'REPORTE PMI'!L1781","v":0},{"$f":"'REPORTE PMI'!M1781","v":0},0,null,null,0,null,null,"NO"]
[{"$f":"'REPORTE PMI'!B1782","v":0},{"$f":"'REPORTE PMI'!E1782","v":0},{"$f":"'REPORTE PMI'!J1782","v":0},{"$f":"'REPORTE PMI'!G1782","v":0},null,null,null,{"$f":"'REPORTE PMI'!L1782","v":0},{"$f":"'REPORTE PMI'!M1782","v":0},0,null,null,0,null,null,"NO"]
[{"$f":"'REPORTE PMI'!B1783","v":0},{"$f":"'REPORTE PMI'!E1783","v":0},{"$f":"'REPORTE PMI'!J1783","v":0},{"$f":"'REPORTE PMI'!G1783","v":0},null,null,null,{"$f":"'REPORTE PMI'!L1783","v":0},{"$f":"'REPORTE PMI'!M1783","v":0},0,null,null,0,null,null,"NO"]
[{"$f":"'REPORTE PMI'!B1784","v":0},{"$f":"'REPORTE PMI'!E1784","v":0},{"$f":"'REPORTE PMI'!J1784","v":0},{"$f":"'REPORTE PMI'!G1784","v":0},null,null,null,{"$f":"'REPORTE PMI'!L1784","v":0},{"$f":"'REPORTE PMI'!M1784","v":0},0,null,null,0,null,null,"NO"]
[{"$f":"'REPORTE PMI'!B1785","v":0},{"$f":"'REPORTE PMI'!E1785","v":0},{"$f":"'REPORTE PMI'!J1785","v":0},{"$f":"'REPORTE PMI'!G1785","v":0},null,null,null,{"$f":"'REPORTE PMI'!L1785","v":0},{"$f":"'REPORTE PMI'!M1785","v":0},0,null,null,0,null,null,"NO"]
[{"$f":"'REPORTE PMI'!B1786","v":0},{"$f":"'REPORTE PMI'!E1786","v":0},{"$f":"'REPORTE PMI'!J1786","v":0},{"$f":"'REPORTE PMI'!G1786","v":0},null,null,null,{"$f":"'REPORTE PMI'!L1786","v":0},{"$f":"'REPORTE PMI'!M1786","v":0},0,null,null,0,null,null,"NO"]
[{"$f":"'REPORTE PMI'!B1787","v":0},{"$f":"'REPORTE PMI'!E1787","v":0},{"$f":"'REPORTE PMI'!J1787","v":0},{"$f":"'REPORTE PMI'!G1787","v":0},null,null,null,{"$f":"'REPORTE PMI'!L1787","v":0},{"$f":"'REPORTE PMI'!M1787","v":0},0,null,null,0,null,null,"NO"]
[{"$f":"'REPORTE PMI'!B1788","v":0},{"$f":"'REPORTE PMI'!E1788","v":0},{"$f":"'REPORTE PMI'!J1788","v":0},{"$f":"'REPORTE PMI'!G1788","v":0},null,null,null,{"$f":"'REPORTE PMI'!L1788","v":0},{"$f":"'REPORTE PMI'!M1788","v":0},0,null,null,0,null,null,"NO"]
[{"$f":"'REPORTE PMI'!B1789","v":0},{"$f":"'REPORTE PMI'!E1789","v":0},{"$f":"'REPORTE PMI'!J1789","v":0},{"$f":"'REPORTE PMI'!G1789","v":0},null,null,null,{"$f":"'REPORTE PMI'!L1789","v":0},{"$f":"'REPORTE PMI'!M1789","v":0},0,null,null,0,null,null,"NO"]
[{"$f":"'REPORTE PMI'!B1790","v":0},{"$f":"'REPORTE PMI'!E1790","v":0},{"$f":"'REPORTE PMI'!J1790","v":0},{"$f":"'REPORTE PMI'!G1790","v":0},null,null,null,{"$f":"'REPORTE PMI'!L1790","v":0},{"$f":"'REPORTE PMI'!M1790","v":0},0,null,null,0,null,null,"NO"]
[{"$f":"'REPORTE PMI'!B1791","v":0},{"$f":"'REPORTE PMI'!E1791","v":0},{"$f":"'REPORTE PMI'!J1791","v":0},{"$f":"'REPORTE PMI'!G1791","v":0},null,null,null,{"$f":"'REPORTE PMI'!L1791","v":0},{"$f":"'REPORTE PMI'!M1791","v":0},0,null,null,0,null,null,"NO"]
[{"$f":"'REPORTE PMI'!B1792","v":0},{"$f":"'REPORTE PMI'!E1792","v":0},{"$f":"'REPORTE PMI'!J1792","v":0},{"$f":"'REPORTE PMI'!G1792","v":0},null,null,null,{"$f":"'REPORTE PMI'!L1792","v":0},{"$f":"'REPORTE PMI'!M1792","v":0},0,null,null,0,null,null,"NO"]
[{"$f":"'REPORTE PMI'!B1793","v":0},{"$f":"'REPORTE PMI'!E1793","v":0},{"$f":"'REPORTE PMI'!J1793","v":0},{"$f":"'REPORTE PMI'!G1793","v":0},null,null,null,{"$f":"'REPORTE PMI'!L1793","v":0},{"$f":"'REPORTE PMI'!M1793","v":0},0,null,null,0,null,null,"NO"]
[{"$f":"'REPORTE PMI'!B1794","v":0},{"$f":"'REPORTE PMI'!E1794","v":0},{"$f":"'REPORTE PMI'!J1794","v":0},{"$f":"'REPORTE PMI'!G1794","v":0},null,null,null,{"$f":"'REPORTE PMI'!L1794","v":0},{"$f":"'REPORTE PMI'!M1794","v":0},0,null,null,0,null,null,"NO"]
[{"$f":"'REPORTE PMI'!B1795","v":0},{"$f":"'REPORTE PMI'!E1795","v":0},{"$f":"'REPORTE PMI'!J1795","v":0},{"$f":"'REPORTE PMI'!G1795","v":0},null,null,null,{"$f":"'REPORTE PMI'!L1795","v":0},{"$f":"'REPORTE PMI'!M1795","v":0},0,null,null,0,null,null,"NO"]
[{"$f":"'REPORTE PMI'!B1796","v":0},{"$f":"'REPORTE PMI'!E1796","v":0},{"$f":"'REPORTE PMI'!J1796","v":0},{"$f":"'REPORTE PMI'!G1796","v":0},null,null,null,{"$f":"'REPORTE PMI'!L1796","v":0},{"$f":"'REPORTE PMI'!M1796","v":0},{"$f":"IFERROR(I1805/H1805, 0)","v":0},null,null,{"$f":"H1805-I1805","v":0},null,null,{"$f":"IF(E1805=\"SI\",IF(J1805>0%,IF(K1805=\"SI\",IF(L1805=\"NO\",IF(N1805=\"SI\",IF(O1805=\"NO\",\"SI\",\"NO\"),\"NO\"),\"NO\"),\"NO\"),\"NO\"),\"NO\")","v":"NO"}]
[{"$f":"'REPORTE PMI'!B1797","v":0},{"$f":"'REPORTE PMI'!E1797","v":0},{"$f":"'REPORTE PMI'!J1797","v":0},{"$f":"'REPORTE PMI'!G1797","v":0},null,null,null,{"$f":"'REPORTE PMI'!L1797","v":0},{"$f":"'REPORTE PMI'!M1797","v":0},0,null,null,0,null,null,"NO"]
[{"$f":"'REPORTE PMI'!B1798","v":0},{"$f":"'REPORTE PMI'!E1798","v":0},{"$f":"'REPORTE PMI'!J1798","v":0},{"$f":"'REPORTE PMI'!G1798","v":0},null,null,null,{"$f":"'REPORTE PMI'!L1798","v":0},{"$f":"'REPORTE PMI'!M1798","v":0},0,null,null,0,null,null,"NO"]
[{"$f":"'REPORTE PMI'!B1799","v":0},{"$f":"'REPORTE PMI'!E1799","v":0},{"$f":"'REPORTE PMI'!J1799","v":0},{"$f":"'REPORTE PMI'!G1799","v":0},null,null,null,{"$f":"'REPORTE PMI'!L1799","v":0},{"$f":"'REPORTE PMI'!M1799","v":0},0,null,null,0,null,null,"NO"]
[{"$f":"'REPORTE PMI'!B1800","v":0},{"$f":"'REPORTE PMI'!E1800","v":0},{"$f":"'REPORTE PMI'!J1800","v":0},{"$f":"'REPORTE PMI'!G1800","v":0},null,null,null,{"$f":"'REPORTE PMI'!L1800","v":0},{"$f":"'REPORTE PMI'!M1800","v":0},0,null,null,0,null,null,"NO"]
[{"$f":"'REPORTE PMI'!B1801","v":0},{"$f":"'REPORTE PMI'!E1801","v":0},{"$f":"'REPORTE PMI'!J1801","v":0},{"$f":"'REPORTE PMI'!G1801","v":0},null,null,null,{"$f":"'REPORTE PMI'!L1801","v":0},{"$f":"'REPORTE PMI'!M1801","v":0},0,null,null,0,null,null,"NO"]
[{"$f":"'REPORTE PMI'!B1802","v":0},{"$f":"'REPORTE PMI'!E1802","v":0},{"$f":"'REPORTE PMI'!J1802","v":0},{"$f":"'REPORTE PMI'!G1802","v":0},null,null,null,{"$f":"'REPORTE PMI'!L1802","v":0},{"$f":"'REPORTE PMI'!M1802","v":0},0,null,null,0,null,null,"NO"]
[{"$f":"'REPORTE PMI'!B1803","v":0},{"$f":"'REPORTE PMI'!E1803","v":0},{"$f":"'REPORTE PMI'!J1803","v":0},{"$f":"'REPORTE PMI'!G1803","v":0},null,null,null,{"$f":"'REPORTE PMI'!L1803","v":0},{"$f":"'REPORTE PMI'!M1803","v":0},0,null,null,0,null,null,"NO"]
[{"$f":"'REPORTE PMI'!B1804","v":0},{"$f":"'REPORTE PMI'!E1804","v":0},{"$f":"'REPORTE PMI'!J1804","v":0},{"$f":"'REPORTE PMI'!G1804","v":0},null,null,null,{"$f":"'REPORTE PMI'!L1804","v":0},{"$f":"'REPORTE PMI'!M1804","v":0},0,null,null,0,null,null,"NO"]
[{"$f":"'REPORTE PMI'!B1805","v":0},{"$f":"'REPORTE PMI'!E1805","v":0},{"$f":"'REPORTE PMI'!J1805","v":0},{"$f":"'REPORTE PMI'!G1805","v":0},null,null,null,{"$f":"'REPORTE PMI'!L1805","v":0},{"$f":"'REPORTE PMI'!M1805","v":0},0,null,null,0,null,null,"NO"]
[{"$f":"'REPORTE PMI'!B1806","v":0},{"$f":"'REPORTE PMI'!E1806","v":0},{"$f":"'REPORTE PMI'!J1806","v":0},{"$f":"'REPORTE PMI'!G1806","v":0},null,null,null,{"$f":"'REPORTE PMI'!L1806","v":0},{"$f":"'REPORTE PMI'!M1806","v":0},0,null,null,0,null,null,"NO"]
[{"$f":"'REPORTE PMI'!B1807","v":0},{"$f":"'REPORTE PMI'!E1807","v":0},{"$f":"'REPORTE PMI'!J1807","v":0},{"$f":"'REPORTE PMI'!G1807","v":0},null,null,null,{"$f":"'REPORTE PMI'!L1807","v":0},{"$f":"'REPORTE PMI'!M1807","v":0},0,null,null,0,null,null,"NO"]
[{"$f":"'REPORTE PMI'!B1808","v":0},{"$f":"'REPORTE PMI'!E1808","v":0},{"$f":"'REPORTE PMI'!J1808","v":0},{"$f":"'REPORTE PMI'!G1808","v":0},null,null,null,{"$f":"'REPORTE PMI'!L1808","v":0},{"$f":"'REPORTE PMI'!M1808","v":0},0,null,null,0,null,null,"NO"]
[{"$f":"'REPORTE PMI'!B1809","v":0},{"$f":"'REPORTE PMI'!E1809","v":0},{"$f":"'REPORTE PMI'!J1809","v":0},{"$f":"'REPORTE PMI'!G1809","v":0},null,null,null,{"$f":"'REPORTE PMI'!L1809","v":0},{"$f":"'REPORTE PMI'!M1809","v":0},0,null,null,0,null,null,"NO"]
[{"$f":"'REPORTE PMI'!B1810","v":0},{"$f":"'REPORTE PMI'!E1810","v":0},{"$f":"'REPORTE PMI'!J1810","v":0},{"$f":"'REPORTE PMI'!G1810","v":0},null,null,null,{"$f":"'REPORTE PMI'!L1810","v":0},{"$f":"'REPORTE PMI'!M1810","v":0},0,null,null,0,null,null,"NO"]
[{"$f":"'REPORTE PMI'!B1811","v":0},{"$f":"'REPORTE PMI'!E1811","v":0},{"$f":"'REPORTE PMI'!J1811","v":0},{"$f":"'REPORTE PMI'!G1811","v":0},null,null,null,{"$f":"'REPORTE PMI'!L1811","v":0},{"$f":"'REPORTE PMI'!M1811","v":0},0,null,null,0,null,null,"NO"]
[{"$f":"'REPORTE PMI'!B1812","v":0},{"$f":"'REPORTE PMI'!E1812","v":0},{"$f":"'REPORTE PMI'!J1812","v":0},{"$f":"'REPORTE PMI'!G1812","v":0},null,null,null,{"$f":"'REPORTE PMI'!L1812","v":0},{"$f":"'REPORTE PMI'!M1812","v":0},0,null,null,0,null,null,"NO"]
[{"$f":"'REPORTE PMI'!B1813","v":0},{"$f":"'REPORTE PMI'!E1813","v":0},{"$f":"'REPORTE PMI'!J1813","v":0},{"$f":"'REPORTE PMI'!G1813","v":0},null,null,null,{"$f":"'REPORTE PMI'!L1813","v":0},{"$f":"'REPORTE PMI'!M1813","v":0},0,null,null,0,null,null,"NO"]
[{"$f":"'REPORTE PMI'!B1814","v":0},{"$f":"'REPORTE PMI'!E1814","v":0},{"$f":"'REPORTE PMI'!J1814","v":0},{"$f":"'REPORTE PMI'!G1814","v":0},null,null,null,{"$f":"'REPORTE PMI'!L1814","v":0},{"$f":"'REPORTE PMI'!M1814","v":0},0,null,null,0,null,null,"NO"]
[{"$f":"'REPORTE PMI'!B1815","v":0},{"$f":"'REPORTE PMI'!E1815","v":0},{"$f":"'REPORTE PMI'!J1815","v":0},{"$f":"'REPORTE PMI'!G1815","v":0},null,null,null,{"$f":"'REPORTE PMI'!L1815","v":0},{"$f":"'REPORTE PMI'!M1815","v":0},0,null,null,0,null,null,"NO"]
[{"$f":"'REPORTE PMI'!B1816","v":0},{"$f":"'REPORTE PMI'!E1816","v":0},{"$f":"'REPORTE PMI'!J1816","v":0},{"$f":"'REPORTE PMI'!G1816","v":0},null,null,null,{"$f":"'REPORTE PMI'!L1816","v":0},{"$f":"'REPORTE PMI'!M1816","v":0},0,null,null,0,null,null,"NO"]
[{"$f":"'REPORTE PMI'!B1817","v":0},{"$f":"'REPORTE PMI'!E1817","v":0},{"$f":"'REPORTE PMI'!J1817","v":0},{"$f":"'REPORTE PMI'!G1817","v":0},null,null,null,{"$f":"'REPORTE PMI'!L1817","v":0},{"$f":"'REPORTE PMI'!M1817","v":0},0,null,null,0,null,null,"NO"]
[{"$f":"'REPORTE PMI'!B1818","v":0},{"$f":"'REPORTE PMI'!E1818","v":0},{"$f":"'REPORTE PMI'!J1818","v":0},{"$f":"'REPORTE PMI'!G1818","v":0},null,null,null,{"$f":"'REPORTE PMI'!L1818","v":0},{"$f":"'REPORTE PMI'!M1818","v":0},0,null,null,0,null,null,"NO"]
[{"$f":"'REPORTE PMI'!B1819","v":0},{"$f":"'REPORTE PMI'!E1819","v":0},{"$f":"'REPORTE PMI'!J1819","v":0},{"$f":"'REPORTE PMI'!G1819","v":0},null,null,null,{"$f":"'REPORTE PMI'!L1819","v":0},{"$f":"'REPORTE PMI'!M1819","v":0},0,null,null,0,null,null,"NO"]
[{"$f":"'REPORTE PMI'!B1820","v":0},{"$f":"'REPORTE PMI'!E1820","v":0},{"$f":"'REPORTE PMI'!J1820","v":0},{"$f":"'REPORTE PMI'!G1820","v":0},null,null,null,{"$f":"'REPORTE PMI'!L1820","v":0},{"$f":"'REPORTE PMI'!M1820","v":0},0,null,null,0,null,null,"NO"]
[{"$f":"'REPORTE PMI'!B1821","v":0},{"$f":"'REPORTE PMI'!E1821","v":0},{"$f":"'REPORTE PMI'!J1821","v":0},{"$f":"'REPORTE PMI'!G1821","v":0},null,null,null,{"$f":"'REPORTE PMI'!L1821","v":0},{"$f":"'REPORTE PMI'!M1821","v":0},0,null,null,0,null,null,"NO"]
[{"$f":"'REPORTE PMI'!B1822","v":0},{"$f":"'REPORTE PMI'!E1822","v":0},{"$f":"'REPORTE PMI'!J1822","v":0},{"$f":"'REPORTE PMI'!G1822","v":0},null,null,null,{"$f":"'REPORTE PMI'!L1822","v":0},{"$f":"'REPORTE PMI'!M1822","v":0},0,null,null,0,null,null,"NO"]
[{"$f":"'REPORTE PMI'!B1823","v":0},{"$f":"'REPORTE PMI'!E1823","v":0},{"$f":"'REPORTE PMI'!J1823","v":0},{"$f":"'REPORTE PMI'!G1823","v":0},null,null,null,{"$f":"'REPORTE PMI'!L1823","v":0},{"$f":"'REPORTE PMI'!M1823","v":0},0,null,null,0,null,null,"NO"]
[{"$f":"'REPORTE PMI'!B1824","v":0},{"$f":"'REPORTE PMI'!E1824","v":0},{"$f":"'REPORTE PMI'!J1824","v":0},{"$f":"'REPORTE PMI'!G1824","v":0},null,null,null,{"$f":"'REPORTE PMI'!L1824","v":0},{"$f":"'REPORTE PMI'!M1824","v":0},0,null,null,0,null,null,"NO"]
[{"$f":"'REPORTE PMI'!B1825","v":0},{"$f":"'REPORTE PMI'!E1825","v":0},{"$f":"'REPORTE PMI'!J1825","v":0},{"$f":"'REPORTE PMI'!G1825","v":0},null,null,null,{"$f":"'REPORTE PMI'!L1825","v":0},{"$f":"'REPORTE PMI'!M1825","v":0},0,null,null,0,null,null,"NO"]
[{"$f":"'REPORTE PMI'!B1826","v":0},{"$f":"'REPORTE PMI'!E1826","v":0},{"$f":"'REPORTE PMI'!J1826","v":0},{"$f":"'REPORTE PMI'!G1826","v":0},null,null,null,{"$f":"'REPORTE PMI'!L1826","v":0},{"$f":"'REPORTE PMI'!M1826","v":0},0,null,null,0,null,null,"NO"]
[{"$f":"'REPORTE PMI'!B1827","v":0},{"$f":"'REPORTE PMI'!E1827","v":0},{"$f":"'REPORTE PMI'!J1827","v":0},{"$f":"'REPORTE PMI'!G1827","v":0},null,null,null,{"$f":"'REPORTE PMI'!L1827","v":0},{"$f":"'REPORTE PMI'!M1827","v":0},0,null,null,0,null,null,"NO"]
[{"$f":"'REPORTE PMI'!B1828","v":0},{"$f":"'REPORTE PMI'!E1828","v":0},{"$f":"'REPORTE PMI'!J1828","v":0},{"$f":"'REPORTE PMI'!G1828","v":0},null,null,null,{"$f":"'REPORTE PMI'!L1828","v":0},{"$f":"'REPORTE PMI'!M1828","v":0},0,null,null,0,null,null,"NO"]
[{"$f":"'REPORTE PMI'!B1829","v":0},{"$f":"'REPORTE PMI'!E1829","v":0},{"$f":"'REPORTE PMI'!J1829","v":0},{"$f":"'REPORTE PMI'!G1829","v":0},null,null,null,{"$f":"'REPORTE PMI'!L1829","v":0},{"$f":"'REPORTE PMI'!M1829","v":0},0,null,null,0,null,null,"NO"]
[{"$f":"'REPORTE PMI'!B1830","v":0},{"$f":"'REPORTE PMI'!E1830","v":0},{"$f":"'REPORTE PMI'!J1830","v":0},{"$f":"'REPORTE PMI'!G1830","v":0},null,null,null,{"$f":"'REPORTE PMI'!L1830","v":0},{"$f":"'REPORTE PMI'!M1830","v":0},0,null,null,0,null,null,"NO"]
[{"$f":"'REPORTE PMI'!B1831","v":0},{"$f":"'REPORTE PMI'!E1831","v":0},{"$f":"'REPORTE PMI'!J1831","v":0},{"$f":"'REPORTE PMI'!G1831","v":0},null,null,null,{"$f":"'REPORTE PMI'!L1831","v":0},{"$f":"'REPORTE PMI'!M1831","v":0},0,null,null,0,null,null,"NO"]
[{"$f":"'REPORTE PMI'!B1832","v":0},{"$f":"'REPORTE PMI'!E1832","v":0},{"$f":"'REPORTE PMI'!J1832","v":0},{"$f":"'REPORTE PMI'!G1832","v":0},null,null,null,{"$f":"'REPORTE PMI'!L1832","v":0},{"$f":"'REPORTE PMI'!M1832","v":0},0,null,null,0,null,null,"NO"]
[{"$f":"'REPORTE PMI'!B1833","v":0},{"$f":"'REPORTE PMI'!E1833","v":0},{"$f":"'REPORTE PMI'!J1833","v":0},{"$f":"'REPORTE PMI'!G1833","v":0},null,null,null,{"$f":"'REPORTE PMI'!L1833","v":0},{"$f":"'REPORTE PMI'!M1833","v":0},0,null,null,0,null,null,"NO"]
[{"$f":"'REPORTE PMI'!B1834","v":0},{"$f":"'REPORTE PMI'!E1834","v":0},{"$f":"'REPORTE PMI'!J1834","v":0},{"$f":"'REPORTE PMI'!G1834","v":0},null,null,null,{"$f":"'REPORTE PMI'!L1834","v":0},{"$f":"'REPORTE PMI'!M1834","v":0},0,null,null,0,null,null,"NO"]
[{"$f":"'REPORTE PMI'!B1835","v":0},{"$f":"'REPORTE PMI'!E1835","v":0},{"$f":"'REPORTE PMI'!J1835","v":0},{"$f":"'REPORTE PMI'!G1835","v":0},null,null,null,{"$f":"'REPORTE PMI'!L1835","v":0},{"$f":"'REPORTE PMI'!M1835","v":0},0,null,null,0,null,null,"NO"]
[{"$f":"'REPORTE PMI'!B1836","v":0},{"$f":"'REPORTE PMI'!E1836","v":0},{"$f":"'REPORTE PMI'!J1836","v":0},{"$f":"'REPORTE PMI'!G1836","v":0},null,null,null,{"$f":"'REPORTE PMI'!L1836","v":0},{"$f":"'REPORTE PMI'!M1836","v":0},0,null,null,0,null,null,"NO"]
[{"$f":"'REPORTE PMI'!B1837","v":0},{"$f":"'REPORTE PMI'!E1837","v":0},{"$f":"'REPORTE PMI'!J1837","v":0},{"$f":"'REPORTE PMI'!G1837","v":0},null,null,null,{"$f":"'REPORTE PMI'!L1837","v":0},{"$f":"'REPORTE PMI'!M1837","v":0},0,null,null,0,null,null,"NO"]
[{"$f":"'REPORTE PMI'!B1838","v":0},{"$f":"'REPORTE PMI'!E1838","v":0},{"$f":"'REPORTE PMI'!J1838","v":0},{"$f":"'REPORTE PMI'!G1838","v":0},null,null,null,{"$f":"'REPORTE PMI'!L1838","v":0},{"$f":"'REPORTE PMI'!M1838","v":0},0,null,null,0,null,null,"NO"]
[{"$f":"'REPORTE PMI'!B1839","v":0},{"$f":"'REPORTE PMI'!E1839","v":0},{"$f":"'REPORTE PMI'!J1839","v":0},{"$f":"'REPORTE PMI'!G1839","v":0},null,null,null,{"$f":"'REPORTE PMI'!L1839","v":0},{"$f":"'REPORTE PMI'!M1839","v":0},0,null,null,0,null,null,"NO"]
[{"$f":"'REPORTE PMI'!B1840","v":0},{"$f":"'REPORTE PMI'!E1840","v":0},{"$f":"'REPORTE PMI'!J1840","v":0},{"$f":"'REPORTE PMI'!G1840","v":0},null,null,null,{"$f":"'REPORTE PMI'!L1840","v":0},{"$f":"'REPORTE PMI'!M1840","v":0},0,null,null,0,null,null,"NO"]
[{"$f":"'REPORTE PMI'!B1841","v":0},{"$f":"'REPORTE PMI'!E1841","v":0},{"$f":"'REPORTE PMI'!J1841","v":0},{"$f":"'REPORTE PMI'!G1841","v":0},null,null,null,{"$f":"'REPORTE PMI'!L1841","v":0},{"$f":"'REPORTE PMI'!M1841","v":0},0,null,null,0,null,null,"NO"]
[{"$f":"'REPORTE PMI'!B1842","v":0},{"$f":"'REPORTE PMI'!E1842","v":0},{"$f":"'REPORTE PMI'!J1842","v":0},{"$f":"'REPORTE PMI'!G1842","v":0},null,null,null,{"$f":"'REPORTE PMI'!L1842","v":0},{"$f":"'REPORTE PMI'!M1842","v":0},0,null,null,0,null,null,"NO"]
[{"$f":"'REPORTE PMI'!B1843","v":0},{"$f":"'REPORTE PMI'!E1843","v":0},{"$f":"'REPORTE PMI'!J1843","v":0},{"$f":"'REPORTE PMI'!G1843","v":0},null,null,null,{"$f":"'REPORTE PMI'!L1843","v":0},{"$f":"'REPORTE PMI'!M1843","v":0},0,null,null,0,null,null,"NO"]
[{"$f":"'REPORTE PMI'!B1844","v":0},{"$f":"'REPORTE PMI'!E1844","v":0},{"$f":"'REPORTE PMI'!J1844","v":0},{"$f":"'REPORTE PMI'!G1844","v":0},null,null,null,{"$f":"'REPORTE PMI'!L1844","v":0},{"$f":"'REPORTE PMI'!M1844","v":0},0,null,null,0,null,null,"NO"]
[{"$f":"'REPORTE PMI'!B1845","v":0},{"$f":"'REPORTE PMI'!E1845","v":0},{"$f":"'REPORTE PMI'!J1845","v":0},{"$f":"'REPORTE PMI'!G1845","v":0},null,null,null,{"$f":"'REPORTE PMI'!L1845","v":0},{"$f":"'REPORTE PMI'!M1845","v":0},0,null,null,0,null,null,"NO"]
[{"$f":"'REPORTE PMI'!B1846","v":0},{"$f":"'REPORTE PMI'!E1846","v":0},{"$f":"'REPORTE PMI'!J1846","v":0},{"$f":"'REPORTE PMI'!G1846","v":0},null,null,null,{"$f":"'REPORTE PMI'!L1846","v":0},{"$f":"'REPORTE PMI'!M1846","v":0},0,null,null,0,null,null,"NO"]
[{"$f":"'REPORTE PMI'!B1847","v":0},{"$f":"'REPORTE PMI'!E1847","v":0},{"$f":"'REPORTE PMI'!J1847","v":0},{"$f":"'REPORTE PMI'!G1847","v":0},null,null,null,{"$f":"'REPORTE PMI'!L1847","v":0},{"$f":"'REPORTE PMI'!M1847","v":0},0,null,null,0,null,null,"NO"]
[{"$f":"'REPORTE PMI'!B1848","v":0},{"$f":"'REPORTE PMI'!E1848","v":0},{"$f":"'REPORTE PMI'!J1848","v":0},{"$f":"'REPORTE PMI'!G1848","v":0},null,null,null,{"$f":"'REPORTE PMI'!L1848","v":0},{"$f":"'REPORTE PMI'!M1848","v":0},0,null,null,0,null,null,"NO"]
[{"$f":"'REPORTE PMI'!B1849","v":0},{"$f":"'REPORTE PMI'!E1849","v":0},{"$f":"'REPORTE PMI'!J1849","v":0},{"$f":"'REPORTE PMI'!G1849","v":0},null,null,null,{"$f":"'REPORTE PMI'!L1849","v":0},{"$f":"'REPORTE PMI'!M1849","v":0},0,null,null,0,null,null,"NO"]
[{"$f":"'REPORTE PMI'!B1850","v":0},{"$f":"'REPORTE PMI'!E1850","v":0},{"$f":"'REPORTE PMI'!J1850","v":0},{"$f":"'REPORTE PMI'!G1850","v":0},null,null,null,{"$f":"'REPORTE PMI'!L1850","v":0},{"$f":"'REPORTE PMI'!M1850","v":0},0,null,null,0,null,null,"NO"]
[{"$f":"'REPORTE PMI'!B1851","v":0},{"$f":"'REPORTE PMI'!E1851","v":0},{"$f":"'REPORTE PMI'!J1851","v":0},{"$f":"'REPORTE PMI'!G1851","v":0},null,null,null,{"$f":"'REPORTE PMI'!L1851","v":0},{"$f":"'REPORTE PMI'!M1851","v":0},0,null,null,0,null,null,"NO"]
[{"$f":"'REPORTE PMI'!B1852","v":0},{"$f":"'REPORTE PMI'!E1852","v":0},{"$f":"'REPORTE PMI'!J1852","v":0},{"$f":"'REPORTE PMI'!G1852","v":0},null,null,null,{"$f":"'REPORTE PMI'!L1852","v":0},{"$f":"'REPORTE PMI'!M1852","v":0},0,null,null,0,null,null,"NO"]
[{"$f":"'REPORTE PMI'!B1853","v":0},{"$f":"'REPORTE PMI'!E1853","v":0},{"$f":"'REPORTE PMI'!J1853","v":0},{"$f":"'REPORTE PMI'!G1853","v":0},null,null,null,{"$f":"'REPORTE PMI'!L1853","v":0},{"$f":"'REPORTE PMI'!M1853","v":0},0,null,null,0,null,null,"NO"]
[{"$f":"'REPORTE PMI'!B1854","v":0},{"$f":"'REPORTE PMI'!E1854","v":0},{"$f":"'REPORTE PMI'!J1854","v":0},{"$f":"'REPORTE PMI'!G1854","v":0},null,null,null,{"$f":"'REPORTE PMI'!L1854","v":0},{"$f":"'REPORTE PMI'!M1854","v":0},0,null,null,0,null,null,"NO"]
[{"$f":"'REPORTE PMI'!B1855","v":0},{"$f":"'REPORTE PMI'!E1855","v":0},{"$f":"'REPORTE PMI'!J1855","v":0},{"$f":"'REPORTE PMI'!G1855","v":0},null,null,null,{"$f":"'REPORTE PMI'!L1855","v":0},{"$f":"'REPORTE PMI'!M1855","v":0},0,null,null,0,null,null,"NO"]
[{"$f":"'REPORTE PMI'!B1856","v":0},{"$f":"'REPORTE PMI'!E1856","v":0},{"$f":"'REPORTE PMI'!J1856","v":0},{"$f":"'REPORTE PMI'!G1856","v":0},null,null,null,{"$f":"'REPORTE PMI'!L1856","v":0},{"$f":"'REPORTE PMI'!M1856","v":0},0,null,null,0,null,null,"NO"]
[{"$f":"'REPORTE PMI'!B1857","v":0},{"$f":"'REPORTE PMI'!E1857","v":0},{"$f":"'REPORTE PMI'!J1857","v":0},{"$f":"'REPORTE PMI'!G1857","v":0},null,null,null,{"$f":"'REPORTE PMI'!L1857","v":0},{"$f":"'REPORTE PMI'!M1857","v":0},0,null,null,0,null,null,"NO"]
[{"$f":"'REPORTE PMI'!B1858","v":0},{"$f":"'REPORTE PMI'!E1858","v":0},{"$f":"'REPORTE PMI'!J1858","v":0},{"$f":"'REPORTE PMI'!G1858","v":0},null,null,null,{"$f":"'REPORTE PMI'!L1858","v":0},{"$f":"'REPORTE PMI'!M1858","v":0},0,null,null,0,null,null,"NO"]
[{"$f":"'REPORTE PMI'!B1859","v":0},{"$f":"'REPORTE PMI'!E1859","v":0},{"$f":"'REPORTE PMI'!J1859","v":0},{"$f":"'REPORTE PMI'!G1859","v":0},null,null,null,{"$f":"'REPORTE PMI'!L1859","v":0},{"$f":"'REPORTE PMI'!M1859","v":0},0,null,null,0,null,null,"NO"]
[{"$f":"'REPORTE PMI'!B1860","v":0},{"$f":"'REPORTE PMI'!E1860","v":0},{"$f":"'REPORTE PMI'!J1860","v":0},{"$f":"'REPORTE PMI'!G1860","v":0},null,null,null,{"$f":"'REPORTE PMI'!L1860","v":0},{"$f":"'REPORTE PMI'!M1860","v":0},{"$f":"IFERROR(I1869/H1869, 0)","v":0},null,null,{"$f":"H1869-I1869","v":0},null,null,{"$f":"IF(E1869=\"SI\",IF(J1869>0%,IF(K1869=\"SI\",IF(L1869=\"NO\",IF(N1869=\"SI\",IF(O1869=\"NO\",\"SI\",\"NO\"),\"NO\"),\"NO\"),\"NO\"),\"NO\"),\"NO\")","v":"NO"}]
[{"$f":"'REPORTE PMI'!B1861","v":0},{"$f":"'REPORTE PMI'!E1861","v":0},{"$f":"'REPORTE PMI'!J1861","v":0},{"$f":"'REPORTE PMI'!G1861","v":0},null,null,null,{"$f":"'REPORTE PMI'!L1861","v":0},{"$f":"'REPORTE PMI'!M1861","v":0},0,null,null,0,null,null,"NO"]
[{"$f":"'REPORTE PMI'!B1862","v":0},{"$f":"'REPORTE PMI'!E1862","v":0},{"$f":"'REPORTE PMI'!J1862","v":0},{"$f":"'REPORTE PMI'!G1862","v":0},null,null,null,{"$f":"'REPORTE PMI'!L1862","v":0},{"$f":"'REPORTE PMI'!M1862","v":0},0,null,null,0,null,null,"NO"]
[{"$f":"'REPORTE PMI'!B1863","v":0},{"$f":"'REPORTE PMI'!E1863","v":0},{"$f":"'REPORTE PMI'!J1863","v":0},{"$f":"'REPORTE PMI'!G1863","v":0},null,null,null,{"$f":"'REPORTE PMI'!L1863","v":0},{"$f":"'REPORTE PMI'!M1863","v":0},0,null,null,0,null,null,"NO"]
[{"$f":"'REPORTE PMI'!B1864","v":0},{"$f":"'REPORTE PMI'!E1864","v":0},{"$f":"'REPORTE PMI'!J1864","v":0},{"$f":"'REPORTE PMI'!G1864","v":0},null,null,null,{"$f":"'REPORTE PMI'!L1864","v":0},{"$f":"'REPORTE PMI'!M1864","v":0},0,null,null,0,null,null,"NO"]
[{"$f":"'REPORTE PMI'!B1865","v":0},{"$f":"'REPORTE PMI'!E1865","v":0},{"$f":"'REPORTE PMI'!J1865","v":0},{"$f":"'REPORTE PMI'!G1865","v":0},null,null,null,{"$f":"'REPORTE PMI'!L1865","v":0},{"$f":"'REPORTE PMI'!M1865","v":0},0,null,null,0,null,null,"NO"]
[{"$f":"'REPORTE PMI'!B1866","v":0},{"$f":"'REPORTE PMI'!E1866","v":0},{"$f":"'REPORTE PMI'!J1866","v":0},{"$f":"'REPORTE PMI'!G1866","v":0},null,null,null,{"$f":"'REPORTE PMI'!L1866","v":0},{"$f":"'REPORTE PMI'!M1866","v":0},0,null,null,0,null,null,"NO"]
[{"$f":"'REPORTE PMI'!B1867","v":0},{"$f":"'REPORTE PMI'!E1867","v":0},{"$f":"'REPORTE PMI'!J1867","v":0},{"$f":"'REPORTE PMI'!G1867","v":0},null,null,null,{"$f":"'REPORTE PMI'!L1867","v":0},{"$f":"'REPORTE PMI'!M1867","v":0},0,null,null,0,null,null,"NO"]
[{"$f":"'REPORTE PMI'!B1868","v":0},{"$f":"'REPORTE PMI'!E1868","v":0},{"$f":"'REPORTE PMI'!J1868","v":0},{"$f":"'REPORTE PMI'!G1868","v":0},null,null,null,{"$f":"'REPORTE PMI'!L1868","v":0},{"$f":"'REPORTE PMI'!M1868","v":0},0,null,null,0,null,null,"NO"]
[{"$f":"'REPORTE PMI'!B1869","v":0},{"$f":"'REPORTE PMI'!E1869","v":0},{"$f":"'REPORTE PMI'!J1869","v":0},{"$f":"'REPORTE PMI'!G1869","v":0},null,null,null,{"$f":"'REPORTE PMI'!L1869","v":0},{"$f":"'REPORTE PMI'!M1869","v":0},0,null,null,0,null,null,"NO"]
[{"$f":"'REPORTE PMI'!B1870","v":0},{"$f":"'REPORTE PMI'!E1870","v":0},{"$f":"'REPORTE PMI'!J1870","v":0},{"$f":"'REPORTE PMI'!G1870","v":0},null,null,null,{"$f":"'REPORTE PMI'!L1870","v":0},{"$f":"'REPORTE PMI'!M1870","v":0},0,null,null,0,null,null,"NO"]
[{"$f":"'REPORTE PMI'!B1871","v":0},{"$f":"'REPORTE PMI'!E1871","v":0},{"$f":"'REPORTE PMI'!J1871","v":0},{"$f":"'REPORTE PMI'!G1871","v":0},null,null,null,{"$f":"'REPORTE PMI'!L1871","v":0},{"$f":"'REPORTE PMI'!M1871","v":0},0,null,null,0,null,null,"NO"]
[{"$f":"'REPORTE PMI'!B1872","v":0},{"$f":"'REPORTE PMI'!E1872","v":0},{"$f":"'REPORTE PMI'!J1872","v":0},{"$f":"'REPORTE PMI'!G1872","v":0},null,null,null,{"$f":"'REPORTE PMI'!L1872","v":0},{"$f":"'REPORTE PMI'!M1872","v":0},0,null,null,0,null,null,"NO"]
[{"$f":"'REPORTE PMI'!B1873","v":0},{"$f":"'REPORTE PMI'!E1873","v":0},{"$f":"'REPORTE PMI'!J1873","v":0},{"$f":"'REPORTE PMI'!G1873","v":0},null,null,null,{"$f":"'REPORTE PMI'!L1873","v":0},{"$f":"'REPORTE PMI'!M1873","v":0},0,null,null,0,null,null,"NO"]
[{"$f":"'REPORTE PMI'!B1874","v":0},{"$f":"'REPORTE PMI'!E1874","v":0},{"$f":"'REPORTE PMI'!J1874","v":0},{"$f":"'REPORTE PMI'!G1874","v":0},null,null,null,{"$f":"'REPORTE PMI'!L1874","v":0},{"$f":"'REPORTE PMI'!M1874","v":0},0,null,null,0,null,null,"NO"]
[{"$f":"'REPORTE PMI'!B1875","v":0},{"$f":"'REPORTE PMI'!E1875","v":0},{"$f":"'REPORTE PMI'!J1875","v":0},{"$f":"'REPORTE PMI'!G1875","v":0},null,null,null,{"$f":"'REPORTE PMI'!L1875","v":0},{"$f":"'REPORTE PMI'!M1875","v":0},0,null,null,0,null,null,"NO"]
[{"$f":"'REPORTE PMI'!B1876","v":0},{"$f":"'REPORTE PMI'!E1876","v":0},{"$f":"'REPORTE PMI'!J1876","v":0},{"$f":"'REPORTE PMI'!G1876","v":0},null,null,null,{"$f":"'REPORTE PMI'!L1876","v":0},{"$f":"'REPORTE PMI'!M1876","v":0},0,null,null,0,null,null,"NO"]
[{"$f":"'REPORTE PMI'!B1877","v":0},{"$f":"'REPORTE PMI'!E1877","v":0},{"$f":"'REPORTE PMI'!J1877","v":0},{"$f":"'REPORTE PMI'!G1877","v":0},null,null,null,{"$f":"'REPORTE PMI'!L1877","v":0},{"$f":"'REPORTE PMI'!M1877","v":0},0,null,null,0,null,null,"NO"]
[{"$f":"'REPORTE PMI'!B1878","v":0},{"$f":"'REPORTE PMI'!E1878","v":0},{"$f":"'REPORTE PMI'!J1878","v":0},{"$f":"'REPORTE PMI'!G1878","v":0},null,null,null,{"$f":"'REPORTE PMI'!L1878","v":0},{"$f":"'REPORTE PMI'!M1878","v":0},0,null,null,0,null,null,"NO"]
[{"$f":"'REPORTE PMI'!B1879","v":0},{"$f":"'REPORTE PMI'!E1879","v":0},{"$f":"'REPORTE PMI'!J1879","v":0},{"$f":"'REPORTE PMI'!G1879","v":0},null,null,null,{"$f":"'REPORTE PMI'!L1879","v":0},{"$f":"'REPORTE PMI'!M1879","v":0},0,null,null,0,null,null,"NO"]
[{"$f":"'REPORTE PMI'!B1880","v":0},{"$f":"'REPORTE PMI'!E1880","v":0},{"$f":"'REPORTE PMI'!J1880","v":0},{"$f":"'REPORTE PMI'!G1880","v":0},null,null,null,{"$f":"'REPORTE PMI'!L1880","v":0},{"$f":"'REPORTE PMI'!M1880","v":0},0,null,null,0,null,null,"NO"]
[{"$f":"'REPORTE PMI'!B1881","v":0},{"$f":"'REPORTE PMI'!E1881","v":0},{"$f":"'REPORTE PMI'!J1881","v":0},{"$f":"'REPORTE PMI'!G1881","v":0},null,null,null,{"$f":"'REPORTE PMI'!L1881","v":0},{"$f":"'REPORTE PMI'!M1881","v":0},0,null,null,0,null,null,"NO"]
[{"$f":"'REPORTE PMI'!B1882","v":0},{"$f":"'REPORTE PMI'!E1882","v":0},{"$f":"'REPORTE PMI'!J1882","v":0},{"$f":"'REPORTE PMI'!G1882","v":0},null,null,null,{"$f":"'REPORTE PMI'!L1882","v":0},{"$f":"'REPORTE PMI'!M1882","v":0},0,null,null,0,null,null,"NO"]
[{"$f":"'REPORTE PMI'!B1883","v":0},{"$f":"'REPORTE PMI'!E1883","v":0},{"$f":"'REPORTE PMI'!J1883","v":0},{"$f":"'REPORTE PMI'!G1883","v":0},null,null,null,{"$f":"'REPORTE PMI'!L1883","v":0},{"$f":"'REPORTE PMI'!M1883","v":0},0,null,null,0,null,null,"NO"]
[{"$f":"'REPORTE PMI'!B1884","v":0},{"$f":"'REPORTE PMI'!E1884","v":0},{"$f":"'REPORTE PMI'!J1884","v":0},{"$f":"'REPORTE PMI'!G1884","v":0},null,null,null,{"$f":"'REPORTE PMI'!L1884","v":0},{"$f":"'REPORTE PMI'!M1884","v":0},0,null,null,0,null,null,"NO"]
[{"$f":"'REPORTE PMI'!B1885","v":0},{"$f":"'REPORTE PMI'!E1885","v":0},{"$f":"'REPORTE PMI'!J1885","v":0},{"$f":"'REPORTE PMI'!G1885","v":0},null,null,null,{"$f":"'REPORTE PMI'!L1885","v":0},{"$f":"'REPORTE PMI'!M1885","v":0},0,null,null,0,null,null,"NO"]
[{"$f":"'REPORTE PMI'!B1886","v":0},{"$f":"'REPORTE PMI'!E1886","v":0},{"$f":"'REPORTE PMI'!J1886","v":0},{"$f":"'REPORTE PMI'!G1886","v":0},null,null,null,{"$f":"'REPORTE PMI'!L1886","v":0},{"$f":"'REPORTE PMI'!M1886","v":0},0,null,null,0,null,null,"NO"]
[{"$f":"'REPORTE PMI'!B1887","v":0},{"$f":"'REPORTE PMI'!E1887","v":0},{"$f":"'REPORTE PMI'!J1887","v":0},{"$f":"'REPORTE PMI'!G1887","v":0},null,null,null,{"$f":"'REPORTE PMI'!L1887","v":0},{"$f":"'REPORTE PMI'!M1887","v":0},0,null,null,0,null,null,"NO"]
[{"$f":"'REPORTE PMI'!B1888","v":0},{"$f":"'REPORTE PMI'!E1888","v":0},{"$f":"'REPORTE PMI'!J1888","v":0},{"$f":"'REPORTE PMI'!G1888","v":0},null,null,null,{"$f":"'REPORTE PMI'!L1888","v":0},{"$f":"'REPORTE PMI'!M1888","v":0},0,null,null,0,null,null,"NO"]
[{"$f":"'REPORTE PMI'!B1889","v":0},{"$f":"'REPORTE PMI'!E1889","v":0},{"$f":"'REPORTE PMI'!J1889","v":0},{"$f":"'REPORTE PMI'!G1889","v":0},null,null,null,{"$f":"'REPORTE PMI'!L1889","v":0},{"$f":"'REPORTE PMI'!M1889","v":0},0,null,null,0,null,null,"NO"]
[{"$f":"'REPORTE PMI'!B1890","v":0},{"$f":"'REPORTE PMI'!E1890","v":0},{"$f":"'REPORTE PMI'!J1890","v":0},{"$f":"'REPORTE PMI'!G1890","v":0},null,null,null,{"$f":"'REPORTE PMI'!L1890","v":0},{"$f":"'REPORTE PMI'!M1890","v":0},0,null,null,0,null,null,"NO"]
[{"$f":"'REPORTE PMI'!B1891","v":0},{"$f":"'REPORTE PMI'!E1891","v":0},{"$f":"'REPORTE PMI'!J1891","v":0},{"$f":"'REPORTE PMI'!G1891","v":0},null,null,null,{"$f":"'REPORTE PMI'!L1891","v":0},{"$f":"'REPORTE PMI'!M1891","v":0},0,null,null,0,null,null,"NO"]
[{"$f":"'REPORTE PMI'!B1892","v":0},{"$f":"'REPORTE PMI'!E1892","v":0},{"$f":"'REPORTE PMI'!J1892","v":0},{"$f":"'REPORTE PMI'!G1892","v":0},null,null,null,{"$f":"'REPORTE PMI'!L1892","v":0},{"$f":"'REPORTE PMI'!M1892","v":0},0,null,null,0,null,null,"NO"]
[{"$f":"'REPORTE PMI'!B1893","v":0},{"$f":"'REPORTE PMI'!E1893","v":0},{"$f":"'REPORTE PMI'!J1893","v":0},{"$f":"'REPORTE PMI'!G1893","v":0},null,null,null,{"$f":"'REPORTE PMI'!L1893","v":0},{"$f":"'REPORTE PMI'!M1893","v":0},0,null,null,0,null,null,"NO"]
[{"$f":"'REPORTE PMI'!B1894","v":0},{"$f":"'REPORTE PMI'!E1894","v":0},{"$f":"'REPORTE PMI'!J1894","v":0},{"$f":"'REPORTE PMI'!G1894","v":0},null,null,null,{"$f":"'REPORTE PMI'!L1894","v":0},{"$f":"'REPORTE PMI'!M1894","v":0},0,null,null,0,null,null,"NO"]
[{"$f":"'REPORTE PMI'!B1895","v":0},{"$f":"'REPORTE PMI'!E1895","v":0},{"$f":"'REPORTE PMI'!J1895","v":0},{"$f":"'REPORTE PMI'!G1895","v":0},null,null,null,{"$f":"'REPORTE PMI'!L1895","v":0},{"$f":"'REPORTE PMI'!M1895","v":0},0,null,null,0,null,null,"NO"]
[{"$f":"'REPORTE PMI'!B1896","v":0},{"$f":"'REPORTE PMI'!E1896","v":0},{"$f":"'REPORTE PMI'!J1896","v":0},{"$f":"'REPORTE PMI'!G1896","v":0},null,null,null,{"$f":"'REPORTE PMI'!L1896","v":0},{"$f":"'REPORTE PMI'!M1896","v":0},0,null,null,0,null,null,"NO"]
[{"$f":"'REPORTE PMI'!B1897","v":0},{"$f":"'REPORTE PMI'!E1897","v":0},{"$f":"'REPORTE PMI'!J1897","v":0},{"$f":"'REPORTE PMI'!G1897","v":0},null,null,null,{"$f":"'REPORTE PMI'!L1897","v":0},{"$f":"'REPORTE PMI'!M1897","v":0},0,null,null,0,null,null,"NO"]
[{"$f":"'REPORTE PMI'!B1898","v":0},{"$f":"'REPORTE PMI'!E1898","v":0},{"$f":"'REPORTE PMI'!J1898","v":0},{"$f":"'REPORTE PMI'!G1898","v":0},null,null,null,{"$f":"'REPORTE PMI'!L1898","v":0},{"$f":"'REPORTE PMI'!M1898","v":0},0,null,null,0,null,null,"NO"]
[{"$f":"'REPORTE PMI'!B1899","v":0},{"$f":"'REPORTE PMI'!E1899","v":0},{"$f":"'REPORTE PMI'!J1899","v":0},{"$f":"'REPORTE PMI'!G1899","v":0},null,null,null,{"$f":"'REPORTE PMI'!L1899","v":0},{"$f":"'REPORTE PMI'!M1899","v":0},0,null,null,0,null,null,"NO"]
[{"$f":"'REPORTE PMI'!B1900","v":0},{"$f":"'REPORTE PMI'!E1900","v":0},{"$f":"'REPORTE PMI'!J1900","v":0},{"$f":"'REPORTE PMI'!G1900","v":0},null,null,null,{"$f":"'REPORTE PMI'!L1900","v":0},{"$f":"'REPORTE PMI'!M1900","v":0},0,null,null,0,null,null,"NO"]
[{"$f":"'REPORTE PMI'!B1901","v":0},{"$f":"'REPORTE PMI'!E1901","v":0},{"$f":"'REPORTE PMI'!J1901","v":0},{"$f":"'REPORTE PMI'!G1901","v":0},null,null,null,{"$f":"'REPORTE PMI'!L1901","v":0},{"$f":"'REPORTE PMI'!M1901","v":0},0,null,null,0,null,null,"NO"]
[{"$f":"'REPORTE PMI'!B1902","v":0},{"$f":"'REPORTE PMI'!E1902","v":0},{"$f":"'REPORTE PMI'!J1902","v":0},{"$f":"'REPORTE PMI'!G1902","v":0},null,null,null,{"$f":"'REPORTE PMI'!L1902","v":0},{"$f":"'REPORTE PMI'!M1902","v":0},0,null,null,0,null,null,"NO"]
[{"$f":"'REPORTE PMI'!B1903","v":0},{"$f":"'REPORTE PMI'!E1903","v":0},{"$f":"'REPORTE PMI'!J1903","v":0},{"$f":"'REPORTE PMI'!G1903","v":0},null,null,null,{"$f":"'REPORTE PMI'!L1903","v":0},{"$f":"'REPORTE PMI'!M1903","v":0},0,null,null,0,null,null,"NO"]
[{"$f":"'REPORTE PMI'!B1904","v":0},{"$f":"'REPORTE PMI'!E1904","v":0},{"$f":"'REPORTE PMI'!J1904","v":0},{"$f":"'REPORTE PMI'!G1904","v":0},null,null,null,{"$f":"'REPORTE PMI'!L1904","v":0},{"$f":"'REPORTE PMI'!M1904","v":0},0,null,null,0,null,null,"NO"]
[{"$f":"'REPORTE PMI'!B1905","v":0},{"$f":"'REPORTE PMI'!E1905","v":0},{"$f":"'REPORTE PMI'!J1905","v":0},{"$f":"'REPORTE PMI'!G1905","v":0},null,null,null,{"$f":"'REPORTE PMI'!L1905","v":0},{"$f":"'REPORTE PMI'!M1905","v":0},0,null,null,0,null,null,"NO"]
[{"$f":"'REPORTE PMI'!B1906","v":0},{"$f":"'REPORTE PMI'!E1906","v":0},{"$f":"'REPORTE PMI'!J1906","v":0},{"$f":"'REPORTE PMI'!G1906","v":0},null,null,null,{"$f":"'REPORTE PMI'!L1906","v":0},{"$f":"'REPORTE PMI'!M1906","v":0},0,null,null,0,null,null,"NO"]
[{"$f":"'REPORTE PMI'!B1907","v":0},{"$f":"'REPORTE PMI'!E1907","v":0},{"$f":"'REPORTE PMI'!J1907","v":0},{"$f":"'REPORTE PMI'!G1907","v":0},null,null,null,{"$f":"'REPORTE PMI'!L1907","v":0},{"$f":"'REPORTE PMI'!M1907","v":0},0,null,null,0,null,null,"NO"]
[{"$f":"'REPORTE PMI'!B1908","v":0},{"$f":"'REPORTE PMI'!E1908","v":0},{"$f":"'REPORTE PMI'!J1908","v":0},{"$f":"'REPORTE PMI'!G1908","v":0},null,null,null,{"$f":"'REPORTE PMI'!L1908","v":0},{"$f":"'REPORTE PMI'!M1908","v":0},0,null,null,0,null,null,"NO"]
[{"$f":"'REPORTE PMI'!B1909","v":0},{"$f":"'REPORTE PMI'!E1909","v":0},{"$f":"'REPORTE PMI'!J1909","v":0},{"$f":"'REPORTE PMI'!G1909","v":0},null,null,null,{"$f":"'REPORTE PMI'!L1909","v":0},{"$f":"'REPORTE PMI'!M1909","v":0},0,null,null,0,null,null,"NO"]
[{"$f":"'REPORTE PMI'!B1910","v":0},{"$f":"'REPORTE PMI'!E1910","v":0},{"$f":"'REPORTE PMI'!J1910","v":0},{"$f":"'REPORTE PMI'!G1910","v":0},null,null,null,{"$f":"'REPORTE PMI'!L1910","v":0},{"$f":"'REPORTE PMI'!M1910","v":0},0,null,null,0,null,null,"NO"]
[{"$f":"'REPORTE PMI'!B1911","v":0},{"$f":"'REPORTE PMI'!E1911","v":0},{"$f":"'REPORTE PMI'!J1911","v":0},{"$f":"'REPORTE PMI'!G1911","v":0},null,null,null,{"$f":"'REPORTE PMI'!L1911","v":0},{"$f":"'REPORTE PMI'!M1911","v":0},0,null,null,0,null,null,"NO"]
[{"$f":"'REPORTE PMI'!B1912","v":0},{"$f":"'REPORTE PMI'!E1912","v":0},{"$f":"'REPORTE PMI'!J1912","v":0},{"$f":"'REPORTE PMI'!G1912","v":0},null,null,null,{"$f":"'REPORTE PMI'!L1912","v":0},{"$f":"'REPORTE PMI'!M1912","v":0},0,null,null,0,null,null,"NO"]
[{"$f":"'REPORTE PMI'!B1913","v":0},{"$f":"'REPORTE PMI'!E1913","v":0},{"$f":"'REPORTE PMI'!J1913","v":0},{"$f":"'REPORTE PMI'!G1913","v":0},null,null,null,{"$f":"'REPORTE PMI'!L1913","v":0},{"$f":"'REPORTE PMI'!M1913","v":0},0,null,null,0,null,null,"NO"]
[{"$f":"'REPORTE PMI'!B1914","v":0},{"$f":"'REPORTE PMI'!E1914","v":0},{"$f":"'REPORTE PMI'!J1914","v":0},{"$f":"'REPORTE PMI'!G1914","v":0},null,null,null,{"$f":"'REPORTE PMI'!L1914","v":0},{"$f":"'REPORTE PMI'!M1914","v":0},0,null,null,0,null,null,"NO"]
[{"$f":"'REPORTE PMI'!B1915","v":0},{"$f":"'REPORTE PMI'!E1915","v":0},{"$f":"'REPORTE PMI'!J1915","v":0},{"$f":"'REPORTE PMI'!G1915","v":0},null,null,null,{"$f":"'REPORTE PMI'!L1915","v":0},{"$f":"'REPORTE PMI'!M1915","v":0},0,null,null,0,null,null,"NO"]
[{"$f":"'REPORTE PMI'!B1916","v":0},{"$f":"'REPORTE PMI'!E1916","v":0},{"$f":"'REPORTE PMI'!J1916","v":0},{"$f":"'REPORTE PMI'!G1916","v":0},null,null,null,{"$f":"'REPORTE PMI'!L1916","v":0},{"$f":"'REPORTE PMI'!M1916","v":0},0,null,null,0,null,null,"NO"]
[{"$f":"'REPORTE PMI'!B1917","v":0},{"$f":"'REPORTE PMI'!E1917","v":0},{"$f":"'REPORTE PMI'!J1917","v":0},{"$f":"'REPORTE PMI'!G1917","v":0},null,null,null,{"$f":"'REPORTE PMI'!L1917","v":0},{"$f":"'REPORTE PMI'!M1917","v":0},0,null,null,0,null,null,"NO"]
[{"$f":"'REPORTE PMI'!B1918","v":0},{"$f":"'REPORTE PMI'!E1918","v":0},{"$f":"'REPORTE PMI'!J1918","v":0},{"$f":"'REPORTE PMI'!G1918","v":0},null,null,null,{"$f":"'REPORTE PMI'!L1918","v":0},{"$f":"'REPORTE PMI'!M1918","v":0},0,null,null,0,null,null,"NO"]
[{"$f":"'REPORTE PMI'!B1919","v":0},{"$f":"'REPORTE PMI'!E1919","v":0},{"$f":"'REPORTE PMI'!J1919","v":0},{"$f":"'REPORTE PMI'!G1919","v":0},null,null,null,{"$f":"'REPORTE PMI'!L1919","v":0},{"$f":"'REPORTE PMI'!M1919","v":0},0,null,null,0,null,null,"NO"]
[{"$f":"'REPORTE PMI'!B1920","v":0},{"$f":"'REPORTE PMI'!E1920","v":0},{"$f":"'REPORTE PMI'!J1920","v":0},{"$f":"'REPORTE PMI'!G1920","v":0},null,null,null,{"$f":"'REPORTE PMI'!L1920","v":0},{"$f":"'REPORTE PMI'!M1920","v":0},0,null,null,0,null,null,"NO"]
[{"$f":"'REPORTE PMI'!B1921","v":0},{"$f":"'REPORTE PMI'!E1921","v":0},{"$f":"'REPORTE PMI'!J1921","v":0},{"$f":"'REPORTE PMI'!G1921","v":0},null,null,null,{"$f":"'REPORTE PMI'!L1921","v":0},{"$f":"'REPORTE PMI'!M1921","v":0},0,null,null,0,null,null,"NO"]
[{"$f":"'REPORTE PMI'!B1922","v":0},{"$f":"'REPORTE PMI'!E1922","v":0},{"$f":"'REPORTE PMI'!J1922","v":0},{"$f":"'REPORTE PMI'!G1922","v":0},null,null,null,{"$f":"'REPORTE PMI'!L1922","v":0},{"$f":"'REPORTE PMI'!M1922","v":0},0,null,null,0,null,null,"NO"]
[{"$f":"'REPORTE PMI'!B1923","v":0},{"$f":"'REPORTE PMI'!E1923","v":0},{"$f":"'REPORTE PMI'!J1923","v":0},{"$f":"'REPORTE PMI'!G1923","v":0},null,null,null,{"$f":"'REPORTE PMI'!L1923","v":0},{"$f":"'REPORTE PMI'!M1923","v":0},0,null,null,0,null,null,"NO"]
[{"$f":"'REPORTE PMI'!B1924","v":0},{"$f":"'REPORTE PMI'!E1924","v":0},{"$f":"'REPORTE PMI'!J1924","v":0},{"$f":"'REPORTE PMI'!G1924","v":0},null,null,null,{"$f":"'REPORTE PMI'!L1924","v":0},{"$f":"'REPORTE PMI'!M1924","v":0},{"$f":"IFERROR(I1933/H1933, 0)","v":0},null,null,{"$f":"H1933-I1933","v":0},null,null,{"$f":"IF(E1933=\"SI\",IF(J1933>0%,IF(K1933=\"SI\",IF(L1933=\"NO\",IF(N1933=\"SI\",IF(O1933=\"NO\",\"SI\",\"NO\"),\"NO\"),\"NO\"),\"NO\"),\"NO\"),\"NO\")","v":"NO"}]
[{"$f":"'REPORTE PMI'!B1925","v":0},{"$f":"'REPORTE PMI'!E1925","v":0},{"$f":"'REPORTE PMI'!J1925","v":0},{"$f":"'REPORTE PMI'!G1925","v":0},null,null,null,{"$f":"'REPORTE PMI'!L1925","v":0},{"$f":"'REPORTE PMI'!M1925","v":0},0,null,null,0,null,null,"NO"]
[{"$f":"'REPORTE PMI'!B1926","v":0},{"$f":"'REPORTE PMI'!E1926","v":0},{"$f":"'REPORTE PMI'!J1926","v":0},{"$f":"'REPORTE PMI'!G1926","v":0},null,null,null,{"$f":"'REPORTE PMI'!L1926","v":0},{"$f":"'REPORTE PMI'!M1926","v":0},0,null,null,0,null,null,"NO"]
[{"$f":"'REPORTE PMI'!B1927","v":0},{"$f":"'REPORTE PMI'!E1927","v":0},{"$f":"'REPORTE PMI'!J1927","v":0},{"$f":"'REPORTE PMI'!G1927","v":0},null,null,null,{"$f":"'REPORTE PMI'!L1927","v":0},{"$f":"'REPORTE PMI'!M1927","v":0},0,null,null,0,null,null,"NO"]
[{"$f":"'REPORTE PMI'!B1928","v":0},{"$f":"'REPORTE PMI'!E1928","v":0},{"$f":"'REPORTE PMI'!J1928","v":0},{"$f":"'REPORTE PMI'!G1928","v":0},null,null,null,{"$f":"'REPORTE PMI'!L1928","v":0},{"$f":"'REPORTE PMI'!M1928","v":0},0,null,null,0,null,null,"NO"]
[{"$f":"'REPORTE PMI'!B1929","v":0},{"$f":"'REPORTE PMI'!E1929","v":0},{"$f":"'REPORTE PMI'!J1929","v":0},{"$f":"'REPORTE PMI'!G1929","v":0},null,null,null,{"$f":"'REPORTE PMI'!L1929","v":0},{"$f":"'REPORTE PMI'!M1929","v":0},0,null,null,0,null,null,"NO"]
[{"$f":"'REPORTE PMI'!B1930","v":0},{"$f":"'REPORTE PMI'!E1930","v":0},{"$f":"'REPORTE PMI'!J1930","v":0},{"$f":"'REPORTE PMI'!G1930","v":0},null,null,null,{"$f":"'REPORTE PMI'!L1930","v":0},{"$f":"'REPORTE PMI'!M1930","v":0},0,null,null,0,null,null,"NO"]
[{"$f":"'REPORTE PMI'!B1931","v":0},{"$f":"'REPORTE PMI'!E1931","v":0},{"$f":"'REPORTE PMI'!J1931","v":0},{"$f":"'REPORTE PMI'!G1931","v":0},null,null,null,{"$f":"'REPORTE PMI'!L1931","v":0},{"$f":"'REPORTE PMI'!M1931","v":0},0,null,null,0,null,null,"NO"]
[{"$f":"'REPORTE PMI'!B1932","v":0},{"$f":"'REPORTE PMI'!E1932","v":0},{"$f":"'REPORTE PMI'!J1932","v":0},{"$f":"'REPORTE PMI'!G1932","v":0},null,null,null,{"$f":"'REPORTE PMI'!L1932","v":0},{"$f":"'REPORTE PMI'!M1932","v":0},0,null,null,0,null,null,"NO"]
[{"$f":"'REPORTE PMI'!B1933","v":0},{"$f":"'REPORTE PMI'!E1933","v":0},{"$f":"'REPORTE PMI'!J1933","v":0},{"$f":"'REPORTE PMI'!G1933","v":0},null,null,null,{"$f":"'REPORTE PMI'!L1933","v":0},{"$f":"'REPORTE PMI'!M1933","v":0},0,null,null,0,null,null,"NO"]
[{"$f":"'REPORTE PMI'!B1934","v":0},{"$f":"'REPORTE PMI'!E1934","v":0},{"$f":"'REPORTE PMI'!J1934","v":0},{"$f":"'REPORTE PMI'!G1934","v":0},null,null,null,{"$f":"'REPORTE PMI'!L1934","v":0},{"$f":"'REPORTE PMI'!M1934","v":0},0,null,null,0,null,null,"NO"]
[{"$f":"'REPORTE PMI'!B1935","v":0},{"$f":"'REPORTE PMI'!E1935","v":0},{"$f":"'REPORTE PMI'!J1935","v":0},{"$f":"'REPORTE PMI'!G1935","v":0},null,null,null,{"$f":"'REPORTE PMI'!L1935","v":0},{"$f":"'REPORTE PMI'!M1935","v":0},0,null,null,0,null,null,"NO"]
[{"$f":"'REPORTE PMI'!B1936","v":0},{"$f":"'REPORTE PMI'!E1936","v":0},{"$f":"'REPORTE PMI'!J1936","v":0},{"$f":"'REPORTE PMI'!G1936","v":0},null,null,null,{"$f":"'REPORTE PMI'!L1936","v":0},{"$f":"'REPORTE PMI'!M1936","v":0},0,null,null,0,null,null,"NO"]
[{"$f":"'REPORTE PMI'!B1937","v":0},{"$f":"'REPORTE PMI'!E1937","v":0},{"$f":"'REPORTE PMI'!J1937","v":0},{"$f":"'REPORTE PMI'!G1937","v":0},null,null,null,{"$f":"'REPORTE PMI'!L1937","v":0},{"$f":"'REPORTE PMI'!M1937","v":0},0,null,null,0,null,null,"NO"]
[{"$f":"'REPORTE PMI'!B1938","v":0},{"$f":"'REPORTE PMI'!E1938","v":0},{"$f":"'REPORTE PMI'!J1938","v":0},{"$f":"'REPORTE PMI'!G1938","v":0},null,null,null,{"$f":"'REPORTE PMI'!L1938","v":0},{"$f":"'REPORTE PMI'!M1938","v":0},0,null,null,0,null,null,"NO"]
[{"$f":"'REPORTE PMI'!B1939","v":0},{"$f":"'REPORTE PMI'!E1939","v":0},{"$f":"'REPORTE PMI'!J1939","v":0},{"$f":"'REPORTE PMI'!G1939","v":0},null,null,null,{"$f":"'REPORTE PMI'!L1939","v":0},{"$f":"'REPORTE PMI'!M1939","v":0},0,null,null,0,null,null,"NO"]
[{"$f":"'REPORTE PMI'!B1940","v":0},{"$f":"'REPORTE PMI'!E1940","v":0},{"$f":"'REPORTE PMI'!J1940","v":0},{"$f":"'REPORTE PMI'!G1940","v":0},null,null,null,{"$f":"'REPORTE PMI'!L1940","v":0},{"$f":"'REPORTE PMI'!M1940","v":0},0,null,null,0,null,null,"NO"]
[{"$f":"'REPORTE PMI'!B1941","v":0},{"$f":"'REPORTE PMI'!E1941","v":0},{"$f":"'REPORTE PMI'!J1941","v":0},{"$f":"'REPORTE PMI'!G1941","v":0},null,null,null,{"$f":"'REPORTE PMI'!L1941","v":0},{"$f":"'REPORTE PMI'!M1941","v":0},0,null,null,0,null,null,"NO"]
[{"$f":"'REPORTE PMI'!B1942","v":0},{"$f":"'REPORTE PMI'!E1942","v":0},{"$f":"'REPORTE PMI'!J1942","v":0},{"$f":"'REPORTE PMI'!G1942","v":0},null,null,null,{"$f":"'REPORTE PMI'!L1942","v":0},{"$f":"'REPORTE PMI'!M1942","v":0},0,null,null,0,null,null,"NO"]
[{"$f":"'REPORTE PMI'!B1943","v":0},{"$f":"'REPORTE PMI'!E1943","v":0},{"$f":"'REPORTE PMI'!J1943","v":0},{"$f":"'REPORTE PMI'!G1943","v":0},null,null,null,{"$f":"'REPORTE PMI'!L1943","v":0},{"$f":"'REPORTE PMI'!M1943","v":0},0,null,null,0,null,null,"NO"]
[{"$f":"'REPORTE PMI'!B1944","v":0},{"$f":"'REPORTE PMI'!E1944","v":0},{"$f":"'REPORTE PMI'!J1944","v":0},{"$f":"'REPORTE PMI'!G1944","v":0},null,null,null,{"$f":"'REPORTE PMI'!L1944","v":0},{"$f":"'REPORTE PMI'!M1944","v":0},0,null,null,0,null,null,"NO"]
[{"$f":"'REPORTE PMI'!B1945","v":0},{"$f":"'REPORTE PMI'!E1945","v":0},{"$f":"'REPORTE PMI'!J1945","v":0},{"$f":"'REPORTE PMI'!G1945","v":0},null,null,null,{"$f":"'REPORTE PMI'!L1945","v":0},{"$f":"'REPORTE PMI'!M1945","v":0},0,null,null,0,null,null,"NO"]
[{"$f":"'REPORTE PMI'!B1946","v":0},{"$f":"'REPORTE PMI'!E1946","v":0},{"$f":"'REPORTE PMI'!J1946","v":0},{"$f":"'REPORTE PMI'!G1946","v":0},null,null,null,{"$f":"'REPORTE PMI'!L1946","v":0},{"$f":"'REPORTE PMI'!M1946","v":0},0,null,null,0,null,null,"NO"]
[{"$f":"'REPORTE PMI'!B1947","v":0},{"$f":"'REPORTE PMI'!E1947","v":0},{"$f":"'REPORTE PMI'!J1947","v":0},{"$f":"'REPORTE PMI'!G1947","v":0},null,null,null,{"$f":"'REPORTE PMI'!L1947","v":0},{"$f":"'REPORTE PMI'!M1947","v":0},0,null,null,0,null,null,"NO"]
[{"$f":"'REPORTE PMI'!B1948","v":0},{"$f":"'REPORTE PMI'!E1948","v":0},{"$f":"'REPORTE PMI'!J1948","v":0},{"$f":"'REPORTE PMI'!G1948","v":0},null,null,null,{"$f":"'REPORTE PMI'!L1948","v":0},{"$f":"'REPORTE PMI'!M1948","v":0},0,null,null,0,null,null,"NO"]
[{"$f":"'REPORTE PMI'!B1949","v":0},{"$f":"'REPORTE PMI'!E1949","v":0},{"$f":"'REPORTE PMI'!J1949","v":0},{"$f":"'REPORTE PMI'!G1949","v":0},null,null,null,{"$f":"'REPORTE PMI'!L1949","v":0},{"$f":"'REPORTE PMI'!M1949","v":0},0,null,null,0,null,null,"NO"]
[{"$f":"'REPORTE PMI'!B1950","v":0},{"$f":"'REPORTE PMI'!E1950","v":0},{"$f":"'REPORTE PMI'!J1950","v":0},{"$f":"'REPORTE PMI'!G1950","v":0},null,null,null,{"$f":"'REPORTE PMI'!L1950","v":0},{"$f":"'REPORTE PMI'!M1950","v":0},0,null,null,0,null,null,"NO"]
[{"$f":"'REPORTE PMI'!B1951","v":0},{"$f":"'REPORTE PMI'!E1951","v":0},{"$f":"'REPORTE PMI'!J1951","v":0},{"$f":"'REPORTE PMI'!G1951","v":0},null,null,null,{"$f":"'REPORTE PMI'!L1951","v":0},{"$f":"'REPORTE PMI'!M1951","v":0},0,null,null,0,null,null,"NO"]
[{"$f":"'REPORTE PMI'!B1952","v":0},{"$f":"'REPORTE PMI'!E1952","v":0},{"$f":"'REPORTE PMI'!J1952","v":0},{"$f":"'REPORTE PMI'!G1952","v":0},null,null,null,{"$f":"'REPORTE PMI'!L1952","v":0},{"$f":"'REPORTE PMI'!M1952","v":0},0,null,null,0,null,null,"NO"]
[{"$f":"'REPORTE PMI'!B1953","v":0},{"$f":"'REPORTE PMI'!E1953","v":0},{"$f":"'REPORTE PMI'!J1953","v":0},{"$f":"'REPORTE PMI'!G1953","v":0},null,null,null,{"$f":"'REPORTE PMI'!L1953","v":0},{"$f":"'REPORTE PMI'!M1953","v":0},0,null,null,0,null,null,"NO"]
[{"$f":"'REPORTE PMI'!B1954","v":0},{"$f":"'REPORTE PMI'!E1954","v":0},{"$f":"'REPORTE PMI'!J1954","v":0},{"$f":"'REPORTE PMI'!G1954","v":0},null,null,null,{"$f":"'REPORTE PMI'!L1954","v":0},{"$f":"'REPORTE PMI'!M1954","v":0},0,null,null,0,null,null,"NO"]
[{"$f":"'REPORTE PMI'!B1955","v":0},{"$f":"'REPORTE PMI'!E1955","v":0},{"$f":"'REPORTE PMI'!J1955","v":0},{"$f":"'REPORTE PMI'!G1955","v":0},null,null,null,{"$f":"'REPORTE PMI'!L1955","v":0},{"$f":"'REPORTE PMI'!M1955","v":0},0,null,null,0,null,null,"NO"]
[{"$f":"'REPORTE PMI'!B1956","v":0},{"$f":"'REPORTE PMI'!E1956","v":0},{"$f":"'REPORTE PMI'!J1956","v":0},{"$f":"'REPORTE PMI'!G1956","v":0},null,null,null,{"$f":"'REPORTE PMI'!L1956","v":0},{"$f":"'REPORTE PMI'!M1956","v":0},0,null,null,0,null,null,"NO"]
[{"$f":"'REPORTE PMI'!B1957","v":0},{"$f":"'REPORTE PMI'!E1957","v":0},{"$f":"'REPORTE PMI'!J1957","v":0},{"$f":"'REPORTE PMI'!G1957","v":0},null,null,null,{"$f":"'REPORTE PMI'!L1957","v":0},{"$f":"'REPORTE PMI'!M1957","v":0},0,null,null,0,null,null,"NO"]
[{"$f":"'REPORTE PMI'!B1958","v":0},{"$f":"'REPORTE PMI'!E1958","v":0},{"$f":"'REPORTE PMI'!J1958","v":0},{"$f":"'REPORTE PMI'!G1958","v":0},null,null,null,{"$f":"'REPORTE PMI'!L1958","v":0},{"$f":"'REPORTE PMI'!M1958","v":0},0,null,null,0,null,null,"NO"]
[{"$f":"'REPORTE PMI'!B1959","v":0},{"$f":"'REPORTE PMI'!E1959","v":0},{"$f":"'REPORTE PMI'!J1959","v":0},{"$f":"'REPORTE PMI'!G1959","v":0},null,null,null,{"$f":"'REPORTE PMI'!L1959","v":0},{"$f":"'REPORTE PMI'!M1959","v":0},0,null,null,0,null,null,"NO"]
[{"$f":"'REPORTE PMI'!B1960","v":0},{"$f":"'REPORTE PMI'!E1960","v":0},{"$f":"'REPORTE PMI'!J1960","v":0},{"$f":"'REPORTE PMI'!G1960","v":0},null,null,null,{"$f":"'REPORTE PMI'!L1960","v":0},{"$f":"'REPORTE PMI'!M1960","v":0},0,null,null,0,null,null,"NO"]
[{"$f":"'REPORTE PMI'!B1961","v":0},{"$f":"'REPORTE PMI'!E1961","v":0},{"$f":"'REPORTE PMI'!J1961","v":0},{"$f":"'REPORTE PMI'!G1961","v":0},null,null,null,{"$f":"'REPORTE PMI'!L1961","v":0},{"$f":"'REPORTE PMI'!M1961","v":0},0,null,null,0,null,null,"NO"]
[{"$f":"'REPORTE PMI'!B1962","v":0},{"$f":"'REPORTE PMI'!E1962","v":0},{"$f":"'REPORTE PMI'!J1962","v":0},{"$f":"'REPORTE PMI'!G1962","v":0},null,null,null,{"$f":"'REPORTE PMI'!L1962","v":0},{"$f":"'REPORTE PMI'!M1962","v":0},0,null,null,0,null,null,"NO"]
[{"$f":"'REPORTE PMI'!B1963","v":0},{"$f":"'REPORTE PMI'!E1963","v":0},{"$f":"'REPORTE PMI'!J1963","v":0},{"$f":"'REPORTE PMI'!G1963","v":0},null,null,null,{"$f":"'REPORTE PMI'!L1963","v":0},{"$f":"'REPORTE PMI'!M1963","v":0},0,null,null,0,null,null,"NO"]
[{"$f":"'REPORTE PMI'!B1964","v":0},{"$f":"'REPORTE PMI'!E1964","v":0},{"$f":"'REPORTE PMI'!J1964","v":0},{"$f":"'REPORTE PMI'!G1964","v":0},null,null,null,{"$f":"'REPORTE PMI'!L1964","v":0},{"$f":"'REPORTE PMI'!M1964","v":0},0,null,null,0,null,null,"NO"]
[{"$f":"'REPORTE PMI'!B1965","v":0},{"$f":"'REPORTE PMI'!E1965","v":0},{"$f":"'REPORTE PMI'!J1965","v":0},{"$f":"'REPORTE PMI'!G1965","v":0},null,null,null,{"$f":"'REPORTE PMI'!L1965","v":0},{"$f":"'REPORTE PMI'!M1965","v":0},0,null,null,0,null,null,"NO"]
[{"$f":"'REPORTE PMI'!B1966","v":0},{"$f":"'REPORTE PMI'!E1966","v":0},{"$f":"'REPORTE PMI'!J1966","v":0},{"$f":"'REPORTE PMI'!G1966","v":0},null,null,null,{"$f":"'REPORTE PMI'!L1966","v":0},{"$f":"'REPORTE PMI'!M1966","v":0},0,null,null,0,null,null,"NO"]
[{"$f":"'REPORTE PMI'!B1967","v":0},{"$f":"'REPORTE PMI'!E1967","v":0},{"$f":"'REPORTE PMI'!J1967","v":0},{"$f":"'REPORTE PMI'!G1967","v":0},null,null,null,{"$f":"'REPORTE PMI'!L1967","v":0},{"$f":"'REPORTE PMI'!M1967","v":0},0,null,null,0,null,null,"NO"]
[{"$f":"'REPORTE PMI'!B1968","v":0},{"$f":"'REPORTE PMI'!E1968","v":0},{"$f":"'REPORTE PMI'!J1968","v":0},{"$f":"'REPORTE PMI'!G1968","v":0},null,null,null,{"$f":"'REPORTE PMI'!L1968","v":0},{"$f":"'REPORTE PMI'!M1968","v":0},0,null,null,0,null,null,"NO"]
[{"$f":"'REPORTE PMI'!B1969","v":0},{"$f":"'REPORTE PMI'!E1969","v":0},{"$f":"'REPORTE PMI'!J1969","v":0},{"$f":"'REPORTE PMI'!G1969","v":0},null,null,null,{"$f":"'REPORTE PMI'!L1969","v":0},{"$f":"'REPORTE PMI'!M1969","v":0},0,null,null,0,null,null,"NO"]
[{"$f":"'REPORTE PMI'!B1970","v":0},{"$f":"'REPORTE PMI'!E1970","v":0},{"$f":"'REPORTE PMI'!J1970","v":0},{"$f":"'REPORTE PMI'!G1970","v":0},null,null,null,{"$f":"'REPORTE PMI'!L1970","v":0},{"$f":"'REPORTE PMI'!M1970","v":0},0,null,null,0,null,null,"NO"]
[{"$f":"'REPORTE PMI'!B1971","v":0},{"$f":"'REPORTE PMI'!E1971","v":0},{"$f":"'REPORTE PMI'!J1971","v":0},{"$f":"'REPORTE PMI'!G1971","v":0},null,null,null,{"$f":"'REPORTE PMI'!L1971","v":0},{"$f":"'REPORTE PMI'!M1971","v":0},0,null,null,0,null,null,"NO"]
[{"$f":"'REPORTE PMI'!B1972","v":0},{"$f":"'REPORTE PMI'!E1972","v":0},{"$f":"'REPORTE PMI'!J1972","v":0},{"$f":"'REPORTE PMI'!G1972","v":0},null,null,null,{"$f":"'REPORTE PMI'!L1972","v":0},{"$f":"'REPORTE PMI'!M1972","v":0},0,null,null,0,null,null,"NO"]
[{"$f":"'REPORTE PMI'!B1973","v":0},{"$f":"'REPORTE PMI'!E1973","v":0},{"$f":"'REPORTE PMI'!J1973","v":0},{"$f":"'REPORTE PMI'!G1973","v":0},null,null,null,{"$f":"'REPORTE PMI'!L1973","v":0},{"$f":"'REPORTE PMI'!M1973","v":0},0,null,null,0,null,null,"NO"]
[{"$f":"'REPORTE PMI'!B1974","v":0},{"$f":"'REPORTE PMI'!E1974","v":0},{"$f":"'REPORTE PMI'!J1974","v":0},{"$f":"'REPORTE PMI'!G1974","v":0},null,null,null,{"$f":"'REPORTE PMI'!L1974","v":0},{"$f":"'REPORTE PMI'!M1974","v":0},0,null,null,0,null,null,"NO"]
[{"$f":"'REPORTE PMI'!B1975","v":0},{"$f":"'REPORTE PMI'!E1975","v":0},{"$f":"'REPORTE PMI'!J1975","v":0},{"$f":"'REPORTE PMI'!G1975","v":0},null,null,null,{"$f":"'REPORTE PMI'!L1975","v":0},{"$f":"'REPORTE PMI'!M1975","v":0},0,null,null,0,null,null,"NO"]
[{"$f":"'REPORTE PMI'!B1976","v":0},{"$f":"'REPORTE PMI'!E1976","v":0},{"$f":"'REPORTE PMI'!J1976","v":0},{"$f":"'REPORTE PMI'!G1976","v":0},null,null,null,{"$f":"'REPORTE PMI'!L1976","v":0},{"$f":"'REPORTE PMI'!M1976","v":0},0,null,null,0,null,null,"NO"]
[{"$f":"'REPORTE PMI'!B1977","v":0},{"$f":"'REPORTE PMI'!E1977","v":0},{"$f":"'REPORTE PMI'!J1977","v":0},{"$f":"'REPORTE PMI'!G1977","v":0},null,null,null,{"$f":"'REPORTE PMI'!L1977","v":0},{"$f":"'REPORTE PMI'!M1977","v":0},0,null,null,0,null,null,"NO"]
[{"$f":"'REPORTE PMI'!B1978","v":0},{"$f":"'REPORTE PMI'!E1978","v":0},{"$f":"'REPORTE PMI'!J1978","v":0},{"$f":"'REPORTE PMI'!G1978","v":0},null,null,null,{"$f":"'REPORTE PMI'!L1978","v":0},{"$f":"'REPORTE PMI'!M1978","v":0},0,null,null,0,null,null,"NO"]
[{"$f":"'REPORTE PMI'!B1979","v":0},{"$f":"'REPORTE PMI'!E1979","v":0},{"$f":"'REPORTE PMI'!J1979","v":0},{"$f":"'REPORTE PMI'!G1979","v":0},null,null,null,{"$f":"'REPORTE PMI'!L1979","v":0},{"$f":"'REPORTE PMI'!M1979","v":0},0,null,null,0,null,null,"NO"]
[{"$f":"'REPORTE PMI'!B1980","v":0},{"$f":"'REPORTE PMI'!E1980","v":0},{"$f":"'REPORTE PMI'!J1980","v":0},{"$f":"'REPORTE PMI'!G1980","v":0},null,null,null,{"$f":"'REPORTE PMI'!L1980","v":0},{"$f":"'REPORTE PMI'!M1980","v":0},0,null,null,0,null,null,"NO"]
[{"$f":"'REPORTE PMI'!B1981","v":0},{"$f":"'REPORTE PMI'!E1981","v":0},{"$f":"'REPORTE PMI'!J1981","v":0},{"$f":"'REPORTE PMI'!G1981","v":0},null,null,null,{"$f":"'REPORTE PMI'!L1981","v":0},{"$f":"'REPORTE PMI'!M1981","v":0},0,null,null,0,null,null,"NO"]
[{"$f":"'REPORTE PMI'!B1982","v":0},{"$f":"'REPORTE PMI'!E1982","v":0},{"$f":"'REPORTE PMI'!J1982","v":0},{"$f":"'REPORTE PMI'!G1982","v":0},null,null,null,{"$f":"'REPORTE PMI'!L1982","v":0},{"$f":"'REPORTE PMI'!M1982","v":0},0,null,null,0,null,null,"NO"]
[{"$f":"'REPORTE PMI'!B1983","v":0},{"$f":"'REPORTE PMI'!E1983","v":0},{"$f":"'REPORTE PMI'!J1983","v":0},{"$f":"'REPORTE PMI'!G1983","v":0},null,null,null,{"$f":"'REPORTE PMI'!L1983","v":0},{"$f":"'REPORTE PMI'!M1983","v":0},0,null,null,0,null,null,"NO"]
[{"$f":"'REPORTE PMI'!B1984","v":0},{"$f":"'REPORTE PMI'!E1984","v":0},{"$f":"'REPORTE PMI'!J1984","v":0},{"$f":"'REPORTE PMI'!G1984","v":0},null,null,null,{"$f":"'REPORTE PMI'!L1984","v":0},{"$f":"'REPORTE PMI'!M1984","v":0},0,null,null,0,null,null,"NO"]
[{"$f":"'REPORTE PMI'!B1985","v":0},{"$f":"'REPORTE PMI'!E1985","v":0},{"$f":"'REPORTE PMI'!J1985","v":0},{"$f":"'REPORTE PMI'!G1985","v":0},null,null,null,{"$f":"'REPORTE PMI'!L1985","v":0},{"$f":"'REPORTE PMI'!M1985","v":0},0,null,null,0,null,null,"NO"]
[{"$f":"'REPORTE PMI'!B1986","v":0},{"$f":"'REPORTE PMI'!E1986","v":0},{"$f":"'REPORTE PMI'!J1986","v":0},{"$f":"'REPORTE PMI'!G1986","v":0},null,null,null,{"$f":"'REPORTE PMI'!L1986","v":0},{"$f":"'REPORTE PMI'!M1986","v":0},0,null,null,0,null,null,"NO"]
[{"$f":"'REPORTE PMI'!B1987","v":0},{"$f":"'REPORTE PMI'!E1987","v":0},{"$f":"'REPORTE PMI'!J1987","v":0},{"$f":"'REPORTE PMI'!G1987","v":0},null,null,null,{"$f":"'REPORTE PMI'!L1987","v":0},{"$f":"'REPORTE PMI'!M1987","v":0},0,null,null,0,null,null,"NO"]
[{"$f":"'REPORTE PMI'!B1988","v":0},{"$f":"'REPORTE PMI'!E1988","v":0},{"$f":"'REPORTE PMI'!J1988","v":0},{"$f":"'REPORTE PMI'!G1988","v":0},null,null,null,{"$f":"'REPORTE PMI'!L1988","v":0},{"$f":"'REPORTE PMI'!M1988","v":0},{"$f":"IFERROR(I1997/H1997, 0)","v":0},null,null,{"$f":"H1997-I1997","v":0},null,null,{"$f":"IF(E1997=\"SI\",IF(J1997>0%,IF(K1997=\"SI\",IF(L1997=\"NO\",IF(N1997=\"SI\",IF(O1997=\"NO\",\"SI\",\"NO\"),\"NO\"),\"NO\"),\"NO\"),\"NO\"),\"NO\")","v":"NO"}]
[{"$f":"'REPORTE PMI'!B1989","v":0},{"$f":"'REPORTE PMI'!E1989","v":0},{"$f":"'REPORTE PMI'!J1989","v":0},{"$f":"'REPORTE PMI'!G1989","v":0},null,null,null,{"$f":"'REPORTE PMI'!L1989","v":0},{"$f":"'REPORTE PMI'!M1989","v":0},0,null,null,0,null,null,"NO"]
[{"$f":"'REPORTE PMI'!B1990","v":0},{"$f":"'REPORTE PMI'!E1990","v":0},{"$f":"'REPORTE PMI'!J1990","v":0},{"$f":"'REPORTE PMI'!G1990","v":0},null,null,null,{"$f":"'REPORTE PMI'!L1990","v":0},{"$f":"'REPORTE PMI'!M1990","v":0},0,null,null,0,null,null,"NO"]
[{"$f":"'REPORTE PMI'!B1991","v":0},{"$f":"'REPORTE PMI'!E1991","v":0},{"$f":"'REPORTE PMI'!J1991","v":0},{"$f":"'REPORTE PMI'!G1991","v":0},null,null,null,{"$f":"'REPORTE PMI'!L1991","v":0},{"$f":"'REPORTE PMI'!M1991","v":0},0,null,null,0,null,null,"NO"]
[{"$f":"'REPORTE PMI'!B1992","v":0},{"$f":"'REPORTE PMI'!E1992","v":0},{"$f":"'REPORTE PMI'!J1992","v":0},{"$f":"'REPORTE PMI'!G1992","v":0},null,null,null,{"$f":"'REPORTE PMI'!L1992","v":0},{"$f":"'REPORTE PMI'!M1992","v":0},0,null,null,0,null,null,"NO"]
[{"$f":"'REPORTE PMI'!B1993","v":0},{"$f":"'REPORTE PMI'!E1993","v":0},{"$f":"'REPORTE PMI'!J1993","v":0},{"$f":"'REPORTE PMI'!G1993","v":0},null,null,null,{"$f":"'REPORTE PMI'!L1993","v":0},{"$f":"'REPORTE PMI'!M1993","v":0},0,null,null,0,null,null,"NO"]
[{"$f":"'REPORTE PMI'!B1994","v":0},{"$f":"'REPORTE PMI'!E1994","v":0},{"$f":"'REPORTE PMI'!J1994","v":0},{"$f":"'REPORTE PMI'!G1994","v":0},null,null,null,{"$f":"'REPORTE PMI'!L1994","v":0},{"$f":"'REPORTE PMI'!M1994","v":0},0,null,null,0,null,null,"NO"]
[{"$f":"'REPORTE PMI'!B1995","v":0},{"$f":"'REPORTE PMI'!E1995","v":0},{"$f":"'REPORTE PMI'!J1995","v":0},{"$f":"'REPORTE PMI'!G1995","v":0},null,null,null,{"$f":"'REPORTE PMI'!L1995","v":0},{"$f":"'REPORTE PMI'!M1995","v":0},0,null,null,0,null,null,"NO"]
[{"$f":"'REPORTE PMI'!B1996","v":0},{"$f":"'REPORTE PMI'!E1996","v":0},{"$f":"'REPORTE PMI'!J1996","v":0},{"$f":"'REPORTE PMI'!G1996","v":0},null,null,null,{"$f":"'REPORTE PMI'!L1996","v":0},{"$f":"'REPORTE PMI'!M1996","v":0},0,null,null,0,null,null,"NO"]
[{"$f":"'REPORTE PMI'!B1997","v":0},{"$f":"'REPORTE PMI'!E1997","v":0},{"$f":"'REPORTE PMI'!J1997","v":0},{"$f":"'REPORTE PMI'!G1997","v":0},null,null,null,{"$f":"'REPORTE PMI'!L1997","v":0},{"$f":"'REPORTE PMI'!M1997","v":0},0,null,null,0,null,null,"NO"]
[{"$f":"'REPORTE PMI'!B1998","v":0},{"$f":"'REPORTE PMI'!E1998","v":0},{"$f":"'REPORTE PMI'!J1998","v":0},{"$f":"'REPORTE PMI'!G1998","v":0},null,null,null,{"$f":"'REPORTE PMI'!L1998","v":0},{"$f":"'REPORTE PMI'!M1998","v":0},0,null,null,0,null,null,"NO"]
[{"$f":"'REPORTE PMI'!B1999","v":0},{"$f":"'REPORTE PMI'!E1999","v":0},{"$f":"'REPORTE PMI'!J1999","v":0},{"$f":"'REPORTE PMI'!G1999","v":0},null,null,null,{"$f":"'REPORTE PMI'!L1999","v":0},{"$f":"'REPORTE PMI'!M1999","v":0},0,null,null,0,null,null,"NO"]
[{"$f":"'REPORTE PMI'!B2000","v":0},{"$f":"'REPORTE PMI'!E2000","v":0},{"$f":"'REPORTE PMI'!J2000","v":0},{"$f":"'REPORTE PMI'!G2000","v":0},null,null,null,{"$f":"'REPORTE PMI'!L2000","v":0},{"$f":"'REPORTE PMI'!M2000","v":0},0,null,null,0,null,null,"NO"]
[{"$f":"'REPORTE PMI'!B2001","v":0},{"$f":"'REPORTE PMI'!E2001","v":0},{"$f":"'REPORTE PMI'!J2001","v":0},{"$f":"'REPORTE PMI'!G2001","v":0},null,null,null,{"$f":"'REPORTE PMI'!L2001","v":0},{"$f":"'REPORTE PMI'!M2001","v":0},0,null,null,0,null,null,"NO"]
[{"$f":"'REPORTE PMI'!B2002","v":0},{"$f":"'REPORTE PMI'!E2002","v":0},{"$f":"'REPORTE PMI'!J2002","v":0},{"$f":"'REPORTE PMI'!G2002","v":0},null,null,null,{"$f":"'REPORTE PMI'!L2002","v":0},{"$f":"'REPORTE PMI'!M2002","v":0},0,null,null,0,null,null,"NO"]
[{"$f":"'REPORTE PMI'!B2003","v":0},{"$f":"'REPORTE PMI'!E2003","v":0},{"$f":"'REPORTE PMI'!J2003","v":0},{"$f":"'REPORTE PMI'!G2003","v":0},null,null,null,{"$f":"'REPORTE PMI'!L2003","v":0},{"$f":"'REPORTE PMI'!M2003","v":0},0,null,null,0,null,null,"NO"]
[{"$f":"'REPORTE PMI'!B2004","v":0},{"$f":"'REPORTE PMI'!E2004","v":0},{"$f":"'REPORTE PMI'!J2004","v":0},{"$f":"'REPORTE PMI'!G2004","v":0},null,null,null,{"$f":"'REPORTE PMI'!L2004","v":0},{"$f":"'REPORTE PMI'!M2004","v":0},0,null,null,0,null,null,"NO"]
[{"$f":"'REPORTE PMI'!B2005","v":0},{"$f":"'REPORTE PMI'!E2005","v":0},{"$f":"'REPORTE PMI'!J2005","v":0},{"$f":"'REPORTE PMI'!G2005","v":0},null,null,null,{"$f":"'REPORTE PMI'!L2005","v":0},{"$f":"'REPORTE PMI'!M2005","v":0},0,null,null,0,null,null,"NO"]
[{"$f":"'REPORTE PMI'!B2006","v":0},{"$f":"'REPORTE PMI'!E2006","v":0},{"$f":"'REPORTE PMI'!J2006","v":0},{"$f":"'REPORTE PMI'!G2006","v":0},null,null,null,{"$f":"'REPORTE PMI'!L2006","v":0},{"$f":"'REPORTE PMI'!M2006","v":0},0,null,null,0,null,null,"NO"]
[{"$f":"'REPORTE PMI'!B2007","v":0},{"$f":"'REPORTE PMI'!E2007","v":0},{"$f":"'REPORTE PMI'!J2007","v":0},{"$f":"'REPORTE PMI'!G2007","v":0},null,null,null,{"$f":"'REPORTE PMI'!L2007","v":0},{"$f":"'REPORTE PMI'!M2007","v":0},0,null,null,0,null,null,"NO"]
[{"$f":"'REPORTE PMI'!B2008","v":0},{"$f":"'REPORTE PMI'!E2008","v":0},{"$f":"'REPORTE PMI'!J2008","v":0},{"$f":"'REPORTE PMI'!G2008","v":0},null,null,null,{"$f":"'REPORTE PMI'!L2008","v":0},{"$f":"'REPORTE PMI'!M2008","v":0},0,null,null,0,null,null,"NO"]
[{"$f":"'REPORTE PMI'!B2009","v":0},{"$f":"'REPORTE PMI'!E2009","v":0},{"$f":"'REPORTE PMI'!J2009","v":0},{"$f":"'REPORTE PMI'!G2009","v":0},null,null,null,{"$f":"'REPORTE PMI'!L2009","v":0},{"$f":"'REPORTE PMI'!M2009","v":0},0,null,null,0,null,null,"NO"]
[{"$f":"'REPORTE PMI'!B2010","v":0},{"$f":"'REPORTE PMI'!E2010","v":0},{"$f":"'REPORTE PMI'!J2010","v":0},{"$f":"'REPORTE PMI'!G2010","v":0},null,null,null,{"$f":"'REPORTE PMI'!L2010","v":0},{"$f":"'REPORTE PMI'!M2010","v":0},0,null,null,0,null,null,"NO"]
[{"$f":"'REPORTE PMI'!B2011","v":0},{"$f":"'REPORTE PMI'!E2011","v":0},{"$f":"'REPORTE PMI'!J2011","v":0},{"$f":"'REPORTE PMI'!G2011","v":0},null,null,null,{"$f":"'REPORTE PMI'!L2011","v":0},{"$f":"'REPORTE PMI'!M2011","v":0},0,null,null,0,null,null,"NO"]
[{"$f":"'REPORTE PMI'!B2012","v":0},{"$f":"'REPORTE PMI'!E2012","v":0},{"$f":"'REPORTE PMI'!J2012","v":0},{"$f":"'REPORTE PMI'!G2012","v":0},null,null,null,{"$f":"'REPORTE PMI'!L2012","v":0},{"$f":"'REPORTE PMI'!M2012","v":0},0,null,null,0,null,null,"NO"]
[{"$f":"'REPORTE PMI'!B2013","v":0},{"$f":"'REPORTE PMI'!E2013","v":0},{"$f":"'REPORTE PMI'!J2013","v":0},{"$f":"'REPORTE PMI'!G2013","v":0},null,null,null,{"$f":"'REPORTE PMI'!L2013","v":0},{"$f":"'REPORTE PMI'!M2013","v":0},0,null,null,0,null,null,"NO"]
[{"$f":"'REPORTE PMI'!B2014","v":0},{"$f":"'REPORTE PMI'!E2014","v":0},{"$f":"'REPORTE PMI'!J2014","v":0},{"$f":"'REPORTE PMI'!G2014","v":0},null,null,null,{"$f":"'REPORTE PMI'!L2014","v":0},{"$f":"'REPORTE PMI'!M2014","v":0},0,null,null,0,null,null,"NO"]
[{"$f":"'REPORTE PMI'!B2015","v":0},{"$f":"'REPORTE PMI'!E2015","v":0},{"$f":"'REPORTE PMI'!J2015","v":0},{"$f":"'REPORTE PMI'!G2015","v":0},null,null,null,{"$f":"'REPORTE PMI'!L2015","v":0},{"$f":"'REPORTE PMI'!M2015","v":0},0,null,null,0,null,null,"NO"]
[{"$f":"'REPORTE PMI'!B2016","v":0},{"$f":"'REPORTE PMI'!E2016","v":0},{"$f":"'REPORTE PMI'!J2016","v":0},{"$f":"'REPORTE PMI'!G2016","v":0},null,null,null,{"$f":"'REPORTE PMI'!L2016","v":0},{"$f":"'REPORTE PMI'!M2016","v":0},0,null,null,0,null,null,"NO"]
[{"$f":"'REPORTE PMI'!B2017","v":0},{"$f":"'REPORTE PMI'!E2017","v":0},{"$f":"'REPORTE PMI'!J2017","v":0},{"$f":"'REPORTE PMI'!G2017","v":0},null,null,null,{"$f":"'REPORTE PMI'!L2017","v":0},{"$f":"'REPORTE PMI'!M2017","v":0},0,null,null,0,null,null,"NO"]
[{"$f":"'REPORTE PMI'!B2018","v":0},{"$f":"'REPORTE PMI'!E2018","v":0},{"$f":"'REPORTE PMI'!J2018","v":0},{"$f":"'REPORTE PMI'!G2018","v":0},null,null,null,{"$f":"'REPORTE PMI'!L2018","v":0},{"$f":"'REPORTE PMI'!M2018","v":0},0,null,null,0,null,null,"NO"]
[{"$f":"'REPORTE PMI'!B2019","v":0},{"$f":"'REPORTE PMI'!E2019","v":0},{"$f":"'REPORTE PMI'!J2019","v":0},{"$f":"'REPORTE PMI'!G2019","v":0},null,null,null,{"$f":"'REPORTE PMI'!L2019","v":0},{"$f":"'REPORTE PMI'!M2019","v":0},0,null,null,0,null,null,"NO"]
[{"$f":"'REPORTE PMI'!B2020","v":0},{"$f":"'REPORTE PMI'!E2020","v":0},{"$f":"'REPORTE PMI'!J2020","v":0},{"$f":"'REPORTE PMI'!G2020","v":0},null,null,null,{"$f":"'REPORTE PMI'!L2020","v":0},{"$f":"'REPORTE PMI'!M2020","v":0},0,null,null,0,null,null,"NO"]
[{"$f":"'REPORTE PMI'!B2021","v":0},{"$f":"'REPORTE PMI'!E2021","v":0},{"$f":"'REPORTE PMI'!J2021","v":0},{"$f":"'REPORTE PMI'!G2021","v":0},null,null,null,{"$f":"'REPORTE PMI'!L2021","v":0},{"$f":"'REPORTE PMI'!M2021","v":0},0,null,null,0,null,null,"NO"]
[{"$f":"'REPORTE PMI'!B2022","v":0},{"$f":"'REPORTE PMI'!E2022","v":0},{"$f":"'REPORTE PMI'!J2022","v":0},{"$f":"'REPORTE PMI'!G2022","v":0},null,null,null,{"$f":"'REPORTE PMI'!L2022","v":0},{"$f":"'REPORTE PMI'!M2022","v":0},0,null,null,0,null,null,"NO"]
[{"$f":"'REPORTE PMI'!B2023","v":0},{"$f":"'REPORTE PMI'!E2023","v":0},{"$f":"'REPORTE PMI'!J2023","v":0},{"$f":"'REPORTE PMI'!G2023","v":0},null,null,null,{"$f":"'REPORTE PMI'!L2023","v":0},{"$f":"'REPORTE PMI'!M2023","v":0},0,null,null,0,null,null,"NO"]
[{"$f":"'REPORTE PMI'!B2024","v":0},{"$f":"'REPORTE PMI'!E2024","v":0},{"$f":"'REPORTE PMI'!J2024","v":0},{"$f":"'REPORTE PMI'!G2024","v":0},null,null,null,{"$f":"'REPORTE PMI'!L2024","v":0},{"$f":"'REPORTE PMI'!M2024","v":0},0,null,null,0,null,null,"NO"]
[{"$f":"'REPORTE PMI'!B2025","v":0},{"$f":"'REPORTE PMI'!E2025","v":0},{"$f":"'REPORTE PMI'!J2025","v":0},{"$f":"'REPORTE PMI'!G2025","v":0},null,null,null,{"$f":"'REPORTE PMI'!L2025","v":0},{"$f":"'REPORTE PMI'!M2025","v":0},0,null,null,0,null,null,"NO"]
[{"$f":"'REPORTE PMI'!B2026","v":0},{"$f":"'REPORTE PMI'!E2026","v":0},{"$f":"'REPORTE PMI'!J2026","v":0},{"$f":"'REPORTE PMI'!G2026","v":0},null,null,null,{"$f":"'REPORTE PMI'!L2026","v":0},{"$f":"'REPORTE PMI'!M2026","v":0},0,null,null,0,null,null,"NO"]
[{"$f":"'REPORTE PMI'!B2027","v":0},{"$f":"'REPORTE PMI'!E2027","v":0},{"$f":"'REPORTE PMI'!J2027","v":0},{"$f":"'REPORTE PMI'!G2027","v":0},null,null,null,{"$f":"'REPORTE PMI'!L2027","v":0},{"$f":"'REPORTE PMI'!M2027","v":0},0,null,null,0,null,null,"NO"]
[{"$f":"'REPORTE PMI'!B2028","v":0},{"$f":"'REPORTE PMI'!E2028","v":0},{"$f":"'REPORTE PMI'!J2028","v":0},{"$f":"'REPORTE PMI'!G2028","v":0},null,null,null,{"$f":"'REPORTE PMI'!L2028","v":0},{"$f":"'REPORTE PMI'!M2028","v":0},0,null,null,0,null,null,"NO"]
[{"$f":"'REPORTE PMI'!B2029","v":0},{"$f":"'REPORTE PMI'!E2029","v":0},{"$f":"'REPORTE PMI'!J2029","v":0},{"$f":"'REPORTE PMI'!G2029","v":0},null,null,null,{"$f":"'REPORTE PMI'!L2029","v":0},{"$f":"'REPORTE PMI'!M2029","v":0},0,null,null,0,null,null,"NO"]
[{"$f":"'REPORTE PMI'!B2030","v":0},{"$f":"'REPORTE PMI'!E2030","v":0},{"$f":"'REPORTE PMI'!J2030","v":0},{"$f":"'REPORTE PMI'!G2030","v":0},null,null,null,{"$f":"'REPORTE PMI'!L2030","v":0},{"$f":"'REPORTE PMI'!M2030","v":0},0,null,null,0,null,null,"NO"]
[{"$f":"'REPORTE PMI'!B2031","v":0},{"$f":"'REPORTE PMI'!E2031","v":0},{"$f":"'REPORTE PMI'!J2031","v":0},{"$f":"'REPORTE PMI'!G2031","v":0},null,null,null,{"$f":"'REPORTE PMI'!L2031","v":0},{"$f":"'REPORTE PMI'!M2031","v":0},0,null,null,0,null,null,"NO"]
[{"$f":"'REPORTE PMI'!B2032","v":0},{"$f":"'REPORTE PMI'!E2032","v":0},{"$f":"'REPORTE PMI'!J2032","v":0},{"$f":"'REPORTE PMI'!G2032","v":0},null,null,null,{"$f":"'REPORTE PMI'!L2032","v":0},{"$f":"'REPORTE PMI'!M2032","v":0},0,null,null,0,null,null,"NO"]
[{"$f":"'REPORTE PMI'!B2033","v":0},{"$f":"'REPORTE PMI'!E2033","v":0},{"$f":"'REPORTE PMI'!J2033","v":0},{"$f":"'REPORTE PMI'!G2033","v":0},null,null,null,{"$f":"'REPORTE PMI'!L2033","v":0},{"$f":"'REPORTE PMI'!M2033","v":0},0,null,null,0,null,null,"NO"]
[{"$f":"'REPORTE PMI'!B2034","v":0},{"$f":"'REPORTE PMI'!E2034","v":0},{"$f":"'REPORTE PMI'!J2034","v":0},{"$f":"'REPORTE PMI'!G2034","v":0},null,null,null,{"$f":"'REPORTE PMI'!L2034","v":0},{"$f":"'REPORTE PMI'!M2034","v":0},0,null,null,0,null,null,"NO"]
[{"$f":"'REPORTE PMI'!B2035","v":0},{"$f":"'REPORTE PMI'!E2035","v":0},{"$f":"'REPORTE PMI'!J2035","v":0},{"$f":"'REPORTE PMI'!G2035","v":0},null,null,null,{"$f":"'REPORTE PMI'!L2035","v":0},{"$f":"'REPORTE PMI'!M2035","v":0},0,null,null,0,null,null,"NO"]
[{"$f":"'REPORTE PMI'!B2036","v":0},{"$f":"'REPORTE PMI'!E2036","v":0},{"$f":"'REPORTE PMI'!J2036","v":0},{"$f":"'REPORTE PMI'!G2036","v":0},null,null,null,{"$f":"'REPORTE PMI'!L2036","v":0},{"$f":"'REPORTE PMI'!M2036","v":0},0,null,null,0,null,null,"NO"]
[{"$f":"'REPORTE PMI'!B2037","v":0},{"$f":"'REPORTE PMI'!E2037","v":0},{"$f":"'REPORTE PMI'!J2037","v":0},{"$f":"'REPORTE PMI'!G2037","v":0},null,null,null,{"$f":"'REPORTE PMI'!L2037","v":0},{"$f":"'REPORTE PMI'!M2037","v":0},0,null,null,0,null,null,"NO"]
[{"$f":"'REPORTE PMI'!B2038","v":0},{"$f":"'REPORTE PMI'!E2038","v":0},{"$f":"'REPORTE PMI'!J2038","v":0},{"$f":"'REPORTE PMI'!G2038","v":0},null,null,null,{"$f":"'REPORTE PMI'!L2038","v":0},{"$f":"'REPORTE PMI'!M2038","v":0},0,null,null,0,null,null,"NO"]
[{"$f":"'REPORTE PMI'!B2039","v":0},{"$f":"'REPORTE PMI'!E2039","v":0},{"$f":"'REPORTE PMI'!J2039","v":0},{"$f":"'REPORTE PMI'!G2039","v":0},null,null,null,{"$f":"'REPORTE PMI'!L2039","v":0},{"$f":"'REPORTE PMI'!M2039","v":0},0,null,null,0,null,null,"NO"]
[{"$f":"'REPORTE PMI'!B2040","v":0},{"$f":"'REPORTE PMI'!E2040","v":0},{"$f":"'REPORTE PMI'!J2040","v":0},{"$f":"'REPORTE PMI'!G2040","v":0},null,null,null,{"$f":"'REPORTE PMI'!L2040","v":0},{"$f":"'REPORTE PMI'!M2040","v":0},0,null,null,0,null,null,"NO"]
[{"$f":"'REPORTE PMI'!B2041","v":0},{"$f":"'REPORTE PMI'!E2041","v":0},{"$f":"'REPORTE PMI'!J2041","v":0},{"$f":"'REPORTE PMI'!G2041","v":0},null,null,null,{"$f":"'REPORTE PMI'!L2041","v":0},{"$f":"'REPORTE PMI'!M2041","v":0},0,null,null,0,null,null,"NO"]
[{"$f":"'REPORTE PMI'!B2042","v":0},{"$f":"'REPORTE PMI'!E2042","v":0},{"$f":"'REPORTE PMI'!J2042","v":0},{"$f":"'REPORTE PMI'!G2042","v":0},null,null,null,{"$f":"'REPORTE PMI'!L2042","v":0},{"$f":"'REPORTE PMI'!M2042","v":0},0,null,null,0,null,null,"NO"]
[{"$f":"'REPORTE PMI'!B2043","v":0},{"$f":"'REPORTE PMI'!E2043","v":0},{"$f":"'REPORTE PMI'!J2043","v":0},{"$f":"'REPORTE PMI'!G2043","v":0},null,null,null,{"$f":"'REPORTE PMI'!L2043","v":0},{"$f":"'REPORTE PMI'!M2043","v":0},0,null,null,0,null,null,"NO"]
[{"$f":"'REPORTE PMI'!B2044","v":0},{"$f":"'REPORTE PMI'!E2044","v":0},{"$f":"'REPORTE PMI'!J2044","v":0},{"$f":"'REPORTE PMI'!G2044","v":0},null,null,null,{"$f":"'REPORTE PMI'!L2044","v":0},{"$f":"'REPORTE PMI'!M2044","v":0},0,null,null,0,null,null,"NO"]
[{"$f":"'REPORTE PMI'!B2045","v":0},{"$f":"'REPORTE PMI'!E2045","v":0},{"$f":"'REPORTE PMI'!J2045","v":0},{"$f":"'REPORTE PMI'!G2045","v":0},null,null,null,{"$f":"'REPORTE PMI'!L2045","v":0},{"$f":"'REPORTE PMI'!M2045","v":0},0,null,null,0,null,null,"NO"]
[{"$f":"'REPORTE PMI'!B2046","v":0},{"$f":"'REPORTE PMI'!E2046","v":0},{"$f":"'REPORTE PMI'!J2046","v":0},{"$f":"'REPORTE PMI'!G2046","v":0},null,null,null,{"$f":"'REPORTE PMI'!L2046","v":0},{"$f":"'REPORTE PMI'!M2046","v":0},0,null,null,0,null,null,"NO"]
[{"$f":"'REPORTE PMI'!B2047","v":0},{"$f":"'REPORTE PMI'!E2047","v":0},{"$f":"'REPORTE PMI'!J2047","v":0},{"$f":"'REPORTE PMI'!G2047","v":0},null,null,null,{"$f":"'REPORTE PMI'!L2047","v":0},{"$f":"'REPORTE PMI'!M2047","v":0},0,null,null,0,null,null,"NO"]
[{"$f":"'REPORTE PMI'!B2048","v":0},{"$f":"'REPORTE PMI'!E2048","v":0},{"$f":"'REPORTE PMI'!J2048","v":0},{"$f":"'REPORTE PMI'!G2048","v":0},null,null,null,{"$f":"'REPORTE PMI'!L2048","v":0},{"$f":"'REPORTE PMI'!M2048","v":0},0,null,null,0,null,null,"NO"]
[{"$f":"'REPORTE PMI'!B2049","v":0},{"$f":"'REPORTE PMI'!E2049","v":0},{"$f":"'REPORTE PMI'!J2049","v":0},{"$f":"'REPORTE PMI'!G2049","v":0},null,null,null,{"$f":"'REPORTE PMI'!L2049","v":0},{"$f":"'REPORTE PMI'!M2049","v":0},0,null,null,0,null,null,"NO"]
[{"$f":"'REPORTE PMI'!B2050","v":0},{"$f":"'REPORTE PMI'!E2050","v":0},{"$f":"'REPORTE PMI'!J2050","v":0},{"$f":"'REPORTE PMI'!G2050","v":0},null,null,null,{"$f":"'REPORTE PMI'!L2050","v":0},{"$f":"'REPORTE PMI'!M2050","v":0},0,null,null,0,null,null,"NO"]
[{"$f":"'REPORTE PMI'!B2051","v":0},{"$f":"'REPORTE PMI'!E2051","v":0},{"$f":"'REPORTE PMI'!J2051","v":0},{"$f":"'REPORTE PMI'!G2051","v":0},null,null,null,{"$f":"'REPORTE PMI'!L2051","v":0},{"$f":"'REPORTE PMI'!M2051","v":0},0,null,null,0,null,null,"NO"]
[{"$f":"'REPORTE PMI'!B2052","v":0},{"$f":"'REPORTE PMI'!E2052","v":0},{"$f":"'REPORTE PMI'!J2052","v":0},{"$f":"'REPORTE PMI'!G2052","v":0},null,null,null,{"$f":"'REPORTE PMI'!L2052","v":0},{"$f":"'REPORTE PMI'!M2052","v":0},{"$f":"IFERROR(I2061/H2061, 0)","v":0},null,null,{"$f":"H2061-I2061","v":0},null,null,{"$f":"IF(E2061=\"SI\",IF(J2061>0%,IF(K2061=\"SI\",IF(L2061=\"NO\",IF(N2061=\"SI\",IF(O2061=\"NO\",\"SI\",\"NO\"),\"NO\"),\"NO\"),\"NO\"),\"NO\"),\"NO\")","v":"NO"}]
[{"$f":"'REPORTE PMI'!B2053","v":0},{"$f":"'REPORTE PMI'!E2053","v":0},{"$f":"'REPORTE PMI'!J2053","v":0},{"$f":"'REPORTE PMI'!G2053","v":0},null,null,null,{"$f":"'REPORTE PMI'!L2053","v":0},{"$f":"'REPORTE PMI'!M2053","v":0},0,null,null,0,null,null,"NO"]
[{"$f":"'REPORTE PMI'!B2054","v":0},{"$f":"'REPORTE PMI'!E2054","v":0},{"$f":"'REPORTE PMI'!J2054","v":0},{"$f":"'REPORTE PMI'!G2054","v":0},null,null,null,{"$f":"'REPORTE PMI'!L2054","v":0},{"$f":"'REPORTE PMI'!M2054","v":0},0,null,null,0,null,null,"NO"]
[{"$f":"'REPORTE PMI'!B2055","v":0},{"$f":"'REPORTE PMI'!E2055","v":0},{"$f":"'REPORTE PMI'!J2055","v":0},{"$f":"'REPORTE PMI'!G2055","v":0},null,null,null,{"$f":"'REPORTE PMI'!L2055","v":0},{"$f":"'REPORTE PMI'!M2055","v":0},0,null,null,0,null,null,"NO"]
[{"$f":"'REPORTE PMI'!B2056","v":0},{"$f":"'REPORTE PMI'!E2056","v":0},{"$f":"'REPORTE PMI'!J2056","v":0},{"$f":"'REPORTE PMI'!G2056","v":0},null,null,null,{"$f":"'REPORTE PMI'!L2056","v":0},{"$f":"'REPORTE PMI'!M2056","v":0},0,null,null,0,null,null,"NO"]
[{"$f":"'REPORTE PMI'!B2057","v":0},{"$f":"'REPORTE PMI'!E2057","v":0},{"$f":"'REPORTE PMI'!J2057","v":0},{"$f":"'REPORTE PMI'!G2057","v":0},null,null,null,{"$f":"'REPORTE PMI'!L2057","v":0},{"$f":"'REPORTE PMI'!M2057","v":0},0,null,null,0,null,null,"NO"]
[{"$f":"'REPORTE PMI'!B2058","v":0},{"$f":"'REPORTE PMI'!E2058","v":0},{"$f":"'REPORTE PMI'!J2058","v":0},{"$f":"'REPORTE PMI'!G2058","v":0},null,null,null,{"$f":"'REPORTE PMI'!L2058","v":0},{"$f":"'REPORTE PMI'!M2058","v":0},0,null,null,0,null,null,"NO"]
[{"$f":"'REPORTE PMI'!B2059","v":0},{"$f":"'REPORTE PMI'!E2059","v":0},{"$f":"'REPORTE PMI'!J2059","v":0},{"$f":"'REPORTE PMI'!G2059","v":0},null,null,null,{"$f":"'REPORTE PMI'!L2059","v":0},{"$f":"'REPORTE PMI'!M2059","v":0},0,null,null,0,null,null,"NO"]
[{"$f":"'REPORTE PMI'!B2060","v":0},{"$f":"'REPORTE PMI'!E2060","v":0},{"$f":"'REPORTE PMI'!J2060","v":0},{"$f":"'REPORTE PMI'!G2060","v":0},null,null,null,{"$f":"'REPORTE PMI'!L2060","v":0},{"$f":"'REPORTE PMI'!M2060","v":0},0,null,null,0,null,null,"NO"]
[{"$f":"'REPORTE PMI'!B2061","v":0},{"$f":"'REPORTE PMI'!E2061","v":0},{"$f":"'REPORTE PMI'!J2061","v":0},{"$f":"'REPORTE PMI'!G2061","v":0},null,null,null,{"$f":"'REPORTE PMI'!L2061","v":0},{"$f":"'REPORTE PMI'!M2061","v":0},0,null,null,0,null,null,"NO"]
[{"$f":"'REPORTE PMI'!B2062","v":0},{"$f":"'REPORTE PMI'!E2062","v":0},{"$f":"'REPORTE PMI'!J2062","v":0},{"$f":"'REPORTE PMI'!G2062","v":0},null,null,null,{"$f":"'REPORTE PMI'!L2062","v":0},{"$f":"'REPORTE PMI'!M2062","v":0},0,null,null,0,null,null,"NO"]
[{"$f":"'REPORTE PMI'!B2063","v":0},{"$f":"'REPORTE PMI'!E2063","v":0},{"$f":"'REPORTE PMI'!J2063","v":0},{"$f":"'REPORTE PMI'!G2063","v":0},null,null,null,{"$f":"'REPORTE PMI'!L2063","v":0},{"$f":"'REPORTE PMI'!M2063","v":0},0,null,null,0,null,null,"NO"]
[{"$f":"'REPORTE PMI'!B2064","v":0},{"$f":"'REPORTE PMI'!E2064","v":0},{"$f":"'REPORTE PMI'!J2064","v":0},{"$f":"'REPORTE PMI'!G2064","v":0},null,null,null,{"$f":"'REPORTE PMI'!L2064","v":0},{"$f":"'REPORTE PMI'!M2064","v":0},0,null,null,0,null,null,"NO"]
[{"$f":"'REPORTE PMI'!B2065","v":0},{"$f":"'REPORTE PMI'!E2065","v":0},{"$f":"'REPORTE PMI'!J2065","v":0},{"$f":"'REPORTE PMI'!G2065","v":0},null,null,null,{"$f":"'REPORTE PMI'!L2065","v":0},{"$f":"'REPORTE PMI'!M2065","v":0},0,null,null,0,null,null,"NO"]
[{"$f":"'REPORTE PMI'!B2066","v":0},{"$f":"'REPORTE PMI'!E2066","v":0},{"$f":"'REPORTE PMI'!J2066","v":0},{"$f":"'REPORTE PMI'!G2066","v":0},null,null,null,{"$f":"'REPORTE PMI'!L2066","v":0},{"$f":"'REPORTE PMI'!M2066","v":0},0,null,null,0,null,null,"NO"]
[{"$f":"'REPORTE PMI'!B2067","v":0},{"$f":"'REPORTE PMI'!E2067","v":0},{"$f":"'REPORTE PMI'!J2067","v":0},{"$f":"'REPORTE PMI'!G2067","v":0},null,null,null,{"$f":"'REPORTE PMI'!L2067","v":0},{"$f":"'REPORTE PMI'!M2067","v":0},0,null,null,0,null,null,"NO"]
[{"$f":"'REPORTE PMI'!B2068","v":0},{"$f":"'REPORTE PMI'!E2068","v":0},{"$f":"'REPORTE PMI'!J2068","v":0},{"$f":"'REPORTE PMI'!G2068","v":0},null,null,null,{"$f":"'REPORTE PMI'!L2068","v":0},{"$f":"'REPORTE PMI'!M2068","v":0},0,null,null,0,null,null,"NO"]
[{"$f":"'REPORTE PMI'!B2069","v":0},{"$f":"'REPORTE PMI'!E2069","v":0},{"$f":"'REPORTE PMI'!J2069","v":0},{"$f":"'REPORTE PMI'!G2069","v":0},null,null,null,{"$f":"'REPORTE PMI'!L2069","v":0},{"$f":"'REPORTE PMI'!M2069","v":0},0,null,null,0,null,null,"NO"]
[{"$f":"'REPORTE PMI'!B2070","v":0},{"$f":"'REPORTE PMI'!E2070","v":0},{"$f":"'REPORTE PMI'!J2070","v":0},{"$f":"'REPORTE PMI'!G2070","v":0},null,null,null,{"$f":"'REPORTE PMI'!L2070","v":0},{"$f":"'REPORTE PMI'!M2070","v":0},0,null,null,0,null,null,"NO"]
[{"$f":"'REPORTE PMI'!B2071","v":0},{"$f":"'REPORTE PMI'!E2071","v":0},{"$f":"'REPORTE PMI'!J2071","v":0},{"$f":"'REPORTE PMI'!G2071","v":0},null,null,null,{"$f":"'REPORTE PMI'!L2071","v":0},{"$f":"'REPORTE PMI'!M2071","v":0},0,null,null,0,null,null,"NO"]
[{"$f":"'REPORTE PMI'!B2072","v":0},{"$f":"'REPORTE PMI'!E2072","v":0},{"$f":"'REPORTE PMI'!J2072","v":0},{"$f":"'REPORTE PMI'!G2072","v":0},null,null,null,{"$f":"'REPORTE PMI'!L2072","v":0},{"$f":"'REPORTE PMI'!M2072","v":0},0,null,null,0,null,null,"NO"]
[{"$f":"'REPORTE PMI'!B2073","v":0},{"$f":"'REPORTE PMI'!E2073","v":0},{"$f":"'REPORTE PMI'!J2073","v":0},{"$f":"'REPORTE PMI'!G2073","v":0},null,null,null,{"$f":"'REPORTE PMI'!L2073","v":0},{"$f":"'REPORTE PMI'!M2073","v":0},0,null,null,0,null,null,"NO"]
[{"$f":"'REPORTE PMI'!B2074","v":0},{"$f":"'REPORTE PMI'!E2074","v":0},{"$f":"'REPORTE PMI'!J2074","v":0},{"$f":"'REPORTE PMI'!G2074","v":0},null,null,null,{"$f":"'REPORTE PMI'!L2074","v":0},{"$f":"'REPORTE PMI'!M2074","v":0},0,null,null,0,null,null,"NO"]
[{"$f":"'REPORTE PMI'!B2075","v":0},{"$f":"'REPORTE PMI'!E2075","v":0},{"$f":"'REPORTE PMI'!J2075","v":0},{"$f":"'REPORTE PMI'!G2075","v":0},null,null,null,{"$f":"'REPORTE PMI'!L2075","v":0},{"$f":"'REPORTE PMI'!M2075","v":0},0,null,null,0,null,null,"NO"]
[{"$f":"'REPORTE PMI'!B2076","v":0},{"$f":"'REPORTE PMI'!E2076","v":0},{"$f":"'REPORTE PMI'!J2076","v":0},{"$f":"'REPORTE PMI'!G2076","v":0},null,null,null,{"$f":"'REPORTE PMI'!L2076","v":0},{"$f":"'REPORTE PMI'!M2076","v":0},0,null,null,0,null,null,"NO"]
[{"$f":"'REPORTE PMI'!B2077","v":0},{"$f":"'REPORTE PMI'!E2077","v":0},{"$f":"'REPORTE PMI'!J2077","v":0},{"$f":"'REPORTE PMI'!G2077","v":0},null,null,null,{"$f":"'REPORTE PMI'!L2077","v":0},{"$f":"'REPORTE PMI'!M2077","v":0},0,null,null,0,null,null,"NO"]
[{"$f":"'REPORTE PMI'!B2078","v":0},{"$f":"'REPORTE PMI'!E2078","v":0},{"$f":"'REPORTE PMI'!J2078","v":0},{"$f":"'REPORTE PMI'!G2078","v":0},null,null,null,{"$f":"'REPORTE PMI'!L2078","v":0},{"$f":"'REPORTE PMI'!M2078","v":0},0,null,null,0,null,null,"NO"]
[{"$f":"'REPORTE PMI'!B2079","v":0},{"$f":"'REPORTE PMI'!E2079","v":0},{"$f":"'REPORTE PMI'!J2079","v":0},{"$f":"'REPORTE PMI'!G2079","v":0},null,null,null,{"$f":"'REPORTE PMI'!L2079","v":0},{"$f":"'REPORTE PMI'!M2079","v":0},0,null,null,0,null,null,"NO"]
[{"$f":"'REPORTE PMI'!B2080","v":0},{"$f":"'REPORTE PMI'!E2080","v":0},{"$f":"'REPORTE PMI'!J2080","v":0},{"$f":"'REPORTE PMI'!G2080","v":0},null,null,null,{"$f":"'REPORTE PMI'!L2080","v":0},{"$f":"'REPORTE PMI'!M2080","v":0},0,null,null,0,null,null,"NO"]
[{"$f":"'REPORTE PMI'!B2081","v":0},{"$f":"'REPORTE PMI'!E2081","v":0},{"$f":"'REPORTE PMI'!J2081","v":0},{"$f":"'REPORTE PMI'!G2081","v":0},null,null,null,{"$f":"'REPORTE PMI'!L2081","v":0},{"$f":"'REPORTE PMI'!M2081","v":0},0,null,null,0,null,null,"NO"]
[{"$f":"'REPORTE PMI'!B2082","v":0},{"$f":"'REPORTE PMI'!E2082","v":0},{"$f":"'REPORTE PMI'!J2082","v":0},{"$f":"'REPORTE PMI'!G2082","v":0},null,null,null,{"$f":"'REPORTE PMI'!L2082","v":0},{"$f":"'REPORTE PMI'!M2082","v":0},0,null,null,0,null,null,"NO"]
[{"$f":"'REPORTE PMI'!B2083","v":0},{"$f":"'REPORTE PMI'!E2083","v":0},{"$f":"'REPORTE PMI'!J2083","v":0},{"$f":"'REPORTE PMI'!G2083","v":0},null,null,null,{"$f":"'REPORTE PMI'!L2083","v":0},{"$f":"'REPORTE PMI'!M2083","v":0},0,null,null,0,null,null,"NO"]
[{"$f":"'REPORTE PMI'!B2084","v":0},{"$f":"'REPORTE PMI'!E2084","v":0},{"$f":"'REPORTE PMI'!J2084","v":0},{"$f":"'REPORTE PMI'!G2084","v":0},null,null,null,{"$f":"'REPORTE PMI'!L2084","v":0},{"$f":"'REPORTE PMI'!M2084","v":0},0,null,null,0,null,null,"NO"]
[{"$f":"'REPORTE PMI'!B2085","v":0},{"$f":"'REPORTE PMI'!E2085","v":0},{"$f":"'REPORTE PMI'!J2085","v":0},{"$f":"'REPORTE PMI'!G2085","v":0},null,null,null,{"$f":"'REPORTE PMI'!L2085","v":0},{"$f":"'REPORTE PMI'!M2085","v":0},0,null,null,0,null,null,"NO"]
[{"$f":"'REPORTE PMI'!B2086","v":0},{"$f":"'REPORTE PMI'!E2086","v":0},{"$f":"'REPORTE PMI'!J2086","v":0},{"$f":"'REPORTE PMI'!G2086","v":0},null,null,null,{"$f":"'REPORTE PMI'!L2086","v":0},{"$f":"'REPORTE PMI'!M2086","v":0},0,null,null,0,null,null,"NO"]
[{"$f":"'REPORTE PMI'!B2087","v":0},{"$f":"'REPORTE PMI'!E2087","v":0},{"$f":"'REPORTE PMI'!J2087","v":0},{"$f":"'REPORTE PMI'!G2087","v":0},null,null,null,{"$f":"'REPORTE PMI'!L2087","v":0},{"$f":"'REPORTE PMI'!M2087","v":0},0,null,null,0,null,null,"NO"]
[{"$f":"'REPORTE PMI'!B2088","v":0},{"$f":"'REPORTE PMI'!E2088","v":0},{"$f":"'REPORTE PMI'!J2088","v":0},{"$f":"'REPORTE PMI'!G2088","v":0},null,null,null,{"$f":"'REPORTE PMI'!L2088","v":0},{"$f":"'REPORTE PMI'!M2088","v":0},0,null,null,0,null,null,"NO"]
[{"$f":"'REPORTE PMI'!B2089","v":0},{"$f":"'REPORTE PMI'!E2089","v":0},{"$f":"'REPORTE PMI'!J2089","v":0},{"$f":"'REPORTE PMI'!G2089","v":0},null,null,null,{"$f":"'REPORTE PMI'!L2089","v":0},{"$f":"'REPORTE PMI'!M2089","v":0},0,null,null,0,null,null,"NO"]
[{"$f":"'REPORTE PMI'!B2090","v":0},{"$f":"'REPORTE PMI'!E2090","v":0},{"$f":"'REPORTE PMI'!J2090","v":0},{"$f":"'REPORTE PMI'!G2090","v":0},null,null,null,{"$f":"'REPORTE PMI'!L2090","v":0},{"$f":"'REPORTE PMI'!M2090","v":0},0,null,null,0,null,null,"NO"]
[{"$f":"'REPORTE PMI'!B2091","v":0},{"$f":"'REPORTE PMI'!E2091","v":0},{"$f":"'REPORTE PMI'!J2091","v":0},{"$f":"'REPORTE PMI'!G2091","v":0},null,null,null,{"$f":"'REPORTE PMI'!L2091","v":0},{"$f":"'REPORTE PMI'!M2091","v":0},0,null,null,0,null,null,"NO"]
[{"$f":"'REPORTE PMI'!B2092","v":0},{"$f":"'REPORTE PMI'!E2092","v":0},{"$f":"'REPORTE PMI'!J2092","v":0},{"$f":"'REPORTE PMI'!G2092","v":0},null,null,null,{"$f":"'REPORTE PMI'!L2092","v":0},{"$f":"'REPORTE PMI'!M2092","v":0},0,null,null,0,null,null,"NO"]
[{"$f":"'REPORTE PMI'!B2093","v":0},{"$f":"'REPORTE PMI'!E2093","v":0},{"$f":"'REPORTE PMI'!J2093","v":0},{"$f":"'REPORTE PMI'!G2093","v":0},null,null,null,{"$f":"'REPORTE PMI'!L2093","v":0},{"$f":"'REPORTE PMI'!M2093","v":0},0,null,null,0,null,null,"NO"]
[{"$f":"'REPORTE PMI'!B2094","v":0},{"$f":"'REPORTE PMI'!E2094","v":0},{"$f":"'REPORTE PMI'!J2094","v":0},{"$f":"'REPORTE PMI'!G2094","v":0},null,null,null,{"$f":"'REPORTE PMI'!L2094","v":0},{"$f":"'REPORTE PMI'!M2094","v":0},0,null,null,0,null,null,"NO"]
[{"$f":"'REPORTE PMI'!B2095","v":0},{"$f":"'REPORTE PMI'!E2095","v":0},{"$f":"'REPORTE PMI'!J2095","v":0},{"$f":"'REPORTE PMI'!G2095","v":0},null,null,null,{"$f":"'REPORTE PMI'!L2095","v":0},{"$f":"'REPORTE PMI'!M2095","v":0},0,null,null,0,null,null,"NO"]
[{"$f":"'REPORTE PMI'!B2096","v":0},{"$f":"'REPORTE PMI'!E2096","v":0},{"$f":"'REPORTE PMI'!J2096","v":0},{"$f":"'REPORTE PMI'!G2096","v":0},null,null,null,{"$f":"'REPORTE PMI'!L2096","v":0},{"$f":"'REPORTE PMI'!M2096","v":0},0,null,null,0,null,null,"NO"]
[{"$f":"'REPORTE PMI'!B2097","v":0},{"$f":"'REPORTE PMI'!E2097","v":0},{"$f":"'REPORTE PMI'!J2097","v":0},{"$f":"'REPORTE PMI'!G2097","v":0},null,null,null,{"$f":"'REPORTE PMI'!L2097","v":0},{"$f":"'REPORTE PMI'!M2097","v":0},0,null,null,0,null,null,"NO"]
[{"$f":"'REPORTE PMI'!B2098","v":0},{"$f":"'REPORTE PMI'!E2098","v":0},{"$f":"'REPORTE PMI'!J2098","v":0},{"$f":"'REPORTE PMI'!G2098","v":0},null,null,null,{"$f":"'REPORTE PMI'!L2098","v":0},{"$f":"'REPORTE PMI'!M2098","v":0},0,null,null,0,null,null,"NO"]
[{"$f":"'REPORTE PMI'!B2099","v":0},{"$f":"'REPORTE PMI'!E2099","v":0},{"$f":"'REPORTE PMI'!J2099","v":0},{"$f":"'REPORTE PMI'!G2099","v":0},null,null,null,{"$f":"'REPORTE PMI'!L2099","v":0},{"$f":"'REPORTE PMI'!M2099","v":0},0,null,null,0,null,null,"NO"]
[{"$f":"'REPORTE PMI'!B2100","v":0},{"$f":"'REPORTE PMI'!E2100","v":0},{"$f":"'REPORTE PMI'!J2100","v":0},{"$f":"'REPORTE PMI'!G2100","v":0},null,null,null,{"$f":"'REPORTE PMI'!L2100","v":0},{"$f":"'REPORTE PMI'!M2100","v":0},0,null,null,0,null,null,"NO"]
[{"$f":"'REPORTE PMI'!B2101","v":0},{"$f":"'REPORTE PMI'!E2101","v":0},{"$f":"'REPORTE PMI'!J2101","v":0},{"$f":"'REPORTE PMI'!G2101","v":0},null,null,null,{"$f":"'REPORTE PMI'!L2101","v":0},{"$f":"'REPORTE PMI'!M2101","v":0},0,null,null,0,null,null,"NO"]
[{"$f":"'REPORTE PMI'!B2102","v":0},{"$f":"'REPORTE PMI'!E2102","v":0},{"$f":"'REPORTE PMI'!J2102","v":0},{"$f":"'REPORTE PMI'!G2102","v":0},null,null,null,{"$f":"'REPORTE PMI'!L2102","v":0},{"$f":"'REPORTE PMI'!M2102","v":0},0,null,null,0,null,null,"NO"]
[{"$f":"'REPORTE PMI'!B2103","v":0},{"$f":"'REPORTE PMI'!E2103","v":0},{"$f":"'REPORTE PMI'!J2103","v":0},{"$f":"'REPORTE PMI'!G2103","v":0},null,null,null,{"$f":"'REPORTE PMI'!L2103","v":0},{"$f":"'REPORTE PMI'!M2103","v":0},0,null,null,0,null,null,"NO"]
[{"$f":"'REPORTE PMI'!B2104","v":0},{"$f":"'REPORTE PMI'!E2104","v":0},{"$f":"'REPORTE PMI'!J2104","v":0},{"$f":"'REPORTE PMI'!G2104","v":0},null,null,null,{"$f":"'REPORTE PMI'!L2104","v":0},{"$f":"'REPORTE PMI'!M2104","v":0},0,null,null,0,null,null,"NO"]
[{"$f":"'REPORTE PMI'!B2105","v":0},{"$f":"'REPORTE PMI'!E2105","v":0},{"$f":"'REPORTE PMI'!J2105","v":0},{"$f":"'REPORTE PMI'!G2105","v":0},null,null,null,{"$f":"'REPORTE PMI'!L2105","v":0},{"$f":"'REPORTE PMI'!M2105","v":0},0,null,null,0,null,null,"NO"]
[{"$f":"'REPORTE PMI'!B2106","v":0},{"$f":"'REPORTE PMI'!E2106","v":0},{"$f":"'REPORTE PMI'!J2106","v":0},{"$f":"'REPORTE PMI'!G2106","v":0},null,null,null,{"$f":"'REPORTE PMI'!L2106","v":0},{"$f":"'REPORTE PMI'!M2106","v":0},0,null,null,0,null,null,"NO"]
[{"$f":"'REPORTE PMI'!B2107","v":0},{"$f":"'REPORTE PMI'!E2107","v":0},{"$f":"'REPORTE PMI'!J2107","v":0},{"$f":"'REPORTE PMI'!G2107","v":0},null,null,null,{"$f":"'REPORTE PMI'!L2107","v":0},{"$f":"'REPORTE PMI'!M2107","v":0},0,null,null,0,null,null,"NO"]
[{"$f":"'REPORTE PMI'!B2108","v":0},{"$f":"'REPORTE PMI'!E2108","v":0},{"$f":"'REPORTE PMI'!J2108","v":0},{"$f":"'REPORTE PMI'!G2108","v":0},null,null,null,{"$f":"'REPORTE PMI'!L2108","v":0},{"$f":"'REPORTE PMI'!M2108","v":0},0,null,null,0,null,null,"NO"]
[{"$f":"'REPORTE PMI'!B2109","v":0},{"$f":"'REPORTE PMI'!E2109","v":0},{"$f":"'REPORTE PMI'!J2109","v":0},{"$f":"'REPORTE PMI'!G2109","v":0},null,null,null,{"$f":"'REPORTE PMI'!L2109","v":0},{"$f":"'REPORTE PMI'!M2109","v":0},0,null,null,0,null,null,"NO"]
[{"$f":"'REPORTE PMI'!B2110","v":0},{"$f":"'REPORTE PMI'!E2110","v":0},{"$f":"'REPORTE PMI'!J2110","v":0},{"$f":"'REPORTE PMI'!G2110","v":0},null,null,null,{"$f":"'REPORTE PMI'!L2110","v":0},{"$f":"'REPORTE PMI'!M2110","v":0},0,null,null,0,null,null,"NO"]
[{"$f":"'REPORTE PMI'!B2111","v":0},{"$f":"'REPORTE PMI'!E2111","v":0},{"$f":"'REPORTE PMI'!J2111","v":0},{"$f":"'REPORTE PMI'!G2111","v":0},null,null,null,{"$f":"'REPORTE PMI'!L2111","v":0},{"$f":"'REPORTE PMI'!M2111","v":0},0,null,null,0,null,null,"NO"]
[{"$f":"'REPORTE PMI'!B2112","v":0},{"$f":"'REPORTE PMI'!E2112","v":0},{"$f":"'REPORTE PMI'!J2112","v":0},{"$f":"'REPORTE PMI'!G2112","v":0},null,null,null,{"$f":"'REPORTE PMI'!L2112","v":0},{"$f":"'REPORTE PMI'!M2112","v":0},0,null,null,0,null,null,"NO"]
[{"$f":"'REPORTE PMI'!B2113","v":0},{"$f":"'REPORTE PMI'!E2113","v":0},{"$f":"'REPORTE PMI'!J2113","v":0},{"$f":"'REPORTE PMI'!G2113","v":0},null,null,null,{"$f":"'REPORTE PMI'!L2113","v":0},{"$f":"'REPORTE PMI'!M2113","v":0},0,null,null,0,null,null,"NO"]
[{"$f":"'REPORTE PMI'!B2114","v":0},{"$f":"'REPORTE PMI'!E2114","v":0},{"$f":"'REPORTE PMI'!J2114","v":0},{"$f":"'REPORTE PMI'!G2114","v":0},null,null,null,{"$f":"'REPORTE PMI'!L2114","v":0},{"$f":"'REPORTE PMI'!M2114","v":0},0,null,null,0,null,null,"NO"]
[{"$f":"'REPORTE PMI'!B2115","v":0},{"$f":"'REPORTE PMI'!E2115","v":0},{"$f":"'REPORTE PMI'!J2115","v":0},{"$f":"'REPORTE PMI'!G2115","v":0},null,null,null,{"$f":"'REPORTE PMI'!L2115","v":0},{"$f":"'REPORTE PMI'!M2115","v":0},0,null,null,0,null,null,"NO"]
[{"$f":"'REPORTE PMI'!B2116","v":0},{"$f":"'REPORTE PMI'!E2116","v":0},{"$f":"'REPORTE PMI'!J2116","v":0},{"$f":"'REPORTE PMI'!G2116","v":0},null,null,null,{"$f":"'REPORTE PMI'!L2116","v":0},{"$f":"'REPORTE PMI'!M2116","v":0},{"$f":"IFERROR(I2125/H2125, 0)","v":0},null,null,{"$f":"H2125-I2125","v":0},null,null,{"$f":"IF(E2125=\"SI\",IF(J2125>0%,IF(K2125=\"SI\",IF(L2125=\"NO\",IF(N2125=\"SI\",IF(O2125=\"NO\",\"SI\",\"NO\"),\"NO\"),\"NO\"),\"NO\"),\"NO\"),\"NO\")","v":"NO"}]
[{"$f":"'REPORTE PMI'!B2117","v":0},{"$f":"'REPORTE PMI'!E2117","v":0},{"$f":"'REPORTE PMI'!J2117","v":0},{"$f":"'REPORTE PMI'!G2117","v":0},null,null,null,{"$f":"'REPORTE PMI'!L2117","v":0},{"$f":"'REPORTE PMI'!M2117","v":0},0,null,null,0,null,null,"NO"]
[{"$f":"'REPORTE PMI'!B2118","v":0},{"$f":"'REPORTE PMI'!E2118","v":0},{"$f":"'REPORTE PMI'!J2118","v":0},{"$f":"'REPORTE PMI'!G2118","v":0},null,null,null,{"$f":"'REPORTE PMI'!L2118","v":0},{"$f":"'REPORTE PMI'!M2118","v":0},0,null,null,0,null,null,"NO"]
[{"$f":"'REPORTE PMI'!B2119","v":0},{"$f":"'REPORTE PMI'!E2119","v":0},{"$f":"'REPORTE PMI'!J2119","v":0},{"$f":"'REPORTE PMI'!G2119","v":0},null,null,null,{"$f":"'REPORTE PMI'!L2119","v":0},{"$f":"'REPORTE PMI'!M2119","v":0},0,null,null,0,null,null,"NO"]
[{"$f":"'REPORTE PMI'!B2120","v":0},{"$f":"'REPORTE PMI'!E2120","v":0},{"$f":"'REPORTE PMI'!J2120","v":0},{"$f":"'REPORTE PMI'!G2120","v":0},null,null,null,{"$f":"'REPORTE PMI'!L2120","v":0},{"$f":"'REPORTE PMI'!M2120","v":0},0,null,null,0,null,null,"NO"]
[{"$f":"'REPORTE PMI'!B2121","v":0},{"$f":"'REPORTE PMI'!E2121","v":0},{"$f":"'REPORTE PMI'!J2121","v":0},{"$f":"'REPORTE PMI'!G2121","v":0},null,null,null,{"$f":"'REPORTE PMI'!L2121","v":0},{"$f":"'REPORTE PMI'!M2121","v":0},0,null,null,0,null,null,"NO"]
[{"$f":"'REPORTE PMI'!B2122","v":0},{"$f":"'REPORTE PMI'!E2122","v":0},{"$f":"'REPORTE PMI'!J2122","v":0},{"$f":"'REPORTE PMI'!G2122","v":0},null,null,null,{"$f":"'REPORTE PMI'!L2122","v":0},{"$f":"'REPORTE PMI'!M2122","v":0},0,null,null,0,null,null,"NO"]
[{"$f":"'REPORTE PMI'!B2123","v":0},{"$f":"'REPORTE PMI'!E2123","v":0},{"$f":"'REPORTE PMI'!J2123","v":0},{"$f":"'REPORTE PMI'!G2123","v":0},null,null,null,{"$f":"'REPORTE PMI'!L2123","v":0},{"$f":"'REPORTE PMI'!M2123","v":0},0,null,null,0,null,null,"NO"]
[{"$f":"'REPORTE PMI'!B2124","v":0},{"$f":"'REPORTE PMI'!E2124","v":0},{"$f":"'REPORTE PMI'!J2124","v":0},{"$f":"'REPORTE PMI'!G2124","v":0},null,null,null,{"$f":"'REPORTE PMI'!L2124","v":0},{"$f":"'REPORTE PMI'!M2124","v":0},0,null,null,0,null,null,"NO"]
[{"$f":"'REPORTE PMI'!B2125","v":0},{"$f":"'REPORTE PMI'!E2125","v":0},{"$f":"'REPORTE PMI'!J2125","v":0},{"$f":"'REPORTE PMI'!G2125","v":0},null,null,null,{"$f":"'REPORTE PMI'!L2125","v":0},{"$f":"'REPORTE PMI'!M2125","v":0},0,null,null,0,null,null,"NO"]
[{"$f":"'REPORTE PMI'!B2126","v":0},{"$f":"'REPORTE PMI'!E2126","v":0},{"$f":"'REPORTE PMI'!J2126","v":0},{"$f":"'REPORTE PMI'!G2126","v":0},null,null,null,{"$f":"'REPORTE PMI'!L2126","v":0},{"$f":"'REPORTE PMI'!M2126","v":0},0,null,null,0,null,null,"NO"]
[{"$f":"'REPORTE PMI'!B2127","v":0},{"$f":"'REPORTE PMI'!E2127","v":0},{"$f":"'REPORTE PMI'!J2127","v":0},{"$f":"'REPORTE PMI'!G2127","v":0},null,null,null,{"$f":"'REPORTE PMI'!L2127","v":0},{"$f":"'REPORTE PMI'!M2127","v":0},0,null,null,0,null,null,"NO"]
[{"$f":"'REPORTE PMI'!B2128","v":0},{"$f":"'REPORTE PMI'!E2128","v":0},{"$f":"'REPORTE PMI'!J2128","v":0},{"$f":"'REPORTE PMI'!G2128","v":0},null,null,null,{"$f":"'REPORTE PMI'!L2128","v":0},{"$f":"'REPORTE PMI'!M2128","v":0},0,null,null,0,null,null,"NO"]
[{"$f":"'REPORTE PMI'!B2129","v":0},{"$f":"'REPORTE PMI'!E2129","v":0},{"$f":"'REPORTE PMI'!J2129","v":0},{"$f":"'REPORTE PMI'!G2129","v":0},null,null,null,{"$f":"'REPORTE PMI'!L2129","v":0},{"$f":"'REPORTE PMI'!M2129","v":0},0,null,null,0,null,null,"NO"]
[{"$f":"'REPORTE PMI'!B2130","v":0},{"$f":"'REPORTE PMI'!E2130","v":0},{"$f":"'REPORTE PMI'!J2130","v":0},{"$f":"'REPORTE PMI'!G2130","v":0},null,null,null,{"$f":"'REPORTE PMI'!L2130","v":0},{"$f":"'REPORTE PMI'!M2130","v":0},0,null,null,0,null,null,"NO"]
[{"$f":"'REPORTE PMI'!B2131","v":0},{"$f":"'REPORTE PMI'!E2131","v":0},{"$f":"'REPORTE PMI'!J2131","v":0},{"$f":"'REPORTE PMI'!G2131","v":0},null,null,null,{"$f":"'REPORTE PMI'!L2131","v":0},{"$f":"'REPORTE PMI'!M2131","v":0},0,null,null,0,null,null,"NO"]
[{"$f":"'REPORTE PMI'!B2132","v":0},{"$f":"'REPORTE PMI'!E2132","v":0},{"$f":"'REPORTE PMI'!J2132","v":0},{"$f":"'REPORTE PMI'!G2132","v":0},null,null,null,{"$f":"'REPORTE PMI'!L2132","v":0},{"$f":"'REPORTE PMI'!M2132","v":0},0,null,null,0,null,null,"NO"]
[{"$f":"'REPORTE PMI'!B2133","v":0},{"$f":"'REPORTE PMI'!E2133","v":0},{"$f":"'REPORTE PMI'!J2133","v":0},{"$f":"'REPORTE PMI'!G2133","v":0},null,null,null,{"$f":"'REPORTE PMI'!L2133","v":0},{"$f":"'REPORTE PMI'!M2133","v":0},0,null,null,0,null,null,"NO"]
[{"$f":"'REPORTE PMI'!B2134","v":0},{"$f":"'REPORTE PMI'!E2134","v":0},{"$f":"'REPORTE PMI'!J2134","v":0},{"$f":"'REPORTE PMI'!G2134","v":0},null,null,null,{"$f":"'REPORTE PMI'!L2134","v":0},{"$f":"'REPORTE PMI'!M2134","v":0},0,null,null,0,null,null,"NO"]
[{"$f":"'REPORTE PMI'!B2135","v":0},{"$f":"'REPORTE PMI'!E2135","v":0},{"$f":"'REPORTE PMI'!J2135","v":0},{"$f":"'REPORTE PMI'!G2135","v":0},null,null,null,{"$f":"'REPORTE PMI'!L2135","v":0},{"$f":"'REPORTE PMI'!M2135","v":0},0,null,null,0,null,null,"NO"]
[{"$f":"'REPORTE PMI'!B2136","v":0},{"$f":"'REPORTE PMI'!E2136","v":0},{"$f":"'REPORTE PMI'!J2136","v":0},{"$f":"'REPORTE PMI'!G2136","v":0},null,null,null,{"$f":"'REPORTE PMI'!L2136","v":0},{"$f":"'REPORTE PMI'!M2136","v":0},0,null,null,0,null,null,"NO"]
[{"$f":"'REPORTE PMI'!B2137","v":0},{"$f":"'REPORTE PMI'!E2137","v":0},{"$f":"'REPORTE PMI'!J2137","v":0},{"$f":"'REPORTE PMI'!G2137","v":0},null,null,null,{"$f":"'REPORTE PMI'!L2137","v":0},{"$f":"'REPORTE PMI'!M2137","v":0},0,null,null,0,null,null,"NO"]
[{"$f":"'REPORTE PMI'!B2138","v":0},{"$f":"'REPORTE PMI'!E2138","v":0},{"$f":"'REPORTE PMI'!J2138","v":0},{"$f":"'REPORTE PMI'!G2138","v":0},null,null,null,{"$f":"'REPORTE PMI'!L2138","v":0},{"$f":"'REPORTE PMI'!M2138","v":0},0,null,null,0,null,null,"NO"]
[{"$f":"'REPORTE PMI'!B2139","v":0},{"$f":"'REPORTE PMI'!E2139","v":0},{"$f":"'REPORTE PMI'!J2139","v":0},{"$f":"'REPORTE PMI'!G2139","v":0},null,null,null,{"$f":"'REPORTE PMI'!L2139","v":0},{"$f":"'REPORTE PMI'!M2139","v":0},0,null,null,0,null,null,"NO"]
[{"$f":"'REPORTE PMI'!B2140","v":0},{"$f":"'REPORTE PMI'!E2140","v":0},{"$f":"'REPORTE PMI'!J2140","v":0},{"$f":"'REPORTE PMI'!G2140","v":0},null,null,null,{"$f":"'REPORTE PMI'!L2140","v":0},{"$f":"'REPORTE PMI'!M2140","v":0},0,null,null,0,null,null,"NO"]
[{"$f":"'REPORTE PMI'!B2141","v":0},{"$f":"'REPORTE PMI'!E2141","v":0},{"$f":"'REPORTE PMI'!J2141","v":0},{"$f":"'REPORTE PMI'!G2141","v":0},null,null,null,{"$f":"'REPORTE PMI'!L2141","v":0},{"$f":"'REPORTE PMI'!M2141","v":0},0,null,null,0,null,null,"NO"]
[{"$f":"'REPORTE PMI'!B2142","v":0},{"$f":"'REPORTE PMI'!E2142","v":0},{"$f":"'REPORTE PMI'!J2142","v":0},{"$f":"'REPORTE PMI'!G2142","v":0},null,null,null,{"$f":"'REPORTE PMI'!L2142","v":0},{"$f":"'REPORTE PMI'!M2142","v":0},0,null,null,0,null,null,"NO"]
[{"$f":"'REPORTE PMI'!B2143","v":0},{"$f":"'REPORTE PMI'!E2143","v":0},{"$f":"'REPORTE PMI'!J2143","v":0},{"$f":"'REPORTE PMI'!G2143","v":0},null,null,null,{"$f":"'REPORTE PMI'!L2143","v":0},{"$f":"'REPORTE PMI'!M2143","v":0},0,null,null,0,null,null,"NO"]
[{"$f":"'REPORTE PMI'!B2144","v":0},{"$f":"'REPORTE PMI'!E2144","v":0},{"$f":"'REPORTE PMI'!J2144","v":0},{"$f":"'REPORTE PMI'!G2144","v":0},null,null,null,{"$f":"'REPORTE PMI'!L2144","v":0},{"$f":"'REPORTE PMI'!M2144","v":0},0,null,null,0,null,null,"NO"]
[{"$f":"'REPORTE PMI'!B2145","v":0},{"$f":"'REPORTE PMI'!E2145","v":0},{"$f":"'REPORTE PMI'!J2145","v":0},{"$f":"'REPORTE PMI'!G2145","v":0},null,null,null,{"$f":"'REPORTE PMI'!L2145","v":0},{"$f":"'REPORTE PMI'!M2145","v":0},0,null,null,0,null,null,"NO"]
[{"$f":"'REPORTE PMI'!B2146","v":0},{"$f":"'REPORTE PMI'!E2146","v":0},{"$f":"'REPORTE PMI'!J2146","v":0},{"$f":"'REPORTE PMI'!G2146","v":0},null,null,null,{"$f":"'REPORTE PMI'!L2146","v":0},{"$f":"'REPORTE PMI'!M2146","v":0},0,null,null,0,null,null,"NO"]
[{"$f":"'REPORTE PMI'!B2147","v":0},{"$f":"'REPORTE PMI'!E2147","v":0},{"$f":"'REPORTE PMI'!J2147","v":0},{"$f":"'REPORTE PMI'!G2147","v":0},null,null,null,{"$f":"'REPORTE PMI'!L2147","v":0},{"$f":"'REPORTE PMI'!M2147","v":0},0,null,null,0,null,null,"NO"]
[{"$f":"'REPORTE PMI'!B2148","v":0},{"$f":"'REPORTE PMI'!E2148","v":0},{"$f":"'REPORTE PMI'!J2148","v":0},{"$f":"'REPORTE PMI'!G2148","v":0},null,null,null,{"$f":"'REPORTE PMI'!L2148","v":0},{"$f":"'REPORTE PMI'!M2148","v":0},0,null,null,0,null,null,"NO"]
[{"$f":"'REPORTE PMI'!B2149","v":0},{"$f":"'REPORTE PMI'!E2149","v":0},{"$f":"'REPORTE PMI'!J2149","v":0},{"$f":"'REPORTE PMI'!G2149","v":0},null,null,null,{"$f":"'REPORTE PMI'!L2149","v":0},{"$f":"'REPORTE PMI'!M2149","v":0},0,null,null,0,null,null,"NO"]
[{"$f":"'REPORTE PMI'!B2150","v":0},{"$f":"'REPORTE PMI'!E2150","v":0},{"$f":"'REPORTE PMI'!J2150","v":0},{"$f":"'REPORTE PMI'!G2150","v":0},null,null,null,{"$f":"'REPORTE PMI'!L2150","v":0},{"$f":"'REPORTE PMI'!M2150","v":0},0,null,null,0,null,null,"NO"]
[{"$f":"'REPORTE PMI'!B2151","v":0},{"$f":"'REPORTE PMI'!E2151","v":0},{"$f":"'REPORTE PMI'!J2151","v":0},{"$f":"'REPORTE PMI'!G2151","v":0},null,null,null,{"$f":"'REPORTE PMI'!L2151","v":0},{"$f":"'REPORTE PMI'!M2151","v":0},0,null,null,0,null,null,"NO"]
[{"$f":"'REPORTE PMI'!B2152","v":0},{"$f":"'REPORTE PMI'!E2152","v":0},{"$f":"'REPORTE PMI'!J2152","v":0},{"$f":"'REPORTE PMI'!G2152","v":0},null,null,null,{"$f":"'REPORTE PMI'!L2152","v":0},{"$f":"'REPORTE PMI'!M2152","v":0},0,null,null,0,null,null,"NO"]
[{"$f":"'REPORTE PMI'!B2153","v":0},{"$f":"'REPORTE PMI'!E2153","v":0},{"$f":"'REPORTE PMI'!J2153","v":0},{"$f":"'REPORTE PMI'!G2153","v":0},null,null,null,{"$f":"'REPORTE PMI'!L2153","v":0},{"$f":"'REPORTE PMI'!M2153","v":0},0,null,null,0,null,null,"NO"]
[{"$f":"'REPORTE PMI'!B2154","v":0},{"$f":"'REPORTE PMI'!E2154","v":0},{"$f":"'REPORTE PMI'!J2154","v":0},{"$f":"'REPORTE PMI'!G2154","v":0},null,null,null,{"$f":"'REPORTE PMI'!L2154","v":0},{"$f":"'REPORTE PMI'!M2154","v":0},0,null,null,0,null,null,"NO"]
[{"$f":"'REPORTE PMI'!B2155","v":0},{"$f":"'REPORTE PMI'!E2155","v":0},{"$f":"'REPORTE PMI'!J2155","v":0},{"$f":"'REPORTE PMI'!G2155","v":0},null,null,null,{"$f":"'REPORTE PMI'!L2155","v":0},{"$f":"'REPORTE PMI'!M2155","v":0},0,null,null,0,null,null,"NO"]
[{"$f":"'REPORTE PMI'!B2156","v":0},{"$f":"'REPORTE PMI'!E2156","v":0},{"$f":"'REPORTE PMI'!J2156","v":0},{"$f":"'REPORTE PMI'!G2156","v":0},null,null,null,{"$f":"'REPORTE PMI'!L2156","v":0},{"$f":"'REPORTE PMI'!M2156","v":0},0,null,null,0,null,null,"NO"]
[{"$f":"'REPORTE PMI'!B2157","v":0},{"$f":"'REPORTE PMI'!E2157","v":0},{"$f":"'REPORTE PMI'!J2157","v":0},{"$f":"'REPORTE PMI'!G2157","v":0},null,null,null,{"$f":"'REPORTE PMI'!L2157","v":0},{"$f":"'REPORTE PMI'!M2157","v":0},0,null,null,0,null,null,"NO"]
[{"$f":"'REPORTE PMI'!B2158","v":0},{"$f":"'REPORTE PMI'!E2158","v":0},{"$f":"'REPORTE PMI'!J2158","v":0},{"$f":"'REPORTE PMI'!G2158","v":0},null,null,null,{"$f":"'REPORTE PMI'!L2158","v":0},{"$f":"'REPORTE PMI'!M2158","v":0},0,null,null,0,null,null,"NO"]
[{"$f":"'REPORTE PMI'!B2159","v":0},{"$f":"'REPORTE PMI'!E2159","v":0},{"$f":"'REPORTE PMI'!J2159","v":0},{"$f":"'REPORTE PMI'!G2159","v":0},null,null,null,{"$f":"'REPORTE PMI'!L2159","v":0},{"$f":"'REPORTE PMI'!M2159","v":0},0,null,null,0,null,null,"NO"]
[{"$f":"'REPORTE PMI'!B2160","v":0},{"$f":"'REPORTE PMI'!E2160","v":0},{"$f":"'REPORTE PMI'!J2160","v":0},{"$f":"'REPORTE PMI'!G2160","v":0},null,null,null,{"$f":"'REPORTE PMI'!L2160","v":0},{"$f":"'REPORTE PMI'!M2160","v":0},0,null,null,0,null,null,"NO"]
[{"$f":"'REPORTE PMI'!B2161","v":0},{"$f":"'REPORTE PMI'!E2161","v":0},{"$f":"'REPORTE PMI'!J2161","v":0},{"$f":"'REPORTE PMI'!G2161","v":0},null,null,null,{"$f":"'REPORTE PMI'!L2161","v":0},{"$f":"'REPORTE PMI'!M2161","v":0},0,null,null,0,null,null,"NO"]
[{"$f":"'REPORTE PMI'!B2162","v":0},{"$f":"'REPORTE PMI'!E2162","v":0},{"$f":"'REPORTE PMI'!J2162","v":0},{"$f":"'REPORTE PMI'!G2162","v":0},null,null,null,{"$f":"'REPORTE PMI'!L2162","v":0},{"$f":"'REPORTE PMI'!M2162","v":0},0,null,null,0,null,null,"NO"]
[{"$f":"'REPORTE PMI'!B2163","v":0},{"$f":"'REPORTE PMI'!E2163","v":0},{"$f":"'REPORTE PMI'!J2163","v":0},{"$f":"'REPORTE PMI'!G2163","v":0},null,null,null,{"$f":"'REPORTE PMI'!L2163","v":0},{"$f":"'REPORTE PMI'!M2163","v":0},0,null,null,0,null,null,"NO"]
[{"$f":"'REPORTE PMI'!B2164","v":0},{"$f":"'REPORTE PMI'!E2164","v":0},{"$f":"'REPORTE PMI'!J2164","v":0},{"$f":"'REPORTE PMI'!G2164","v":0},null,null,null,{"$f":"'REPORTE PMI'!L2164","v":0},{"$f":"'REPORTE PMI'!M2164","v":0},0,null,null,0,null,null,"NO"]
[{"$f":"'REPORTE PMI'!B2165","v":0},{"$f":"'REPORTE PMI'!E2165","v":0},{"$f":"'REPORTE PMI'!J2165","v":0},{"$f":"'REPORTE PMI'!G2165","v":0},null,null,null,{"$f":"'REPORTE PMI'!L2165","v":0},{"$f":"'REPORTE PMI'!M2165","v":0},0,null,null,0,null,null,"NO"]
[{"$f":"'REPORTE PMI'!B2166","v":0},{"$f":"'REPORTE PMI'!E2166","v":0},{"$f":"'REPORTE PMI'!J2166","v":0},{"$f":"'REPORTE PMI'!G2166","v":0},null,null,null,{"$f":"'REPORTE PMI'!L2166","v":0},{"$f":"'REPORTE PMI'!M2166","v":0},0,null,null,0,null,null,"NO"]
[{"$f":"'REPORTE PMI'!B2167","v":0},{"$f":"'REPORTE PMI'!E2167","v":0},{"$f":"'REPORTE PMI'!J2167","v":0},{"$f":"'REPORTE PMI'!G2167","v":0},null,null,null,{"$f":"'REPORTE PMI'!L2167","v":0},{"$f":"'REPORTE PMI'!M2167","v":0},0,null,null,0,null,null,"NO"]
[{"$f":"'REPORTE PMI'!B2168","v":0},{"$f":"'REPORTE PMI'!E2168","v":0},{"$f":"'REPORTE PMI'!J2168","v":0},{"$f":"'REPORTE PMI'!G2168","v":0},null,null,null,{"$f":"'REPORTE PMI'!L2168","v":0},{"$f":"'REPORTE PMI'!M2168","v":0},0,null,null,0,null,null,"NO"]
[{"$f":"'REPORTE PMI'!B2169","v":0},{"$f":"'REPORTE PMI'!E2169","v":0},{"$f":"'REPORTE PMI'!J2169","v":0},{"$f":"'REPORTE PMI'!G2169","v":0},null,null,null,{"$f":"'REPORTE PMI'!L2169","v":0},{"$f":"'REPORTE PMI'!M2169","v":0},0,null,null,0,null,null,"NO"]
[{"$f":"'REPORTE PMI'!B2170","v":0},{"$f":"'REPORTE PMI'!E2170","v":0},{"$f":"'REPORTE PMI'!J2170","v":0},{"$f":"'REPORTE PMI'!G2170","v":0},null,null,null,{"$f":"'REPORTE PMI'!L2170","v":0},{"$f":"'REPORTE PMI'!M2170","v":0},0,null,null,0,null,null,"NO"]
[{"$f":"'REPORTE PMI'!B2171","v":0},{"$f":"'REPORTE PMI'!E2171","v":0},{"$f":"'REPORTE PMI'!J2171","v":0},{"$f":"'REPORTE PMI'!G2171","v":0},null,null,null,{"$f":"'REPORTE PMI'!L2171","v":0},{"$f":"'REPORTE PMI'!M2171","v":0},0,null,null,0,null,null,"NO"]
[{"$f":"'REPORTE PMI'!B2172","v":0},{"$f":"'REPORTE PMI'!E2172","v":0},{"$f":"'REPORTE PMI'!J2172","v":0},{"$f":"'REPORTE PMI'!G2172","v":0},null,null,null,{"$f":"'REPORTE PMI'!L2172","v":0},{"$f":"'REPORTE PMI'!M2172","v":0},0,null,null,0,null,null,"NO"]
[{"$f":"'REPORTE PMI'!B2173","v":0},{"$f":"'REPORTE PMI'!E2173","v":0},{"$f":"'REPORTE PMI'!J2173","v":0},{"$f":"'REPORTE PMI'!G2173","v":0},null,null,null,{"$f":"'REPORTE PMI'!L2173","v":0},{"$f":"'REPORTE PMI'!M2173","v":0},0,null,null,0,null,null,"NO"]
[{"$f":"'REPORTE PMI'!B2174","v":0},{"$f":"'REPORTE PMI'!E2174","v":0},{"$f":"'REPORTE PMI'!J2174","v":0},{"$f":"'REPORTE PMI'!G2174","v":0},null,null,null,{"$f":"'REPORTE PMI'!L2174","v":0},{"$f":"'REPORTE PMI'!M2174","v":0},0,null,null,0,null,null,"NO"]
[{"$f":"'REPORTE PMI'!B2175","v":0},{"$f":"'REPORTE PMI'!E2175","v":0},{"$f":"'REPORTE PMI'!J2175","v":0},{"$f":"'REPORTE PMI'!G2175","v":0},null,null,null,{"$f":"'REPORTE PMI'!L2175","v":0},{"$f":"'REPORTE PMI'!M2175","v":0},0,null,null,0,null,null,"NO"]
[{"$f":"'REPORTE PMI'!B2176","v":0},{"$f":"'REPORTE PMI'!E2176","v":0},{"$f":"'REPORTE PMI'!J2176","v":0},{"$f":"'REPORTE PMI'!G2176","v":0},null,null,null,{"$f":"'REPORTE PMI'!L2176","v":0},{"$f":"'REPORTE PMI'!M2176","v":0},0,null,null,0,null,null,"NO"]
[{"$f":"'REPORTE PMI'!B2177","v":0},{"$f":"'REPORTE PMI'!E2177","v":0},{"$f":"'REPORTE PMI'!J2177","v":0},{"$f":"'REPORTE PMI'!G2177","v":0},null,null,null,{"$f":"'REPORTE PMI'!L2177","v":0},{"$f":"'REPORTE PMI'!M2177","v":0},0,null,null,0,null,null,"NO"]
[{"$f":"'REPORTE PMI'!B2178","v":0},{"$f":"'REPORTE PMI'!E2178","v":0},{"$f":"'REPORTE PMI'!J2178","v":0},{"$f":"'REPORTE PMI'!G2178","v":0},null,null,null,{"$f":"'REPORTE PMI'!L2178","v":0},{"$f":"'REPORTE PMI'!M2178","v":0},0,null,null,0,null,null,"NO"]
[{"$f":"'REPORTE PMI'!B2179","v":0},{"$f":"'REPORTE PMI'!E2179","v":0},{"$f":"'REPORTE PMI'!J2179","v":0},{"$f":"'REPORTE PMI'!G2179","v":0},null,null,null,{"$f":"'REPORTE PMI'!L2179","v":0},{"$f":"'REPORTE PMI'!M2179","v":0},0,null,null,0,null,null,"NO"]
[{"$f":"'REPORTE PMI'!B2180","v":0},{"$f":"'REPORTE PMI'!E2180","v":0},{"$f":"'REPORTE PMI'!J2180","v":0},{"$f":"'REPORTE PMI'!G2180","v":0},null,null,null,{"$f":"'REPORTE PMI'!L2180","v":0},{"$f":"'REPORTE PMI'!M2180","v":0},{"$f":"IFERROR(I2189/H2189, 0)","v":0},null,null,{"$f":"H2189-I2189","v":0},null,null,{"$f":"IF(E2189=\"SI\",IF(J2189>0%,IF(K2189=\"SI\",IF(L2189=\"NO\",IF(N2189=\"SI\",IF(O2189=\"NO\",\"SI\",\"NO\"),\"NO\"),\"NO\"),\"NO\"),\"NO\"),\"NO\")","v":"NO"}]
[{"$f":"'REPORTE PMI'!B2181","v":0},{"$f":"'REPORTE PMI'!E2181","v":0},{"$f":"'REPORTE PMI'!J2181","v":0},{"$f":"'REPORTE PMI'!G2181","v":0},null,null,null,{"$f":"'REPORTE PMI'!L2181","v":0},{"$f":"'REPORTE PMI'!M2181","v":0},0,null,null,0,null,null,"NO"]
[{"$f":"'REPORTE PMI'!B2182","v":0},{"$f":"'REPORTE PMI'!E2182","v":0},{"$f":"'REPORTE PMI'!J2182","v":0},{"$f":"'REPORTE PMI'!G2182","v":0},null,null,null,{"$f":"'REPORTE PMI'!L2182","v":0},{"$f":"'REPORTE PMI'!M2182","v":0},0,null,null,0,null,null,"NO"]
[{"$f":"'REPORTE PMI'!B2183","v":0},{"$f":"'REPORTE PMI'!E2183","v":0},{"$f":"'REPORTE PMI'!J2183","v":0},{"$f":"'REPORTE PMI'!G2183","v":0},null,null,null,{"$f":"'REPORTE PMI'!L2183","v":0},{"$f":"'REPORTE PMI'!M2183","v":0},0,null,null,0,null,null,"NO"]
[{"$f":"'REPORTE PMI'!B2184","v":0},{"$f":"'REPORTE PMI'!E2184","v":0},{"$f":"'REPORTE PMI'!J2184","v":0},{"$f":"'REPORTE PMI'!G2184","v":0},null,null,null,{"$f":"'REPORTE PMI'!L2184","v":0},{"$f":"'REPORTE PMI'!M2184","v":0},0,null,null,0,null,null,"NO"]
[{"$f":"'REPORTE PMI'!B2185","v":0},{"$f":"'REPORTE PMI'!E2185","v":0},{"$f":"'REPORTE PMI'!J2185","v":0},{"$f":"'REPORTE PMI'!G2185","v":0},null,null,null,{"$f":"'REPORTE PMI'!L2185","v":0},{"$f":"'REPORTE PMI'!M2185","v":0},0,null,null,0,null,null,"NO"]
[{"$f":"'REPORTE PMI'!B2186","v":0},{"$f":"'REPORTE PMI'!E2186","v":0},{"$f":"'REPORTE PMI'!J2186","v":0},{"$f":"'REPORTE PMI'!G2186","v":0},null,null,null,{"$f":"'REPORTE PMI'!L2186","v":0},{"$f":"'REPORTE PMI'!M2186","v":0},0,null,null,0,null,null,"NO"]
[{"$f":"'REPORTE PMI'!B2187","v":0},{"$f":"'REPORTE PMI'!E2187","v":0},{"$f":"'REPORTE PMI'!J2187","v":0},{"$f":"'REPORTE PMI'!G2187","v":0},null,null,null,{"$f":"'REPORTE PMI'!L2187","v":0},{"$f":"'REPORTE PMI'!M2187","v":0},0,null,null,0,null,null,"NO"]
[{"$f":"'REPORTE PMI'!B2188","v":0},{"$f":"'REPORTE PMI'!E2188","v":0},{"$f":"'REPORTE PMI'!J2188","v":0},{"$f":"'REPORTE PMI'!G2188","v":0},null,null,null,{"$f":"'REPORTE PMI'!L2188","v":0},{"$f":"'REPORTE PMI'!M2188","v":0},0,null,null,0,null,null,"NO"]
[{"$f":"'REPORTE PMI'!B2189","v":0},{"$f":"'REPORTE PMI'!E2189","v":0},{"$f":"'REPORTE PMI'!J2189","v":0},{"$f":"'REPORTE PMI'!G2189","v":0},null,null,null,{"$f":"'REPORTE PMI'!L2189","v":0},{"$f":"'REPORTE PMI'!M2189","v":0},0,null,null,0,null,null,"NO"]
[{"$f":"'REPORTE PMI'!B2190","v":0},{"$f":"'REPORTE PMI'!E2190","v":0},{"$f":"'REPORTE PMI'!J2190","v":0},{"$f":"'REPORTE PMI'!G2190","v":0},null,null,null,{"$f":"'REPORTE PMI'!L2190","v":0},{"$f":"'REPORTE PMI'!M2190","v":0},0,null,null,0,null,null,"NO"]
[{"$f":"'REPORTE PMI'!B2191","v":0},{"$f":"'REPORTE PMI'!E2191","v":0},{"$f":"'REPORTE PMI'!J2191","v":0},{"$f":"'REPORTE PMI'!G2191","v":0},null,null,null,{"$f":"'REPORTE PMI'!L2191","v":0},{"$f":"'REPORTE PMI'!M2191","v":0},0,null,null,0,null,null,"NO"]
[{"$f":"'REPORTE PMI'!B2192","v":0},{"$f":"'REPORTE PMI'!E2192","v":0},{"$f":"'REPORTE PMI'!J2192","v":0},{"$f":"'REPORTE PMI'!G2192","v":0},null,null,null,{"$f":"'REPORTE PMI'!L2192","v":0},{"$f":"'REPORTE PMI'!M2192","v":0},0,null,null,0,null,null,"NO"]
[{"$f":"'REPORTE PMI'!B2193","v":0},{"$f":"'REPORTE PMI'!E2193","v":0},{"$f":"'REPORTE PMI'!J2193","v":0},{"$f":"'REPORTE PMI'!G2193","v":0},null,null,null,{"$f":"'REPORTE PMI'!L2193","v":0},{"$f":"'REPORTE PMI'!M2193","v":0},0,null,null,0,null,null,"NO"]
[{"$f":"'REPORTE PMI'!B2194","v":0},{"$f":"'REPORTE PMI'!E2194","v":0},{"$f":"'REPORTE PMI'!J2194","v":0},{"$f":"'REPORTE PMI'!G2194","v":0},null,null,null,{"$f":"'REPORTE PMI'!L2194","v":0},{"$f":"'REPORTE PMI'!M2194","v":0},0,null,null,0,null,null,"NO"]
[{"$f":"'REPORTE PMI'!B2195","v":0},{"$f":"'REPORTE PMI'!E2195","v":0},{"$f":"'REPORTE PMI'!J2195","v":0},{"$f":"'REPORTE PMI'!G2195","v":0},null,null,null,{"$f":"'REPORTE PMI'!L2195","v":0},{"$f":"'REPORTE PMI'!M2195","v":0},0,null,null,0,null,null,"NO"]
[{"$f":"'REPORTE PMI'!B2196","v":0},{"$f":"'REPORTE PMI'!E2196","v":0},{"$f":"'REPORTE PMI'!J2196","v":0},{"$f":"'REPORTE PMI'!G2196","v":0},null,null,null,{"$f":"'REPORTE PMI'!L2196","v":0},{"$f":"'REPORTE PMI'!M2196","v":0},0,null,null,0,null,null,"NO"]
[{"$f":"'REPORTE PMI'!B2197","v":0},{"$f":"'REPORTE PMI'!E2197","v":0},{"$f":"'REPORTE PMI'!J2197","v":0},{"$f":"'REPORTE PMI'!G2197","v":0},null,null,null,{"$f":"'REPORTE PMI'!L2197","v":0},{"$f":"'REPORTE PMI'!M2197","v":0},0,null,null,0,null,null,"NO"]
[{"$f":"'REPORTE PMI'!B2198","v":0},{"$f":"'REPORTE PMI'!E2198","v":0},{"$f":"'REPORTE PMI'!J2198","v":0},{"$f":"'REPORTE PMI'!G2198","v":0},null,null,null,{"$f":"'REPORTE PMI'!L2198","v":0},{"$f":"'REPORTE PMI'!M2198","v":0},0,null,null,0,null,null,"NO"]
[{"$f":"'REPORTE PMI'!B2199","v":0},{"$f":"'REPORTE PMI'!E2199","v":0},{"$f":"'REPORTE PMI'!J2199","v":0},{"$f":"'REPORTE PMI'!G2199","v":0},null,null,null,{"$f":"'REPORTE PMI'!L2199","v":0},{"$f":"'REPORTE PMI'!M2199","v":0},0,null,null,0,null,null,"NO"]
[{"$f":"'REPORTE PMI'!B2200","v":0},{"$f":"'REPORTE PMI'!E2200","v":0},{"$f":"'REPORTE PMI'!J2200","v":0},{"$f":"'REPORTE PMI'!G2200","v":0},null,null,null,{"$f":"'REPORTE PMI'!L2200","v":0},{"$f":"'REPORTE PMI'!M2200","v":0},0,null,null,0,null,null,"NO"]
[{"$f":"'REPORTE PMI'!B2201","v":0},{"$f":"'REPORTE PMI'!E2201","v":0},{"$f":"'REPORTE PMI'!J2201","v":0},{"$f":"'REPORTE PMI'!G2201","v":0},null,null,null,{"$f":"'REPORTE PMI'!L2201","v":0},{"$f":"'REPORTE PMI'!M2201","v":0},0,null,null,0,null,null,"NO"]
[{"$f":"'REPORTE PMI'!B2202","v":0},{"$f":"'REPORTE PMI'!E2202","v":0},{"$f":"'REPORTE PMI'!J2202","v":0},{"$f":"'REPORTE PMI'!G2202","v":0},null,null,null,{"$f":"'REPORTE PMI'!L2202","v":0},{"$f":"'REPORTE PMI'!M2202","v":0},0,null,null,0,null,null,"NO"]
[{"$f":"'REPORTE PMI'!B2203","v":0},{"$f":"'REPORTE PMI'!E2203","v":0},{"$f":"'REPORTE PMI'!J2203","v":0},{"$f":"'REPORTE PMI'!G2203","v":0},null,null,null,{"$f":"'REPORTE PMI'!L2203","v":0},{"$f":"'REPORTE PMI'!M2203","v":0},0,null,null,0,null,null,"NO"]
[{"$f":"'REPORTE PMI'!B2204","v":0},{"$f":"'REPORTE PMI'!E2204","v":0},{"$f":"'REPORTE PMI'!J2204","v":0},{"$f":"'REPORTE PMI'!G2204","v":0},null,null,null,{"$f":"'REPORTE PMI'!L2204","v":0},{"$f":"'REPORTE PMI'!M2204","v":0},0,null,null,0,null,null,"NO"]
[{"$f":"'REPORTE PMI'!B2205","v":0},{"$f":"'REPORTE PMI'!E2205","v":0},{"$f":"'REPORTE PMI'!J2205","v":0},{"$f":"'REPORTE PMI'!G2205","v":0},null,null,null,{"$f":"'REPORTE PMI'!L2205","v":0},{"$f":"'REPORTE PMI'!M2205","v":0},0,null,null,0,null,null,"NO"]
[{"$f":"'REPORTE PMI'!B2206","v":0},{"$f":"'REPORTE PMI'!E2206","v":0},{"$f":"'REPORTE PMI'!J2206","v":0},{"$f":"'REPORTE PMI'!G2206","v":0},null,null,null,{"$f":"'REPORTE PMI'!L2206","v":0},{"$f":"'REPORTE PMI'!M2206","v":0},0,null,null,0,null,null,"NO"]
[{"$f":"'REPORTE PMI'!B2207","v":0},{"$f":"'REPORTE PMI'!E2207","v":0},{"$f":"'REPORTE PMI'!J2207","v":0},{"$f":"'REPORTE PMI'!G2207","v":0},null,null,null,{"$f":"'REPORTE PMI'!L2207","v":0},{"$f":"'REPORTE PMI'!M2207","v":0},0,null,null,0,null,null,"NO"]
[{"$f":"'REPORTE PMI'!B2208","v":0},{"$f":"'REPORTE PMI'!E2208","v":0},{"$f":"'REPORTE PMI'!J2208","v":0},{"$f":"'REPORTE PMI'!G2208","v":0},null,null,null,{"$f":"'REPORTE PMI'!L2208","v":0},{"$f":"'REPORTE PMI'!M2208","v":0},0,null,null,0,null,null,"NO"]
[{"$f":"'REPORTE PMI'!B2209","v":0},{"$f":"'REPORTE PMI'!E2209","v":0},{"$f":"'REPORTE PMI'!J2209","v":0},{"$f":"'REPORTE PMI'!G2209","v":0},null,null,null,{"$f":"'REPORTE PMI'!L2209","v":0},{"$f":"'REPORTE PMI'!M2209","v":0},0,null,null,0,null,null,"NO"]
[{"$f":"'REPORTE PMI'!B2210","v":0},{"$f":"'REPORTE PMI'!E2210","v":0},{"$f":"'REPORTE PMI'!J2210","v":0},{"$f":"'REPORTE PMI'!G2210","v":0},null,null,null,{"$f":"'REPORTE PMI'!L2210","v":0},{"$f":"'REPORTE PMI'!M2210","v":0},0,null,null,0,null,null,"NO"]
[{"$f":"'REPORTE PMI'!B2211","v":0},{"$f":"'REPORTE PMI'!E2211","v":0},{"$f":"'REPORTE PMI'!J2211","v":0},{"$f":"'REPORTE PMI'!G2211","v":0},null,null,null,{"$f":"'REPORTE PMI'!L2211","v":0},{"$f":"'REPORTE PMI'!M2211","v":0},0,null,null,0,null,null,"NO"]
[{"$f":"'REPORTE PMI'!B2212","v":0},{"$f":"'REPORTE PMI'!E2212","v":0},{"$f":"'REPORTE PMI'!J2212","v":0},{"$f":"'REPORTE PMI'!G2212","v":0},null,null,null,{"$f":"'REPORTE PMI'!L2212","v":0},{"$f":"'REPORTE PMI'!M2212","v":0},0,null,null,0,null,null,"NO"]
[{"$f":"'REPORTE PMI'!B2213","v":0},{"$f":"'REPORTE PMI'!E2213","v":0},{"$f":"'REPORTE PMI'!J2213","v":0},{"$f":"'REPORTE PMI'!G2213","v":0},null,null,null,{"$f":"'REPORTE PMI'!L2213","v":0},{"$f":"'REPORTE PMI'!M2213","v":0},0,null,null,0,null,null,"NO"]
[{"$f":"'REPORTE PMI'!B2214","v":0},{"$f":"'REPORTE PMI'!E2214","v":0},{"$f":"'REPORTE PMI'!J2214","v":0},{"$f":"'REPORTE PMI'!G2214","v":0},null,null,null,{"$f":"'REPORTE PMI'!L2214","v":0},{"$f":"'REPORTE PMI'!M2214","v":0},0,null,null,0,null,null,"NO"]
[{"$f":"'REPORTE PMI'!B2215","v":0},{"$f":"'REPORTE PMI'!E2215","v":0},{"$f":"'REPORTE PMI'!J2215","v":0},{"$f":"'REPORTE PMI'!G2215","v":0},null,null,null,{"$f":"'REPORTE PMI'!L2215","v":0},{"$f":"'REPORTE PMI'!M2215","v":0},0,null,null,0,null,null,"NO"]
[{"$f":"'REPORTE PMI'!B2216","v":0},{"$f":"'REPORTE PMI'!E2216","v":0},{"$f":"'REPORTE PMI'!J2216","v":0},{"$f":"'REPORTE PMI'!G2216","v":0},null,null,null,{"$f":"'REPORTE PMI'!L2216","v":0},{"$f":"'REPORTE PMI'!M2216","v":0},0,null,null,0,null,null,"NO"]
[{"$f":"'REPORTE PMI'!B2217","v":0},{"$f":"'REPORTE PMI'!E2217","v":0},{"$f":"'REPORTE PMI'!J2217","v":0},{"$f":"'REPORTE PMI'!G2217","v":0},null,null,null,{"$f":"'REPORTE PMI'!L2217","v":0},{"$f":"'REPORTE PMI'!M2217","v":0},0,null,null,0,null,null,"NO"]
[{"$f":"'REPORTE PMI'!B2218","v":0},{"$f":"'REPORTE PMI'!E2218","v":0},{"$f":"'REPORTE PMI'!J2218","v":0},{"$f":"'REPORTE PMI'!G2218","v":0},null,null,null,{"$f":"'REPORTE PMI'!L2218","v":0},{"$f":"'REPORTE PMI'!M2218","v":0},0,null,null,0,null,null,"NO"]
[{"$f":"'REPORTE PMI'!B2219","v":0},{"$f":"'REPORTE PMI'!E2219","v":0},{"$f":"'REPORTE PMI'!J2219","v":0},{"$f":"'REPORTE PMI'!G2219","v":0},null,null,null,{"$f":"'REPORTE PMI'!L2219","v":0},{"$f":"'REPORTE PMI'!M2219","v":0},0,null,null,0,null,null,"NO"]
[{"$f":"'REPORTE PMI'!B2220","v":0},{"$f":"'REPORTE PMI'!E2220","v":0},{"$f":"'REPORTE PMI'!J2220","v":0},{"$f":"'REPORTE PMI'!G2220","v":0},null,null,null,{"$f":"'REPORTE PMI'!L2220","v":0},{"$f":"'REPORTE PMI'!M2220","v":0},0,null,null,0,null,null,"NO"]
[{"$f":"'REPORTE PMI'!B2221","v":0},{"$f":"'REPORTE PMI'!E2221","v":0},{"$f":"'REPORTE PMI'!J2221","v":0},{"$f":"'REPORTE PMI'!G2221","v":0},null,null,null,{"$f":"'REPORTE PMI'!L2221","v":0},{"$f":"'REPORTE PMI'!M2221","v":0},0,null,null,0,null,null,"NO"]
[{"$f":"'REPORTE PMI'!B2222","v":0},{"$f":"'REPORTE PMI'!E2222","v":0},{"$f":"'REPORTE PMI'!J2222","v":0},{"$f":"'REPORTE PMI'!G2222","v":0},null,null,null,{"$f":"'REPORTE PMI'!L2222","v":0},{"$f":"'REPORTE PMI'!M2222","v":0},0,null,null,0,null,null,"NO"]
[{"$f":"'REPORTE PMI'!B2223","v":0},{"$f":"'REPORTE PMI'!E2223","v":0},{"$f":"'REPORTE PMI'!J2223","v":0},{"$f":"'REPORTE PMI'!G2223","v":0},null,null,null,{"$f":"'REPORTE PMI'!L2223","v":0},{"$f":"'REPORTE PMI'!M2223","v":0},0,null,null,0,null,null,"NO"]
[{"$f":"'REPORTE PMI'!B2224","v":0},{"$f":"'REPORTE PMI'!E2224","v":0},{"$f":"'REPORTE PMI'!J2224","v":0},{"$f":"'REPORTE PMI'!G2224","v":0},null,null,null,{"$f":"'REPORTE PMI'!L2224","v":0},{"$f":"'REPORTE PMI'!M2224","v":0},0,null,null,0,null,null,"NO"]
[{"$f":"'REPORTE PMI'!B2225","v":0},{"$f":"'REPORTE PMI'!E2225","v":0},{"$f":"'REPORTE PMI'!J2225","v":0},{"$f":"'REPORTE PMI'!G2225","v":0},null,null,null,{"$f":"'REPORTE PMI'!L2225","v":0},{"$f":"'REPORTE PMI'!M2225","v":0},0,null,null,0,null,null,"NO"]
[{"$f":"'REPORTE PMI'!B2226","v":0},{"$f":"'REPORTE PMI'!E2226","v":0},{"$f":"'REPORTE PMI'!J2226","v":0},{"$f":"'REPORTE PMI'!G2226","v":0},null,null,null,{"$f":"'REPORTE PMI'!L2226","v":0},{"$f":"'REPORTE PMI'!M2226","v":0},0,null,null,0,null,null,"NO"]
[{"$f":"'REPORTE PMI'!B2227","v":0},{"$f":"'REPORTE PMI'!E2227","v":0},{"$f":"'REPORTE PMI'!J2227","v":0},{"$f":"'REPORTE PMI'!G2227","v":0},null,null,null,{"$f":"'REPORTE PMI'!L2227","v":0},{"$f":"'REPORTE PMI'!M2227","v":0},0,null,null,0,null,null,"NO"]
[{"$f":"'REPORTE PMI'!B2228","v":0},{"$f":"'REPORTE PMI'!E2228","v":0},{"$f":"'REPORTE PMI'!J2228","v":0},{"$f":"'REPORTE PMI'!G2228","v":0},null,null,null,{"$f":"'REPORTE PMI'!L2228","v":0},{"$f":"'REPORTE PMI'!M2228","v":0},0,null,null,0,null,null,"NO"]
[{"$f":"'REPORTE PMI'!B2229","v":0},{"$f":"'REPORTE PMI'!E2229","v":0},{"$f":"'REPORTE PMI'!J2229","v":0},{"$f":"'REPORTE PMI'!G2229","v":0},null,null,null,{"$f":"'REPORTE PMI'!L2229","v":0},{"$f":"'REPORTE PMI'!M2229","v":0},0,null,null,0,null,null,"NO"]
[{"$f":"'REPORTE PMI'!B2230","v":0},{"$f":"'REPORTE PMI'!E2230","v":0},{"$f":"'REPORTE PMI'!J2230","v":0},{"$f":"'REPORTE PMI'!G2230","v":0},null,null,null,{"$f":"'REPORTE PMI'!L2230","v":0},{"$f":"'REPORTE PMI'!M2230","v":0},0,null,null,0,null,null,"NO"]
[{"$f":"'REPORTE PMI'!B2231","v":0},{"$f":"'REPORTE PMI'!E2231","v":0},{"$f":"'REPORTE PMI'!J2231","v":0},{"$f":"'REPORTE PMI'!G2231","v":0},null,null,null,{"$f":"'REPORTE PMI'!L2231","v":0},{"$f":"'REPORTE PMI'!M2231","v":0},0,null,null,0,null,null,"NO"]
[{"$f":"'REPORTE PMI'!B2232","v":0},{"$f":"'REPORTE PMI'!E2232","v":0},{"$f":"'REPORTE PMI'!J2232","v":0},{"$f":"'REPORTE PMI'!G2232","v":0},null,null,null,{"$f":"'REPORTE PMI'!L2232","v":0},{"$f":"'REPORTE PMI'!M2232","v":0},0,null,null,0,null,null,"NO"]
[{"$f":"'REPORTE PMI'!B2233","v":0},{"$f":"'REPORTE PMI'!E2233","v":0},{"$f":"'REPORTE PMI'!J2233","v":0},{"$f":"'REPORTE PMI'!G2233","v":0},null,null,null,{"$f":"'REPORTE PMI'!L2233","v":0},{"$f":"'REPORTE PMI'!M2233","v":0},0,null,null,0,null,null,"NO"]
[{"$f":"'REPORTE PMI'!B2234","v":0},{"$f":"'REPORTE PMI'!E2234","v":0},{"$f":"'REPORTE PMI'!J2234","v":0},{"$f":"'REPORTE PMI'!G2234","v":0},null,null,null,{"$f":"'REPORTE PMI'!L2234","v":0},{"$f":"'REPORTE PMI'!M2234","v":0},0,null,null,0,null,null,"NO"]
[{"$f":"'REPORTE PMI'!B2235","v":0},{"$f":"'REPORTE PMI'!E2235","v":0},{"$f":"'REPORTE PMI'!J2235","v":0},{"$f":"'REPORTE PMI'!G2235","v":0},null,null,null,{"$f":"'REPORTE PMI'!L2235","v":0},{"$f":"'REPORTE PMI'!M2235","v":0},0,null,null,0,null,null,"NO"]
[{"$f":"'REPORTE PMI'!B2236","v":0},{"$f":"'REPORTE PMI'!E2236","v":0},{"$f":"'REPORTE PMI'!J2236","v":0},{"$f":"'REPORTE PMI'!G2236","v":0},null,null,null,{"$f":"'REPORTE PMI'!L2236","v":0},{"$f":"'REPORTE PMI'!M2236","v":0},0,null,null,0,null,null,"NO"]
[{"$f":"'REPORTE PMI'!B2237","v":0},{"$f":"'REPORTE PMI'!E2237","v":0},{"$f":"'REPORTE PMI'!J2237","v":0},{"$f":"'REPORTE PMI'!G2237","v":0},null,null,null,{"$f":"'REPORTE PMI'!L2237","v":0},{"$f":"'REPORTE PMI'!M2237","v":0},0,null,null,0,null,null,"NO"]
[{"$f":"'REPORTE PMI'!B2238","v":0},{"$f":"'REPORTE PMI'!E2238","v":0},{"$f":"'REPORTE PMI'!J2238","v":0},{"$f":"'REPORTE PMI'!G2238","v":0},null,null,null,{"$f":"'REPORTE PMI'!L2238","v":0},{"$f":"'REPORTE PMI'!M2238","v":0},0,null,null,0,null,null,"NO"]
[{"$f":"'REPORTE PMI'!B2239","v":0},{"$f":"'REPORTE PMI'!E2239","v":0},{"$f":"'REPORTE PMI'!J2239","v":0},{"$f":"'REPORTE PMI'!G2239","v":0},null,null,null,{"$f":"'REPORTE PMI'!L2239","v":0},{"$f":"'REPORTE PMI'!M2239","v":0},0,null,null,0,null,null,"NO"]
[{"$f":"'REPORTE PMI'!B2240","v":0},{"$f":"'REPORTE PMI'!E2240","v":0},{"$f":"'REPORTE PMI'!J2240","v":0},{"$f":"'REPORTE PMI'!G2240","v":0},null,null,null,{"$f":"'REPORTE PMI'!L2240","v":0},{"$f":"'REPORTE PMI'!M2240","v":0},0,null,null,0,null,null,"NO"]
[{"$f":"'REPORTE PMI'!B2241","v":0},{"$f":"'REPORTE PMI'!E2241","v":0},{"$f":"'REPORTE PMI'!J2241","v":0},{"$f":"'REPORTE PMI'!G2241","v":0},null,null,null,{"$f":"'REPORTE PMI'!L2241","v":0},{"$f":"'REPORTE PMI'!M2241","v":0},0,null,null,0,null,null,"NO"]
[{"$f":"'REPORTE PMI'!B2242","v":0},{"$f":"'REPORTE PMI'!E2242","v":0},{"$f":"'REPORTE PMI'!J2242","v":0},{"$f":"'REPORTE PMI'!G2242","v":0},null,null,null,{"$f":"'REPORTE PMI'!L2242","v":0},{"$f":"'REPORTE PMI'!M2242","v":0},0,null,null,0,null,null,"NO"]
[{"$f":"'REPORTE PMI'!B2243","v":0},{"$f":"'REPORTE PMI'!E2243","v":0},{"$f":"'REPORTE PMI'!J2243","v":0},{"$f":"'REPORTE PMI'!G2243","v":0},null,null,null,{"$f":"'REPORTE PMI'!L2243","v":0},{"$f":"'REPORTE PMI'!M2243","v":0},0,null,null,0,null,null,"NO"]
[{"$f":"'REPORTE PMI'!B2244","v":0},{"$f":"'REPORTE PMI'!E2244","v":0},{"$f":"'REPORTE PMI'!J2244","v":0},{"$f":"'REPORTE PMI'!G2244","v":0},null,null,null,{"$f":"'REPORTE PMI'!L2244","v":0},{"$f":"'REPORTE PMI'!M2244","v":0},{"$f":"IFERROR(I2253/H2253, 0)","v":0},null,null,{"$f":"H2253-I2253","v":0},null,null,{"$f":"IF(E2253=\"SI\",IF(J2253>0%,IF(K2253=\"SI\",IF(L2253=\"NO\",IF(N2253=\"SI\",IF(O2253=\"NO\",\"SI\",\"NO\"),\"NO\"),\"NO\"),\"NO\"),\"NO\"),\"NO\")","v":"NO"}]
[{"$f":"'REPORTE PMI'!B2245","v":0},{"$f":"'REPORTE PMI'!E2245","v":0},{"$f":"'REPORTE PMI'!J2245","v":0},{"$f":"'REPORTE PMI'!G2245","v":0},null,null,null,{"$f":"'REPORTE PMI'!L2245","v":0},{"$f":"'REPORTE PMI'!M2245","v":0},0,null,null,0,null,null,"NO"]
[{"$f":"'REPORTE PMI'!B2246","v":0},{"$f":"'REPORTE PMI'!E2246","v":0},{"$f":"'REPORTE PMI'!J2246","v":0},{"$f":"'REPORTE PMI'!G2246","v":0},null,null,null,{"$f":"'REPORTE PMI'!L2246","v":0},{"$f":"'REPORTE PMI'!M2246","v":0},0,null,null,0,null,null,"NO"]
[{"$f":"'REPORTE PMI'!B2247","v":0},{"$f":"'REPORTE PMI'!E2247","v":0},{"$f":"'REPORTE PMI'!J2247","v":0},{"$f":"'REPORTE PMI'!G2247","v":0},null,null,null,{"$f":"'REPORTE PMI'!L2247","v":0},{"$f":"'REPORTE PMI'!M2247","v":0},0,null,null,0,null,null,"NO"]
[{"$f":"'REPORTE PMI'!B2248","v":0},{"$f":"'REPORTE PMI'!E2248","v":0},{"$f":"'REPORTE PMI'!J2248","v":0},{"$f":"'REPORTE PMI'!G2248","v":0},null,null,null,{"$f":"'REPORTE PMI'!L2248","v":0},{"$f":"'REPORTE PMI'!M2248","v":0},0,null,null,0,null,null,"NO"]
[{"$f":"'REPORTE PMI'!B2249","v":0},{"$f":"'REPORTE PMI'!E2249","v":0},{"$f":"'REPORTE PMI'!J2249","v":0},{"$f":"'REPORTE PMI'!G2249","v":0},null,null,null,{"$f":"'REPORTE PMI'!L2249","v":0},{"$f":"'REPORTE PMI'!M2249","v":0},0,null,null,0,null,null,"NO"]
[{"$f":"'REPORTE PMI'!B2250","v":0},{"$f":"'REPORTE PMI'!E2250","v":0},{"$f":"'REPORTE PMI'!J2250","v":0},{"$f":"'REPORTE PMI'!G2250","v":0},null,null,null,{"$f":"'REPORTE PMI'!L2250","v":0},{"$f":"'REPORTE PMI'!M2250","v":0},0,null,null,0,null,null,"NO"]
[{"$f":"'REPORTE PMI'!B2251","v":0},{"$f":"'REPORTE PMI'!E2251","v":0},{"$f":"'REPORTE PMI'!J2251","v":0},{"$f":"'REPORTE PMI'!G2251","v":0},null,null,null,{"$f":"'REPORTE PMI'!L2251","v":0},{"$f":"'REPORTE PMI'!M2251","v":0},0,null,null,0,null,null,"NO"]
[{"$f":"'REPORTE PMI'!B2252","v":0},{"$f":"'REPORTE PMI'!E2252","v":0},{"$f":"'REPORTE PMI'!J2252","v":0},{"$f":"'REPORTE PMI'!G2252","v":0},null,null,null,{"$f":"'REPORTE PMI'!L2252","v":0},{"$f":"'REPORTE PMI'!M2252","v":0},0,null,null,0,null,null,"NO"]
[{"$f":"'REPORTE PMI'!B2253","v":0},{"$f":"'REPORTE PMI'!E2253","v":0},{"$f":"'REPORTE PMI'!J2253","v":0},{"$f":"'REPORTE PMI'!G2253","v":0},null,null,null,{"$f":"'REPORTE PMI'!L2253","v":0},{"$f":"'REPORTE PMI'!M2253","v":0},0,null,null,0,null,null,"NO"]
[{"$f":"'REPORTE PMI'!B2254","v":0},{"$f":"'REPORTE PMI'!E2254","v":0},{"$f":"'REPORTE PMI'!J2254","v":0},{"$f":"'REPORTE PMI'!G2254","v":0},null,null,null,{"$f":"'REPORTE PMI'!L2254","v":0},{"$f":"'REPORTE PMI'!M2254","v":0},0,null,null,0,null,null,"NO"]
[{"$f":"'REPORTE PMI'!B2255","v":0},{"$f":"'REPORTE PMI'!E2255","v":0},{"$f":"'REPORTE PMI'!J2255","v":0},{"$f":"'REPORTE PMI'!G2255","v":0},null,null,null,{"$f":"'REPORTE PMI'!L2255","v":0},{"$f":"'REPORTE PMI'!M2255","v":0},0,null,null,0,null,null,"NO"]
[{"$f":"'REPORTE PMI'!B2256","v":0},{"$f":"'REPORTE PMI'!E2256","v":0},{"$f":"'REPORTE PMI'!J2256","v":0},{"$f":"'REPORTE PMI'!G2256","v":0},null,null,null,{"$f":"'REPORTE PMI'!L2256","v":0},{"$f":"'REPORTE PMI'!M2256","v":0},0,null,null,0,null,null,"NO"]
[{"$f":"'REPORTE PMI'!B2257","v":0},{"$f":"'REPORTE PMI'!E2257","v":0},{"$f":"'REPORTE PMI'!J2257","v":0},{"$f":"'REPORTE PMI'!G2257","v":0},null,null,null,{"$f":"'REPORTE PMI'!L2257","v":0},{"$f":"'REPORTE PMI'!M2257","v":0},0,null,null,0,null,null,"NO"]
[{"$f":"'REPORTE PMI'!B2258","v":0},{"$f":"'REPORTE PMI'!E2258","v":0},{"$f":"'REPORTE PMI'!J2258","v":0},{"$f":"'REPORTE PMI'!G2258","v":0},null,null,null,{"$f":"'REPORTE PMI'!L2258","v":0},{"$f":"'REPORTE PMI'!M2258","v":0},0,null,null,0,null,null,"NO"]
[{"$f":"'REPORTE PMI'!B2259","v":0},{"$f":"'REPORTE PMI'!E2259","v":0},{"$f":"'REPORTE PMI'!J2259","v":0},{"$f":"'REPORTE PMI'!G2259","v":0},null,null,null,{"$f":"'REPORTE PMI'!L2259","v":0},{"$f":"'REPORTE PMI'!M2259","v":0},0,null,null,0,null,null,"NO"]
[{"$f":"'REPORTE PMI'!B2260","v":0},{"$f":"'REPORTE PMI'!E2260","v":0},{"$f":"'REPORTE PMI'!J2260","v":0},{"$f":"'REPORTE PMI'!G2260","v":0},null,null,null,{"$f":"'REPORTE PMI'!L2260","v":0},{"$f":"'REPORTE PMI'!M2260","v":0},0,null,null,0,null,null,"NO"]
[{"$f":"'REPORTE PMI'!B2261","v":0},{"$f":"'REPORTE PMI'!E2261","v":0},{"$f":"'REPORTE PMI'!J2261","v":0},{"$f":"'REPORTE PMI'!G2261","v":0},null,null,null,{"$f":"'REPORTE PMI'!L2261","v":0},{"$f":"'REPORTE PMI'!M2261","v":0},0,null,null,0,null,null,"NO"]
[{"$f":"'REPORTE PMI'!B2262","v":0},{"$f":"'REPORTE PMI'!E2262","v":0},{"$f":"'REPORTE PMI'!J2262","v":0},{"$f":"'REPORTE PMI'!G2262","v":0},null,null,null,{"$f":"'REPORTE PMI'!L2262","v":0},{"$f":"'REPORTE PMI'!M2262","v":0},0,null,null,0,null,null,"NO"]
[{"$f":"'REPORTE PMI'!B2263","v":0},{"$f":"'REPORTE PMI'!E2263","v":0},{"$f":"'REPORTE PMI'!J2263","v":0},{"$f":"'REPORTE PMI'!G2263","v":0},null,null,null,{"$f":"'REPORTE PMI'!L2263","v":0},{"$f":"'REPORTE PMI'!M2263","v":0},0,null,null,0,null,null,"NO"]
[{"$f":"'REPORTE PMI'!B2264","v":0},{"$f":"'REPORTE PMI'!E2264","v":0},{"$f":"'REPORTE PMI'!J2264","v":0},{"$f":"'REPORTE PMI'!G2264","v":0},null,null,null,{"$f":"'REPORTE PMI'!L2264","v":0},{"$f":"'REPORTE PMI'!M2264","v":0},0,null,null,0,null,null,"NO"]
[{"$f":"'REPORTE PMI'!B2265","v":0},{"$f":"'REPORTE PMI'!E2265","v":0},{"$f":"'REPORTE PMI'!J2265","v":0},{"$f":"'REPORTE PMI'!G2265","v":0},null,null,null,{"$f":"'REPORTE PMI'!L2265","v":0},{"$f":"'REPORTE PMI'!M2265","v":0},0,null,null,0,null,null,"NO"]
[{"$f":"'REPORTE PMI'!B2266","v":0},{"$f":"'REPORTE PMI'!E2266","v":0},{"$f":"'REPORTE PMI'!J2266","v":0},{"$f":"'REPORTE PMI'!G2266","v":0},null,null,null,{"$f":"'REPORTE PMI'!L2266","v":0},{"$f":"'REPORTE PMI'!M2266","v":0},0,null,null,0,null,null,"NO"]
[{"$f":"'REPORTE PMI'!B2267","v":0},{"$f":"'REPORTE PMI'!E2267","v":0},{"$f":"'REPORTE PMI'!J2267","v":0},{"$f":"'REPORTE PMI'!G2267","v":0},null,null,null,{"$f":"'REPORTE PMI'!L2267","v":0},{"$f":"'REPORTE PMI'!M2267","v":0},0,null,null,0,null,null,"NO"]
[{"$f":"'REPORTE PMI'!B2268","v":0},{"$f":"'REPORTE PMI'!E2268","v":0},{"$f":"'REPORTE PMI'!J2268","v":0},{"$f":"'REPORTE PMI'!G2268","v":0},null,null,null,{"$f":"'REPORTE PMI'!L2268","v":0},{"$f":"'REPORTE PMI'!M2268","v":0},0,null,null,0,null,null,"NO"]
[{"$f":"'REPORTE PMI'!B2269","v":0},{"$f":"'REPORTE PMI'!E2269","v":0},{"$f":"'REPORTE PMI'!J2269","v":0},{"$f":"'REPORTE PMI'!G2269","v":0},null,null,null,{"$f":"'REPORTE PMI'!L2269","v":0},{"$f":"'REPORTE PMI'!M2269","v":0},0,null,null,0,null,null,"NO"]
[{"$f":"'REPORTE PMI'!B2270","v":0},{"$f":"'REPORTE PMI'!E2270","v":0},{"$f":"'REPORTE PMI'!J2270","v":0},{"$f":"'REPORTE PMI'!G2270","v":0},null,null,null,{"$f":"'REPORTE PMI'!L2270","v":0},{"$f":"'REPORTE PMI'!M2270","v":0},0,null,null,0,null,null,"NO"]
[{"$f":"'REPORTE PMI'!B2271","v":0},{"$f":"'REPORTE PMI'!E2271","v":0},{"$f":"'REPORTE PMI'!J2271","v":0},{"$f":"'REPORTE PMI'!G2271","v":0},null,null,null,{"$f":"'REPORTE PMI'!L2271","v":0},{"$f":"'REPORTE PMI'!M2271","v":0},0,null,null,0,null,null,"NO"]
[{"$f":"'REPORTE PMI'!B2272","v":0},{"$f":"'REPORTE PMI'!E2272","v":0},{"$f":"'REPORTE PMI'!J2272","v":0},{"$f":"'REPORTE PMI'!G2272","v":0},null,null,null,{"$f":"'REPORTE PMI'!L2272","v":0},{"$f":"'REPORTE PMI'!M2272","v":0},0,null,null,0,null,null,"NO"]
[{"$f":"'REPORTE PMI'!B2273","v":0},{"$f":"'REPORTE PMI'!E2273","v":0},{"$f":"'REPORTE PMI'!J2273","v":0},{"$f":"'REPORTE PMI'!G2273","v":0},null,null,null,{"$f":"'REPORTE PMI'!L2273","v":0},{"$f":"'REPORTE PMI'!M2273","v":0},0,null,null,0,null,null,"NO"]
[{"$f":"'REPORTE PMI'!B2274","v":0},{"$f":"'REPORTE PMI'!E2274","v":0},{"$f":"'REPORTE PMI'!J2274","v":0},{"$f":"'REPORTE PMI'!G2274","v":0},null,null,null,{"$f":"'REPORTE PMI'!L2274","v":0},{"$f":"'REPORTE PMI'!M2274","v":0},0,null,null,0,null,null,"NO"]
[{"$f":"'REPORTE PMI'!B2275","v":0},{"$f":"'REPORTE PMI'!E2275","v":0},{"$f":"'REPORTE PMI'!J2275","v":0},{"$f":"'REPORTE PMI'!G2275","v":0},null,null,null,{"$f":"'REPORTE PMI'!L2275","v":0},{"$f":"'REPORTE PMI'!M2275","v":0},0,null,null,0,null,null,"NO"]
[{"$f":"'REPORTE PMI'!B2276","v":0},{"$f":"'REPORTE PMI'!E2276","v":0},{"$f":"'REPORTE PMI'!J2276","v":0},{"$f":"'REPORTE PMI'!G2276","v":0},null,null,null,{"$f":"'REPORTE PMI'!L2276","v":0},{"$f":"'REPORTE PMI'!M2276","v":0},0,null,null,0,null,null,"NO"]
[{"$f":"'REPORTE PMI'!B2277","v":0},{"$f":"'REPORTE PMI'!E2277","v":0},{"$f":"'REPORTE PMI'!J2277","v":0},{"$f":"'REPORTE PMI'!G2277","v":0},null,null,null,{"$f":"'REPORTE PMI'!L2277","v":0},{"$f":"'REPORTE PMI'!M2277","v":0},0,null,null,0,null,null,"NO"]
[{"$f":"'REPORTE PMI'!B2278","v":0},{"$f":"'REPORTE PMI'!E2278","v":0},{"$f":"'REPORTE PMI'!J2278","v":0},{"$f":"'REPORTE PMI'!G2278","v":0},null,null,null,{"$f":"'REPORTE PMI'!L2278","v":0},{"$f":"'REPORTE PMI'!M2278","v":0},0,null,null,0,null,null,"NO"]
[{"$f":"'REPORTE PMI'!B2279","v":0},{"$f":"'REPORTE PMI'!E2279","v":0},{"$f":"'REPORTE PMI'!J2279","v":0},{"$f":"'REPORTE PMI'!G2279","v":0},null,null,null,{"$f":"'REPORTE PMI'!L2279","v":0},{"$f":"'REPORTE PMI'!M2279","v":0},0,null,null,0,null,null,"NO"]
[{"$f":"'REPORTE PMI'!B2280","v":0},{"$f":"'REPORTE PMI'!E2280","v":0},{"$f":"'REPORTE PMI'!J2280","v":0},{"$f":"'REPORTE PMI'!G2280","v":0},null,null,null,{"$f":"'REPORTE PMI'!L2280","v":0},{"$f":"'REPORTE PMI'!M2280","v":0},0,null,null,0,null,null,"NO"]
[{"$f":"'REPORTE PMI'!B2281","v":0},{"$f":"'REPORTE PMI'!E2281","v":0},{"$f":"'REPORTE PMI'!J2281","v":0},{"$f":"'REPORTE PMI'!G2281","v":0},null,null,null,{"$f":"'REPORTE PMI'!L2281","v":0},{"$f":"'REPORTE PMI'!M2281","v":0},0,null,null,0,null,null,"NO"]
[{"$f":"'REPORTE PMI'!B2282","v":0},{"$f":"'REPORTE PMI'!E2282","v":0},{"$f":"'REPORTE PMI'!J2282","v":0},{"$f":"'REPORTE PMI'!G2282","v":0},null,null,null,{"$f":"'REPORTE PMI'!L2282","v":0},{"$f":"'REPORTE PMI'!M2282","v":0},0,null,null,0,null,null,"NO"]
[{"$f":"'REPORTE PMI'!B2283","v":0},{"$f":"'REPORTE PMI'!E2283","v":0},{"$f":"'REPORTE PMI'!J2283","v":0},{"$f":"'REPORTE PMI'!G2283","v":0},null,null,null,{"$f":"'REPORTE PMI'!L2283","v":0},{"$f":"'REPORTE PMI'!M2283","v":0},0,null,null,0,null,null,"NO"]
[{"$f":"'REPORTE PMI'!B2284","v":0},{"$f":"'REPORTE PMI'!E2284","v":0},{"$f":"'REPORTE PMI'!J2284","v":0},{"$f":"'REPORTE PMI'!G2284","v":0},null,null,null,{"$f":"'REPORTE PMI'!L2284","v":0},{"$f":"'REPORTE PMI'!M2284","v":0},0,null,null,0,null,null,"NO"]
[{"$f":"'REPORTE PMI'!B2285","v":0},{"$f":"'REPORTE PMI'!E2285","v":0},{"$f":"'REPORTE PMI'!J2285","v":0},{"$f":"'REPORTE PMI'!G2285","v":0},null,null,null,{"$f":"'REPORTE PMI'!L2285","v":0},{"$f":"'REPORTE PMI'!M2285","v":0},0,null,null,0,null,null,"NO"]
[{"$f":"'REPORTE PMI'!B2286","v":0},{"$f":"'REPORTE PMI'!E2286","v":0},{"$f":"'REPORTE PMI'!J2286","v":0},{"$f":"'REPORTE PMI'!G2286","v":0},null,null,null,{"$f":"'REPORTE PMI'!L2286","v":0},{"$f":"'REPORTE PMI'!M2286","v":0},0,null,null,0,null,null,"NO"]
[{"$f":"'REPORTE PMI'!B2287","v":0},{"$f":"'REPORTE PMI'!E2287","v":0},{"$f":"'REPORTE PMI'!J2287","v":0},{"$f":"'REPORTE PMI'!G2287","v":0},null,null,null,{"$f":"'REPORTE PMI'!L2287","v":0},{"$f":"'REPORTE PMI'!M2287","v":0},0,null,null,0,null,null,"NO"]
[{"$f":"'REPORTE PMI'!B2288","v":0},{"$f":"'REPORTE PMI'!E2288","v":0},{"$f":"'REPORTE PMI'!J2288","v":0},{"$f":"'REPORTE PMI'!G2288","v":0},null,null,null,{"$f":"'REPORTE PMI'!L2288","v":0},{"$f":"'REPORTE PMI'!M2288","v":0},0,null,null,0,null,null,"NO"]
[{"$f":"'REPORTE PMI'!B2289","v":0},{"$f":"'REPORTE PMI'!E2289","v":0},{"$f":"'REPORTE PMI'!J2289","v":0},{"$f":"'REPORTE PMI'!G2289","v":0},null,null,null,{"$f":"'REPORTE PMI'!L2289","v":0},{"$f":"'REPORTE PMI'!M2289","v":0},0,null,null,0,null,null,"NO"]
[{"$f":"'REPORTE PMI'!B2290","v":0},{"$f":"'REPORTE PMI'!E2290","v":0},{"$f":"'REPORTE PMI'!J2290","v":0},{"$f":"'REPORTE PMI'!G2290","v":0},null,null,null,{"$f":"'REPORTE PMI'!L2290","v":0},{"$f":"'REPORTE PMI'!M2290","v":0},0,null,null,0,null,null,"NO"]
[{"$f":"'REPORTE PMI'!B2291","v":0},{"$f":"'REPORTE PMI'!E2291","v":0},{"$f":"'REPORTE PMI'!J2291","v":0},{"$f":"'REPORTE PMI'!G2291","v":0},null,null,null,{"$f":"'REPORTE PMI'!L2291","v":0},{"$f":"'REPORTE PMI'!M2291","v":0},0,null,null,0,null,null,"NO"]
[{"$f":"'REPORTE PMI'!B2292","v":0},{"$f":"'REPORTE PMI'!E2292","v":0},{"$f":"'REPORTE PMI'!J2292","v":0},{"$f":"'REPORTE PMI'!G2292","v":0},null,null,null,{"$f":"'REPORTE PMI'!L2292","v":0},{"$f":"'REPORTE PMI'!M2292","v":0},0,null,null,0,null,null,"NO"]
[{"$f":"'REPORTE PMI'!B2293","v":0},{"$f":"'REPORTE PMI'!E2293","v":0},{"$f":"'REPORTE PMI'!J2293","v":0},{"$f":"'REPORTE PMI'!G2293","v":0},null,null,null,{"$f":"'REPORTE PMI'!L2293","v":0},{"$f":"'REPORTE PMI'!M2293","v":0},0,null,null,0,null,null,"NO"]
[{"$f":"'REPORTE PMI'!B2294","v":0},{"$f":"'REPORTE PMI'!E2294","v":0},{"$f":"'REPORTE PMI'!J2294","v":0},{"$f":"'REPORTE PMI'!G2294","v":0},null,null,null,{"$f":"'REPORTE PMI'!L2294","v":0},{"$f":"'REPORTE PMI'!M2294","v":0},0,null,null,0,null,null,"NO"]
[{"$f":"'REPORTE PMI'!B2295","v":0},{"$f":"'REPORTE PMI'!E2295","v":0},{"$f":"'REPORTE PMI'!J2295","v":0},{"$f":"'REPORTE PMI'!G2295","v":0},null,null,null,{"$f":"'REPORTE PMI'!L2295","v":0},{"$f":"'REPORTE PMI'!M2295","v":0},0,null,null,0,null,null,"NO"]
[{"$f":"'REPORTE PMI'!B2296","v":0},{"$f":"'REPORTE PMI'!E2296","v":0},{"$f":"'REPORTE PMI'!J2296","v":0},{"$f":"'REPORTE PMI'!G2296","v":0},null,null,null,{"$f":"'REPORTE PMI'!L2296","v":0},{"$f":"'REPORTE PMI'!M2296","v":0},0,null,null,0,null,null,"NO"]
[{"$f":"'REPORTE PMI'!B2297","v":0},{"$f":"'REPORTE PMI'!E2297","v":0},{"$f":"'REPORTE PMI'!J2297","v":0},{"$f":"'REPORTE PMI'!G2297","v":0},null,null,null,{"$f":"'REPORTE PMI'!L2297","v":0},{"$f":"'REPORTE PMI'!M2297","v":0},0,null,null,0,null,null,"NO"]
[{"$f":"'REPORTE PMI'!B2298","v":0},{"$f":"'REPORTE PMI'!E2298","v":0},{"$f":"'REPORTE PMI'!J2298","v":0},{"$f":"'REPORTE PMI'!G2298","v":0},null,null,null,{"$f":"'REPORTE PMI'!L2298","v":0},{"$f":"'REPORTE PMI'!M2298","v":0},0,null,null,0,null,null,"NO"]
[{"$f":"'REPORTE PMI'!B2299","v":0},{"$f":"'REPORTE PMI'!E2299","v":0},{"$f":"'REPORTE PMI'!J2299","v":0},{"$f":"'REPORTE PMI'!G2299","v":0},null,null,null,{"$f":"'REPORTE PMI'!L2299","v":0},{"$f":"'REPORTE PMI'!M2299","v":0},0,null,null,0,null,null,"NO"]
[{"$f":"'REPORTE PMI'!B2300","v":0},{"$f":"'REPORTE PMI'!E2300","v":0},{"$f":"'REPORTE PMI'!J2300","v":0},{"$f":"'REPORTE PMI'!G2300","v":0},null,null,null,{"$f":"'REPORTE PMI'!L2300","v":0},{"$f":"'REPORTE PMI'!M2300","v":0},0,null,null,0,null,null,"NO"]
[{"$f":"'REPORTE PMI'!B2301","v":0},{"$f":"'REPORTE PMI'!E2301","v":0},{"$f":"'REPORTE PMI'!J2301","v":0},{"$f":"'REPORTE PMI'!G2301","v":0},null,null,null,{"$f":"'REPORTE PMI'!L2301","v":0},{"$f":"'REPORTE PMI'!M2301","v":0},0,null,null,0,null,null,"NO"]
[{"$f":"'REPORTE PMI'!B2302","v":0},{"$f":"'REPORTE PMI'!E2302","v":0},{"$f":"'REPORTE PMI'!J2302","v":0},{"$f":"'REPORTE PMI'!G2302","v":0},null,null,null,{"$f":"'REPORTE PMI'!L2302","v":0},{"$f":"'REPORTE PMI'!M2302","v":0},0,null,null,0,null,null,"NO"]
[{"$f":"'REPORTE PMI'!B2303","v":0},{"$f":"'REPORTE PMI'!E2303","v":0},{"$f":"'REPORTE PMI'!J2303","v":0},{"$f":"'REPORTE PMI'!G2303","v":0},null,null,null,{"$f":"'REPORTE PMI'!L2303","v":0},{"$f":"'REPORTE PMI'!M2303","v":0},0,null,null,0,null,null,"NO"]
[{"$f":"'REPORTE PMI'!B2304","v":0},{"$f":"'REPORTE PMI'!E2304","v":0},{"$f":"'REPORTE PMI'!J2304","v":0},{"$f":"'REPORTE PMI'!G2304","v":0},null,null,null,{"$f":"'REPORTE PMI'!L2304","v":0},{"$f":"'REPORTE PMI'!M2304","v":0},0,null,null,0,null,null,"NO"]
[{"$f":"'REPORTE PMI'!B2305","v":0},{"$f":"'REPORTE PMI'!E2305","v":0},{"$f":"'REPORTE PMI'!J2305","v":0},{"$f":"'REPORTE PMI'!G2305","v":0},null,null,null,{"$f":"'REPORTE PMI'!L2305","v":0},{"$f":"'REPORTE PMI'!M2305","v":0},0,null,null,0,null,null,"NO"]
[{"$f":"'REPORTE PMI'!B2306","v":0},{"$f":"'REPORTE PMI'!E2306","v":0},{"$f":"'REPORTE PMI'!J2306","v":0},{"$f":"'REPORTE PMI'!G2306","v":0},null,null,null,{"$f":"'REPORTE PMI'!L2306","v":0},{"$f":"'REPORTE PMI'!M2306","v":0},0,null,null,0,null,null,"NO"]
[{"$f":"'REPORTE PMI'!B2307","v":0},{"$f":"'REPORTE PMI'!E2307","v":0},{"$f":"'REPORTE PMI'!J2307","v":0},{"$f":"'REPORTE PMI'!G2307","v":0},null,null,null,{"$f":"'REPORTE PMI'!L2307","v":0},{"$f":"'REPORTE PMI'!M2307","v":0},0,null,null,0,null,null,"NO"]
[{"$f":"'REPORTE PMI'!B2308","v":0},{"$f":"'REPORTE PMI'!E2308","v":0},{"$f":"'REPORTE PMI'!J2308","v":0},{"$f":"'REPORTE PMI'!G2308","v":0},null,null,null,{"$f":"'REPORTE PMI'!L2308","v":0},{"$f":"'REPORTE PMI'!M2308","v":0},{"$f":"IFERROR(I2317/H2317, 0)","v":0},null,null,{"$f":"H2317-I2317","v":0},null,null,{"$f":"IF(E2317=\"SI\",IF(J2317>0%,IF(K2317=\"SI\",IF(L2317=\"NO\",IF(N2317=\"SI\",IF(O2317=\"NO\",\"SI\",\"NO\"),\"NO\"),\"NO\"),\"NO\"),\"NO\"),\"NO\")","v":"NO"}]
[{"$f":"'REPORTE PMI'!B2309","v":0},{"$f":"'REPORTE PMI'!E2309","v":0},{"$f":"'REPORTE PMI'!J2309","v":0},{"$f":"'REPORTE PMI'!G2309","v":0},null,null,null,{"$f":"'REPORTE PMI'!L2309","v":0},{"$f":"'REPORTE PMI'!M2309","v":0},0,null,null,0,null,null,"NO"]
[{"$f":"'REPORTE PMI'!B2310","v":0},{"$f":"'REPORTE PMI'!E2310","v":0},{"$f":"'REPORTE PMI'!J2310","v":0},{"$f":"'REPORTE PMI'!G2310","v":0},null,null,null,{"$f":"'REPORTE PMI'!L2310","v":0},{"$f":"'REPORTE PMI'!M2310","v":0},0,null,null,0,null,null,"NO"]
[{"$f":"'REPORTE PMI'!B2311","v":0},{"$f":"'REPORTE PMI'!E2311","v":0},{"$f":"'REPORTE PMI'!J2311","v":0},{"$f":"'REPORTE PMI'!G2311","v":0},null,null,null,{"$f":"'REPORTE PMI'!L2311","v":0},{"$f":"'REPORTE PMI'!M2311","v":0},0,null,null,0,null,null,"NO"]
[{"$f":"'REPORTE PMI'!B2312","v":0},{"$f":"'REPORTE PMI'!E2312","v":0},{"$f":"'REPORTE PMI'!J2312","v":0},{"$f":"'REPORTE PMI'!G2312","v":0},null,null,null,{"$f":"'REPORTE PMI'!L2312","v":0},{"$f":"'REPORTE PMI'!M2312","v":0},0,null,null,0,null,null,"NO"]
[{"$f":"'REPORTE PMI'!B2313","v":0},{"$f":"'REPORTE PMI'!E2313","v":0},{"$f":"'REPORTE PMI'!J2313","v":0},{"$f":"'REPORTE PMI'!G2313","v":0},null,null,null,{"$f":"'REPORTE PMI'!L2313","v":0},{"$f":"'REPORTE PMI'!M2313","v":0},0,null,null,0,null,null,"NO"]
[{"$f":"'REPORTE PMI'!B2314","v":0},{"$f":"'REPORTE PMI'!E2314","v":0},{"$f":"'REPORTE PMI'!J2314","v":0},{"$f":"'REPORTE PMI'!G2314","v":0},null,null,null,{"$f":"'REPORTE PMI'!L2314","v":0},{"$f":"'REPORTE PMI'!M2314","v":0},0,null,null,0,null,null,"NO"]
[{"$f":"'REPORTE PMI'!B2315","v":0},{"$f":"'REPORTE PMI'!E2315","v":0},{"$f":"'REPORTE PMI'!J2315","v":0},{"$f":"'REPORTE PMI'!G2315","v":0},null,null,null,{"$f":"'REPORTE PMI'!L2315","v":0},{"$f":"'REPORTE PMI'!M2315","v":0},0,null,null,0,null,null,"NO"]
[{"$f":"'REPORTE PMI'!B2316","v":0},{"$f":"'REPORTE PMI'!E2316","v":0},{"$f":"'REPORTE PMI'!J2316","v":0},{"$f":"'REPORTE PMI'!G2316","v":0},null,null,null,{"$f":"'REPORTE PMI'!L2316","v":0},{"$f":"'REPORTE PMI'!M2316","v":0},0,null,null,0,null,null,"NO"]
[{"$f":"'REPORTE PMI'!B2317","v":0},{"$f":"'REPORTE PMI'!E2317","v":0},{"$f":"'REPORTE PMI'!J2317","v":0},{"$f":"'REPORTE PMI'!G2317","v":0},null,null,null,{"$f":"'REPORTE PMI'!L2317","v":0},{"$f":"'REPORTE PMI'!M2317","v":0},0,null,null,0,null,null,"NO"]
[{"$f":"'REPORTE PMI'!B2318","v":0},{"$f":"'REPORTE PMI'!E2318","v":0},{"$f":"'REPORTE PMI'!J2318","v":0},{"$f":"'REPORTE PMI'!G2318","v":0},null,null,null,{"$f":"'REPORTE PMI'!L2318","v":0},{"$f":"'REPORTE PMI'!M2318","v":0},0,null,null,0,null,null,"NO"]
[{"$f":"'REPORTE PMI'!B2319","v":0},{"$f":"'REPORTE PMI'!E2319","v":0},{"$f":"'REPORTE PMI'!J2319","v":0},{"$f":"'REPORTE PMI'!G2319","v":0},null,null,null,{"$f":"'REPORTE PMI'!L2319","v":0},{"$f":"'REPORTE PMI'!M2319","v":0},0,null,null,0,null,null,"NO"]
[{"$f":"'REPORTE PMI'!B2320","v":0},{"$f":"'REPORTE PMI'!E2320","v":0},{"$f":"'REPORTE PMI'!J2320","v":0},{"$f":"'REPORTE PMI'!G2320","v":0},null,null,null,{"$f":"'REPORTE PMI'!L2320","v":0},{"$f":"'REPORTE PMI'!M2320","v":0},0,null,null,0,null,null,"NO"]
[{"$f":"'REPORTE PMI'!B2321","v":0},{"$f":"'REPORTE PMI'!E2321","v":0},{"$f":"'REPORTE PMI'!J2321","v":0},{"$f":"'REPORTE PMI'!G2321","v":0},null,null,null,{"$f":"'REPORTE PMI'!L2321","v":0},{"$f":"'REPORTE PMI'!M2321","v":0},0,null,null,0,null,null,"NO"]
[{"$f":"'REPORTE PMI'!B2322","v":0},{"$f":"'REPORTE PMI'!E2322","v":0},{"$f":"'REPORTE PMI'!J2322","v":0},{"$f":"'REPORTE PMI'!G2322","v":0},null,null,null,{"$f":"'REPORTE PMI'!L2322","v":0},{"$f":"'REPORTE PMI'!M2322","v":0},0,null,null,0,null,null,"NO"]
[{"$f":"'REPORTE PMI'!B2323","v":0},{"$f":"'REPORTE PMI'!E2323","v":0},{"$f":"'REPORTE PMI'!J2323","v":0},{"$f":"'REPORTE PMI'!G2323","v":0},null,null,null,{"$f":"'REPORTE PMI'!L2323","v":0},{"$f":"'REPORTE PMI'!M2323","v":0},0,null,null,0,null,null,"NO"]
[{"$f":"'REPORTE PMI'!B2324","v":0},{"$f":"'REPORTE PMI'!E2324","v":0},{"$f":"'REPORTE PMI'!J2324","v":0},{"$f":"'REPORTE PMI'!G2324","v":0},null,null,null,{"$f":"'REPORTE PMI'!L2324","v":0},{"$f":"'REPORTE PMI'!M2324","v":0},0,null,null,0,null,null,"NO"]
[{"$f":"'REPORTE PMI'!B2325","v":0},{"$f":"'REPORTE PMI'!E2325","v":0},{"$f":"'REPORTE PMI'!J2325","v":0},{"$f":"'REPORTE PMI'!G2325","v":0},null,null,null,{"$f":"'REPORTE PMI'!L2325","v":0},{"$f":"'REPORTE PMI'!M2325","v":0},0,null,null,0,null,null,"NO"]
[{"$f":"'REPORTE PMI'!B2326","v":0},{"$f":"'REPORTE PMI'!E2326","v":0},{"$f":"'REPORTE PMI'!J2326","v":0},{"$f":"'REPORTE PMI'!G2326","v":0},null,null,null,{"$f":"'REPORTE PMI'!L2326","v":0},{"$f":"'REPORTE PMI'!M2326","v":0},0,null,null,0,null,null,"NO"]
[{"$f":"'REPORTE PMI'!B2327","v":0},{"$f":"'REPORTE PMI'!E2327","v":0},{"$f":"'REPORTE PMI'!J2327","v":0},{"$f":"'REPORTE PMI'!G2327","v":0},null,null,null,{"$f":"'REPORTE PMI'!L2327","v":0},{"$f":"'REPORTE PMI'!M2327","v":0},0,null,null,0,null,null,"NO"]
[{"$f":"'REPORTE PMI'!B2328","v":0},{"$f":"'REPORTE PMI'!E2328","v":0},{"$f":"'REPORTE PMI'!J2328","v":0},{"$f":"'REPORTE PMI'!G2328","v":0},null,null,null,{"$f":"'REPORTE PMI'!L2328","v":0},{"$f":"'REPORTE PMI'!M2328","v":0},0,null,null,0,null,null,"NO"]
[{"$f":"'REPORTE PMI'!B2329","v":0},{"$f":"'REPORTE PMI'!E2329","v":0},{"$f":"'REPORTE PMI'!J2329","v":0},{"$f":"'REPORTE PMI'!G2329","v":0},null,null,null,{"$f":"'REPORTE PMI'!L2329","v":0},{"$f":"'REPORTE PMI'!M2329","v":0},0,null,null,0,null,null,"NO"]
[{"$f":"'REPORTE PMI'!B2330","v":0},{"$f":"'REPORTE PMI'!E2330","v":0},{"$f":"'REPORTE PMI'!J2330","v":0},{"$f":"'REPORTE PMI'!G2330","v":0},null,null,null,{"$f":"'REPORTE PMI'!L2330","v":0},{"$f":"'REPORTE PMI'!M2330","v":0},0,null,null,0,null,null,"NO"]
[{"$f":"'REPORTE PMI'!B2331","v":0},{"$f":"'REPORTE PMI'!E2331","v":0},{"$f":"'REPORTE PMI'!J2331","v":0},{"$f":"'REPORTE PMI'!G2331","v":0},null,null,null,{"$f":"'REPORTE PMI'!L2331","v":0},{"$f":"'REPORTE PMI'!M2331","v":0},0,null,null,0,null,null,"NO"]
[{"$f":"'REPORTE PMI'!B2332","v":0},{"$f":"'REPORTE PMI'!E2332","v":0},{"$f":"'REPORTE PMI'!J2332","v":0},{"$f":"'REPORTE PMI'!G2332","v":0},null,null,null,{"$f":"'REPORTE PMI'!L2332","v":0},{"$f":"'REPORTE PMI'!M2332","v":0},0,null,null,0,null,null,"NO"]
[{"$f":"'REPORTE PMI'!B2333","v":0},{"$f":"'REPORTE PMI'!E2333","v":0},{"$f":"'REPORTE PMI'!J2333","v":0},{"$f":"'REPORTE PMI'!G2333","v":0},null,null,null,{"$f":"'REPORTE PMI'!L2333","v":0},{"$f":"'REPORTE PMI'!M2333","v":0},0,null,null,0,null,null,"NO"]
[{"$f":"'REPORTE PMI'!B2334","v":0},{"$f":"'REPORTE PMI'!E2334","v":0},{"$f":"'REPORTE PMI'!J2334","v":0},{"$f":"'REPORTE PMI'!G2334","v":0},null,null,null,{"$f":"'REPORTE PMI'!L2334","v":0},{"$f":"'REPORTE PMI'!M2334","v":0},0,null,null,0,null,null,"NO"]
[{"$f":"'REPORTE PMI'!B2335","v":0},{"$f":"'REPORTE PMI'!E2335","v":0},{"$f":"'REPORTE PMI'!J2335","v":0},{"$f":"'REPORTE PMI'!G2335","v":0},null,null,null,{"$f":"'REPORTE PMI'!L2335","v":0},{"$f":"'REPORTE PMI'!M2335","v":0},0,null,null,0,null,null,"NO"]
[{"$f":"'REPORTE PMI'!B2336","v":0},{"$f":"'REPORTE PMI'!E2336","v":0},{"$f":"'REPORTE PMI'!J2336","v":0},{"$f":"'REPORTE PMI'!G2336","v":0},null,null,null,{"$f":"'REPORTE PMI'!L2336","v":0},{"$f":"'REPORTE PMI'!M2336","v":0},0,null,null,0,null,null,"NO"]
[{"$f":"'REPORTE PMI'!B2337","v":0},{"$f":"'REPORTE PMI'!E2337","v":0},{"$f":"'REPORTE PMI'!J2337","v":0},{"$f":"'REPORTE PMI'!G2337","v":0},null,null,null,{"$f":"'REPORTE PMI'!L2337","v":0},{"$f":"'REPORTE PMI'!M2337","v":0},0,null,null,0,null,null,"NO"]
[{"$f":"'REPORTE PMI'!B2338","v":0},{"$f":"'REPORTE PMI'!E2338","v":0},{"$f":"'REPORTE PMI'!J2338","v":0},{"$f":"'REPORTE PMI'!G2338","v":0},null,null,null,{"$f":"'REPORTE PMI'!L2338","v":0},{"$f":"'REPORTE PMI'!M2338","v":0},0,null,null,0,null,null,"NO"]
[{"$f":"'REPORTE PMI'!B2339","v":0},{"$f":"'REPORTE PMI'!E2339","v":0},{"$f":"'REPORTE PMI'!J2339","v":0},{"$f":"'REPORTE PMI'!G2339","v":0},null,null,null,{"$f":"'REPORTE PMI'!L2339","v":0},{"$f":"'REPORTE PMI'!M2339","v":0},0,null,null,0,null,null,"NO"]
[{"$f":"'REPORTE PMI'!B2340","v":0},{"$f":"'REPORTE PMI'!E2340","v":0},{"$f":"'REPORTE PMI'!J2340","v":0},{"$f":"'REPORTE PMI'!G2340","v":0},null,null,null,{"$f":"'REPORTE PMI'!L2340","v":0},{"$f":"'REPORTE PMI'!M2340","v":0},0,null,null,0,null,null,"NO"]
[{"$f":"'REPORTE PMI'!B2341","v":0},{"$f":"'REPORTE PMI'!E2341","v":0},{"$f":"'REPORTE PMI'!J2341","v":0},{"$f":"'REPORTE PMI'!G2341","v":0},null,null,null,{"$f":"'REPORTE PMI'!L2341","v":0},{"$f":"'REPORTE PMI'!M2341","v":0},0,null,null,0,null,null,"NO"]
[{"$f":"'REPORTE PMI'!B2342","v":0},{"$f":"'REPORTE PMI'!E2342","v":0},{"$f":"'REPORTE PMI'!J2342","v":0},{"$f":"'REPORTE PMI'!G2342","v":0},null,null,null,{"$f":"'REPORTE PMI'!L2342","v":0},{"$f":"'REPORTE PMI'!M2342","v":0},0,null,null,0,null,null,"NO"]
[{"$f":"'REPORTE PMI'!B2343","v":0},{"$f":"'REPORTE PMI'!E2343","v":0},{"$f":"'REPORTE PMI'!J2343","v":0},{"$f":"'REPORTE PMI'!G2343","v":0},null,null,null,{"$f":"'REPORTE PMI'!L2343","v":0},{"$f":"'REPORTE PMI'!M2343","v":0},0,null,null,0,null,null,"NO"]
[{"$f":"'REPORTE PMI'!B2344","v":0},{"$f":"'REPORTE PMI'!E2344","v":0},{"$f":"'REPORTE PMI'!J2344","v":0},{"$f":"'REPORTE PMI'!G2344","v":0},null,null,null,{"$f":"'REPORTE PMI'!L2344","v":0},{"$f":"'REPORTE PMI'!M2344","v":0},0,null,null,0,null,null,"NO"]
[{"$f":"'REPORTE PMI'!B2345","v":0},{"$f":"'REPORTE PMI'!E2345","v":0},{"$f":"'REPORTE PMI'!J2345","v":0},{"$f":"'REPORTE PMI'!G2345","v":0},null,null,null,{"$f":"'REPORTE PMI'!L2345","v":0},{"$f":"'REPORTE PMI'!M2345","v":0},0,null,null,0,null,null,"NO"]
[{"$f":"'REPORTE PMI'!B2346","v":0},{"$f":"'REPORTE PMI'!E2346","v":0},{"$f":"'REPORTE PMI'!J2346","v":0},{"$f":"'REPORTE PMI'!G2346","v":0},null,null,null,{"$f":"'REPORTE PMI'!L2346","v":0},{"$f":"'REPORTE PMI'!M2346","v":0},0,null,null,0,null,null,"NO"]
[{"$f":"'REPORTE PMI'!B2347","v":0},{"$f":"'REPORTE PMI'!E2347","v":0},{"$f":"'REPORTE PMI'!J2347","v":0},{"$f":"'REPORTE PMI'!G2347","v":0},null,null,null,{"$f":"'REPORTE PMI'!L2347","v":0},{"$f":"'REPORTE PMI'!M2347","v":0},0,null,null,0,null,null,"NO"]
[{"$f":"'REPORTE PMI'!B2348","v":0},{"$f":"'REPORTE PMI'!E2348","v":0},{"$f":"'REPORTE PMI'!J2348","v":0},{"$f":"'REPORTE PMI'!G2348","v":0},null,null,null,{"$f":"'REPORTE PMI'!L2348","v":0},{"$f":"'REPORTE PMI'!M2348","v":0},0,null,null,0,null,null,"NO"]
[{"$f":"'REPORTE PMI'!B2349","v":0},{"$f":"'REPORTE PMI'!E2349","v":0},{"$f":"'REPORTE PMI'!J2349","v":0},{"$f":"'REPORTE PMI'!G2349","v":0},null,null,null,{"$f":"'REPORTE PMI'!L2349","v":0},{"$f":"'REPORTE PMI'!M2349","v":0},0,null,null,0,null,null,"NO"]
[{"$f":"'REPORTE PMI'!B2350","v":0},{"$f":"'REPORTE PMI'!E2350","v":0},{"$f":"'REPORTE PMI'!J2350","v":0},{"$f":"'REPORTE PMI'!G2350","v":0},null,null,null,{"$f":"'REPORTE PMI'!L2350","v":0},{"$f":"'REPORTE PMI'!M2350","v":0},0,null,null,0,null,null,"NO"]
[{"$f":"'REPORTE PMI'!B2351","v":0},{"$f":"'REPORTE PMI'!E2351","v":0},{"$f":"'REPORTE PMI'!J2351","v":0},{"$f":"'REPORTE PMI'!G2351","v":0},null,null,null,{"$f":"'REPORTE PMI'!L2351","v":0},{"$f":"'REPORTE PMI'!M2351","v":0},0,null,null,0,null,null,"NO"]
[{"$f":"'REPORTE PMI'!B2352","v":0},{"$f":"'REPORTE PMI'!E2352","v":0},{"$f":"'REPORTE PMI'!J2352","v":0},{"$f":"'REPORTE PMI'!G2352","v":0},null,null,null,{"$f":"'REPORTE PMI'!L2352","v":0},{"$f":"'REPORTE PMI'!M2352","v":0},0,null,null,0,null,null,"NO"]
[{"$f":"'REPORTE PMI'!B2353","v":0},{"$f":"'REPORTE PMI'!E2353","v":0},{"$f":"'REPORTE PMI'!J2353","v":0},{"$f":"'REPORTE PMI'!G2353","v":0},null,null,null,{"$f":"'REPORTE PMI'!L2353","v":0},{"$f":"'REPORTE PMI'!M2353","v":0},0,null,null,0,null,null,"NO"]
[{"$f":"'REPORTE PMI'!B2354","v":0},{"$f":"'REPORTE PMI'!E2354","v":0},{"$f":"'REPORTE PMI'!J2354","v":0},{"$f":"'REPORTE PMI'!G2354","v":0},null,null,null,{"$f":"'REPORTE PMI'!L2354","v":0},{"$f":"'REPORTE PMI'!M2354","v":0},0,null,null,0,null,null,"NO"]
[{"$f":"'REPORTE PMI'!B2355","v":0},{"$f":"'REPORTE PMI'!E2355","v":0},{"$f":"'REPORTE PMI'!J2355","v":0},{"$f":"'REPORTE PMI'!G2355","v":0},null,null,null,{"$f":"'REPORTE PMI'!L2355","v":0},{"$f":"'REPORTE PMI'!M2355","v":0},0,null,null,0,null,null,"NO"]
[{"$f":"'REPORTE PMI'!B2356","v":0},{"$f":"'REPORTE PMI'!E2356","v":0},{"$f":"'REPORTE PMI'!J2356","v":0},{"$f":"'REPORTE PMI'!G2356","v":0},null,null,null,{"$f":"'REPORTE PMI'!L2356","v":0},{"$f":"'REPORTE PMI'!M2356","v":0},0,null,null,0,null,null,"NO"]
[{"$f":"'REPORTE PMI'!B2357","v":0},{"$f":"'REPORTE PMI'!E2357","v":0},{"$f":"'REPORTE PMI'!J2357","v":0},{"$f":"'REPORTE PMI'!G2357","v":0},null,null,null,{"$f":"'REPORTE PMI'!L2357","v":0},{"$f":"'REPORTE PMI'!M2357","v":0},0,null,null,0,null,null,"NO"]
[{"$f":"'REPORTE PMI'!B2358","v":0},{"$f":"'REPORTE PMI'!E2358","v":0},{"$f":"'REPORTE PMI'!J2358","v":0},{"$f":"'REPORTE PMI'!G2358","v":0},null,null,null,{"$f":"'REPORTE PMI'!L2358","v":0},{"$f":"'REPORTE PMI'!M2358","v":0},0,null,null,0,null,null,"NO"]
[{"$f":"'REPORTE PMI'!B2359","v":0},{"$f":"'REPORTE PMI'!E2359","v":0},{"$f":"'REPORTE PMI'!J2359","v":0},{"$f":"'REPORTE PMI'!G2359","v":0},null,null,null,{"$f":"'REPORTE PMI'!L2359","v":0},{"$f":"'REPORTE PMI'!M2359","v":0},0,null,null,0,null,null,"NO"]
[{"$f":"'REPORTE PMI'!B2360","v":0},{"$f":"'REPORTE PMI'!E2360","v":0},{"$f":"'REPORTE PMI'!J2360","v":0},{"$f":"'REPORTE PMI'!G2360","v":0},null,null,null,{"$f":"'REPORTE PMI'!L2360","v":0},{"$f":"'REPORTE PMI'!M2360","v":0},0,null,null,0,null,null,"NO"]
[{"$f":"'REPORTE PMI'!B2361","v":0},{"$f":"'REPORTE PMI'!E2361","v":0},{"$f":"'REPORTE PMI'!J2361","v":0},{"$f":"'REPORTE PMI'!G2361","v":0},null,null,null,{"$f":"'REPORTE PMI'!L2361","v":0},{"$f":"'REPORTE PMI'!M2361","v":0},0,null,null,0,null,null,"NO"]
[{"$f":"'REPORTE PMI'!B2362","v":0},{"$f":"'REPORTE PMI'!E2362","v":0},{"$f":"'REPORTE PMI'!J2362","v":0},{"$f":"'REPORTE PMI'!G2362","v":0},null,null,null,{"$f":"'REPORTE PMI'!L2362","v":0},{"$f":"'REPORTE PMI'!M2362","v":0},0,null,null,0,null,null,"NO"]
[{"$f":"'REPORTE PMI'!B2363","v":0},{"$f":"'REPORTE PMI'!E2363","v":0},{"$f":"'REPORTE PMI'!J2363","v":0},{"$f":"'REPORTE PMI'!G2363","v":0},null,null,null,{"$f":"'REPORTE PMI'!L2363","v":0},{"$f":"'REPORTE PMI'!M2363","v":0},0,null,null,0,null,null,"NO"]
[{"$f":"'REPORTE PMI'!B2364","v":0},{"$f":"'REPORTE PMI'!E2364","v":0},{"$f":"'REPORTE PMI'!J2364","v":0},{"$f":"'REPORTE PMI'!G2364","v":0},null,null,null,{"$f":"'REPORTE PMI'!L2364","v":0},{"$f":"'REPORTE PMI'!M2364","v":0},0,null,null,0,null,null,"NO"]
[{"$f":"'REPORTE PMI'!B2365","v":0},{"$f":"'REPORTE PMI'!E2365","v":0},{"$f":"'REPORTE PMI'!J2365","v":0},{"$f":"'REPORTE PMI'!G2365","v":0},null,null,null,{"$f":"'REPORTE PMI'!L2365","v":0},{"$f":"'REPORTE PMI'!M2365","v":0},0,null,null,0,null,null,"NO"]
[{"$f":"'REPORTE PMI'!B2366","v":0},{"$f":"'REPORTE PMI'!E2366","v":0},{"$f":"'REPORTE PMI'!J2366","v":0},{"$f":"'REPORTE PMI'!G2366","v":0},null,null,null,{"$f":"'REPORTE PMI'!L2366","v":0},{"$f":"'REPORTE PMI'!M2366","v":0},0,null,null,0,null,null,"NO"]
[{"$f":"'REPORTE PMI'!B2367","v":0},{"$f":"'REPORTE PMI'!E2367","v":0},{"$f":"'REPORTE PMI'!J2367","v":0},{"$f":"'REPORTE PMI'!G2367","v":0},null,null,null,{"$f":"'REPORTE PMI'!L2367","v":0},{"$f":"'REPORTE PMI'!M2367","v":0},0,null,null,0,null,null,"NO"]
[{"$f":"'REPORTE PMI'!B2368","v":0},{"$f":"'REPORTE PMI'!E2368","v":0},{"$f":"'REPORTE PMI'!J2368","v":0},{"$f":"'REPORTE PMI'!G2368","v":0},null,null,null,{"$f":"'REPORTE PMI'!L2368","v":0},{"$f":"'REPORTE PMI'!M2368","v":0},0,null,null,0,null,null,"NO"]
[{"$f":"'REPORTE PMI'!B2369","v":0},{"$f":"'REPORTE PMI'!E2369","v":0},{"$f":"'REPORTE PMI'!J2369","v":0},{"$f":"'REPORTE PMI'!G2369","v":0},null,null,null,{"$f":"'REPORTE PMI'!L2369","v":0},{"$f":"'REPORTE PMI'!M2369","v":0},0,null,null,0,null,null,"NO"]
[{"$f":"'REPORTE PMI'!B2370","v":0},{"$f":"'REPORTE PMI'!E2370","v":0},{"$f":"'REPORTE PMI'!J2370","v":0},{"$f":"'REPORTE PMI'!G2370","v":0},null,null,null,{"$f":"'REPORTE PMI'!L2370","v":0},{"$f":"'REPORTE PMI'!M2370","v":0},0,null,null,0,null,null,"NO"]
[{"$f":"'REPORTE PMI'!B2371","v":0},{"$f":"'REPORTE PMI'!E2371","v":0},{"$f":"'REPORTE PMI'!J2371","v":0},{"$f":"'REPORTE PMI'!G2371","v":0},null,null,null,{"$f":"'REPORTE PMI'!L2371","v":0},{"$f":"'REPORTE PMI'!M2371","v":0},0,null,null,0,null,null,"NO"]
[{"$f":"'REPORTE PMI'!B2372","v":0},{"$f":"'REPORTE PMI'!E2372","v":0},{"$f":"'REPORTE PMI'!J2372","v":0},{"$f":"'REPORTE PMI'!G2372","v":0},null,null,null,{"$f":"'REPORTE PMI'!L2372","v":0},{"$f":"'REPORTE PMI'!M2372","v":0},{"$f":"IFERROR(I2381/H2381, 0)","v":0},null,null,{"$f":"H2381-I2381","v":0},null,null,{"$f":"IF(E2381=\"SI\",IF(J2381>0%,IF(K2381=\"SI\",IF(L2381=\"NO\",IF(N2381=\"SI\",IF(O2381=\"NO\",\"SI\",\"NO\"),\"NO\"),\"NO\"),\"NO\"),\"NO\"),\"NO\")","v":"NO"}]
[{"$f":"'REPORTE PMI'!B2373","v":0},{"$f":"'REPORTE PMI'!E2373","v":0},{"$f":"'REPORTE PMI'!J2373","v":0},{"$f":"'REPORTE PMI'!G2373","v":0},null,null,null,{"$f":"'REPORTE PMI'!L2373","v":0},{"$f":"'REPORTE PMI'!M2373","v":0},0,null,null,0,null,null,"NO"]
[{"$f":"'REPORTE PMI'!B2374","v":0},{"$f":"'REPORTE PMI'!E2374","v":0},{"$f":"'REPORTE PMI'!J2374","v":0},{"$f":"'REPORTE PMI'!G2374","v":0},null,null,null,{"$f":"'REPORTE PMI'!L2374","v":0},{"$f":"'REPORTE PMI'!M2374","v":0},0,null,null,0,null,null,"NO"]
[{"$f":"'REPORTE PMI'!B2375","v":0},{"$f":"'REPORTE PMI'!E2375","v":0},{"$f":"'REPORTE PMI'!J2375","v":0},{"$f":"'REPORTE PMI'!G2375","v":0},null,null,null,{"$f":"'REPORTE PMI'!L2375","v":0},{"$f":"'REPORTE PMI'!M2375","v":0},0,null,null,0,null,null,"NO"]
[{"$f":"'REPORTE PMI'!B2376","v":0},{"$f":"'REPORTE PMI'!E2376","v":0},{"$f":"'REPORTE PMI'!J2376","v":0},{"$f":"'REPORTE PMI'!G2376","v":0},null,null,null,{"$f":"'REPORTE PMI'!L2376","v":0},{"$f":"'REPORTE PMI'!M2376","v":0},0,null,null,0,null,null,"NO"]
[{"$f":"'REPORTE PMI'!B2377","v":0},{"$f":"'REPORTE PMI'!E2377","v":0},{"$f":"'REPORTE PMI'!J2377","v":0},{"$f":"'REPORTE PMI'!G2377","v":0},null,null,null,{"$f":"'REPORTE PMI'!L2377","v":0},{"$f":"'REPORTE PMI'!M2377","v":0},0,null,null,0,null,null,"NO"]
[{"$f":"'REPORTE PMI'!B2378","v":0},{"$f":"'REPORTE PMI'!E2378","v":0},{"$f":"'REPORTE PMI'!J2378","v":0},{"$f":"'REPORTE PMI'!G2378","v":0},null,null,null,{"$f":"'REPORTE PMI'!L2378","v":0},{"$f":"'REPORTE PMI'!M2378","v":0},0,null,null,0,null,null,"NO"]
[{"$f":"'REPORTE PMI'!B2379","v":0},{"$f":"'REPORTE PMI'!E2379","v":0},{"$f":"'REPORTE PMI'!J2379","v":0},{"$f":"'REPORTE PMI'!G2379","v":0},null,null,null,{"$f":"'REPORTE PMI'!L2379","v":0},{"$f":"'REPORTE PMI'!M2379","v":0},0,null,null,0,null,null,"NO"]
[{"$f":"'REPORTE PMI'!B2380","v":0},{"$f":"'REPORTE PMI'!E2380","v":0},{"$f":"'REPORTE PMI'!J2380","v":0},{"$f":"'REPORTE PMI'!G2380","v":0},null,null,null,{"$f":"'REPORTE PMI'!L2380","v":0},{"$f":"'REPORTE PMI'!M2380","v":0},0,null,null,0,null,null,"NO"]
[{"$f":"'REPORTE PMI'!B2381","v":0},{"$f":"'REPORTE PMI'!E2381","v":0},{"$f":"'REPORTE PMI'!J2381","v":0},{"$f":"'REPORTE PMI'!G2381","v":0},null,null,null,{"$f":"'REPORTE PMI'!L2381","v":0},{"$f":"'REPORTE PMI'!M2381","v":0},0,null,null,0,null,null,"NO"]
[{"$f":"'REPORTE PMI'!B2382","v":0},{"$f":"'REPORTE PMI'!E2382","v":0},{"$f":"'REPORTE PMI'!J2382","v":0},{"$f":"'REPORTE PMI'!G2382","v":0},null,null,null,{"$f":"'REPORTE PMI'!L2382","v":0},{"$f":"'REPORTE PMI'!M2382","v":0},0,null,null,0,null,null,"NO"]
[{"$f":"'REPORTE PMI'!B2383","v":0},{"$f":"'REPORTE PMI'!E2383","v":0},{"$f":"'REPORTE PMI'!J2383","v":0},{"$f":"'REPORTE PMI'!G2383","v":0},null,null,null,{"$f":"'REPORTE PMI'!L2383","v":0},{"$f":"'REPORTE PMI'!M2383","v":0},0,null,null,0,null,null,"NO"]
[{"$f":"'REPORTE PMI'!B2384","v":0},{"$f":"'REPORTE PMI'!E2384","v":0},{"$f":"'REPORTE PMI'!J2384","v":0},{"$f":"'REPORTE PMI'!G2384","v":0},null,null,null,{"$f":"'REPORTE PMI'!L2384","v":0},{"$f":"'REPORTE PMI'!M2384","v":0},0,null,null,0,null,null,"NO"]
[{"$f":"'REPORTE PMI'!B2385","v":0},{"$f":"'REPORTE PMI'!E2385","v":0},{"$f":"'REPORTE PMI'!J2385","v":0},{"$f":"'REPORTE PMI'!G2385","v":0},null,null,null,{"$f":"'REPORTE PMI'!L2385","v":0},{"$f":"'REPORTE PMI'!M2385","v":0},0,null,null,0,null,null,"NO"]
[{"$f":"'REPORTE PMI'!B2386","v":0},{"$f":"'REPORTE PMI'!E2386","v":0},{"$f":"'REPORTE PMI'!J2386","v":0},{"$f":"'REPORTE PMI'!G2386","v":0},null,null,null,{"$f":"'REPORTE PMI'!L2386","v":0},{"$f":"'REPORTE PMI'!M2386","v":0},0,null,null,0,null,null,"NO"]
[{"$f":"'REPORTE PMI'!B2387","v":0},{"$f":"'REPORTE PMI'!E2387","v":0},{"$f":"'REPORTE PMI'!J2387","v":0},{"$f":"'REPORTE PMI'!G2387","v":0},null,null,null,{"$f":"'REPORTE PMI'!L2387","v":0},{"$f":"'REPORTE PMI'!M2387","v":0},0,null,null,0,null,null,"NO"]
[{"$f":"'REPORTE PMI'!B2388","v":0},{"$f":"'REPORTE PMI'!E2388","v":0},{"$f":"'REPORTE PMI'!J2388","v":0},{"$f":"'REPORTE PMI'!G2388","v":0},null,null,null,{"$f":"'REPORTE PMI'!L2388","v":0},{"$f":"'REPORTE PMI'!M2388","v":0},0,null,null,0,null,null,"NO"]
[{"$f":"'REPORTE PMI'!B2389","v":0},{"$f":"'REPORTE PMI'!E2389","v":0},{"$f":"'REPORTE PMI'!J2389","v":0},{"$f":"'REPORTE PMI'!G2389","v":0},null,null,null,{"$f":"'REPORTE PMI'!L2389","v":0},{"$f":"'REPORTE PMI'!M2389","v":0},0,null,null,0,null,null,"NO"]
[{"$f":"'REPORTE PMI'!B2390","v":0},{"$f":"'REPORTE PMI'!E2390","v":0},{"$f":"'REPORTE PMI'!J2390","v":0},{"$f":"'REPORTE PMI'!G2390","v":0},null,null,null,{"$f":"'REPORTE PMI'!L2390","v":0},{"$f":"'REPORTE PMI'!M2390","v":0},0,null,null,0,null,null,"NO"]
[{"$f":"'REPORTE PMI'!B2391","v":0},{"$f":"'REPORTE PMI'!E2391","v":0},{"$f":"'REPORTE PMI'!J2391","v":0},{"$f":"'REPORTE PMI'!G2391","v":0},null,null,null,{"$f":"'REPORTE PMI'!L2391","v":0},{"$f":"'REPORTE PMI'!M2391","v":0},0,null,null,0,null,null,"NO"]
[{"$f":"'REPORTE PMI'!B2392","v":0},{"$f":"'REPORTE PMI'!E2392","v":0},{"$f":"'REPORTE PMI'!J2392","v":0},{"$f":"'REPORTE PMI'!G2392","v":0},null,null,null,{"$f":"'REPORTE PMI'!L2392","v":0},{"$f":"'REPORTE PMI'!M2392","v":0},0,null,null,0,null,null,"NO"]
[{"$f":"'REPORTE PMI'!B2393","v":0},{"$f":"'REPORTE PMI'!E2393","v":0},{"$f":"'REPORTE PMI'!J2393","v":0},{"$f":"'REPORTE PMI'!G2393","v":0},null,null,null,{"$f":"'REPORTE PMI'!L2393","v":0},{"$f":"'REPORTE PMI'!M2393","v":0},0,null,null,0,null,null,"NO"]
[{"$f":"'REPORTE PMI'!B2394","v":0},{"$f":"'REPORTE PMI'!E2394","v":0},{"$f":"'REPORTE PMI'!J2394","v":0},{"$f":"'REPORTE PMI'!G2394","v":0},null,null,null,{"$f":"'REPORTE PMI'!L2394","v":0},{"$f":"'REPORTE PMI'!M2394","v":0},0,null,null,0,null,null,"NO"]
[{"$f":"'REPORTE PMI'!B2395","v":0},{"$f":"'REPORTE PMI'!E2395","v":0},{"$f":"'REPORTE PMI'!J2395","v":0},{"$f":"'REPORTE PMI'!G2395","v":0},null,null,null,{"$f":"'REPORTE PMI'!L2395","v":0},{"$f":"'REPORTE PMI'!M2395","v":0},0,null,null,0,null,null,"NO"]
[{"$f":"'REPORTE PMI'!B2396","v":0},{"$f":"'REPORTE PMI'!E2396","v":0},{"$f":"'REPORTE PMI'!J2396","v":0},{"$f":"'REPORTE PMI'!G2396","v":0},null,null,null,{"$f":"'REPORTE PMI'!L2396","v":0},{"$f":"'REPORTE PMI'!M2396","v":0},0,null,null,0,null,null,"NO"]
[{"$f":"'REPORTE PMI'!B2397","v":0},{"$f":"'REPORTE PMI'!E2397","v":0},{"$f":"'REPORTE PMI'!J2397","v":0},{"$f":"'REPORTE PMI'!G2397","v":0},null,null,null,{"$f":"'REPORTE PMI'!L2397","v":0},{"$f":"'REPORTE PMI'!M2397","v":0},0,null,null,0,null,null,"NO"]
[{"$f":"'REPORTE PMI'!B2398","v":0},{"$f":"'REPORTE PMI'!E2398","v":0},{"$f":"'REPORTE PMI'!J2398","v":0},{"$f":"'REPORTE PMI'!G2398","v":0},null,null,null,{"$f":"'REPORTE PMI'!L2398","v":0},{"$f":"'REPORTE PMI'!M2398","v":0},0,null,null,0,null,null,"NO"]
[{"$f":"'REPORTE PMI'!B2399","v":0},{"$f":"'REPORTE PMI'!E2399","v":0},{"$f":"'REPORTE PMI'!J2399","v":0},{"$f":"'REPORTE PMI'!G2399","v":0},null,null,null,{"$f":"'REPORTE PMI'!L2399","v":0},{"$f":"'REPORTE PMI'!M2399","v":0},0,null,null,0,null,null,"NO"]
[{"$f":"'REPORTE PMI'!B2400","v":0},{"$f":"'REPORTE PMI'!E2400","v":0},{"$f":"'REPORTE PMI'!J2400","v":0},{"$f":"'REPORTE PMI'!G2400","v":0},null,null,null,{"$f":"'REPORTE PMI'!L2400","v":0},{"$f":"'REPORTE PMI'!M2400","v":0},0,null,null,0,null,null,"NO"]
[{"$f":"'REPORTE PMI'!B2401","v":0},{"$f":"'REPORTE PMI'!E2401","v":0},{"$f":"'REPORTE PMI'!J2401","v":0},{"$f":"'REPORTE PMI'!G2401","v":0},null,null,null,{"$f":"'REPORTE PMI'!L2401","v":0},{"$f":"'REPORTE PMI'!M2401","v":0},0,null,null,0,null,null,"NO"]
[{"$f":"'REPORTE PMI'!B2402","v":0},{"$f":"'REPORTE PMI'!E2402","v":0},{"$f":"'REPORTE PMI'!J2402","v":0},{"$f":"'REPORTE PMI'!G2402","v":0},null,null,null,{"$f":"'REPORTE PMI'!L2402","v":0},{"$f":"'REPORTE PMI'!M2402","v":0},0,null,null,0,null,null,"NO"]
[{"$f":"'REPORTE PMI'!B2403","v":0},{"$f":"'REPORTE PMI'!E2403","v":0},{"$f":"'REPORTE PMI'!J2403","v":0},{"$f":"'REPORTE PMI'!G2403","v":0},null,null,null,{"$f":"'REPORTE PMI'!L2403","v":0},{"$f":"'REPORTE PMI'!M2403","v":0},0,null,null,0,null,null,"NO"]
[{"$f":"'REPORTE PMI'!B2404","v":0},{"$f":"'REPORTE PMI'!E2404","v":0},{"$f":"'REPORTE PMI'!J2404","v":0},{"$f":"'REPORTE PMI'!G2404","v":0},null,null,null,{"$f":"'REPORTE PMI'!L2404","v":0},{"$f":"'REPORTE PMI'!M2404","v":0},0,null,null,0,null,null,"NO"]
[{"$f":"'REPORTE PMI'!B2405","v":0},{"$f":"'REPORTE PMI'!E2405","v":0},{"$f":"'REPORTE PMI'!J2405","v":0},{"$f":"'REPORTE PMI'!G2405","v":0},null,null,null,{"$f":"'REPORTE PMI'!L2405","v":0},{"$f":"'REPORTE PMI'!M2405","v":0},0,null,null,0,null,null,"NO"]
[{"$f":"'REPORTE PMI'!B2406","v":0},{"$f":"'REPORTE PMI'!E2406","v":0},{"$f":"'REPORTE PMI'!J2406","v":0},{"$f":"'REPORTE PMI'!G2406","v":0},null,null,null,{"$f":"'REPORTE PMI'!L2406","v":0},{"$f":"'REPORTE PMI'!M2406","v":0},0,null,null,0,null,null,"NO"]
[{"$f":"'REPORTE PMI'!B2407","v":0},{"$f":"'REPORTE PMI'!E2407","v":0},{"$f":"'REPORTE PMI'!J2407","v":0},{"$f":"'REPORTE PMI'!G2407","v":0},null,null,null,{"$f":"'REPORTE PMI'!L2407","v":0},{"$f":"'REPORTE PMI'!M2407","v":0},0,null,null,0,null,null,"NO"]
[{"$f":"'REPORTE PMI'!B2408","v":0},{"$f":"'REPORTE PMI'!E2408","v":0},{"$f":"'REPORTE PMI'!J2408","v":0},{"$f":"'REPORTE PMI'!G2408","v":0},null,null,null,{"$f":"'REPORTE PMI'!L2408","v":0},{"$f":"'REPORTE PMI'!M2408","v":0},0,null,null,0,null,null,"NO"]
[{"$f":"'REPORTE PMI'!B2409","v":0},{"$f":"'REPORTE PMI'!E2409","v":0},{"$f":"'REPORTE PMI'!J2409","v":0},{"$f":"'REPORTE PMI'!G2409","v":0},null,null,null,{"$f":"'REPORTE PMI'!L2409","v":0},{"$f":"'REPORTE PMI'!M2409","v":0},0,null,null,0,null,null,"NO"]
[{"$f":"'REPORTE PMI'!B2410","v":0},{"$f":"'REPORTE PMI'!E2410","v":0},{"$f":"'REPORTE PMI'!J2410","v":0},{"$f":"'REPORTE PMI'!G2410","v":0},null,null,null,{"$f":"'REPORTE PMI'!L2410","v":0},{"$f":"'REPORTE PMI'!M2410","v":0},0,null,null,0,null,null,"NO"]
[{"$f":"'REPORTE PMI'!B2411","v":0},{"$f":"'REPORTE PMI'!E2411","v":0},{"$f":"'REPORTE PMI'!J2411","v":0},{"$f":"'REPORTE PMI'!G2411","v":0},null,null,null,{"$f":"'REPORTE PMI'!L2411","v":0},{"$f":"'REPORTE PMI'!M2411","v":0},0,null,null,0,null,null,"NO"]
[{"$f":"'REPORTE PMI'!B2412","v":0},{"$f":"'REPORTE PMI'!E2412","v":0},{"$f":"'REPORTE PMI'!J2412","v":0},{"$f":"'REPORTE PMI'!G2412","v":0},null,null,null,{"$f":"'REPORTE PMI'!L2412","v":0},{"$f":"'REPORTE PMI'!M2412","v":0},0,null,null,0,null,null,"NO"]
[{"$f":"'REPORTE PMI'!B2413","v":0},{"$f":"'REPORTE PMI'!E2413","v":0},{"$f":"'REPORTE PMI'!J2413","v":0},{"$f":"'REPORTE PMI'!G2413","v":0},null,null,null,{"$f":"'REPORTE PMI'!L2413","v":0},{"$f":"'REPORTE PMI'!M2413","v":0},0,null,null,0,null,null,"NO"]
[{"$f":"'REPORTE PMI'!B2414","v":0},{"$f":"'REPORTE PMI'!E2414","v":0},{"$f":"'REPORTE PMI'!J2414","v":0},{"$f":"'REPORTE PMI'!G2414","v":0},null,null,null,{"$f":"'REPORTE PMI'!L2414","v":0},{"$f":"'REPORTE PMI'!M2414","v":0},0,null,null,0,null,null,"NO"]
[{"$f":"'REPORTE PMI'!B2415","v":0},{"$f":"'REPORTE PMI'!E2415","v":0},{"$f":"'REPORTE PMI'!J2415","v":0},{"$f":"'REPORTE PMI'!G2415","v":0},null,null,null,{"$f":"'REPORTE PMI'!L2415","v":0},{"$f":"'REPORTE PMI'!M2415","v":0},0,null,null,0,null,null,"NO"]
[{"$f":"'REPORTE PMI'!B2416","v":0},{"$f":"'REPORTE PMI'!E2416","v":0},{"$f":"'REPORTE PMI'!J2416","v":0},{"$f":"'REPORTE PMI'!G2416","v":0},null,null,null,{"$f":"'REPORTE PMI'!L2416","v":0},{"$f":"'REPORTE PMI'!M2416","v":0},0,null,null,0,null,null,"NO"]
[{"$f":"'REPORTE PMI'!B2417","v":0},{"$f":"'REPORTE PMI'!E2417","v":0},{"$f":"'REPORTE PMI'!J2417","v":0},{"$f":"'REPORTE PMI'!G2417","v":0},null,null,null,{"$f":"'REPORTE PMI'!L2417","v":0},{"$f":"'REPORTE PMI'!M2417","v":0},0,null,null,0,null,null,"NO"]
[{"$f":"'REPORTE PMI'!B2418","v":0},{"$f":"'REPORTE PMI'!E2418","v":0},{"$f":"'REPORTE PMI'!J2418","v":0},{"$f":"'REPORTE PMI'!G2418","v":0},null,null,null,{"$f":"'REPORTE PMI'!L2418","v":0},{"$f":"'REPORTE PMI'!M2418","v":0},0,null,null,0,null,null,"NO"]
[{"$f":"'REPORTE PMI'!B2419","v":0},{"$f":"'REPORTE PMI'!E2419","v":0},{"$f":"'REPORTE PMI'!J2419","v":0},{"$f":"'REPORTE PMI'!G2419","v":0},null,null,null,{"$f":"'REPORTE PMI'!L2419","v":0},{"$f":"'REPORTE PMI'!M2419","v":0},0,null,null,0,null,null,"NO"]
[{"$f":"'REPORTE PMI'!B2420","v":0},{"$f":"'REPORTE PMI'!E2420","v":0},{"$f":"'REPORTE PMI'!J2420","v":0},{"$f":"'REPORTE PMI'!G2420","v":0},null,null,null,{"$f":"'REPORTE PMI'!L2420","v":0},{"$f":"'REPORTE PMI'!M2420","v":0},0,null,null,0,null,null,"NO"]
[{"$f":"'REPORTE PMI'!B2421","v":0},{"$f":"'REPORTE PMI'!E2421","v":0},{"$f":"'REPORTE PMI'!J2421","v":0},{"$f":"'REPORTE PMI'!G2421","v":0},null,null,null,{"$f":"'REPORTE PMI'!L2421","v":0},{"$f":"'REPORTE PMI'!M2421","v":0},0,null,null,0,null,null,"NO"]
[{"$f":"'REPORTE PMI'!B2422","v":0},{"$f":"'REPORTE PMI'!E2422","v":0},{"$f":"'REPORTE PMI'!J2422","v":0},{"$f":"'REPORTE PMI'!G2422","v":0},null,null,null,{"$f":"'REPORTE PMI'!L2422","v":0},{"$f":"'REPORTE PMI'!M2422","v":0},0,null,null,0,null,null,"NO"]
[{"$f":"'REPORTE PMI'!B2423","v":0},{"$f":"'REPORTE PMI'!E2423","v":0},{"$f":"'REPORTE PMI'!J2423","v":0},{"$f":"'REPORTE PMI'!G2423","v":0},null,null,null,{"$f":"'REPORTE PMI'!L2423","v":0},{"$f":"'REPORTE PMI'!M2423","v":0},0,null,null,0,null,null,"NO"]
[{"$f":"'REPORTE PMI'!B2424","v":0},{"$f":"'REPORTE PMI'!E2424","v":0},{"$f":"'REPORTE PMI'!J2424","v":0},{"$f":"'REPORTE PMI'!G2424","v":0},null,null,null,{"$f":"'REPORTE PMI'!L2424","v":0},{"$f":"'REPORTE PMI'!M2424","v":0},0,null,null,0,null,null,"NO"]
[{"$f":"'REPORTE PMI'!B2425","v":0},{"$f":"'REPORTE PMI'!E2425","v":0},{"$f":"'REPORTE PMI'!J2425","v":0},{"$f":"'REPORTE PMI'!G2425","v":0},null,null,null,{"$f":"'REPORTE PMI'!L2425","v":0},{"$f":"'REPORTE PMI'!M2425","v":0},0,null,null,0,null,null,"NO"]
[{"$f":"'REPORTE PMI'!B2426","v":0},{"$f":"'REPORTE PMI'!E2426","v":0},{"$f":"'REPORTE PMI'!J2426","v":0},{"$f":"'REPORTE PMI'!G2426","v":0},null,null,null,{"$f":"'REPORTE PMI'!L2426","v":0},{"$f":"'REPORTE PMI'!M2426","v":0},0,null,null,0,null,null,"NO"]
[{"$f":"'REPORTE PMI'!B2427","v":0},{"$f":"'REPORTE PMI'!E2427","v":0},{"$f":"'REPORTE PMI'!J2427","v":0},{"$f":"'REPORTE PMI'!G2427","v":0},null,null,null,{"$f":"'REPORTE PMI'!L2427","v":0},{"$f":"'REPORTE PMI'!M2427","v":0},0,null,null,0,null,null,"NO"]
[{"$f":"'REPORTE PMI'!B2428","v":0},{"$f":"'REPORTE PMI'!E2428","v":0},{"$f":"'REPORTE PMI'!J2428","v":0},{"$f":"'REPORTE PMI'!G2428","v":0},null,null,null,{"$f":"'REPORTE PMI'!L2428","v":0},{"$f":"'REPORTE PMI'!M2428","v":0},0,null,null,0,null,null,"NO"]
[{"$f":"'REPORTE PMI'!B2429","v":0},{"$f":"'REPORTE PMI'!E2429","v":0},{"$f":"'REPORTE PMI'!J2429","v":0},{"$f":"'REPORTE PMI'!G2429","v":0},null,null,null,{"$f":"'REPORTE PMI'!L2429","v":0},{"$f":"'REPORTE PMI'!M2429","v":0},0,null,null,0,null,null,"NO"]
[{"$f":"'REPORTE PMI'!B2430","v":0},{"$f":"'REPORTE PMI'!E2430","v":0},{"$f":"'REPORTE PMI'!J2430","v":0},{"$f":"'REPORTE PMI'!G2430","v":0},null,null,null,{"$f":"'REPORTE PMI'!L2430","v":0},{"$f":"'REPORTE PMI'!M2430","v":0},0,null,null,0,null,null,"NO"]
[{"$f":"'REPORTE PMI'!B2431","v":0},{"$f":"'REPORTE PMI'!E2431","v":0},{"$f":"'REPORTE PMI'!J2431","v":0},{"$f":"'REPORTE PMI'!G2431","v":0},null,null,null,{"$f":"'REPORTE PMI'!L2431","v":0},{"$f":"'REPORTE PMI'!M2431","v":0},0,null,null,0,null,null,"NO"]
[{"$f":"'REPORTE PMI'!B2432","v":0},{"$f":"'REPORTE PMI'!E2432","v":0},{"$f":"'REPORTE PMI'!J2432","v":0},{"$f":"'REPORTE PMI'!G2432","v":0},null,null,null,{"$f":"'REPORTE PMI'!L2432","v":0},{"$f":"'REPORTE PMI'!M2432","v":0},0,null,null,0,null,null,"NO"]
[{"$f":"'REPORTE PMI'!B2433","v":0},{"$f":"'REPORTE PMI'!E2433","v":0},{"$f":"'REPORTE PMI'!J2433","v":0},{"$f":"'REPORTE PMI'!G2433","v":0},null,null,null,{"$f":"'REPORTE PMI'!L2433","v":0},{"$f":"'REPORTE PMI'!M2433","v":0},0,null,null,0,null,null,"NO"]
[{"$f":"'REPORTE PMI'!B2434","v":0},{"$f":"'REPORTE PMI'!E2434","v":0},{"$f":"'REPORTE PMI'!J2434","v":0},{"$f":"'REPORTE PMI'!G2434","v":0},null,null,null,{"$f":"'REPORTE PMI'!L2434","v":0},{"$f":"'REPORTE PMI'!M2434","v":0},0,null,null,0,null,null,"NO"]
[{"$f":"'REPORTE PMI'!B2435","v":0},{"$f":"'REPORTE PMI'!E2435","v":0},{"$f":"'REPORTE PMI'!J2435","v":0},{"$f":"'REPORTE PMI'!G2435","v":0},null,null,null,{"$f":"'REPORTE PMI'!L2435","v":0},{"$f":"'REPORTE PMI'!M2435","v":0},0,null,null,0,null,null,"NO"]
[{"$f":"'REPORTE PMI'!B2436","v":0},{"$f":"'REPORTE PMI'!E2436","v":0},{"$f":"'REPORTE PMI'!J2436","v":0},{"$f":"'REPORTE PMI'!G2436","v":0},null,null,null,{"$f":"'REPORTE PMI'!L2436","v":0},{"$f":"'REPORTE PMI'!M2436","v":0},{"$f":"IFERROR(I2445/H2445, 0)","v":0},null,null,{"$f":"H2445-I2445","v":0},null,null,{"$f":"IF(E2445=\"SI\",IF(J2445>0%,IF(K2445=\"SI\",IF(L2445=\"NO\",IF(N2445=\"SI\",IF(O2445=\"NO\",\"SI\",\"NO\"),\"NO\"),\"NO\"),\"NO\"),\"NO\"),\"NO\")","v":"NO"}]
[{"$f":"'REPORTE PMI'!B2437","v":0},{"$f":"'REPORTE PMI'!E2437","v":0},{"$f":"'REPORTE PMI'!J2437","v":0},{"$f":"'REPORTE PMI'!G2437","v":0},null,null,null,{"$f":"'REPORTE PMI'!L2437","v":0},{"$f":"'REPORTE PMI'!M2437","v":0},0,null,null,0,null,null,"NO"]
[{"$f":"'REPORTE PMI'!B2438","v":0},{"$f":"'REPORTE PMI'!E2438","v":0},{"$f":"'REPORTE PMI'!J2438","v":0},{"$f":"'REPORTE PMI'!G2438","v":0},null,null,null,{"$f":"'REPORTE PMI'!L2438","v":0},{"$f":"'REPORTE PMI'!M2438","v":0},0,null,null,0,null,null,"NO"]
[{"$f":"'REPORTE PMI'!B2439","v":0},{"$f":"'REPORTE PMI'!E2439","v":0},{"$f":"'REPORTE PMI'!J2439","v":0},{"$f":"'REPORTE PMI'!G2439","v":0},null,null,null,{"$f":"'REPORTE PMI'!L2439","v":0},{"$f":"'REPORTE PMI'!M2439","v":0},0,null,null,0,null,null,"NO"]
[{"$f":"'REPORTE PMI'!B2440","v":0},{"$f":"'REPORTE PMI'!E2440","v":0},{"$f":"'REPORTE PMI'!J2440","v":0},{"$f":"'REPORTE PMI'!G2440","v":0},null,null,null,{"$f":"'REPORTE PMI'!L2440","v":0},{"$f":"'REPORTE PMI'!M2440","v":0},0,null,null,0,null,null,"NO"]
[{"$f":"'REPORTE PMI'!B2441","v":0},{"$f":"'REPORTE PMI'!E2441","v":0},{"$f":"'REPORTE PMI'!J2441","v":0},{"$f":"'REPORTE PMI'!G2441","v":0},null,null,null,{"$f":"'REPORTE PMI'!L2441","v":0},{"$f":"'REPORTE PMI'!M2441","v":0},0,null,null,0,null,null,"NO"]
[{"$f":"'REPORTE PMI'!B2442","v":0},{"$f":"'REPORTE PMI'!E2442","v":0},{"$f":"'REPORTE PMI'!J2442","v":0},{"$f":"'REPORTE PMI'!G2442","v":0},null,null,null,{"$f":"'REPORTE PMI'!L2442","v":0},{"$f":"'REPORTE PMI'!M2442","v":0},0,null,null,0,null,null,"NO"]
[{"$f":"'REPORTE PMI'!B2443","v":0},{"$f":"'REPORTE PMI'!E2443","v":0},{"$f":"'REPORTE PMI'!J2443","v":0},{"$f":"'REPORTE PMI'!G2443","v":0},null,null,null,{"$f":"'REPORTE PMI'!L2443","v":0},{"$f":"'REPORTE PMI'!M2443","v":0},0,null,null,0,null,null,"NO"]
[{"$f":"'REPORTE PMI'!B2444","v":0},{"$f":"'REPORTE PMI'!E2444","v":0},{"$f":"'REPORTE PMI'!J2444","v":0},{"$f":"'REPORTE PMI'!G2444","v":0},null,null,null,{"$f":"'REPORTE PMI'!L2444","v":0},{"$f":"'REPORTE PMI'!M2444","v":0},0,null,null,0,null,null,"NO"]
[{"$f":"'REPORTE PMI'!B2445","v":0},{"$f":"'REPORTE PMI'!E2445","v":0},{"$f":"'REPORTE PMI'!J2445","v":0},{"$f":"'REPORTE PMI'!G2445","v":0},null,null,null,{"$f":"'REPORTE PMI'!L2445","v":0},{"$f":"'REPORTE PMI'!M2445","v":0},0,null,null,0,null,null,"NO"]
[{"$f":"'REPORTE PMI'!B2446","v":0},{"$f":"'REPORTE PMI'!E2446","v":0},{"$f":"'REPORTE PMI'!J2446","v":0},{"$f":"'REPORTE PMI'!G2446","v":0},null,null,null,{"$f":"'REPORTE PMI'!L2446","v":0},{"$f":"'REPORTE PMI'!M2446","v":0},0,null,null,0,null,null,"NO"]
[{"$f":"'REPORTE PMI'!B2447","v":0},{"$f":"'REPORTE PMI'!E2447","v":0},{"$f":"'REPORTE PMI'!J2447","v":0},{"$f":"'REPORTE PMI'!G2447","v":0},null,null,null,{"$f":"'REPORTE PMI'!L2447","v":0},{"$f":"'REPORTE PMI'!M2447","v":0},0,null,null,0,null,null,"NO"]
[{"$f":"'REPORTE PMI'!B2448","v":0},{"$f":"'REPORTE PMI'!E2448","v":0},{"$f":"'REPORTE PMI'!J2448","v":0},{"$f":"'REPORTE PMI'!G2448","v":0},null,null,null,{"$f":"'REPORTE PMI'!L2448","v":0},{"$f":"'REPORTE PMI'!M2448","v":0},0,null,null,0,null,null,"NO"]
[{"$f":"'REPORTE PMI'!B2449","v":0},{"$f":"'REPORTE PMI'!E2449","v":0},{"$f":"'REPORTE PMI'!J2449","v":0},{"$f":"'REPORTE PMI'!G2449","v":0},null,null,null,{"$f":"'REPORTE PMI'!L2449","v":0},{"$f":"'REPORTE PMI'!M2449","v":0},0,null,null,0,null,null,"NO"]
[{"$f":"'REPORTE PMI'!B2450","v":0},{"$f":"'REPORTE PMI'!E2450","v":0},{"$f":"'REPORTE PMI'!J2450","v":0},{"$f":"'REPORTE PMI'!G2450","v":0},null,null,null,{"$f":"'REPORTE PMI'!L2450","v":0},{"$f":"'REPORTE PMI'!M2450","v":0},0,null,null,0,null,null,"NO"]
[{"$f":"'REPORTE PMI'!B2451","v":0},{"$f":"'REPORTE PMI'!E2451","v":0},{"$f":"'REPORTE PMI'!J2451","v":0},{"$f":"'REPORTE PMI'!G2451","v":0},null,null,null,{"$f":"'REPORTE PMI'!L2451","v":0},{"$f":"'REPORTE PMI'!M2451","v":0},0,null,null,0,null,null,"NO"]
[{"$f":"'REPORTE PMI'!B2452","v":0},{"$f":"'REPORTE PMI'!E2452","v":0},{"$f":"'REPORTE PMI'!J2452","v":0},{"$f":"'REPORTE PMI'!G2452","v":0},null,null,null,{"$f":"'REPORTE PMI'!L2452","v":0},{"$f":"'REPORTE PMI'!M2452","v":0},0,null,null,0,null,null,"NO"]
[{"$f":"'REPORTE PMI'!B2453","v":0},{"$f":"'REPORTE PMI'!E2453","v":0},{"$f":"'REPORTE PMI'!J2453","v":0},{"$f":"'REPORTE PMI'!G2453","v":0},null,null,null,{"$f":"'REPORTE PMI'!L2453","v":0},{"$f":"'REPORTE PMI'!M2453","v":0},0,null,null,0,null,null,"NO"]
[{"$f":"'REPORTE PMI'!B2454","v":0},{"$f":"'REPORTE PMI'!E2454","v":0},{"$f":"'REPORTE PMI'!J2454","v":0},{"$f":"'REPORTE PMI'!G2454","v":0},null,null,null,{"$f":"'REPORTE PMI'!L2454","v":0},{"$f":"'REPORTE PMI'!M2454","v":0},0,null,null,0,null,null,"NO"]
[{"$f":"'REPORTE PMI'!B2455","v":0},{"$f":"'REPORTE PMI'!E2455","v":0},{"$f":"'REPORTE PMI'!J2455","v":0},{"$f":"'REPORTE PMI'!G2455","v":0},null,null,null,{"$f":"'REPORTE PMI'!L2455","v":0},{"$f":"'REPORTE PMI'!M2455","v":0},0,null,null,0,null,null,"NO"]
[{"$f":"'REPORTE PMI'!B2456","v":0},{"$f":"'REPORTE PMI'!E2456","v":0},{"$f":"'REPORTE PMI'!J2456","v":0},{"$f":"'REPORTE PMI'!G2456","v":0},null,null,null,{"$f":"'REPORTE PMI'!L2456","v":0},{"$f":"'REPORTE PMI'!M2456","v":0},0,null,null,0,null,null,"NO"]
[{"$f":"'REPORTE PMI'!B2457","v":0},{"$f":"'REPORTE PMI'!E2457","v":0},{"$f":"'REPORTE PMI'!J2457","v":0},{"$f":"'REPORTE PMI'!G2457","v":0},null,null,null,{"$f":"'REPORTE PMI'!L2457","v":0},{"$f":"'REPORTE PMI'!M2457","v":0},0,null,null,0,null,null,"NO"]
[{"$f":"'REPORTE PMI'!B2458","v":0},{"$f":"'REPORTE PMI'!E2458","v":0},{"$f":"'REPORTE PMI'!J2458","v":0},{"$f":"'REPORTE PMI'!G2458","v":0},null,null,null,{"$f":"'REPORTE PMI'!L2458","v":0},{"$f":"'REPORTE PMI'!M2458","v":0},0,null,null,0,null,null,"NO"]
[{"$f":"'REPORTE PMI'!B2459","v":0},{"$f":"'REPORTE PMI'!E2459","v":0},{"$f":"'REPORTE PMI'!J2459","v":0},{"$f":"'REPORTE PMI'!G2459","v":0},null,null,null,{"$f":"'REPORTE PMI'!L2459","v":0},{"$f":"'REPORTE PMI'!M2459","v":0},0,null,null,0,null,null,"NO"]
[{"$f":"'REPORTE PMI'!B2460","v":0},{"$f":"'REPORTE PMI'!E2460","v":0},{"$f":"'REPORTE PMI'!J2460","v":0},{"$f":"'REPORTE PMI'!G2460","v":0},null,null,null,{"$f":"'REPORTE PMI'!L2460","v":0},{"$f":"'REPORTE PMI'!M2460","v":0},0,null,null,0,null,null,"NO"]
[{"$f":"'REPORTE PMI'!B2461","v":0},{"$f":"'REPORTE PMI'!E2461","v":0},{"$f":"'REPORTE PMI'!J2461","v":0},{"$f":"'REPORTE PMI'!G2461","v":0},null,null,null,{"$f":"'REPORTE PMI'!L2461","v":0},{"$f":"'REPORTE PMI'!M2461","v":0},0,null,null,0,null,null,"NO"]
[{"$f":"'REPORTE PMI'!B2462","v":0},{"$f":"'REPORTE PMI'!E2462","v":0},{"$f":"'REPORTE PMI'!J2462","v":0},{"$f":"'REPORTE PMI'!G2462","v":0},null,null,null,{"$f":"'REPORTE PMI'!L2462","v":0},{"$f":"'REPORTE PMI'!M2462","v":0},0,null,null,0,null,null,"NO"]
[{"$f":"'REPORTE PMI'!B2463","v":0},{"$f":"'REPORTE PMI'!E2463","v":0},{"$f":"'REPORTE PMI'!J2463","v":0},{"$f":"'REPORTE PMI'!G2463","v":0},null,null,null,{"$f":"'REPORTE PMI'!L2463","v":0},{"$f":"'REPORTE PMI'!M2463","v":0},0,null,null,0,null,null,"NO"]
[{"$f":"'REPORTE PMI'!B2464","v":0},{"$f":"'REPORTE PMI'!E2464","v":0},{"$f":"'REPORTE PMI'!J2464","v":0},{"$f":"'REPORTE PMI'!G2464","v":0},null,null,null,{"$f":"'REPORTE PMI'!L2464","v":0},{"$f":"'REPORTE PMI'!M2464","v":0},0,null,null,0,null,null,"NO"]
[{"$f":"'REPORTE PMI'!B2465","v":0},{"$f":"'REPORTE PMI'!E2465","v":0},{"$f":"'REPORTE PMI'!J2465","v":0},{"$f":"'REPORTE PMI'!G2465","v":0},null,null,null,{"$f":"'REPORTE PMI'!L2465","v":0},{"$f":"'REPORTE PMI'!M2465","v":0},0,null,null,0,null,null,"NO"]
[{"$f":"'REPORTE PMI'!B2466","v":0},{"$f":"'REPORTE PMI'!E2466","v":0},{"$f":"'REPORTE PMI'!J2466","v":0},{"$f":"'REPORTE PMI'!G2466","v":0},null,null,null,{"$f":"'REPORTE PMI'!L2466","v":0},{"$f":"'REPORTE PMI'!M2466","v":0},0,null,null,0,null,null,"NO"]
[{"$f":"'REPORTE PMI'!B2467","v":0},{"$f":"'REPORTE PMI'!E2467","v":0},{"$f":"'REPORTE PMI'!J2467","v":0},{"$f":"'REPORTE PMI'!G2467","v":0},null,null,null,{"$f":"'REPORTE PMI'!L2467","v":0},{"$f":"'REPORTE PMI'!M2467","v":0},0,null,null,0,null,null,"NO"]
[{"$f":"'REPORTE PMI'!B2468","v":0},{"$f":"'REPORTE PMI'!E2468","v":0},{"$f":"'REPORTE PMI'!J2468","v":0},{"$f":"'REPORTE PMI'!G2468","v":0},null,null,null,{"$f":"'REPORTE PMI'!L2468","v":0},{"$f":"'REPORTE PMI'!M2468","v":0},0,null,null,0,null,null,"NO"]
[{"$f":"'REPORTE PMI'!B2469","v":0},{"$f":"'REPORTE PMI'!E2469","v":0},{"$f":"'REPORTE PMI'!J2469","v":0},{"$f":"'REPORTE PMI'!G2469","v":0},null,null,null,{"$f":"'REPORTE PMI'!L2469","v":0},{"$f":"'REPORTE PMI'!M2469","v":0},0,null,null,0,null,null,"NO"]
[{"$f":"'REPORTE PMI'!B2470","v":0},{"$f":"'REPORTE PMI'!E2470","v":0},{"$f":"'REPORTE PMI'!J2470","v":0},{"$f":"'REPORTE PMI'!G2470","v":0},null,null,null,{"$f":"'REPORTE PMI'!L2470","v":0},{"$f":"'REPORTE PMI'!M2470","v":0},0,null,null,0,null,null,"NO"]
[{"$f":"'REPORTE PMI'!B2471","v":0},{"$f":"'REPORTE PMI'!E2471","v":0},{"$f":"'REPORTE PMI'!J2471","v":0},{"$f":"'REPORTE PMI'!G2471","v":0},null,null,null,{"$f":"'REPORTE PMI'!L2471","v":0},{"$f":"'REPORTE PMI'!M2471","v":0},0,null,null,0,null,null,"NO"]
[{"$f":"'REPORTE PMI'!B2472","v":0},{"$f":"'REPORTE PMI'!E2472","v":0},{"$f":"'REPORTE PMI'!J2472","v":0},{"$f":"'REPORTE PMI'!G2472","v":0},null,null,null,{"$f":"'REPORTE PMI'!L2472","v":0},{"$f":"'REPORTE PMI'!M2472","v":0},0,null,null,0,null,null,"NO"]
[{"$f":"'REPORTE PMI'!B2473","v":0},{"$f":"'REPORTE PMI'!E2473","v":0},{"$f":"'REPORTE PMI'!J2473","v":0},{"$f":"'REPORTE PMI'!G2473","v":0},null,null,null,{"$f":"'REPORTE PMI'!L2473","v":0},{"$f":"'REPORTE PMI'!M2473","v":0},0,null,null,0,null,null,"NO"]
[{"$f":"'REPORTE PMI'!B2474","v":0},{"$f":"'REPORTE PMI'!E2474","v":0},{"$f":"'REPORTE PMI'!J2474","v":0},{"$f":"'REPORTE PMI'!G2474","v":0},null,null,null,{"$f":"'REPORTE PMI'!L2474","v":0},{"$f":"'REPORTE PMI'!M2474","v":0},0,null,null,0,null,null,"NO"]
[{"$f":"'REPORTE PMI'!B2475","v":0},{"$f":"'REPORTE PMI'!E2475","v":0},{"$f":"'REPORTE PMI'!J2475","v":0},{"$f":"'REPORTE PMI'!G2475","v":0},null,null,null,{"$f":"'REPORTE PMI'!L2475","v":0},{"$f":"'REPORTE PMI'!M2475","v":0},0,null,null,0,null,null,"NO"]
[{"$f":"'REPORTE PMI'!B2476","v":0},{"$f":"'REPORTE PMI'!E2476","v":0},{"$f":"'REPORTE PMI'!J2476","v":0},{"$f":"'REPORTE PMI'!G2476","v":0},null,null,null,{"$f":"'REPORTE PMI'!L2476","v":0},{"$f":"'REPORTE PMI'!M2476","v":0},0,null,null,0,null,null,"NO"]
[{"$f":"'REPORTE PMI'!B2477","v":0},{"$f":"'REPORTE PMI'!E2477","v":0},{"$f":"'REPORTE PMI'!J2477","v":0},{"$f":"'REPORTE PMI'!G2477","v":0},null,null,null,{"$f":"'REPORTE PMI'!L2477","v":0},{"$f":"'REPORTE PMI'!M2477","v":0},0,null,null,0,null,null,"NO"]
[{"$f":"'REPORTE PMI'!B2478","v":0},{"$f":"'REPORTE PMI'!E2478","v":0},{"$f":"'REPORTE PMI'!J2478","v":0},{"$f":"'REPORTE PMI'!G2478","v":0},null,null,null,{"$f":"'REPORTE PMI'!L2478","v":0},{"$f":"'REPORTE PMI'!M2478","v":0},0,null,null,0,null,null,"NO"]
[{"$f":"'REPORTE PMI'!B2479","v":0},{"$f":"'REPORTE PMI'!E2479","v":0},{"$f":"'REPORTE PMI'!J2479","v":0},{"$f":"'REPORTE PMI'!G2479","v":0},null,null,null,{"$f":"'REPORTE PMI'!L2479","v":0},{"$f":"'REPORTE PMI'!M2479","v":0},0,null,null,0,null,null,"NO"]
[{"$f":"'REPORTE PMI'!B2480","v":0},{"$f":"'REPORTE PMI'!E2480","v":0},{"$f":"'REPORTE PMI'!J2480","v":0},{"$f":"'REPORTE PMI'!G2480","v":0},null,null,null,{"$f":"'REPORTE PMI'!L2480","v":0},{"$f":"'REPORTE PMI'!M2480","v":0},0,null,null,0,null,null,"NO"]
[{"$f":"'REPORTE PMI'!B2481","v":0},{"$f":"'REPORTE PMI'!E2481","v":0},{"$f":"'REPORTE PMI'!J2481","v":0},{"$f":"'REPORTE PMI'!G2481","v":0},null,null,null,{"$f":"'REPORTE PMI'!L2481","v":0},{"$f":"'REPORTE PMI'!M2481","v":0},0,null,null,0,null,null,"NO"]
[{"$f":"'REPORTE PMI'!B2482","v":0},{"$f":"'REPORTE PMI'!E2482","v":0},{"$f":"'REPORTE PMI'!J2482","v":0},{"$f":"'REPORTE PMI'!G2482","v":0},null,null,null,{"$f":"'REPORTE PMI'!L2482","v":0},{"$f":"'REPORTE PMI'!M2482","v":0},0,null,null,0,null,null,"NO"]
[{"$f":"'REPORTE PMI'!B2483","v":0},{"$f":"'REPORTE PMI'!E2483","v":0},{"$f":"'REPORTE PMI'!J2483","v":0},{"$f":"'REPORTE PMI'!G2483","v":0},null,null,null,{"$f":"'REPORTE PMI'!L2483","v":0},{"$f":"'REPORTE PMI'!M2483","v":0},0,null,null,0,null,null,"NO"]
[{"$f":"'REPORTE PMI'!B2484","v":0},{"$f":"'REPORTE PMI'!E2484","v":0},{"$f":"'REPORTE PMI'!J2484","v":0},{"$f":"'REPORTE PMI'!G2484","v":0},null,null,null,{"$f":"'REPORTE PMI'!L2484","v":0},{"$f":"'REPORTE PMI'!M2484","v":0},0,null,null,0,null,null,"NO"]
[{"$f":"'REPORTE PMI'!B2485","v":0},{"$f":"'REPORTE PMI'!E2485","v":0},{"$f":"'REPORTE PMI'!J2485","v":0},{"$f":"'REPORTE PMI'!G2485","v":0},null,null,null,{"$f":"'REPORTE PMI'!L2485","v":0},{"$f":"'REPORTE PMI'!M2485","v":0},0,null,null,0,null,null,"NO"]
[{"$f":"'REPORTE PMI'!B2486","v":0},{"$f":"'REPORTE PMI'!E2486","v":0},{"$f":"'REPORTE PMI'!J2486","v":0},{"$f":"'REPORTE PMI'!G2486","v":0},null,null,null,{"$f":"'REPORTE PMI'!L2486","v":0},{"$f":"'REPORTE PMI'!M2486","v":0},0,null,null,0,null,null,"NO"]
[{"$f":"'REPORTE PMI'!B2487","v":0},{"$f":"'REPORTE PMI'!E2487","v":0},{"$f":"'REPORTE PMI'!J2487","v":0},{"$f":"'REPORTE PMI'!G2487","v":0},null,null,null,{"$f":"'REPORTE PMI'!L2487","v":0},{"$f":"'REPORTE PMI'!M2487","v":0},0,null,null,0,null,null,"NO"]
[{"$f":"'REPORTE PMI'!B2488","v":0},{"$f":"'REPORTE PMI'!E2488","v":0},{"$f":"'REPORTE PMI'!J2488","v":0},{"$f":"'REPORTE PMI'!G2488","v":0},null,null,null,{"$f":"'REPORTE PMI'!L2488","v":0},{"$f":"'REPORTE PMI'!M2488","v":0},0,null,null,0,null,null,"NO"]
[{"$f":"'REPORTE PMI'!B2489","v":0},{"$f":"'REPORTE PMI'!E2489","v":0},{"$f":"'REPORTE PMI'!J2489","v":0},{"$f":"'REPORTE PMI'!G2489","v":0},null,null,null,{"$f":"'REPORTE PMI'!L2489","v":0},{"$f":"'REPORTE PMI'!M2489","v":0},0,null,null,0,null,null,"NO"]
[{"$f":"'REPORTE PMI'!B2490","v":0},{"$f":"'REPORTE PMI'!E2490","v":0},{"$f":"'REPORTE PMI'!J2490","v":0},{"$f":"'REPORTE PMI'!G2490","v":0},null,null,null,{"$f":"'REPORTE PMI'!L2490","v":0},{"$f":"'REPORTE PMI'!M2490","v":0},0,null,null,0,null,null,"NO"]
[{"$f":"'REPORTE PMI'!B2491","v":0},{"$f":"'REPORTE PMI'!E2491","v":0},{"$f":"'REPORTE PMI'!J2491","v":0},{"$f":"'REPORTE PMI'!G2491","v":0},null,null,null,{"$f":"'REPORTE PMI'!L2491","v":0},{"$f":"'REPORTE PMI'!M2491","v":0},0,null,null,0,null,null,"NO"]
[{"$f":"'REPORTE PMI'!B2492","v":0},{"$f":"'REPORTE PMI'!E2492","v":0},{"$f":"'REPORTE PMI'!J2492","v":0},{"$f":"'REPORTE PMI'!G2492","v":0},null,null,null,{"$f":"'REPORTE PMI'!L2492","v":0},{"$f":"'REPORTE PMI'!M2492","v":0},0,null,null,0,null,null,"NO"]
[{"$f":"'REPORTE PMI'!B2493","v":0},{"$f":"'REPORTE PMI'!E2493","v":0},{"$f":"'REPORTE PMI'!J2493","v":0},{"$f":"'REPORTE PMI'!G2493","v":0},null,null,null,{"$f":"'REPORTE PMI'!L2493","v":0},{"$f":"'REPORTE PMI'!M2493","v":0},0,null,null,0,null,null,"NO"]
[{"$f":"'REPORTE PMI'!B2494","v":0},{"$f":"'REPORTE PMI'!E2494","v":0},{"$f":"'REPORTE PMI'!J2494","v":0},{"$f":"'REPORTE PMI'!G2494","v":0},null,null,null,{"$f":"'REPORTE PMI'!L2494","v":0},{"$f":"'REPORTE PMI'!M2494","v":0},0,null,null,0,null,null,"NO"]
[{"$f":"'REPORTE PMI'!B2495","v":0},{"$f":"'REPORTE PMI'!E2495","v":0},{"$f":"'REPORTE PMI'!J2495","v":0},{"$f":"'REPORTE PMI'!G2495","v":0},null,null,null,{"$f":"'REPORTE PMI'!L2495","v":0},{"$f":"'REPORTE PMI'!M2495","v":0},0,null,null,0,null,null,"NO"]
[{"$f":"'REPORTE PMI'!B2496","v":0},{"$f":"'REPORTE PMI'!E2496","v":0},{"$f":"'REPORTE PMI'!J2496","v":0},{"$f":"'REPORTE PMI'!G2496","v":0},null,null,null,{"$f":"'REPORTE PMI'!L2496","v":0},{"$f":"'REPORTE PMI'!M2496","v":0},0,null,null,0,null,null,"NO"]
[{"$f":"'REPORTE PMI'!B2497","v":0},{"$f":"'REPORTE PMI'!E2497","v":0},{"$f":"'REPORTE PMI'!J2497","v":0},{"$f":"'REPORTE PMI'!G2497","v":0},null,null,null,{"$f":"'REPORTE PMI'!L2497","v":0},{"$f":"'REPORTE PMI'!M2497","v":0},0,null,null,0,null,null,"NO"]
[{"$f":"'REPORTE PMI'!B2498","v":0},{"$f":"'REPORTE PMI'!E2498","v":0},{"$f":"'REPORTE PMI'!J2498","v":0},{"$f":"'REPORTE PMI'!G2498","v":0},null,null,null,{"$f":"'REPORTE PMI'!L2498","v":0},{"$f":"'REPORTE PMI'!M2498","v":0},0,null,null,0,null,null,"NO"]
[{"$f":"'REPORTE PMI'!B2499","v":0},{"$f":"'REPORTE PMI'!E2499","v":0},{"$f":"'REPORTE PMI'!J2499","v":0},{"$f":"'REPORTE PMI'!G2499","v":0},null,null,null,{"$f":"'REPORTE PMI'!L2499","v":0},{"$f":"'REPORTE PMI'!M2499","v":0},0,null,null,0,null,null,"NO"]
[{"$f":"'REPORTE PMI'!B2500","v":0},{"$f":"'REPORTE PMI'!E2500","v":0},{"$f":"'REPORTE PMI'!J2500","v":0},{"$f":"'REPORTE PMI'!G2500","v":0},null,null,null,{"$f":"'REPORTE PMI'!L2500","v":0},{"$f":"'REPORTE PMI'!M2500","v":0},{"$f":"IFERROR(I2509/H2509, 0)","v":0},null,null,{"$f":"H2509-I2509","v":0},null,null,{"$f":"IF(E2509=\"SI\",IF(J2509>0%,IF(K2509=\"SI\",IF(L2509=\"NO\",IF(N2509=\"SI\",IF(O2509=\"NO\",\"SI\",\"NO\"),\"NO\"),\"NO\"),\"NO\"),\"NO\"),\"NO\")","v":"NO"}]
[{"$f":"'REPORTE PMI'!B2501","v":0},{"$f":"'REPORTE PMI'!E2501","v":0},{"$f":"'REPORTE PMI'!J2501","v":0},{"$f":"'REPORTE PMI'!G2501","v":0},null,null,null,{"$f":"'REPORTE PMI'!L2501","v":0},{"$f":"'REPORTE PMI'!M2501","v":0},0,null,null,0,null,null,"NO"]
[{"$f":"'REPORTE PMI'!B2502","v":0},{"$f":"'REPORTE PMI'!E2502","v":0},{"$f":"'REPORTE PMI'!J2502","v":0},{"$f":"'REPORTE PMI'!G2502","v":0},null,null,null,{"$f":"'REPORTE PMI'!L2502","v":0},{"$f":"'REPORTE PMI'!M2502","v":0},0,null,null,0,null,null,"NO"]
[{"$f":"'REPORTE PMI'!B2503","v":0},{"$f":"'REPORTE PMI'!E2503","v":0},{"$f":"'REPORTE PMI'!J2503","v":0},{"$f":"'REPORTE PMI'!G2503","v":0},null,null,null,{"$f":"'REPORTE PMI'!L2503","v":0},{"$f":"'REPORTE PMI'!M2503","v":0},0,null,null,0,null,null,"NO"]
[{"$f":"'REPORTE PMI'!B2504","v":0},{"$f":"'REPORTE PMI'!E2504","v":0},{"$f":"'REPORTE PMI'!J2504","v":0},{"$f":"'REPORTE PMI'!G2504","v":0},null,null,null,{"$f":"'REPORTE PMI'!L2504","v":0},{"$f":"'REPORTE PMI'!M2504","v":0},0,null,null,0,null,null,"NO"]
[{"$f":"'REPORTE PMI'!B2505","v":0},{"$f":"'REPORTE PMI'!E2505","v":0},{"$f":"'REPORTE PMI'!J2505","v":0},{"$f":"'REPORTE PMI'!G2505","v":0},null,null,null,{"$f":"'REPORTE PMI'!L2505","v":0},{"$f":"'REPORTE PMI'!M2505","v":0},0,null,null,0,null,null,"NO"]
[{"$f":"'REPORTE PMI'!B2506","v":0},{"$f":"'REPORTE PMI'!E2506","v":0},{"$f":"'REPORTE PMI'!J2506","v":0},{"$f":"'REPORTE PMI'!G2506","v":0},null,null,null,{"$f":"'REPORTE PMI'!L2506","v":0},{"$f":"'REPORTE PMI'!M2506","v":0},0,null,null,0,null,null,"NO"]
[{"$f":"'REPORTE PMI'!B2507","v":0},{"$f":"'REPORTE PMI'!E2507","v":0},{"$f":"'REPORTE PMI'!J2507","v":0},{"$f":"'REPORTE PMI'!G2507","v":0},null,null,null,{"$f":"'REPORTE PMI'!L2507","v":0},{"$f":"'REPORTE PMI'!M2507","v":0},0,null,null,0,null,null,"NO"]
[{"$f":"'REPORTE PMI'!B2508","v":0},{"$f":"'REPORTE PMI'!E2508","v":0},{"$f":"'REPORTE PMI'!J2508","v":0},{"$f":"'REPORTE PMI'!G2508","v":0},null,null,null,{"$f":"'REPORTE PMI'!L2508","v":0},{"$f":"'REPORTE PMI'!M2508","v":0},0,null,null,0,null,null,"NO"]
[{"$f":"'REPORTE PMI'!B2509","v":0},{"$f":"'REPORTE PMI'!E2509","v":0},{"$f":"'REPORTE PMI'!J2509","v":0},{"$f":"'REPORTE PMI'!G2509","v":0},null,null,null,{"$f":"'REPORTE PMI'!L2509","v":0},{"$f":"'REPORTE PMI'!M2509","v":0},0,null,null,0,null,null,"NO"]
[{"$f":"'REPORTE PMI'!B2510","v":0},{"$f":"'REPORTE PMI'!E2510","v":0},{"$f":"'REPORTE PMI'!J2510","v":0},{"$f":"'REPORTE PMI'!G2510","v":0},null,null,null,{"$f":"'REPORTE PMI'!L2510","v":0},{"$f":"'REPORTE PMI'!M2510","v":0},0,null,null,0,null,null,"NO"]
[{"$f":"'REPORTE PMI'!B2511","v":0},{"$f":"'REPORTE PMI'!E2511","v":0},{"$f":"'REPORTE PMI'!J2511","v":0},{"$f":"'REPORTE PMI'!G2511","v":0},null,null,null,{"$f":"'REPORTE PMI'!L2511","v":0},{"$f":"'REPORTE PMI'!M2511","v":0},0,null,null,0,null,null,"NO"]
[{"$f":"'REPORTE PMI'!B2512","v":0},{"$f":"'REPORTE PMI'!E2512","v":0},{"$f":"'REPORTE PMI'!J2512","v":0},{"$f":"'REPORTE PMI'!G2512","v":0},null,null,null,{"$f":"'REPORTE PMI'!L2512","v":0},{"$f":"'REPORTE PMI'!M2512","v":0},0,null,null,0,null,null,"NO"]
[{"$f":"'REPORTE PMI'!B2513","v":0},{"$f":"'REPORTE PMI'!E2513","v":0},{"$f":"'REPORTE PMI'!J2513","v":0},{"$f":"'REPORTE PMI'!G2513","v":0},null,null,null,{"$f":"'REPORTE PMI'!L2513","v":0},{"$f":"'REPORTE PMI'!M2513","v":0},0,null,null,0,null,null,"NO"]
[{"$f":"'REPORTE PMI'!B2514","v":0},{"$f":"'REPORTE PMI'!E2514","v":0},{"$f":"'REPORTE PMI'!J2514","v":0},{"$f":"'REPORTE PMI'!G2514","v":0},null,null,null,{"$f":"'REPORTE PMI'!L2514","v":0},{"$f":"'REPORTE PMI'!M2514","v":0},0,null,null,0,null,null,"NO"]
[{"$f":"'REPORTE PMI'!B2515","v":0},{"$f":"'REPORTE PMI'!E2515","v":0},{"$f":"'REPORTE PMI'!J2515","v":0},{"$f":"'REPORTE PMI'!G2515","v":0},null,null,null,{"$f":"'REPORTE PMI'!L2515","v":0},{"$f":"'REPORTE PMI'!M2515","v":0},0,null,null,0,null,null,"NO"]
[{"$f":"'REPORTE PMI'!B2516","v":0},{"$f":"'REPORTE PMI'!E2516","v":0},{"$f":"'REPORTE PMI'!J2516","v":0},{"$f":"'REPORTE PMI'!G2516","v":0},null,null,null,{"$f":"'REPORTE PMI'!L2516","v":0},{"$f":"'REPORTE PMI'!M2516","v":0},0,null,null,0,null,null,"NO"]
[{"$f":"'REPORTE PMI'!B2517","v":0},{"$f":"'REPORTE PMI'!E2517","v":0},{"$f":"'REPORTE PMI'!J2517","v":0},{"$f":"'REPORTE PMI'!G2517","v":0},null,null,null,{"$f":"'REPORTE PMI'!L2517","v":0},{"$f":"'REPORTE PMI'!M2517","v":0},0,null,null,0,null,null,"NO"]
[{"$f":"'REPORTE PMI'!B2518","v":0},{"$f":"'REPORTE PMI'!E2518","v":0},{"$f":"'REPORTE PMI'!J2518","v":0},{"$f":"'REPORTE PMI'!G2518","v":0},null,null,null,{"$f":"'REPORTE PMI'!L2518","v":0},{"$f":"'REPORTE PMI'!M2518","v":0},0,null,null,0,null,null,"NO"]
[{"$f":"'REPORTE PMI'!B2519","v":0},{"$f":"'REPORTE PMI'!E2519","v":0},{"$f":"'REPORTE PMI'!J2519","v":0},{"$f":"'REPORTE PMI'!G2519","v":0},null,null,null,{"$f":"'REPORTE PMI'!L2519","v":0},{"$f":"'REPORTE PMI'!M2519","v":0},0,null,null,0,null,null,"NO"]
[{"$f":"'REPORTE PMI'!B2520","v":0},{"$f":"'REPORTE PMI'!E2520","v":0},{"$f":"'REPORTE PMI'!J2520","v":0},{"$f":"'REPORTE PMI'!G2520","v":0},null,null,null,{"$f":"'REPORTE PMI'!L2520","v":0},{"$f":"'REPORTE PMI'!M2520","v":0},0,null,null,0,null,null,"NO"]
[{"$f":"'REPORTE PMI'!B2521","v":0},{"$f":"'REPORTE PMI'!E2521","v":0},{"$f":"'REPORTE PMI'!J2521","v":0},{"$f":"'REPORTE PMI'!G2521","v":0},null,null,null,{"$f":"'REPORTE PMI'!L2521","v":0},{"$f":"'REPORTE PMI'!M2521","v":0},0,null,null,0,null,null,"NO"]
[{"$f":"'REPORTE PMI'!B2522","v":0},{"$f":"'REPORTE PMI'!E2522","v":0},{"$f":"'REPORTE PMI'!J2522","v":0},{"$f":"'REPORTE PMI'!G2522","v":0},null,null,null,{"$f":"'REPORTE PMI'!L2522","v":0},{"$f":"'REPORTE PMI'!M2522","v":0},0,null,null,0,null,null,"NO"]
[{"$f":"'REPORTE PMI'!B2523","v":0},{"$f":"'REPORTE PMI'!E2523","v":0},{"$f":"'REPORTE PMI'!J2523","v":0},{"$f":"'REPORTE PMI'!G2523","v":0},null,null,null,{"$f":"'REPORTE PMI'!L2523","v":0},{"$f":"'REPORTE PMI'!M2523","v":0},0,null,null,0,null,null,"NO"]
[{"$f":"'REPORTE PMI'!B2524","v":0},{"$f":"'REPORTE PMI'!E2524","v":0},{"$f":"'REPORTE PMI'!J2524","v":0},{"$f":"'REPORTE PMI'!G2524","v":0},null,null,null,{"$f":"'REPORTE PMI'!L2524","v":0},{"$f":"'REPORTE PMI'!M2524","v":0},0,null,null,0,null,null,"NO"]
[{"$f":"'REPORTE PMI'!B2525","v":0},{"$f":"'REPORTE PMI'!E2525","v":0},{"$f":"'REPORTE PMI'!J2525","v":0},{"$f":"'REPORTE PMI'!G2525","v":0},null,null,null,{"$f":"'REPORTE PMI'!L2525","v":0},{"$f":"'REPORTE PMI'!M2525","v":0},0,null,null,0,null,null,"NO"]
[{"$f":"'REPORTE PMI'!B2526","v":0},{"$f":"'REPORTE PMI'!E2526","v":0},{"$f":"'REPORTE PMI'!J2526","v":0},{"$f":"'REPORTE PMI'!G2526","v":0},null,null,null,{"$f":"'REPORTE PMI'!L2526","v":0},{"$f":"'REPORTE PMI'!M2526","v":0},0,null,null,0,null,null,"NO"]
[{"$f":"'REPORTE PMI'!B2527","v":0},{"$f":"'REPORTE PMI'!E2527","v":0},{"$f":"'REPORTE PMI'!J2527","v":0},{"$f":"'REPORTE PMI'!G2527","v":0},null,null,null,{"$f":"'REPORTE PMI'!L2527","v":0},{"$f":"'REPORTE PMI'!M2527","v":0},0,null,null,0,null,null,"NO"]
[{"$f":"'REPORTE PMI'!B2528","v":0},{"$f":"'REPORTE PMI'!E2528","v":0},{"$f":"'REPORTE PMI'!J2528","v":0},{"$f":"'REPORTE PMI'!G2528","v":0},null,null,null,{"$f":"'REPORTE PMI'!L2528","v":0},{"$f":"'REPORTE PMI'!M2528","v":0},0,null,null,0,null,null,"NO"]
[{"$f":"'REPORTE PMI'!B2529","v":0},{"$f":"'REPORTE PMI'!E2529","v":0},{"$f":"'REPORTE PMI'!J2529","v":0},{"$f":"'REPORTE PMI'!G2529","v":0},null,null,null,{"$f":"'REPORTE PMI'!L2529","v":0},{"$f":"'REPORTE PMI'!M2529","v":0},0,null,null,0,null,null,"NO"]
[{"$f":"'REPORTE PMI'!B2530","v":0},{"$f":"'REPORTE PMI'!E2530","v":0},{"$f":"'REPORTE PMI'!J2530","v":0},{"$f":"'REPORTE PMI'!G2530","v":0},null,null,null,{"$f":"'REPORTE PMI'!L2530","v":0},{"$f":"'REPORTE PMI'!M2530","v":0},0,null,null,0,null,null,"NO"]
[{"$f":"'REPORTE PMI'!B2531","v":0},{"$f":"'REPORTE PMI'!E2531","v":0},{"$f":"'REPORTE PMI'!J2531","v":0},{"$f":"'REPORTE PMI'!G2531","v":0},null,null,null,{"$f":"'REPORTE PMI'!L2531","v":0},{"$f":"'REPORTE PMI'!M2531","v":0},0,null,null,0,null,null,"NO"]
[{"$f":"'REPORTE PMI'!B2532","v":0},{"$f":"'REPORTE PMI'!E2532","v":0},{"$f":"'REPORTE PMI'!J2532","v":0},{"$f":"'REPORTE PMI'!G2532","v":0},null,null,null,{"$f":"'REPORTE PMI'!L2532","v":0},{"$f":"'REPORTE PMI'!M2532","v":0},0,null,null,0,null,null,"NO"]
[{"$f":"'REPORTE PMI'!B2533","v":0},{"$f":"'REPORTE PMI'!E2533","v":0},{"$f":"'REPORTE PMI'!J2533","v":0},{"$f":"'REPORTE PMI'!G2533","v":0},null,null,null,{"$f":"'REPORTE PMI'!L2533","v":0},{"$f":"'REPORTE PMI'!M2533","v":0},0,null,null,0,null,null,"NO"]
[{"$f":"'REPORTE PMI'!B2534","v":0},{"$f":"'REPORTE PMI'!E2534","v":0},{"$f":"'REPORTE PMI'!J2534","v":0},{"$f":"'REPORTE PMI'!G2534","v":0},null,null,null,{"$f":"'REPORTE PMI'!L2534","v":0},{"$f":"'REPORTE PMI'!M2534","v":0},0,null,null,0,null,null,"NO"]
[{"$f":"'REPORTE PMI'!B2535","v":0},{"$f":"'REPORTE PMI'!E2535","v":0},{"$f":"'REPORTE PMI'!J2535","v":0},{"$f":"'REPORTE PMI'!G2535","v":0},null,null,null,{"$f":"'REPORTE PMI'!L2535","v":0},{"$f":"'REPORTE PMI'!M2535","v":0},0,null,null,0,null,null,"NO"]
[{"$f":"'REPORTE PMI'!B2536","v":0},{"$f":"'REPORTE PMI'!E2536","v":0},{"$f":"'REPORTE PMI'!J2536","v":0},{"$f":"'REPORTE PMI'!G2536","v":0},null,null,null,{"$f":"'REPORTE PMI'!L2536","v":0},{"$f":"'REPORTE PMI'!M2536","v":0},0,null,null,0,null,null,"NO"]
[{"$f":"'REPORTE PMI'!B2537","v":0},{"$f":"'REPORTE PMI'!E2537","v":0},{"$f":"'REPORTE PMI'!J2537","v":0},{"$f":"'REPORTE PMI'!G2537","v":0},null,null,null,{"$f":"'REPORTE PMI'!L2537","v":0},{"$f":"'REPORTE PMI'!M2537","v":0},0,null,null,0,null,null,"NO"]
[{"$f":"'REPORTE PMI'!B2538","v":0},{"$f":"'REPORTE PMI'!E2538","v":0},{"$f":"'REPORTE PMI'!J2538","v":0},{"$f":"'REPORTE PMI'!G2538","v":0},null,null,null,{"$f":"'REPORTE PMI'!L2538","v":0},{"$f":"'REPORTE PMI'!M2538","v":0},0,null,null,0,null,null,"NO"]
[{"$f":"'REPORTE PMI'!B2539","v":0},{"$f":"'REPORTE PMI'!E2539","v":0},{"$f":"'REPORTE PMI'!J2539","v":0},{"$f":"'REPORTE PMI'!G2539","v":0},null,null,null,{"$f":"'REPORTE PMI'!L2539","v":0},{"$f":"'REPORTE PMI'!M2539","v":0},0,null,null,0,null,null,"NO"]
[{"$f":"'REPORTE PMI'!B2540","v":0},{"$f":"'REPORTE PMI'!E2540","v":0},{"$f":"'REPORTE PMI'!J2540","v":0},{"$f":"'REPORTE PMI'!G2540","v":0},null,null,null,{"$f":"'REPORTE PMI'!L2540","v":0},{"$f":"'REPORTE PMI'!M2540","v":0},0,null,null,0,null,null,"NO"]
[{"$f":"'REPORTE PMI'!B2541","v":0},{"$f":"'REPORTE PMI'!E2541","v":0},{"$f":"'REPORTE PMI'!J2541","v":0},{"$f":"'REPORTE PMI'!G2541","v":0},null,null,null,{"$f":"'REPORTE PMI'!L2541","v":0},{"$f":"'REPORTE PMI'!M2541","v":0},0,null,null,0,null,null,"NO"]
[{"$f":"'REPORTE PMI'!B2542","v":0},{"$f":"'REPORTE PMI'!E2542","v":0},{"$f":"'REPORTE PMI'!J2542","v":0},{"$f":"'REPORTE PMI'!G2542","v":0},null,null,null,{"$f":"'REPORTE PMI'!L2542","v":0},{"$f":"'REPORTE PMI'!M2542","v":0},0,null,null,0,null,null,"NO"]
[{"$f":"'REPORTE PMI'!B2543","v":0},{"$f":"'REPORTE PMI'!E2543","v":0},{"$f":"'REPORTE PMI'!J2543","v":0},{"$f":"'REPORTE PMI'!G2543","v":0},null,null,null,{"$f":"'REPORTE PMI'!L2543","v":0},{"$f":"'REPORTE PMI'!M2543","v":0},0,null,null,0,null,null,"NO"]
[{"$f":"'REPORTE PMI'!B2544","v":0},{"$f":"'REPORTE PMI'!E2544","v":0},{"$f":"'REPORTE PMI'!J2544","v":0},{"$f":"'REPORTE PMI'!G2544","v":0},null,null,null,{"$f":"'REPORTE PMI'!L2544","v":0},{"$f":"'REPORTE PMI'!M2544","v":0},0,null,null,0,null,null,"NO"]
[{"$f":"'REPORTE PMI'!B2545","v":0},{"$f":"'REPORTE PMI'!E2545","v":0},{"$f":"'REPORTE PMI'!J2545","v":0},{"$f":"'REPORTE PMI'!G2545","v":0},null,null,null,{"$f":"'REPORTE PMI'!L2545","v":0},{"$f":"'REPORTE PMI'!M2545","v":0},0,null,null,0,null,null,"NO"]
[{"$f":"'REPORTE PMI'!B2546","v":0},{"$f":"'REPORTE PMI'!E2546","v":0},{"$f":"'REPORTE PMI'!J2546","v":0},{"$f":"'REPORTE PMI'!G2546","v":0},null,null,null,{"$f":"'REPORTE PMI'!L2546","v":0},{"$f":"'REPORTE PMI'!M2546","v":0},0,null,null,0,null,null,"NO"]
[{"$f":"'REPORTE PMI'!B2547","v":0},{"$f":"'REPORTE PMI'!E2547","v":0},{"$f":"'REPORTE PMI'!J2547","v":0},{"$f":"'REPORTE PMI'!G2547","v":0},null,null,null,{"$f":"'REPORTE PMI'!L2547","v":0},{"$f":"'REPORTE PMI'!M2547","v":0},0,null,null,0,null,null,"NO"]
[{"$f":"'REPORTE PMI'!B2548","v":0},{"$f":"'REPORTE PMI'!E2548","v":0},{"$f":"'REPORTE PMI'!J2548","v":0},{"$f":"'REPORTE PMI'!G2548","v":0},null,null,null,{"$f":"'REPORTE PMI'!L2548","v":0},{"$f":"'REPORTE PMI'!M2548","v":0},0,null,null,0,null,null,"NO"]
[{"$f":"'REPORTE PMI'!B2549","v":0},{"$f":"'REPORTE PMI'!E2549","v":0},{"$f":"'REPORTE PMI'!J2549","v":0},{"$f":"'REPORTE PMI'!G2549","v":0},null,null,null,{"$f":"'REPORTE PMI'!L2549","v":0},{"$f":"'REPORTE PMI'!M2549","v":0},0,null,null,0,null,null,"NO"]
[{"$f":"'REPORTE PMI'!B2550","v":0},{"$f":"'REPORTE PMI'!E2550","v":0},{"$f":"'REPORTE PMI'!J2550","v":0},{"$f":"'REPORTE PMI'!G2550","v":0},null,null,null,{"$f":"'REPORTE PMI'!L2550","v":0},{"$f":"'REPORTE PMI'!M2550","v":0},0,null,null,0,null,null,"NO"]
[{"$f":"'REPORTE PMI'!B2551","v":0},{"$f":"'REPORTE PMI'!E2551","v":0},{"$f":"'REPORTE PMI'!J2551","v":0},{"$f":"'REPORTE PMI'!G2551","v":0},null,null,null,{"$f":"'REPORTE PMI'!L2551","v":0},{"$f":"'REPORTE PMI'!M2551","v":0},0,null,null,0,null,null,"NO"]
[{"$f":"'REPORTE PMI'!B2552","v":0},{"$f":"'REPORTE PMI'!E2552","v":0},{"$f":"'REPORTE PMI'!J2552","v":0},{"$f":"'REPORTE PMI'!G2552","v":0},null,null,null,{"$f":"'REPORTE PMI'!L2552","v":0},{"$f":"'REPORTE PMI'!M2552","v":0},0,null,null,0,null,null,"NO"]
[{"$f":"'REPORTE PMI'!B2553","v":0},{"$f":"'REPORTE PMI'!E2553","v":0},{"$f":"'REPORTE PMI'!J2553","v":0},{"$f":"'REPORTE PMI'!G2553","v":0},null,null,null,{"$f":"'REPORTE PMI'!L2553","v":0},{"$f":"'REPORTE PMI'!M2553","v":0},0,null,null,0,null,null,"NO"]
[{"$f":"'REPORTE PMI'!B2554","v":0},{"$f":"'REPORTE PMI'!E2554","v":0},{"$f":"'REPORTE PMI'!J2554","v":0},{"$f":"'REPORTE PMI'!G2554","v":0},null,null,null,{"$f":"'REPORTE PMI'!L2554","v":0},{"$f":"'REPORTE PMI'!M2554","v":0},0,null,null,0,null,null,"NO"]
[{"$f":"'REPORTE PMI'!B2555","v":0},{"$f":"'REPORTE PMI'!E2555","v":0},{"$f":"'REPORTE PMI'!J2555","v":0},{"$f":"'REPORTE PMI'!G2555","v":0},null,null,null,{"$f":"'REPORTE PMI'!L2555","v":0},{"$f":"'REPORTE PMI'!M2555","v":0},0,null,null,0,null,null,"NO"]
[{"$f":"'REPORTE PMI'!B2556","v":0},{"$f":"'REPORTE PMI'!E2556","v":0},{"$f":"'REPORTE PMI'!J2556","v":0},{"$f":"'REPORTE PMI'!G2556","v":0},null,null,null,{"$f":"'REPORTE PMI'!L2556","v":0},{"$f":"'REPORTE PMI'!M2556","v":0},0,null,null,0,null,null,"NO"]
[{"$f":"'REPORTE PMI'!B2557","v":0},{"$f":"'REPORTE PMI'!E2557","v":0},{"$f":"'REPORTE PMI'!J2557","v":0},{"$f":"'REPORTE PMI'!G2557","v":0},null,null,null,{"$f":"'REPORTE PMI'!L2557","v":0},{"$f":"'REPORTE PMI'!M2557","v":0},0,null,null,0,null,null,"NO"]
[{"$f":"'REPORTE PMI'!B2558","v":0},{"$f":"'REPORTE PMI'!E2558","v":0},{"$f":"'REPORTE PMI'!J2558","v":0},{"$f":"'REPORTE PMI'!G2558","v":0},null,null,null,{"$f":"'REPORTE PMI'!L2558","v":0},{"$f":"'REPORTE PMI'!M2558","v":0},0,null,null,0,null,null,"NO"]
[{"$f":"'REPORTE PMI'!B2559","v":0},{"$f":"'REPORTE PMI'!E2559","v":0},{"$f":"'REPORTE PMI'!J2559","v":0},{"$f":"'REPORTE PMI'!G2559","v":0},null,null,null,{"$f":"'REPORTE PMI'!L2559","v":0},{"$f":"'REPORTE PMI'!M2559","v":0},0,null,null,0,null,null,"NO"]
[{"$f":"'REPORTE PMI'!B2560","v":0},{"$f":"'REPORTE PMI'!E2560","v":0},{"$f":"'REPORTE PMI'!J2560","v":0},{"$f":"'REPORTE PMI'!G2560","v":0},null,null,null,{"$f":"'REPORTE PMI'!L2560","v":0},{"$f":"'REPORTE PMI'!M2560","v":0},0,null,null,0,null,null,"NO"]
[{"$f":"'REPORTE PMI'!B2561","v":0},{"$f":"'REPORTE PMI'!E2561","v":0},{"$f":"'REPORTE PMI'!J2561","v":0},{"$f":"'REPORTE PMI'!G2561","v":0},null,null,null,{"$f":"'REPORTE PMI'!L2561","v":0},{"$f":"'REPORTE PMI'!M2561","v":0},0,null,null,0,null,null,"NO"]
[{"$f":"'REPORTE PMI'!B2562","v":0},{"$f":"'REPORTE PMI'!E2562","v":0},{"$f":"'REPORTE PMI'!J2562","v":0},{"$f":"'REPORTE PMI'!G2562","v":0},null,null,null,{"$f":"'REPORTE PMI'!L2562","v":0},{"$f":"'REPORTE PMI'!M2562","v":0},0,null,null,0,null,null,"NO"]
[{"$f":"'REPORTE PMI'!B2563","v":0},{"$f":"'REPORTE PMI'!E2563","v":0},{"$f":"'REPORTE PMI'!J2563","v":0},{"$f":"'REPORTE PMI'!G2563","v":0},null,null,null,{"$f":"'REPORTE PMI'!L2563","v":0},{"$f":"'REPORTE PMI'!M2563","v":0},0,null,null,0,null,null,"NO"]
[{"$f":"'REPORTE PMI'!B2564","v":0},{"$f":"'REPORTE PMI'!E2564","v":0},{"$f":"'REPORTE PMI'!J2564","v":0},{"$f":"'REPORTE PMI'!G2564","v":0},null,null,null,{"$f":"'REPORTE PMI'!L2564","v":0},{"$f":"'REPORTE PMI'!M2564","v":0},{"$f":"IFERROR(I2573/H2573, 0)","v":0},null,null,{"$f":"H2573-I2573","v":0},null,null,{"$f":"IF(E2573=\"SI\",IF(J2573>0%,IF(K2573=\"SI\",IF(L2573=\"NO\",IF(N2573=\"SI\",IF(O2573=\"NO\",\"SI\",\"NO\"),\"NO\"),\"NO\"),\"NO\"),\"NO\"),\"NO\")","v":"NO"}]
[{"$f":"'REPORTE PMI'!B2565","v":0},{"$f":"'REPORTE PMI'!E2565","v":0},{"$f":"'REPORTE PMI'!J2565","v":0},{"$f":"'REPORTE PMI'!G2565","v":0},null,null,null,{"$f":"'REPORTE PMI'!L2565","v":0},{"$f":"'REPORTE PMI'!M2565","v":0},0,null,null,0,null,null,"NO"]
[{"$f":"'REPORTE PMI'!B2566","v":0},{"$f":"'REPORTE PMI'!E2566","v":0},{"$f":"'REPORTE PMI'!J2566","v":0},{"$f":"'REPORTE PMI'!G2566","v":0},null,null,null,{"$f":"'REPORTE PMI'!L2566","v":0},{"$f":"'REPORTE PMI'!M2566","v":0},0,null,null,0,null,null,"NO"]
[{"$f":"'REPORTE PMI'!B2567","v":0},{"$f":"'REPORTE PMI'!E2567","v":0},{"$f":"'REPORTE PMI'!J2567","v":0},{"$f":"'REPORTE PMI'!G2567","v":0},null,null,null,{"$f":"'REPORTE PMI'!L2567","v":0},{"$f":"'REPORTE PMI'!M2567","v":0},0,null,null,0,null,null,"NO"]
[{"$f":"'REPORTE PMI'!B2568","v":0},{"$f":"'REPORTE PMI'!E2568","v":0},{"$f":"'REPORTE PMI'!J2568","v":0},{"$f":"'REPORTE PMI'!G2568","v":0},null,null,null,{"$f":"'REPORTE PMI'!L2568","v":0},{"$f":"'REPORTE PMI'!M2568","v":0},0,null,null,0,null,null,"NO"]
[{"$f":"'REPORTE PMI'!B2569","v":0},{"$f":"'REPORTE PMI'!E2569","v":0},{"$f":"'REPORTE PMI'!J2569","v":0},{"$f":"'REPORTE PMI'!G2569","v":0},null,null,null,{"$f":"'REPORTE PMI'!L2569","v":0},{"$f":"'REPORTE PMI'!M2569","v":0},0,null,null,0,null,null,"NO"]
[{"$f":"'REPORTE PMI'!B2570","v":0},{"$f":"'REPORTE PMI'!E2570","v":0},{"$f":"'REPORTE PMI'!J2570","v":0},{"$f":"'REPORTE PMI'!G2570","v":0},null,null,null,{"$f":"'REPORTE PMI'!L2570","v":0},{"$f":"'REPORTE PMI'!M2570","v":0},0,null,null,0,null,null,"NO"]
[{"$f":"'REPORTE PMI'!B2571","v":0},{"$f":"'REPORTE PMI'!E2571","v":0},{"$f":"'REPORTE PMI'!J2571","v":0},{"$f":"'REPORTE PMI'!G2571","v":0},null,null,null,{"$f":"'REPORTE PMI'!L2571","v":0},{"$f":"'REPORTE PMI'!M2571","v":0},0,null,null,0,null,null,"NO"]
[{"$f":"'REPORTE PMI'!B2572","v":0},{"$f":"'REPORTE PMI'!E2572","v":0},{"$f":"'REPORTE PMI'!J2572","v":0},{"$f":"'REPORTE PMI'!G2572","v":0},null,null,null,{"$f":"'REPORTE PMI'!L2572","v":0},{"$f":"'REPORTE PMI'!M2572","v":0},0,null,null,0,null,null,"NO"]
[{"$f":"'REPORTE PMI'!B2573","v":0},{"$f":"'REPORTE PMI'!E2573","v":0},{"$f":"'REPORTE PMI'!J2573","v":0},{"$f":"'REPORTE PMI'!G2573","v":0},null,null,null,{"$f":"'REPORTE PMI'!L2573","v":0},{"$f":"'REPORTE PMI'!M2573","v":0},0,null,null,0,null,null,"NO"]
[{"$f":"'REPORTE PMI'!B2574","v":0},{"$f":"'REPORTE PMI'!E2574","v":0},{"$f":"'REPORTE PMI'!J2574","v":0},{"$f":"'REPORTE PMI'!G2574","v":0},null,null,null,{"$f":"'REPORTE PMI'!L2574","v":0},{"$f":"'REPORTE PMI'!M2574","v":0},0,null,null,0,null,null,"NO"]
[{"$f":"'REPORTE PMI'!B2575","v":0},{"$f":"'REPORTE PMI'!E2575","v":0},{"$f":"'REPORTE PMI'!J2575","v":0},{"$f":"'REPORTE PMI'!G2575","v":0},null,null,null,{"$f":"'REPORTE PMI'!L2575","v":0},{"$f":"'REPORTE PMI'!M2575","v":0},0,null,null,0,null,null,"NO"]
[{"$f":"'REPORTE PMI'!B2576","v":0},{"$f":"'REPORTE PMI'!E2576","v":0},{"$f":"'REPORTE PMI'!J2576","v":0},{"$f":"'REPORTE PMI'!G2576","v":0},null,null,null,{"$f":"'REPORTE PMI'!L2576","v":0},{"$f":"'REPORTE PMI'!M2576","v":0},0,null,null,0,null,null,"NO"]
[{"$f":"'REPORTE PMI'!B2577","v":0},{"$f":"'REPORTE PMI'!E2577","v":0},{"$f":"'REPORTE PMI'!J2577","v":0},{"$f":"'REPORTE PMI'!G2577","v":0},null,null,null,{"$f":"'REPORTE PMI'!L2577","v":0},{"$f":"'REPORTE PMI'!M2577","v":0},0,null,null,0,null,null,"NO"]
[{"$f":"'REPORTE PMI'!B2578","v":0},{"$f":"'REPORTE PMI'!E2578","v":0},{"$f":"'REPORTE PMI'!J2578","v":0},{"$f":"'REPORTE PMI'!G2578","v":0},null,null,null,{"$f":"'REPORTE PMI'!L2578","v":0},{"$f":"'REPORTE PMI'!M2578","v":0},0,null,null,0,null,null,"NO"]
[{"$f":"'REPORTE PMI'!B2579","v":0},{"$f":"'REPORTE PMI'!E2579","v":0},{"$f":"'REPORTE PMI'!J2579","v":0},{"$f":"'REPORTE PMI'!G2579","v":0},null,null,null,{"$f":"'REPORTE PMI'!L2579","v":0},{"$f":"'REPORTE PMI'!M2579","v":0},0,null,null,0,null,null,"NO"]
[{"$f":"'REPORTE PMI'!B2580","v":0},{"$f":"'REPORTE PMI'!E2580","v":0},{"$f":"'REPORTE PMI'!J2580","v":0},{"$f":"'REPORTE PMI'!G2580","v":0},null,null,null,{"$f":"'REPORTE PMI'!L2580","v":0},{"$f":"'REPORTE PMI'!M2580","v":0},0,null,null,0,null,null,"NO"]
[{"$f":"'REPORTE PMI'!B2581","v":0},{"$f":"'REPORTE PMI'!E2581","v":0},{"$f":"'REPORTE PMI'!J2581","v":0},{"$f":"'REPORTE PMI'!G2581","v":0},null,null,null,{"$f":"'REPORTE PMI'!L2581","v":0},{"$f":"'REPORTE PMI'!M2581","v":0},0,null,null,0,null,null,"NO"]
[{"$f":"'REPORTE PMI'!B2582","v":0},{"$f":"'REPORTE PMI'!E2582","v":0},{"$f":"'REPORTE PMI'!J2582","v":0},{"$f":"'REPORTE PMI'!G2582","v":0},null,null,null,{"$f":"'REPORTE PMI'!L2582","v":0},{"$f":"'REPORTE PMI'!M2582","v":0},0,null,null,0,null,null,"NO"]
[{"$f":"'REPORTE PMI'!B2583","v":0},{"$f":"'REPORTE PMI'!E2583","v":0},{"$f":"'REPORTE PMI'!J2583","v":0},{"$f":"'REPORTE PMI'!G2583","v":0},null,null,null,{"$f":"'REPORTE PMI'!L2583","v":0},{"$f":"'REPORTE PMI'!M2583","v":0},0,null,null,0,null,null,"NO"]
[{"$f":"'REPORTE PMI'!B2584","v":0},{"$f":"'REPORTE PMI'!E2584","v":0},{"$f":"'REPORTE PMI'!J2584","v":0},{"$f":"'REPORTE PMI'!G2584","v":0},null,null,null,{"$f":"'REPORTE PMI'!L2584","v":0},{"$f":"'REPORTE PMI'!M2584","v":0},0,null,null,0,null,null,"NO"]
[{"$f":"'REPORTE PMI'!B2585","v":0},{"$f":"'REPORTE PMI'!E2585","v":0},{"$f":"'REPORTE PMI'!J2585","v":0},{"$f":"'REPORTE PMI'!G2585","v":0},null,null,null,{"$f":"'REPORTE PMI'!L2585","v":0},{"$f":"'REPORTE PMI'!M2585","v":0},0,null,null,0,null,null,"NO"]
[{"$f":"'REPORTE PMI'!B2586","v":0},{"$f":"'REPORTE PMI'!E2586","v":0},{"$f":"'REPORTE PMI'!J2586","v":0},{"$f":"'REPORTE PMI'!G2586","v":0},null,null,null,{"$f":"'REPORTE PMI'!L2586","v":0},{"$f":"'REPORTE PMI'!M2586","v":0},0,null,null,0,null,null,"NO"]
[{"$f":"'REPORTE PMI'!B2587","v":0},{"$f":"'REPORTE PMI'!E2587","v":0},{"$f":"'REPORTE PMI'!J2587","v":0},{"$f":"'REPORTE PMI'!G2587","v":0},null,null,null,{"$f":"'REPORTE PMI'!L2587","v":0},{"$f":"'REPORTE PMI'!M2587","v":0},0,null,null,0,null,null,"NO"]
[{"$f":"'REPORTE PMI'!B2588","v":0},{"$f":"'REPORTE PMI'!E2588","v":0},{"$f":"'REPORTE PMI'!J2588","v":0},{"$f":"'REPORTE PMI'!G2588","v":0},null,null,null,{"$f":"'REPORTE PMI'!L2588","v":0},{"$f":"'REPORTE PMI'!M2588","v":0},0,null,null,0,null,null,"NO"]
[{"$f":"'REPORTE PMI'!B2589","v":0},{"$f":"'REPORTE PMI'!E2589","v":0},{"$f":"'REPORTE PMI'!J2589","v":0},{"$f":"'REPORTE PMI'!G2589","v":0},null,null,null,{"$f":"'REPORTE PMI'!L2589","v":0},{"$f":"'REPORTE PMI'!M2589","v":0},0,null,null,0,null,null,"NO"]
[{"$f":"'REPORTE PMI'!B2590","v":0},{"$f":"'REPORTE PMI'!E2590","v":0},{"$f":"'REPORTE PMI'!J2590","v":0},{"$f":"'REPORTE PMI'!G2590","v":0},null,null,null,{"$f":"'REPORTE PMI'!L2590","v":0},{"$f":"'REPORTE PMI'!M2590","v":0},0,null,null,0,null,null,"NO"]
[{"$f":"'REPORTE PMI'!B2591","v":0},{"$f":"'REPORTE PMI'!E2591","v":0},{"$f":"'REPORTE PMI'!J2591","v":0},{"$f":"'REPORTE PMI'!G2591","v":0},null,null,null,{"$f":"'REPORTE PMI'!L2591","v":0},{"$f":"'REPORTE PMI'!M2591","v":0},0,null,null,0,null,null,"NO"]
[{"$f":"'REPORTE PMI'!B2592","v":0},{"$f":"'REPORTE PMI'!E2592","v":0},{"$f":"'REPORTE PMI'!J2592","v":0},{"$f":"'REPORTE PMI'!G2592","v":0},null,null,null,{"$f":"'REPORTE PMI'!L2592","v":0},{"$f":"'REPORTE PMI'!M2592","v":0},0,null,null,0,null,null,"NO"]
[{"$f":"'REPORTE PMI'!B2593","v":0},{"$f":"'REPORTE PMI'!E2593","v":0},{"$f":"'REPORTE PMI'!J2593","v":0},{"$f":"'REPORTE PMI'!G2593","v":0},null,null,null,{"$f":"'REPORTE PMI'!L2593","v":0},{"$f":"'REPORTE PMI'!M2593","v":0},0,null,null,0,null,null,"NO"]
[{"$f":"'REPORTE PMI'!B2594","v":0},{"$f":"'REPORTE PMI'!E2594","v":0},{"$f":"'REPORTE PMI'!J2594","v":0},{"$f":"'REPORTE PMI'!G2594","v":0},null,null,null,{"$f":"'REPORTE PMI'!L2594","v":0},{"$f":"'REPORTE PMI'!M2594","v":0},0,null,null,0,null,null,"NO"]
[{"$f":"'REPORTE PMI'!B2595","v":0},{"$f":"'REPORTE PMI'!E2595","v":0},{"$f":"'REPORTE PMI'!J2595","v":0},{"$f":"'REPORTE PMI'!G2595","v":0},null,null,null,{"$f":"'REPORTE PMI'!L2595","v":0},{"$f":"'REPORTE PMI'!M2595","v":0},0,null,null,0,null,null,"NO"]
[{"$f":"'REPORTE PMI'!B2596","v":0},{"$f":"'REPORTE PMI'!E2596","v":0},{"$f":"'REPORTE PMI'!J2596","v":0},{"$f":"'REPORTE PMI'!G2596","v":0},null,null,null,{"$f":"'REPORTE PMI'!L2596","v":0},{"$f":"'REPORTE PMI'!M2596","v":0},0,null,null,0,null,null,"NO"]
[{"$f":"'REPORTE PMI'!B2597","v":0},{"$f":"'REPORTE PMI'!E2597","v":0},{"$f":"'REPORTE PMI'!J2597","v":0},{"$f":"'REPORTE PMI'!G2597","v":0},null,null,null,{"$f":"'REPORTE PMI'!L2597","v":0},{"$f":"'REPORTE PMI'!M2597","v":0},0,null,null,0,null,null,"NO"]
[{"$f":"'REPORTE PMI'!B2598","v":0},{"$f":"'REPORTE PMI'!E2598","v":0},{"$f":"'REPORTE PMI'!J2598","v":0},{"$f":"'REPORTE PMI'!G2598","v":0},null,null,null,{"$f":"'REPORTE PMI'!L2598","v":0},{"$f":"'REPORTE PMI'!M2598","v":0},0,null,null,0,null,null,"NO"]
[{"$f":"'REPORTE PMI'!B2599","v":0},{"$f":"'REPORTE PMI'!E2599","v":0},{"$f":"'REPORTE PMI'!J2599","v":0},{"$f":"'REPORTE PMI'!G2599","v":0},null,null,null,{"$f":"'REPORTE PMI'!L2599","v":0},{"$f":"'REPORTE PMI'!M2599","v":0},0,null,null,0,null,null,"NO"]
[{"$f":"'REPORTE PMI'!B2600","v":0},{"$f":"'REPORTE PMI'!E2600","v":0},{"$f":"'REPORTE PMI'!J2600","v":0},{"$f":"'REPORTE PMI'!G2600","v":0},null,null,null,{"$f":"'REPORTE PMI'!L2600","v":0},{"$f":"'REPORTE PMI'!M2600","v":0},0,null,null,0,null,null,"NO"]
[{"$f":"'REPORTE PMI'!B2601","v":0},{"$f":"'REPORTE PMI'!E2601","v":0},{"$f":"'REPORTE PMI'!J2601","v":0},{"$f":"'REPORTE PMI'!G2601","v":0},null,null,null,{"$f":"'REPORTE PMI'!L2601","v":0},{"$f":"'REPORTE PMI'!M2601","v":0},0,null,null,0,null,null,"NO"]
[{"$f":"'REPORTE PMI'!B2602","v":0},{"$f":"'REPORTE PMI'!E2602","v":0},{"$f":"'REPORTE PMI'!J2602","v":0},{"$f":"'REPORTE PMI'!G2602","v":0},null,null,null,{"$f":"'REPORTE PMI'!L2602","v":0},{"$f":"'REPORTE PMI'!M2602","v":0},0,null,null,0,null,null,"NO"]
[{"$f":"'REPORTE PMI'!B2603","v":0},{"$f":"'REPORTE PMI'!E2603","v":0},{"$f":"'REPORTE PMI'!J2603","v":0},{"$f":"'REPORTE PMI'!G2603","v":0},null,null,null,{"$f":"'REPORTE PMI'!L2603","v":0},{"$f":"'REPORTE PMI'!M2603","v":0},0,null,null,0,null,null,"NO"]
[{"$f":"'REPORTE PMI'!B2604","v":0},{"$f":"'REPORTE PMI'!E2604","v":0},{"$f":"'REPORTE PMI'!J2604","v":0},{"$f":"'REPORTE PMI'!G2604","v":0},null,null,null,{"$f":"'REPORTE PMI'!L2604","v":0},{"$f":"'REPORTE PMI'!M2604","v":0},0,null,null,0,null,null,"NO"]
[{"$f":"'REPORTE PMI'!B2605","v":0},{"$f":"'REPORTE PMI'!E2605","v":0},{"$f":"'REPORTE PMI'!J2605","v":0},{"$f":"'REPORTE PMI'!G2605","v":0},null,null,null,{"$f":"'REPORTE PMI'!L2605","v":0},{"$f":"'REPORTE PMI'!M2605","v":0},0,null,null,0,null,null,"NO"]
[{"$f":"'REPORTE PMI'!B2606","v":0},{"$f":"'REPORTE PMI'!E2606","v":0},{"$f":"'REPORTE PMI'!J2606","v":0},{"$f":"'REPORTE PMI'!G2606","v":0},null,null,null,{"$f":"'REPORTE PMI'!L2606","v":0},{"$f":"'REPORTE PMI'!M2606","v":0},0,null,null,0,null,null,"NO"]
[{"$f":"'REPORTE PMI'!B2607","v":0},{"$f":"'REPORTE PMI'!E2607","v":0},{"$f":"'REPORTE PMI'!J2607","v":0},{"$f":"'REPORTE PMI'!G2607","v":0},null,null,null,{"$f":"'REPORTE PMI'!L2607","v":0},{"$f":"'REPORTE PMI'!M2607","v":0},0,null,null,0,null,null,"NO"]
[{"$f":"'REPORTE PMI'!B2608","v":0},{"$f":"'REPORTE PMI'!E2608","v":0},{"$f":"'REPORTE PMI'!J2608","v":0},{"$f":"'REPORTE PMI'!G2608","v":0},null,null,null,{"$f":"'REPORTE PMI'!L2608","v":0},{"$f":"'REPORTE PMI'!M2608","v":0},0,null,null,0,null,null,"NO"]
[{"$f":"'REPORTE PMI'!B2609","v":0},{"$f":"'REPORTE PMI'!E2609","v":0},{"$f":"'REPORTE PMI'!J2609","v":0},{"$f":"'REPORTE PMI'!G2609","v":0},null,null,null,{"$f":"'REPORTE PMI'!L2609","v":0},{"$f":"'REPORTE PMI'!M2609","v":0},0,null,null,0,null,null,"NO"]
[{"$f":"'REPORTE PMI'!B2610","v":0},{"$f":"'REPORTE PMI'!E2610","v":0},{"$f":"'REPORTE PMI'!J2610","v":0},{"$f":"'REPORTE PMI'!G2610","v":0},null,null,null,{"$f":"'REPORTE PMI'!L2610","v":0},{"$f":"'REPORTE PMI'!M2610","v":0},0,null,null,0,null,null,"NO"]
[{"$f":"'REPORTE PMI'!B2611","v":0},{"$f":"'REPORTE PMI'!E2611","v":0},{"$f":"'REPORTE PMI'!J2611","v":0},{"$f":"'REPORTE PMI'!G2611","v":0},null,null,null,{"$f":"'REPORTE PMI'!L2611","v":0},{"$f":"'REPORTE PMI'!M2611","v":0},0,null,null,0,null,null,"NO"]
[{"$f":"'REPORTE PMI'!B2612","v":0},{"$f":"'REPORTE PMI'!E2612","v":0},{"$f":"'REPORTE PMI'!J2612","v":0},{"$f":"'REPORTE PMI'!G2612","v":0},null,null,null,{"$f":"'REPORTE PMI'!L2612","v":0},{"$f":"'REPORTE PMI'!M2612","v":0},0,null,null,0,null,null,"NO"]
[{"$f":"'REPORTE PMI'!B2613","v":0},{"$f":"'REPORTE PMI'!E2613","v":0},{"$f":"'REPORTE PMI'!J2613","v":0},{"$f":"'REPORTE PMI'!G2613","v":0},null,null,null,{"$f":"'REPORTE PMI'!L2613","v":0},{"$f":"'REPORTE PMI'!M2613","v":0},0,null,null,0,null,null,"NO"]
[{"$f":"'REPORTE PMI'!B2614","v":0},{"$f":"'REPORTE PMI'!E2614","v":0},{"$f":"'REPORTE PMI'!J2614","v":0},{"$f":"'REPORTE PMI'!G2614","v":0},null,null,null,{"$f":"'REPORTE PMI'!L2614","v":0},{"$f":"'REPORTE PMI'!M2614","v":0},0,null,null,0,null,null,"NO"]
[{"$f":"'REPORTE PMI'!B2615","v":0},{"$f":"'REPORTE PMI'!E2615","v":0},{"$f":"'REPORTE PMI'!J2615","v":0},{"$f":"'REPORTE PMI'!G2615","v":0},null,null,null,{"$f":"'REPORTE PMI'!L2615","v":0},{"$f":"'REPORTE PMI'!M2615","v":0},0,null,null,0,null,null,"NO"]
[{"$f":"'REPORTE PMI'!B2616","v":0},{"$f":"'REPORTE PMI'!E2616","v":0},{"$f":"'REPORTE PMI'!J2616","v":0},{"$f":"'REPORTE PMI'!G2616","v":0},null,null,null,{"$f":"'REPORTE PMI'!L2616","v":0},{"$f":"'REPORTE PMI'!M2616","v":0},0,null,null,0,null,null,"NO"]
[{"$f":"'REPORTE PMI'!B2617","v":0},{"$f":"'REPORTE PMI'!E2617","v":0},{"$f":"'REPORTE PMI'!J2617","v":0},{"$f":"'REPORTE PMI'!G2617","v":0},null,null,null,{"$f":"'REPORTE PMI'!L2617","v":0},{"$f":"'REPORTE PMI'!M2617","v":0},0,null,null,0,null,null,"NO"]
[{"$f":"'REPORTE PMI'!B2618","v":0},{"$f":"'REPORTE PMI'!E2618","v":0},{"$f":"'REPORTE PMI'!J2618","v":0},{"$f":"'REPORTE PMI'!G2618","v":0},null,null,null,{"$f":"'REPORTE PMI'!L2618","v":0},{"$f":"'REPORTE PMI'!M2618","v":0},0,null,null,0,null,null,"NO"]
[{"$f":"'REPORTE PMI'!B2619","v":0},{"$f":"'REPORTE PMI'!E2619","v":0},{"$f":"'REPORTE PMI'!J2619","v":0},{"$f":"'REPORTE PMI'!G2619","v":0},null,null,null,{"$f":"'REPORTE PMI'!L2619","v":0},{"$f":"'REPORTE PMI'!M2619","v":0},0,null,null,0,null,null,"NO"]
[{"$f":"'REPORTE PMI'!B2620","v":0},{"$f":"'REPORTE PMI'!E2620","v":0},{"$f":"'REPORTE PMI'!J2620","v":0},{"$f":"'REPORTE PMI'!G2620","v":0},null,null,null,{"$f":"'REPORTE PMI'!L2620","v":0},{"$f":"'REPORTE PMI'!M2620","v":0},0,null,null,0,null,null,"NO"]
[{"$f":"'REPORTE PMI'!B2621","v":0},{"$f":"'REPORTE PMI'!E2621","v":0},{"$f":"'REPORTE PMI'!J2621","v":0},{"$f":"'REPORTE PMI'!G2621","v":0},null,null,null,{"$f":"'REPORTE PMI'!L2621","v":0},{"$f":"'REPORTE PMI'!M2621","v":0},0,null,null,0,null,null,"NO"]
[{"$f":"'REPORTE PMI'!B2622","v":0},{"$f":"'REPORTE PMI'!E2622","v":0},{"$f":"'REPORTE PMI'!J2622","v":0},{"$f":"'REPORTE PMI'!G2622","v":0},null,null,null,{"$f":"'REPORTE PMI'!L2622","v":0},{"$f":"'REPORTE PMI'!M2622","v":0},0,null,null,0,null,null,"NO"]
[{"$f":"'REPORTE PMI'!B2623","v":0},{"$f":"'REPORTE PMI'!E2623","v":0},{"$f":"'REPORTE PMI'!J2623","v":0},{"$f":"'REPORTE PMI'!G2623","v":0},null,null,null,{"$f":"'REPORTE PMI'!L2623","v":0},{"$f":"'REPORTE PMI'!M2623","v":0},0,null,null,0,null,null,"NO"]
[{"$f":"'REPORTE PMI'!B2624","v":0},{"$f":"'REPORTE PMI'!E2624","v":0},{"$f":"'REPORTE PMI'!J2624","v":0},{"$f":"'REPORTE PMI'!G2624","v":0},null,null,null,{"$f":"'REPORTE PMI'!L2624","v":0},{"$f":"'REPORTE PMI'!M2624","v":0},0,null,null,0,null,null,"NO"]
[{"$f":"'REPORTE PMI'!B2625","v":0},{"$f":"'REPORTE PMI'!E2625","v":0},{"$f":"'REPORTE PMI'!J2625","v":0},{"$f":"'REPORTE PMI'!G2625","v":0},null,null,null,{"$f":"'REPORTE PMI'!L2625","v":0},{"$f":"'REPORTE PMI'!M2625","v":0},0,null,null,0,null,null,"NO"]
[{"$f":"'REPORTE PMI'!B2626","v":0},{"$f":"'REPORTE PMI'!E2626","v":0},{"$f":"'REPORTE PMI'!J2626","v":0},{"$f":"'REPORTE PMI'!G2626","v":0},null,null,null,{"$f":"'REPORTE PMI'!L2626","v":0},{"$f":"'REPORTE PMI'!M2626","v":0},0,null,null,0,null,null,"NO"]
[{"$f":"'REPORTE PMI'!B2627","v":0},{"$f":"'REPORTE PMI'!E2627","v":0},{"$f":"'REPORTE PMI'!J2627","v":0},{"$f":"'REPORTE PMI'!G2627","v":0},null,null,null,{"$f":"'REPORTE PMI'!L2627","v":0},{"$f":"'REPORTE PMI'!M2627","v":0},0,null,null,0,null,null,"NO"]
[{"$f":"'REPORTE PMI'!B2628","v":0},{"$f":"'REPORTE PMI'!E2628","v":0},{"$f":"'REPORTE PMI'!J2628","v":0},{"$f":"'REPORTE PMI'!G2628","v":0},null,null,null,{"$f":"'REPORTE PMI'!L2628","v":0},{"$f":"'REPORTE PMI'!M2628","v":0},{"$f":"IFERROR(I2637/H2637, 0)","v":0},null,null,{"$f":"H2637-I2637","v":0},null,null,{"$f":"IF(E2637=\"SI\",IF(J2637>0%,IF(K2637=\"SI\",IF(L2637=\"NO\",IF(N2637=\"SI\",IF(O2637=\"NO\",\"SI\",\"NO\"),\"NO\"),\"NO\"),\"NO\"),\"NO\"),\"NO\")","v":"NO"}]
[{"$f":"'REPORTE PMI'!B2629","v":0},{"$f":"'REPORTE PMI'!E2629","v":0},{"$f":"'REPORTE PMI'!J2629","v":0},{"$f":"'REPORTE PMI'!G2629","v":0},null,null,null,{"$f":"'REPORTE PMI'!L2629","v":0},{"$f":"'REPORTE PMI'!M2629","v":0},0,null,null,0,null,null,"NO"]
[{"$f":"'REPORTE PMI'!B2630","v":0},{"$f":"'REPORTE PMI'!E2630","v":0},{"$f":"'REPORTE PMI'!J2630","v":0},{"$f":"'REPORTE PMI'!G2630","v":0},null,null,null,{"$f":"'REPORTE PMI'!L2630","v":0},{"$f":"'REPORTE PMI'!M2630","v":0},0,null,null,0,null,null,"NO"]
[{"$f":"'REPORTE PMI'!B2631","v":0},{"$f":"'REPORTE PMI'!E2631","v":0},{"$f":"'REPORTE PMI'!J2631","v":0},{"$f":"'REPORTE PMI'!G2631","v":0},null,null,null,{"$f":"'REPORTE PMI'!L2631","v":0},{"$f":"'REPORTE PMI'!M2631","v":0},0,null,null,0,null,null,"NO"]
[{"$f":"'REPORTE PMI'!B2632","v":0},{"$f":"'REPORTE PMI'!E2632","v":0},{"$f":"'REPORTE PMI'!J2632","v":0},{"$f":"'REPORTE PMI'!G2632","v":0},null,null,null,{"$f":"'REPORTE PMI'!L2632","v":0},{"$f":"'REPORTE PMI'!M2632","v":0},0,null,null,0,null,null,"NO"]
[{"$f":"'REPORTE PMI'!B2633","v":0},{"$f":"'REPORTE PMI'!E2633","v":0},{"$f":"'REPORTE PMI'!J2633","v":0},{"$f":"'REPORTE PMI'!G2633","v":0},null,null,null,{"$f":"'REPORTE PMI'!L2633","v":0},{"$f":"'REPORTE PMI'!M2633","v":0},0,null,null,0,null,null,"NO"]
[{"$f":"'REPORTE PMI'!B2634","v":0},{"$f":"'REPORTE PMI'!E2634","v":0},{"$f":"'REPORTE PMI'!J2634","v":0},{"$f":"'REPORTE PMI'!G2634","v":0},null,null,null,{"$f":"'REPORTE PMI'!L2634","v":0},{"$f":"'REPORTE PMI'!M2634","v":0},0,null,null,0,null,null,"NO"]
[{"$f":"'REPORTE PMI'!B2635","v":0},{"$f":"'REPORTE PMI'!E2635","v":0},{"$f":"'REPORTE PMI'!J2635","v":0},{"$f":"'REPORTE PMI'!G2635","v":0},null,null,null,{"$f":"'REPORTE PMI'!L2635","v":0},{"$f":"'REPORTE PMI'!M2635","v":0},0,null,null,0,null,null,"NO"]
[{"$f":"'REPORTE PMI'!B2636","v":0},{"$f":"'REPORTE PMI'!E2636","v":0},{"$f":"'REPORTE PMI'!J2636","v":0},{"$f":"'REPORTE PMI'!G2636","v":0},null,null,null,{"$f":"'REPORTE PMI'!L2636","v":0},{"$f":"'REPORTE PMI'!M2636","v":0},0,null,null,0,null,null,"NO"]
[{"$f":"'REPORTE PMI'!B2637","v":0},{"$f":"'REPORTE PMI'!E2637","v":0},{"$f":"'REPORTE PMI'!J2637","v":0},{"$f":"'REPORTE PMI'!G2637","v":0},null,null,null,{"$f":"'REPORTE PMI'!L2637","v":0},{"$f":"'REPORTE PMI'!M2637","v":0},0,null,null,0,null,null,"NO"]
[{"$f":"'REPORTE PMI'!B2638","v":0},{"$f":"'REPORTE PMI'!E2638","v":0},{"$f":"'REPORTE PMI'!J2638","v":0},{"$f":"'REPORTE PMI'!G2638","v":0},null,null,null,{"$f":"'REPORTE PMI'!L2638","v":0},{"$f":"'REPORTE PMI'!M2638","v":0},0,null,null,0,null,null,"NO"]
[{"$f":"'REPORTE PMI'!B2639","v":0},{"$f":"'REPORTE PMI'!E2639","v":0},{"$f":"'REPORTE PMI'!J2639","v":0},{"$f":"'REPORTE PMI'!G2639","v":0},null,null,null,{"$f":"'REPORTE PMI'!L2639","v":0},{"$f":"'REPORTE PMI'!M2639","v":0},0,null,null,0,null,null,"NO"]
[{"$f":"'REPORTE PMI'!B2640","v":0},{"$f":"'REPORTE PMI'!E2640","v":0},{"$f":"'REPORTE PMI'!J2640","v":0},{"$f":"'REPORTE PMI'!G2640","v":0},null,null,null,{"$f":"'REPORTE PMI'!L2640","v":0},{"$f":"'REPORTE PMI'!M2640","v":0},0,null,null,0,null,null,"NO"]
[{"$f":"'REPORTE PMI'!B2641","v":0},{"$f":"'REPORTE PMI'!E2641","v":0},{"$f":"'REPORTE PMI'!J2641","v":0},{"$f":"'REPORTE PMI'!G2641","v":0},null,null,null,{"$f":"'REPORTE PMI'!L2641","v":0},{"$f":"'REPORTE PMI'!M2641","v":0},0,null,null,0,null,null,"NO"]
[{"$f":"'REPORTE PMI'!B2642","v":0},{"$f":"'REPORTE PMI'!E2642","v":0},{"$f":"'REPORTE PMI'!J2642","v":0},{"$f":"'REPORTE PMI'!G2642","v":0},null,null,null,{"$f":"'REPORTE PMI'!L2642","v":0},{"$f":"'REPORTE PMI'!M2642","v":0},0,null,null,0,null,null,"NO"]
[{"$f":"'REPORTE PMI'!B2643","v":0},{"$f":"'REPORTE PMI'!E2643","v":0},{"$f":"'REPORTE PMI'!J2643","v":0},{"$f":"'REPORTE PMI'!G2643","v":0},null,null,null,{"$f":"'REPORTE PMI'!L2643","v":0},{"$f":"'REPORTE PMI'!M2643","v":0},0,null,null,0,null,null,"NO"]
[{"$f":"'REPORTE PMI'!B2644","v":0},{"$f":"'REPORTE PMI'!E2644","v":0},{"$f":"'REPORTE PMI'!J2644","v":0},{"$f":"'REPORTE PMI'!G2644","v":0},null,null,null,{"$f":"'REPORTE PMI'!L2644","v":0},{"$f":"'REPORTE PMI'!M2644","v":0},0,null,null,0,null,null,"NO"]
[{"$f":"'REPORTE PMI'!B2645","v":0},{"$f":"'REPORTE PMI'!E2645","v":0},{"$f":"'REPORTE PMI'!J2645","v":0},{"$f":"'REPORTE PMI'!G2645","v":0},null,null,null,{"$f":"'REPORTE PMI'!L2645","v":0},{"$f":"'REPORTE PMI'!M2645","v":0},0,null,null,0,null,null,"NO"]
[{"$f":"'REPORTE PMI'!B2646","v":0},{"$f":"'REPORTE PMI'!E2646","v":0},{"$f":"'REPORTE PMI'!J2646","v":0},{"$f":"'REPORTE PMI'!G2646","v":0},null,null,null,{"$f":"'REPORTE PMI'!L2646","v":0},{"$f":"'REPORTE PMI'!M2646","v":0},0,null,null,0,null,null,"NO"]
[{"$f":"'REPORTE PMI'!B2647","v":0},{"$f":"'REPORTE PMI'!E2647","v":0},{"$f":"'REPORTE PMI'!J2647","v":0},{"$f":"'REPORTE PMI'!G2647","v":0},null,null,null,{"$f":"'REPORTE PMI'!L2647","v":0},{"$f":"'REPORTE PMI'!M2647","v":0},0,null,null,0,null,null,"NO"]
[{"$f":"'REPORTE PMI'!B2648","v":0},{"$f":"'REPORTE PMI'!E2648","v":0},{"$f":"'REPORTE PMI'!J2648","v":0},{"$f":"'REPORTE PMI'!G2648","v":0},null,null,null,{"$f":"'REPORTE PMI'!L2648","v":0},{"$f":"'REPORTE PMI'!M2648","v":0},0,null,null,0,null,null,"NO"]
[{"$f":"'REPORTE PMI'!B2649","v":0},{"$f":"'REPORTE PMI'!E2649","v":0},{"$f":"'REPORTE PMI'!J2649","v":0},{"$f":"'REPORTE PMI'!G2649","v":0},null,null,null,{"$f":"'REPORTE PMI'!L2649","v":0},{"$f":"'REPORTE PMI'!M2649","v":0},0,null,null,0,null,null,"NO"]
[{"$f":"'REPORTE PMI'!B2650","v":0},{"$f":"'REPORTE PMI'!E2650","v":0},{"$f":"'REPORTE PMI'!J2650","v":0},{"$f":"'REPORTE PMI'!G2650","v":0},null,null,null,{"$f":"'REPORTE PMI'!L2650","v":0},{"$f":"'REPORTE PMI'!M2650","v":0},0,null,null,0,null,null,"NO"]
[{"$f":"'REPORTE PMI'!B2651","v":0},{"$f":"'REPORTE PMI'!E2651","v":0},{"$f":"'REPORTE PMI'!J2651","v":0},{"$f":"'REPORTE PMI'!G2651","v":0},null,null,null,{"$f":"'REPORTE PMI'!L2651","v":0},{"$f":"'REPORTE PMI'!M2651","v":0},0,null,null,0,null,null,"NO"]
[{"$f":"'REPORTE PMI'!B2652","v":0},{"$f":"'REPORTE PMI'!E2652","v":0},{"$f":"'REPORTE PMI'!J2652","v":0},{"$f":"'REPORTE PMI'!G2652","v":0},null,null,null,{"$f":"'REPORTE PMI'!L2652","v":0},{"$f":"'REPORTE PMI'!M2652","v":0},0,null,null,0,null,null,"NO"]
[{"$f":"'REPORTE PMI'!B2653","v":0},{"$f":"'REPORTE PMI'!E2653","v":0},{"$f":"'REPORTE PMI'!J2653","v":0},{"$f":"'REPORTE PMI'!G2653","v":0},null,null,null,{"$f":"'REPORTE PMI'!L2653","v":0},{"$f":"'REPORTE PMI'!M2653","v":0},0,null,null,0,null,null,"NO"]
[{"$f":"'REPORTE PMI'!B2654","v":0},{"$f":"'REPORTE PMI'!E2654","v":0},{"$f":"'REPORTE PMI'!J2654","v":0},{"$f":"'REPORTE PMI'!G2654","v":0},null,null,null,{"$f":"'REPORTE PMI'!L2654","v":0},{"$f":"'REPORTE PMI'!M2654","v":0},0,null,null,0,null,null,"NO"]
[{"$f":"'REPORTE PMI'!B2655","v":0},{"$f":"'REPORTE PMI'!E2655","v":0},{"$f":"'REPORTE PMI'!J2655","v":0},{"$f":"'REPORTE PMI'!G2655","v":0},null,null,null,{"$f":"'REPORTE PMI'!L2655","v":0},{"$f":"'REPORTE PMI'!M2655","v":0},0,null,null,0,null,null,"NO"]
[{"$f":"'REPORTE PMI'!B2656","v":0},{"$f":"'REPORTE PMI'!E2656","v":0},{"$f":"'REPORTE PMI'!J2656","v":0},{"$f":"'REPORTE PMI'!G2656","v":0},null,null,null,{"$f":"'REPORTE PMI'!L2656","v":0},{"$f":"'REPORTE PMI'!M2656","v":0},0,null,null,0,null,null,"NO"]
[{"$f":"'REPORTE PMI'!B2657","v":0},{"$f":"'REPORTE PMI'!E2657","v":0},{"$f":"'REPORTE PMI'!J2657","v":0},{"$f":"'REPORTE PMI'!G2657","v":0},null,null,null,{"$f":"'REPORTE PMI'!L2657","v":0},{"$f":"'REPORTE PMI'!M2657","v":0},0,null,null,0,null,null,"NO"]
[{"$f":"'REPORTE PMI'!B2658","v":0},{"$f":"'REPORTE PMI'!E2658","v":0},{"$f":"'REPORTE PMI'!J2658","v":0},{"$f":"'REPORTE PMI'!G2658","v":0},null,null,null,{"$f":"'REPORTE PMI'!L2658","v":0},{"$f":"'REPORTE PMI'!M2658","v":0},0,null,null,0,null,null,"NO"]
[{"$f":"'REPORTE PMI'!B2659","v":0},{"$f":"'REPORTE PMI'!E2659","v":0},{"$f":"'REPORTE PMI'!J2659","v":0},{"$f":"'REPORTE PMI'!G2659","v":0},null,null,null,{"$f":"'REPORTE PMI'!L2659","v":0},{"$f":"'REPORTE PMI'!M2659","v":0},0,null,null,0,null,null,"NO"]
[{"$f":"'REPORTE PMI'!B2660","v":0},{"$f":"'REPORTE PMI'!E2660","v":0},{"$f":"'REPORTE PMI'!J2660","v":0},{"$f":"'REPORTE PMI'!G2660","v":0},null,null,null,{"$f":"'REPORTE PMI'!L2660","v":0},{"$f":"'REPORTE PMI'!M2660","v":0},0,null,null,0,null,null,"NO"]
[{"$f":"'REPORTE PMI'!B2661","v":0},{"$f":"'REPORTE PMI'!E2661","v":0},{"$f":"'REPORTE PMI'!J2661","v":0},{"$f":"'REPORTE PMI'!G2661","v":0},null,null,null,{"$f":"'REPORTE PMI'!L2661","v":0},{"$f":"'REPORTE PMI'!M2661","v":0},0,null,null,0,null,null,"NO"]
[{"$f":"'REPORTE PMI'!B2662","v":0},{"$f":"'REPORTE PMI'!E2662","v":0},{"$f":"'REPORTE PMI'!J2662","v":0},{"$f":"'REPORTE PMI'!G2662","v":0},null,null,null,{"$f":"'REPORTE PMI'!L2662","v":0},{"$f":"'REPORTE PMI'!M2662","v":0},0,null,null,0,null,null,"NO"]
[{"$f":"'REPORTE PMI'!B2663","v":0},{"$f":"'REPORTE PMI'!E2663","v":0},{"$f":"'REPORTE PMI'!J2663","v":0},{"$f":"'REPORTE PMI'!G2663","v":0},null,null,null,{"$f":"'REPORTE PMI'!L2663","v":0},{"$f":"'REPORTE PMI'!M2663","v":0},0,null,null,0,null,null,"NO"]
[{"$f":"'REPORTE PMI'!B2664","v":0},{"$f":"'REPORTE PMI'!E2664","v":0},{"$f":"'REPORTE PMI'!J2664","v":0},{"$f":"'REPORTE PMI'!G2664","v":0},null,null,null,{"$f":"'REPORTE PMI'!L2664","v":0},{"$f":"'REPORTE PMI'!M2664","v":0},0,null,null,0,null,null,"NO"]
[{"$f":"'REPORTE PMI'!B2665","v":0},{"$f":"'REPORTE PMI'!E2665","v":0},{"$f":"'REPORTE PMI'!J2665","v":0},{"$f":"'REPORTE PMI'!G2665","v":0},null,null,null,{"$f":"'REPORTE PMI'!L2665","v":0},{"$f":"'REPORTE PMI'!M2665","v":0},0,null,null,0,null,null,"NO"]
[{"$f":"'REPORTE PMI'!B2666","v":0},{"$f":"'REPORTE PMI'!E2666","v":0},{"$f":"'REPORTE PMI'!J2666","v":0},{"$f":"'REPORTE PMI'!G2666","v":0},null,null,null,{"$f":"'REPORTE PMI'!L2666","v":0},{"$f":"'REPORTE PMI'!M2666","v":0},0,null,null,0,null,null,"NO"]
[{"$f":"'REPORTE PMI'!B2667","v":0},{"$f":"'REPORTE PMI'!E2667","v":0},{"$f":"'REPORTE PMI'!J2667","v":0},{"$f":"'REPORTE PMI'!G2667","v":0},null,null,null,{"$f":"'REPORTE PMI'!L2667","v":0},{"$f":"'REPORTE PMI'!M2667","v":0},0,null,null,0,null,null,"NO"]
[{"$f":"'REPORTE PMI'!B2668","v":0},{"$f":"'REPORTE PMI'!E2668","v":0},{"$f":"'REPORTE PMI'!J2668","v":0},{"$f":"'REPORTE PMI'!G2668","v":0},null,null,null,{"$f":"'REPORTE PMI'!L2668","v":0},{"$f":"'REPORTE PMI'!M2668","v":0},0,null,null,0,null,null,"NO"]
[{"$f":"'REPORTE PMI'!B2669","v":0},{"$f":"'REPORTE PMI'!E2669","v":0},{"$f":"'REPORTE PMI'!J2669","v":0},{"$f":"'REPORTE PMI'!G2669","v":0},null,null,null,{"$f":"'REPORTE PMI'!L2669","v":0},{"$f":"'REPORTE PMI'!M2669","v":0},0,null,null,0,null,null,"NO"]
[{"$f":"'REPORTE PMI'!B2670","v":0},{"$f":"'REPORTE PMI'!E2670","v":0},{"$f":"'REPORTE PMI'!J2670","v":0},{"$f":"'REPORTE PMI'!G2670","v":0},null,null,null,{"$f":"'REPORTE PMI'!L2670","v":0},{"$f":"'REPORTE PMI'!M2670","v":0},0,null,null,0,null,null,"NO"]
[{"$f":"'REPORTE PMI'!B2671","v":0},{"$f":"'REPORTE PMI'!E2671","v":0},{"$f":"'REPORTE PMI'!J2671","v":0},{"$f":"'REPORTE PMI'!G2671","v":0},null,null,null,{"$f":"'REPORTE PMI'!L2671","v":0},{"$f":"'REPORTE PMI'!M2671","v":0},0,null,null,0,null,null,"NO"]
[{"$f":"'REPORTE PMI'!B2672","v":0},{"$f":"'REPORTE PMI'!E2672","v":0},{"$f":"'REPORTE PMI'!J2672","v":0},{"$f":"'REPORTE PMI'!G2672","v":0},null,null,null,{"$f":"'REPORTE PMI'!L2672","v":0},{"$f":"'REPORTE PMI'!M2672","v":0},0,null,null,0,null,null,"NO"]
[{"$f":"'REPORTE PMI'!B2673","v":0},{"$f":"'REPORTE PMI'!E2673","v":0},{"$f":"'REPORTE PMI'!J2673","v":0},{"$f":"'REPORTE PMI'!G2673","v":0},null,null,null,{"$f":"'REPORTE PMI'!L2673","v":0},{"$f":"'REPORTE PMI'!M2673","v":0},0,null,null,0,null,null,"NO"]
[{"$f":"'REPORTE PMI'!B2674","v":0},{"$f":"'REPORTE PMI'!E2674","v":0},{"$f":"'REPORTE PMI'!J2674","v":0},{"$f":"'REPORTE PMI'!G2674","v":0},null,null,null,{"$f":"'REPORTE PMI'!L2674","v":0},{"$f":"'REPORTE PMI'!M2674","v":0},0,null,null,0,null,null,"NO"]
[{"$f":"'REPORTE PMI'!B2675","v":0},{"$f":"'REPORTE PMI'!E2675","v":0},{"$f":"'REPORTE PMI'!J2675","v":0},{"$f":"'REPORTE PMI'!G2675","v":0},null,null,null,{"$f":"'REPORTE PMI'!L2675","v":0},{"$f":"'REPORTE PMI'!M2675","v":0},0,null,null,0,null,null,"NO"]
[{"$f":"'REPORTE PMI'!B2676","v":0},{"$f":"'REPORTE PMI'!E2676","v":0},{"$f":"'REPORTE PMI'!J2676","v":0},{"$f":"'REPORTE PMI'!G2676","v":0},null,null,null,{"$f":"'REPORTE PMI'!L2676","v":0},{"$f":"'REPORTE PMI'!M2676","v":0},0,null,null,0,null,null,"NO"]
[{"$f":"'REPORTE PMI'!B2677","v":0},{"$f":"'REPORTE PMI'!E2677","v":0},{"$f":"'REPORTE PMI'!J2677","v":0},{"$f":"'REPORTE PMI'!G2677","v":0},null,null,null,{"$f":"'REPORTE PMI'!L2677","v":0},{"$f":"'REPORTE PMI'!M2677","v":0},0,null,null,0,null,null,"NO"]
[{"$f":"'REPORTE PMI'!B2678","v":0},{"$f":"'REPORTE PMI'!E2678","v":0},{"$f":"'REPORTE PMI'!J2678","v":0},{"$f":"'REPORTE PMI'!G2678","v":0},null,null,null,{"$f":"'REPORTE PMI'!L2678","v":0},{"$f":"'REPORTE PMI'!M2678","v":0},0,null,null,0,null,null,"NO"]
[{"$f":"'REPORTE PMI'!B2679","v":0},{"$f":"'REPORTE PMI'!E2679","v":0},{"$f":"'REPORTE PMI'!J2679","v":0},{"$f":"'REPORTE PMI'!G2679","v":0},null,null,null,{"$f":"'REPORTE PMI'!L2679","v":0},{"$f":"'REPORTE PMI'!M2679","v":0},0,null,null,0,null,null,"NO"]
[{"$f":"'REPORTE PMI'!B2680","v":0},{"$f":"'REPORTE PMI'!E2680","v":0},{"$f":"'REPORTE PMI'!J2680","v":0},{"$f":"'REPORTE PMI'!G2680","v":0},null,null,null,{"$f":"'REPORTE PMI'!L2680","v":0},{"$f":"'REPORTE PMI'!M2680","v":0},0,null,null,0,null,null,"NO"]
[{"$f":"'REPORTE PMI'!B2681","v":0},{"$f":"'REPORTE PMI'!E2681","v":0},{"$f":"'REPORTE PMI'!J2681","v":0},{"$f":"'REPORTE PMI'!G2681","v":0},null,null,null,{"$f":"'REPORTE PMI'!L2681","v":0},{"$f":"'REPORTE PMI'!M2681","v":0},0,null,null,0,null,null,"NO"]
[{"$f":"'REPORTE PMI'!B2682","v":0},{"$f":"'REPORTE PMI'!E2682","v":0},{"$f":"'REPORTE PMI'!J2682","v":0},{"$f":"'REPORTE PMI'!G2682","v":0},null,null,null,{"$f":"'REPORTE PMI'!L2682","v":0},{"$f":"'REPORTE PMI'!M2682","v":0},0,null,null,0,null,null,"NO"]
[{"$f":"'REPORTE PMI'!B2683","v":0},{"$f":"'REPORTE PMI'!E2683","v":0},{"$f":"'REPORTE PMI'!J2683","v":0},{"$f":"'REPORTE PMI'!G2683","v":0},null,null,null,{"$f":"'REPORTE PMI'!L2683","v":0},{"$f":"'REPORTE PMI'!M2683","v":0},0,null,null,0,null,null,"NO"]
[{"$f":"'REPORTE PMI'!B2684","v":0},{"$f":"'REPORTE PMI'!E2684","v":0},{"$f":"'REPORTE PMI'!J2684","v":0},{"$f":"'REPORTE PMI'!G2684","v":0},null,null,null,{"$f":"'REPORTE PMI'!L2684","v":0},{"$f":"'REPORTE PMI'!M2684","v":0},0,null,null,0,null,null,"NO"]
[{"$f":"'REPORTE PMI'!B2685","v":0},{"$f":"'REPORTE PMI'!E2685","v":0},{"$f":"'REPORTE PMI'!J2685","v":0},{"$f":"'REPORTE PMI'!G2685","v":0},null,null,null,{"$f":"'REPORTE PMI'!L2685","v":0},{"$f":"'REPORTE PMI'!M2685","v":0},0,null,null,0,null,null,"NO"]
[{"$f":"'REPORTE PMI'!B2686","v":0},{"$f":"'REPORTE PMI'!E2686","v":0},{"$f":"'REPORTE PMI'!J2686","v":0},{"$f":"'REPORTE PMI'!G2686","v":0},null,null,null,{"$f":"'REPORTE PMI'!L2686","v":0},{"$f":"'REPORTE PMI'!M2686","v":0},0,null,null,0,null,null,"NO"]
[{"$f":"'REPORTE PMI'!B2687","v":0},{"$f":"'REPORTE PMI'!E2687","v":0},{"$f":"'REPORTE PMI'!J2687","v":0},{"$f":"'REPORTE PMI'!G2687","v":0},null,null,null,{"$f":"'REPORTE PMI'!L2687","v":0},{"$f":"'REPORTE PMI'!M2687","v":0},0,null,null,0,null,null,"NO"]
[{"$f":"'REPORTE PMI'!B2688","v":0},{"$f":"'REPORTE PMI'!E2688","v":0},{"$f":"'REPORTE PMI'!J2688","v":0},{"$f":"'REPORTE PMI'!G2688","v":0},null,null,null,{"$f":"'REPORTE PMI'!L2688","v":0},{"$f":"'REPORTE PMI'!M2688","v":0},0,null,null,0,null,null,"NO"]
[{"$f":"'REPORTE PMI'!B2689","v":0},{"$f":"'REPORTE PMI'!E2689","v":0},{"$f":"'REPORTE PMI'!J2689","v":0},{"$f":"'REPORTE PMI'!G2689","v":0},null,null,null,{"$f":"'REPORTE PMI'!L2689","v":0},{"$f":"'REPORTE PMI'!M2689","v":0},0,null,null,0,null,null,"NO"]
[{"$f":"'REPORTE PMI'!B2690","v":0},{"$f":"'REPORTE PMI'!E2690","v":0},{"$f":"'REPORTE PMI'!J2690","v":0},{"$f":"'REPORTE PMI'!G2690","v":0},null,null,null,{"$f":"'REPORTE PMI'!L2690","v":0},{"$f":"'REPORTE PMI'!M2690","v":0},0,null,null,0,null,null,"NO"]
[{"$f":"'REPORTE PMI'!B2691","v":0},{"$f":"'REPORTE PMI'!E2691","v":0},{"$f":"'REPORTE PMI'!J2691","v":0},{"$f":"'REPORTE PMI'!G2691","v":0},null,null,null,{"$f":"'REPORTE PMI'!L2691","v":0},{"$f":"'REPORTE PMI'!M2691","v":0},0,null,null,0,null,null,"NO"]
[{"$f":"'REPORTE PMI'!B2692","v":0},{"$f":"'REPORTE PMI'!E2692","v":0},{"$f":"'REPORTE PMI'!J2692","v":0},{"$f":"'REPORTE PMI'!G2692","v":0},null,null,null,{"$f":"'REPORTE PMI'!L2692","v":0},{"$f":"'REPORTE PMI'!M2692","v":0},{"$f":"IFERROR(I2701/H2701, 0)","v":0},null,null,{"$f":"H2701-I2701","v":0},null,null,{"$f":"IF(E2701=\"SI\",IF(J2701>0%,IF(K2701=\"SI\",IF(L2701=\"NO\",IF(N2701=\"SI\",IF(O2701=\"NO\",\"SI\",\"NO\"),\"NO\"),\"NO\"),\"NO\"),\"NO\"),\"NO\")","v":"NO"}]
[{"$f":"'REPORTE PMI'!B2693","v":0},{"$f":"'REPORTE PMI'!E2693","v":0},{"$f":"'REPORTE PMI'!J2693","v":0},{"$f":"'REPORTE PMI'!G2693","v":0},null,null,null,{"$f":"'REPORTE PMI'!L2693","v":0},{"$f":"'REPORTE PMI'!M2693","v":0},0,null,null,0,null,null,"NO"]
[{"$f":"'REPORTE PMI'!B2694","v":0},{"$f":"'REPORTE PMI'!E2694","v":0},{"$f":"'REPORTE PMI'!J2694","v":0},{"$f":"'REPORTE PMI'!G2694","v":0},null,null,null,{"$f":"'REPORTE PMI'!L2694","v":0},{"$f":"'REPORTE PMI'!M2694","v":0},0,null,null,0,null,null,"NO"]
[{"$f":"'REPORTE PMI'!B2695","v":0},{"$f":"'REPORTE PMI'!E2695","v":0},{"$f":"'REPORTE PMI'!J2695","v":0},{"$f":"'REPORTE PMI'!G2695","v":0},null,null,null,{"$f":"'REPORTE PMI'!L2695","v":0},{"$f":"'REPORTE PMI'!M2695","v":0},0,null,null,0,null,null,"NO"]
[{"$f":"'REPORTE PMI'!B2696","v":0},{"$f":"'REPORTE PMI'!E2696","v":0},{"$f":"'REPORTE PMI'!J2696","v":0},{"$f":"'REPORTE PMI'!G2696","v":0},null,null,null,{"$f":"'REPORTE PMI'!L2696","v":0},{"$f":"'REPORTE PMI'!M2696","v":0},0,null,null,0,null,null,"NO"]
[{"$f":"'REPORTE PMI'!B2697","v":0},{"$f":"'REPORTE PMI'!E2697","v":0},{"$f":"'REPORTE PMI'!J2697","v":0},{"$f":"'REPORTE PMI'!G2697","v":0},null,null,null,{"$f":"'REPORTE PMI'!L2697","v":0},{"$f":"'REPORTE PMI'!M2697","v":0},0,null,null,0,null,null,"NO"]
[{"$f":"'REPORTE PMI'!B2698","v":0},{"$f":"'REPORTE PMI'!E2698","v":0},{"$f":"'REPORTE PMI'!J2698","v":0},{"$f":"'REPORTE PMI'!G2698","v":0},null,null,null,{"$f":"'REPORTE PMI'!L2698","v":0},{"$f":"'REPORTE PMI'!M2698","v":0},0,null,null,0,null,null,"NO"]
[{"$f":"'REPORTE PMI'!B2699","v":0},{"$f":"'REPORTE PMI'!E2699","v":0},{"$f":"'REPORTE PMI'!J2699","v":0},{"$f":"'REPORTE PMI'!G2699","v":0},null,null,null,{"$f":"'REPORTE PMI'!L2699","v":0},{"$f":"'REPORTE PMI'!M2699","v":0},0,null,null,0,null,null,"NO"]
[{"$f":"'REPORTE PMI'!B2700","v":0},{"$f":"'REPORTE PMI'!E2700","v":0},{"$f":"'REPORTE PMI'!J2700","v":0},{"$f":"'REPORTE PMI'!G2700","v":0},null,null,null,{"$f":"'REPORTE PMI'!L2700","v":0},{"$f":"'REPORTE PMI'!M2700","v":0},0,null,null,0,null,null,"NO"]
[{"$f":"'REPORTE PMI'!B2701","v":0},{"$f":"'REPORTE PMI'!E2701","v":0},{"$f":"'REPORTE PMI'!J2701","v":0},{"$f":"'REPORTE PMI'!G2701","v":0},null,null,null,{"$f":"'REPORTE PMI'!L2701","v":0},{"$f":"'REPORTE PMI'!M2701","v":0},0,null,null,0,null,null,"NO"]
[{"$f":"'REPORTE PMI'!B2702","v":0},{"$f":"'REPORTE PMI'!E2702","v":0},{"$f":"'REPORTE PMI'!J2702","v":0},{"$f":"'REPORTE PMI'!G2702","v":0},null,null,null,{"$f":"'REPORTE PMI'!L2702","v":0},{"$f":"'REPORTE PMI'!M2702","v":0},0,null,null,0,null,null,"NO"]
[{"$f":"'REPORTE PMI'!B2703","v":0},{"$f":"'REPORTE PMI'!E2703","v":0},{"$f":"'REPORTE PMI'!J2703","v":0},{"$f":"'REPORTE PMI'!G2703","v":0},null,null,null,{"$f":"'REPORTE PMI'!L2703","v":0},{"$f":"'REPORTE PMI'!M2703","v":0},0,null,null,0,null,null,"NO"]
[{"$f":"'REPORTE PMI'!B2704","v":0},{"$f":"'REPORTE PMI'!E2704","v":0},{"$f":"'REPORTE PMI'!J2704","v":0},{"$f":"'REPORTE PMI'!G2704","v":0},null,null,null,{"$f":"'REPORTE PMI'!L2704","v":0},{"$f":"'REPORTE PMI'!M2704","v":0},0,null,null,0,null,null,"NO"]
[{"$f":"'REPORTE PMI'!B2705","v":0},{"$f":"'REPORTE PMI'!E2705","v":0},{"$f":"'REPORTE PMI'!J2705","v":0},{"$f":"'REPORTE PMI'!G2705","v":0},null,null,null,{"$f":"'REPORTE PMI'!L2705","v":0},{"$f":"'REPORTE PMI'!M2705","v":0},0,null,null,0,null,null,"NO"]
[{"$f":"'REPORTE PMI'!B2706","v":0},{"$f":"'REPORTE PMI'!E2706","v":0},{"$f":"'REPORTE PMI'!J2706","v":0},{"$f":"'REPORTE PMI'!G2706","v":0},null,null,null,{"$f":"'REPORTE PMI'!L2706","v":0},{"$f":"'REPORTE PMI'!M2706","v":0},0,null,null,0,null,null,"NO"]
[{"$f":"'REPORTE PMI'!B2707","v":0},{"$f":"'REPORTE PMI'!E2707","v":0},{"$f":"'REPORTE PMI'!J2707","v":0},{"$f":"'REPORTE PMI'!G2707","v":0},null,null,null,{"$f":"'REPORTE PMI'!L2707","v":0},{"$f":"'REPORTE PMI'!M2707","v":0},0,null,null,0,null,null,"NO"]
[{"$f":"'REPORTE PMI'!B2708","v":0},{"$f":"'REPORTE PMI'!E2708","v":0},{"$f":"'REPORTE PMI'!J2708","v":0},{"$f":"'REPORTE PMI'!G2708","v":0},null,null,null,{"$f":"'REPORTE PMI'!L2708","v":0},{"$f":"'REPORTE PMI'!M2708","v":0},0,null,null,0,null,null,"NO"]
[{"$f":"'REPORTE PMI'!B2709","v":0},{"$f":"'REPORTE PMI'!E2709","v":0},{"$f":"'REPORTE PMI'!J2709","v":0},{"$f":"'REPORTE PMI'!G2709","v":0},null,null,null,{"$f":"'REPORTE PMI'!L2709","v":0},{"$f":"'REPORTE PMI'!M2709","v":0},0,null,null,0,null,null,"NO"]
[{"$f":"'REPORTE PMI'!B2710","v":0},{"$f":"'REPORTE PMI'!E2710","v":0},{"$f":"'REPORTE PMI'!J2710","v":0},{"$f":"'REPORTE PMI'!G2710","v":0},null,null,null,{"$f":"'REPORTE PMI'!L2710","v":0},{"$f":"'REPORTE PMI'!M2710","v":0},0,null,null,0,null,null,"NO"]
[{"$f":"'REPORTE PMI'!B2711","v":0},{"$f":"'REPORTE PMI'!E2711","v":0},{"$f":"'REPORTE PMI'!J2711","v":0},{"$f":"'REPORTE PMI'!G2711","v":0},null,null,null,{"$f":"'REPORTE PMI'!L2711","v":0},{"$f":"'REPORTE PMI'!M2711","v":0},0,null,null,0,null,null,"NO"]
[{"$f":"'REPORTE PMI'!B2712","v":0},{"$f":"'REPORTE PMI'!E2712","v":0},{"$f":"'REPORTE PMI'!J2712","v":0},{"$f":"'REPORTE PMI'!G2712","v":0},null,null,null,{"$f":"'REPORTE PMI'!L2712","v":0},{"$f":"'REPORTE PMI'!M2712","v":0},0,null,null,0,null,null,"NO"]
[{"$f":"'REPORTE PMI'!B2713","v":0},{"$f":"'REPORTE PMI'!E2713","v":0},{"$f":"'REPORTE PMI'!J2713","v":0},{"$f":"'REPORTE PMI'!G2713","v":0},null,null,null,{"$f":"'REPORTE PMI'!L2713","v":0},{"$f":"'REPORTE PMI'!M2713","v":0},0,null,null,0,null,null,"NO"]
[{"$f":"'REPORTE PMI'!B2714","v":0},{"$f":"'REPORTE PMI'!E2714","v":0},{"$f":"'REPORTE PMI'!J2714","v":0},{"$f":"'REPORTE PMI'!G2714","v":0},null,null,null,{"$f":"'REPORTE PMI'!L2714","v":0},{"$f":"'REPORTE PMI'!M2714","v":0},0,null,null,0,null,null,"NO"]
[{"$f":"'REPORTE PMI'!B2715","v":0},{"$f":"'REPORTE PMI'!E2715","v":0},{"$f":"'REPORTE PMI'!J2715","v":0},{"$f":"'REPORTE PMI'!G2715","v":0},null,null,null,{"$f":"'REPORTE PMI'!L2715","v":0},{"$f":"'REPORTE PMI'!M2715","v":0},0,null,null,0,null,null,"NO"]
[{"$f":"'REPORTE PMI'!B2716","v":0},{"$f":"'REPORTE PMI'!E2716","v":0},{"$f":"'REPORTE PMI'!J2716","v":0},{"$f":"'REPORTE PMI'!G2716","v":0},null,null,null,{"$f":"'REPORTE PMI'!L2716","v":0},{"$f":"'REPORTE PMI'!M2716","v":0},0,null,null,0,null,null,"NO"]
[{"$f":"'REPORTE PMI'!B2717","v":0},{"$f":"'REPORTE PMI'!E2717","v":0},{"$f":"'REPORTE PMI'!J2717","v":0},{"$f":"'REPORTE PMI'!G2717","v":0},null,null,null,{"$f":"'REPORTE PMI'!L2717","v":0},{"$f":"'REPORTE PMI'!M2717","v":0},0,null,null,0,null,null,"NO"]
[{"$f":"'REPORTE PMI'!B2718","v":0},{"$f":"'REPORTE PMI'!E2718","v":0},{"$f":"'REPORTE PMI'!J2718","v":0},{"$f":"'REPORTE PMI'!G2718","v":0},null,null,null,{"$f":"'REPORTE PMI'!L2718","v":0},{"$f":"'REPORTE PMI'!M2718","v":0},0,null,null,0,null,null,"NO"]
[{"$f":"'REPORTE PMI'!B2719","v":0},{"$f":"'REPORTE PMI'!E2719","v":0},{"$f":"'REPORTE PMI'!J2719","v":0},{"$f":"'REPORTE PMI'!G2719","v":0},null,null,null,{"$f":"'REPORTE PMI'!L2719","v":0},{"$f":"'REPORTE PMI'!M2719","v":0},0,null,null,0,null,null,"NO"]
[{"$f":"'REPORTE PMI'!B2720","v":0},{"$f":"'REPORTE PMI'!E2720","v":0},{"$f":"'REPORTE PMI'!J2720","v":0},{"$f":"'REPORTE PMI'!G2720","v":0},null,null,null,{"$f":"'REPORTE PMI'!L2720","v":0},{"$f":"'REPORTE PMI'!M2720","v":0},0,null,null,0,null,null,"NO"]
[{"$f":"'REPORTE PMI'!B2721","v":0},{"$f":"'REPORTE PMI'!E2721","v":0},{"$f":"'REPORTE PMI'!J2721","v":0},{"$f":"'REPORTE PMI'!G2721","v":0},null,null,null,{"$f":"'REPORTE PMI'!L2721","v":0},{"$f":"'REPORTE PMI'!M2721","v":0},0,null,null,0,null,null,"NO"]
[{"$f":"'REPORTE PMI'!B2722","v":0},{"$f":"'REPORTE PMI'!E2722","v":0},{"$f":"'REPORTE PMI'!J2722","v":0},{"$f":"'REPORTE PMI'!G2722","v":0},null,null,null,{"$f":"'REPORTE PMI'!L2722","v":0},{"$f":"'REPORTE PMI'!M2722","v":0},0,null,null,0,null,null,"NO"]
[{"$f":"'REPORTE PMI'!B2723","v":0},{"$f":"'REPORTE PMI'!E2723","v":0},{"$f":"'REPORTE PMI'!J2723","v":0},{"$f":"'REPORTE PMI'!G2723","v":0},null,null,null,{"$f":"'REPORTE PMI'!L2723","v":0},{"$f":"'REPORTE PMI'!M2723","v":0},0,null,null,0,null,null,"NO"]
[{"$f":"'REPORTE PMI'!B2724","v":0},{"$f":"'REPORTE PMI'!E2724","v":0},{"$f":"'REPORTE PMI'!J2724","v":0},{"$f":"'REPORTE PMI'!G2724","v":0},null,null,null,{"$f":"'REPORTE PMI'!L2724","v":0},{"$f":"'REPORTE PMI'!M2724","v":0},0,null,null,0,null,null,"NO"]
[{"$f":"'REPORTE PMI'!B2725","v":0},{"$f":"'REPORTE PMI'!E2725","v":0},{"$f":"'REPORTE PMI'!J2725","v":0},{"$f":"'REPORTE PMI'!G2725","v":0},null,null,null,{"$f":"'REPORTE PMI'!L2725","v":0},{"$f":"'REPORTE PMI'!M2725","v":0},0,null,null,0,null,null,"NO"]
[{"$f":"'REPORTE PMI'!B2726","v":0},{"$f":"'REPORTE PMI'!E2726","v":0},{"$f":"'REPORTE PMI'!J2726","v":0},{"$f":"'REPORTE PMI'!G2726","v":0},null,null,null,{"$f":"'REPORTE PMI'!L2726","v":0},{"$f":"'REPORTE PMI'!M2726","v":0},0,null,null,0,null,null,"NO"]
[{"$f":"'REPORTE PMI'!B2727","v":0},{"$f":"'REPORTE PMI'!E2727","v":0},{"$f":"'REPORTE PMI'!J2727","v":0},{"$f":"'REPORTE PMI'!G2727","v":0},null,null,null,{"$f":"'REPORTE PMI'!L2727","v":0},{"$f":"'REPORTE PMI'!M2727","v":0},0,null,null,0,null,null,"NO"]
[{"$f":"'REPORTE PMI'!B2728","v":0},{"$f":"'REPORTE PMI'!E2728","v":0},{"$f":"'REPORTE PMI'!J2728","v":0},{"$f":"'REPORTE PMI'!G2728","v":0},null,null,null,{"$f":"'REPORTE PMI'!L2728","v":0},{"$f":"'REPORTE PMI'!M2728","v":0},0,null,null,0,null,null,"NO"]
[{"$f":"'REPORTE PMI'!B2729","v":0},{"$f":"'REPORTE PMI'!E2729","v":0},{"$f":"'REPORTE PMI'!J2729","v":0},{"$f":"'REPORTE PMI'!G2729","v":0},null,null,null,{"$f":"'REPORTE PMI'!L2729","v":0},{"$f":"'REPORTE PMI'!M2729","v":0},0,null,null,0,null,null,"NO"]
[{"$f":"'REPORTE PMI'!B2730","v":0},{"$f":"'REPORTE PMI'!E2730","v":0},{"$f":"'REPORTE PMI'!J2730","v":0},{"$f":"'REPORTE PMI'!G2730","v":0},null,null,null,{"$f":"'REPORTE PMI'!L2730","v":0},{"$f":"'REPORTE PMI'!M2730","v":0},0,null,null,0,null,null,"NO"]
[{"$f":"'REPORTE PMI'!B2731","v":0},{"$f":"'REPORTE PMI'!E2731","v":0},{"$f":"'REPORTE PMI'!J2731","v":0},{"$f":"'REPORTE PMI'!G2731","v":0},null,null,null,{"$f":"'REPORTE PMI'!L2731","v":0},{"$f":"'REPORTE PMI'!M2731","v":0},0,null,null,0,null,null,"NO"]
[{"$f":"'REPORTE PMI'!B2732","v":0},{"$f":"'REPORTE PMI'!E2732","v":0},{"$f":"'REPORTE PMI'!J2732","v":0},{"$f":"'REPORTE PMI'!G2732","v":0},null,null,null,{"$f":"'REPORTE PMI'!L2732","v":0},{"$f":"'REPORTE PMI'!M2732","v":0},0,null,null,0,null,null,"NO"]
[{"$f":"'REPORTE PMI'!B2733","v":0},{"$f":"'REPORTE PMI'!E2733","v":0},{"$f":"'REPORTE PMI'!J2733","v":0},{"$f":"'REPORTE PMI'!G2733","v":0},null,null,null,{"$f":"'REPORTE PMI'!L2733","v":0},{"$f":"'REPORTE PMI'!M2733","v":0},0,null,null,0,null,null,"NO"]
[{"$f":"'REPORTE PMI'!B2734","v":0},{"$f":"'REPORTE PMI'!E2734","v":0},{"$f":"'REPORTE PMI'!J2734","v":0},{"$f":"'REPORTE PMI'!G2734","v":0},null,null,null,{"$f":"'REPORTE PMI'!L2734","v":0},{"$f":"'REPORTE PMI'!M2734","v":0},0,null,null,0,null,null,"NO"]
[{"$f":"'REPORTE PMI'!B2735","v":0},{"$f":"'REPORTE PMI'!E2735","v":0},{"$f":"'REPORTE PMI'!J2735","v":0},{"$f":"'REPORTE PMI'!G2735","v":0},null,null,null,{"$f":"'REPORTE PMI'!L2735","v":0},{"$f":"'REPORTE PMI'!M2735","v":0},0,null,null,0,null,null,"NO"]
[{"$f":"'REPORTE PMI'!B2736","v":0},{"$f":"'REPORTE PMI'!E2736","v":0},{"$f":"'REPORTE PMI'!J2736","v":0},{"$f":"'REPORTE PMI'!G2736","v":0},null,null,null,{"$f":"'REPORTE PMI'!L2736","v":0},{"$f":"'REPORTE PMI'!M2736","v":0},0,null,null,0,null,null,"NO"]
[{"$f":"'REPORTE PMI'!B2737","v":0},{"$f":"'REPORTE PMI'!E2737","v":0},{"$f":"'REPORTE PMI'!J2737","v":0},{"$f":"'REPORTE PMI'!G2737","v":0},null,null,null,{"$f":"'REPORTE PMI'!L2737","v":0},{"$f":"'REPORTE PMI'!M2737","v":0},0,null,null,0,null,null,"NO"]
[{"$f":"'REPORTE PMI'!B2738","v":0},{"$f":"'REPORTE PMI'!E2738","v":0},{"$f":"'REPORTE PMI'!J2738","v":0},{"$f":"'REPORTE PMI'!G2738","v":0},null,null,null,{"$f":"'REPORTE PMI'!L2738","v":0},{"$f":"'REPORTE PMI'!M2738","v":0},0,null,null,0,null,null,"NO"]
[{"$f":"'REPORTE PMI'!B2739","v":0},{"$f":"'REPORTE PMI'!E2739","v":0},{"$f":"'REPORTE PMI'!J2739","v":0},{"$f":"'REPORTE PMI'!G2739","v":0},null,null,null,{"$f":"'REPORTE PMI'!L2739","v":0},{"$f":"'REPORTE PMI'!M2739","v":0},0,null,null,0,null,null,"NO"]
[{"$f":"'REPORTE PMI'!B2740","v":0},{"$f":"'REPORTE PMI'!E2740","v":0},{"$f":"'REPORTE PMI'!J2740","v":0},{"$f":"'REPORTE PMI'!G2740","v":0},null,null,null,{"$f":"'REPORTE PMI'!L2740","v":0},{"$f":"'REPORTE PMI'!M2740","v":0},0,null,null,0,null,null,"NO"]
[{"$f":"'REPORTE PMI'!B2741","v":0},{"$f":"'REPORTE PMI'!E2741","v":0},{"$f":"'REPORTE PMI'!J2741","v":0},{"$f":"'REPORTE PMI'!G2741","v":0},null,null,null,{"$f":"'REPORTE PMI'!L2741","v":0},{"$f":"'REPORTE PMI'!M2741","v":0},0,null,null,0,null,null,"NO"]
[{"$f":"'REPORTE PMI'!B2742","v":0},{"$f":"'REPORTE PMI'!E2742","v":0},{"$f":"'REPORTE PMI'!J2742","v":0},{"$f":"'REPORTE PMI'!G2742","v":0},null,null,null,{"$f":"'REPORTE PMI'!L2742","v":0},{"$f":"'REPORTE PMI'!M2742","v":0},0,null,null,0,null,null,"NO"]
[{"$f":"'REPORTE PMI'!B2743","v":0},{"$f":"'REPORTE PMI'!E2743","v":0},{"$f":"'REPORTE PMI'!J2743","v":0},{"$f":"'REPORTE PMI'!G2743","v":0},null,null,null,{"$f":"'REPORTE PMI'!L2743","v":0},{"$f":"'REPORTE PMI'!M2743","v":0},0,null,null,0,null,null,"NO"]
[{"$f":"'REPORTE PMI'!B2744","v":0},{"$f":"'REPORTE PMI'!E2744","v":0},{"$f":"'REPORTE PMI'!J2744","v":0},{"$f":"'REPORTE PMI'!G2744","v":0},null,null,null,{"$f":"'REPORTE PMI'!L2744","v":0},{"$f":"'REPORTE PMI'!M2744","v":0},0,null,null,0,null,null,"NO"]
[{"$f":"'REPORTE PMI'!B2745","v":0},{"$f":"'REPORTE PMI'!E2745","v":0},{"$f":"'REPORTE PMI'!J2745","v":0},{"$f":"'REPORTE PMI'!G2745","v":0},null,null,null,{"$f":"'REPORTE PMI'!L2745","v":0},{"$f":"'REPORTE PMI'!M2745","v":0},0,null,null,0,null,null,"NO"]
[{"$f":"'REPORTE PMI'!B2746","v":0},{"$f":"'REPORTE PMI'!E2746","v":0},{"$f":"'REPORTE PMI'!J2746","v":0},{"$f":"'REPORTE PMI'!G2746","v":0},null,null,null,{"$f":"'REPORTE PMI'!L2746","v":0},{"$f":"'REPORTE PMI'!M2746","v":0},0,null,null,0,null,null,"NO"]
[{"$f":"'REPORTE PMI'!B2747","v":0},{"$f":"'REPORTE PMI'!E2747","v":0},{"$f":"'REPORTE PMI'!J2747","v":0},{"$f":"'REPORTE PMI'!G2747","v":0},null,null,null,{"$f":"'REPORTE PMI'!L2747","v":0},{"$f":"'REPORTE PMI'!M2747","v":0},0,null,null,0,null,null,"NO"]
[{"$f":"'REPORTE PMI'!B2748","v":0},{"$f":"'REPORTE PMI'!E2748","v":0},{"$f":"'REPORTE PMI'!J2748","v":0},{"$f":"'REPORTE PMI'!G2748","v":0},null,null,null,{"$f":"'REPORTE PMI'!L2748","v":0},{"$f":"'REPORTE PMI'!M2748","v":0},0,null,null,0,null,null,"NO"]
[{"$f":"'REPORTE PMI'!B2749","v":0},{"$f":"'REPORTE PMI'!E2749","v":0},{"$f":"'REPORTE PMI'!J2749","v":0},{"$f":"'REPORTE PMI'!G2749","v":0},null,null,null,{"$f":"'REPORTE PMI'!L2749","v":0},{"$f":"'REPORTE PMI'!M2749","v":0},0,null,null,0,null,null,"NO"]
[{"$f":"'REPORTE PMI'!B2750","v":0},{"$f":"'REPORTE PMI'!E2750","v":0},{"$f":"'REPORTE PMI'!J2750","v":0},{"$f":"'REPORTE PMI'!G2750","v":0},null,null,null,{"$f":"'REPORTE PMI'!L2750","v":0},{"$f":"'REPORTE PMI'!M2750","v":0},0,null,null,0,null,null,"NO"]
[{"$f":"'REPORTE PMI'!B2751","v":0},{"$f":"'REPORTE PMI'!E2751","v":0},{"$f":"'REPORTE PMI'!J2751","v":0},{"$f":"'REPORTE PMI'!G2751","v":0},null,null,null,{"$f":"'REPORTE PMI'!L2751","v":0},{"$f":"'REPORTE PMI'!M2751","v":0},0,null,null,0,null,null,"NO"]
[{"$f":"'REPORTE PMI'!B2752","v":0},{"$f":"'REPORTE PMI'!E2752","v":0},{"$f":"'REPORTE PMI'!J2752","v":0},{"$f":"'REPORTE PMI'!G2752","v":0},null,null,null,{"$f":"'REPORTE PMI'!L2752","v":0},{"$f":"'REPORTE PMI'!M2752","v":0},0,null,null,0,null,null,"NO"]
[{"$f":"'REPORTE PMI'!B2753","v":0},{"$f":"'REPORTE PMI'!E2753","v":0},{"$f":"'REPORTE PMI'!J2753","v":0},{"$f":"'REPORTE PMI'!G2753","v":0},null,null,null,{"$f":"'REPORTE PMI'!L2753","v":0},{"$f":"'REPORTE PMI'!M2753","v":0},0,null,null,0,null,null,"NO"]
[{"$f":"'REPORTE PMI'!B2754","v":0},{"$f":"'REPORTE PMI'!E2754","v":0},{"$f":"'REPORTE PMI'!J2754","v":0},{"$f":"'REPORTE PMI'!G2754","v":0},null,null,null,{"$f":"'REPORTE PMI'!L2754","v":0},{"$f":"'REPORTE PMI'!M2754","v":0},0,null,null,0,null,null,"NO"]
[{"$f":"'REPORTE PMI'!B2755","v":0},{"$f":"'REPORTE PMI'!E2755","v":0},{"$f":"'REPORTE PMI'!J2755","v":0},{"$f":"'REPORTE PMI'!G2755","v":0},null,null,null,{"$f":"'REPORTE PMI'!L2755","v":0},{"$f":"'REPORTE PMI'!M2755","v":0},0,null,null,0,null,null,"NO"]
[{"$f":"'REPORTE PMI'!B2756","v":0},{"$f":"'REPORTE PMI'!E2756","v":0},{"$f":"'REPORTE PMI'!J2756","v":0},{"$f":"'REPORTE PMI'!G2756","v":0},null,null,null,{"$f":"'REPORTE PMI'!L2756","v":0},{"$f":"'REPORTE PMI'!M2756","v":0},{"$f":"IFERROR(I2765/H2765, 0)","v":0},null,null,{"$f":"H2765-I2765","v":0},null,null,{"$f":"IF(E2765=\"SI\",IF(J2765>0%,IF(K2765=\"SI\",IF(L2765=\"NO\",IF(N2765=\"SI\",IF(O2765=\"NO\",\"SI\",\"NO\"),\"NO\"),\"NO\"),\"NO\"),\"NO\"),\"NO\")","v":"NO"}]
[{"$f":"'REPORTE PMI'!B2757","v":0},{"$f":"'REPORTE PMI'!E2757","v":0},{"$f":"'REPORTE PMI'!J2757","v":0},{"$f":"'REPORTE PMI'!G2757","v":0},null,null,null,{"$f":"'REPORTE PMI'!L2757","v":0},{"$f":"'REPORTE PMI'!M2757","v":0},0,null,null,0,null,null,"NO"]
[{"$f":"'REPORTE PMI'!B2758","v":0},{"$f":"'REPORTE PMI'!E2758","v":0},{"$f":"'REPORTE PMI'!J2758","v":0},{"$f":"'REPORTE PMI'!G2758","v":0},null,null,null,{"$f":"'REPORTE PMI'!L2758","v":0},{"$f":"'REPORTE PMI'!M2758","v":0},0,null,null,0,null,null,"NO"]
[{"$f":"'REPORTE PMI'!B2759","v":0},{"$f":"'REPORTE PMI'!E2759","v":0},{"$f":"'REPORTE PMI'!J2759","v":0},{"$f":"'REPORTE PMI'!G2759","v":0},null,null,null,{"$f":"'REPORTE PMI'!L2759","v":0},{"$f":"'REPORTE PMI'!M2759","v":0},0,null,null,0,null,null,"NO"]
[{"$f":"'REPORTE PMI'!B2760","v":0},{"$f":"'REPORTE PMI'!E2760","v":0},{"$f":"'REPORTE PMI'!J2760","v":0},{"$f":"'REPORTE PMI'!G2760","v":0},null,null,null,{"$f":"'REPORTE PMI'!L2760","v":0},{"$f":"'REPORTE PMI'!M2760","v":0},0,null,null,0,null,null,"NO"]
[{"$f":"'REPORTE PMI'!B2761","v":0},{"$f":"'REPORTE PMI'!E2761","v":0},{"$f":"'REPORTE PMI'!J2761","v":0},{"$f":"'REPORTE PMI'!G2761","v":0},null,null,null,{"$f":"'REPORTE PMI'!L2761","v":0},{"$f":"'REPORTE PMI'!M2761","v":0},0,null,null,0,null,null,"NO"]
[{"$f":"'REPORTE PMI'!B2762","v":0},{"$f":"'REPORTE PMI'!E2762","v":0},{"$f":"'REPORTE PMI'!J2762","v":0},{"$f":"'REPORTE PMI'!G2762","v":0},null,null,null,{"$f":"'REPORTE PMI'!L2762","v":0},{"$f":"'REPORTE PMI'!M2762","v":0},0,null,null,0,null,null,"NO"]
[{"$f":"'REPORTE PMI'!B2763","v":0},{"$f":"'REPORTE PMI'!E2763","v":0},{"$f":"'REPORTE PMI'!J2763","v":0},{"$f":"'REPORTE PMI'!G2763","v":0},null,null,null,{"$f":"'REPORTE PMI'!L2763","v":0},{"$f":"'REPORTE PMI'!M2763","v":0},0,null,null,0,null,null,"NO"]
[{"$f":"'REPORTE PMI'!B2764","v":0},{"$f":"'REPORTE PMI'!E2764","v":0},{"$f":"'REPORTE PMI'!J2764","v":0},{"$f":"'REPORTE PMI'!G2764","v":0},null,null,null,{"$f":"'REPORTE PMI'!L2764","v":0},{"$f":"'REPORTE PMI'!M2764","v":0},0,null,null,0,null,null,"NO"]
[{"$f":"'REPORTE PMI'!B2765","v":0},{"$f":"'REPORTE PMI'!E2765","v":0},{"$f":"'REPORTE PMI'!J2765","v":0},{"$f":"'REPORTE PMI'!G2765","v":0},null,null,null,{"$f":"'REPORTE PMI'!L2765","v":0},{"$f":"'REPORTE PMI'!M2765","v":0},0,null,null,0,null,null,"NO"]
[{"$f":"'REPORTE PMI'!B2766","v":0},{"$f":"'REPORTE PMI'!E2766","v":0},{"$f":"'REPORTE PMI'!J2766","v":0},{"$f":"'REPORTE PMI'!G2766","v":0},null,null,null,{"$f":"'REPORTE PMI'!L2766","v":0},{"$f":"'REPORTE PMI'!M2766","v":0},0,null,null,0,null,null,"NO"]
[{"$f":"'REPORTE PMI'!B2767","v":0},{"$f":"'REPORTE PMI'!E2767","v":0},{"$f":"'REPORTE PMI'!J2767","v":0},{"$f":"'REPORTE PMI'!G2767","v":0},null,null,null,{"$f":"'REPORTE PMI'!L2767","v":0},{"$f":"'REPORTE PMI'!M2767","v":0},0,null,null,0,null,null,"NO"]
[{"$f":"'REPORTE PMI'!B2768","v":0},{"$f":"'REPORTE PMI'!E2768","v":0},{"$f":"'REPORTE PMI'!J2768","v":0},{"$f":"'REPORTE PMI'!G2768","v":0},null,null,null,{"$f":"'REPORTE PMI'!L2768","v":0},{"$f":"'REPORTE PMI'!M2768","v":0},0,null,null,0,null,null,"NO"]
[{"$f":"'REPORTE PMI'!B2769","v":0},{"$f":"'REPORTE PMI'!E2769","v":0},{"$f":"'REPORTE PMI'!J2769","v":0},{"$f":"'REPORTE PMI'!G2769","v":0},null,null,null,{"$f":"'REPORTE PMI'!L2769","v":0},{"$f":"'REPORTE PMI'!M2769","v":0},0,null,null,0,null,null,"NO"]
[{"$f":"'REPORTE PMI'!B2770","v":0},{"$f":"'REPORTE PMI'!E2770","v":0},{"$f":"'REPORTE PMI'!J2770","v":0},{"$f":"'REPORTE PMI'!G2770","v":0},null,null,null,{"$f":"'REPORTE PMI'!L2770","v":0},{"$f":"'REPORTE PMI'!M2770","v":0},0,null,null,0,null,null,"NO"]
[{"$f":"'REPORTE PMI'!B2771","v":0},{"$f":"'REPORTE PMI'!E2771","v":0},{"$f":"'REPORTE PMI'!J2771","v":0},{"$f":"'REPORTE PMI'!G2771","v":0},null,null,null,{"$f":"'REPORTE PMI'!L2771","v":0},{"$f":"'REPORTE PMI'!M2771","v":0},0,null,null,0,null,null,"NO"]
[{"$f":"'REPORTE PMI'!B2772","v":0},{"$f":"'REPORTE PMI'!E2772","v":0},{"$f":"'REPORTE PMI'!J2772","v":0},{"$f":"'REPORTE PMI'!G2772","v":0},null,null,null,{"$f":"'REPORTE PMI'!L2772","v":0},{"$f":"'REPORTE PMI'!M2772","v":0},0,null,null,0,null,null,"NO"]
[{"$f":"'REPORTE PMI'!B2773","v":0},{"$f":"'REPORTE PMI'!E2773","v":0},{"$f":"'REPORTE PMI'!J2773","v":0},{"$f":"'REPORTE PMI'!G2773","v":0},null,null,null,{"$f":"'REPORTE PMI'!L2773","v":0},{"$f":"'REPORTE PMI'!M2773","v":0},0,null,null,0,null,null,"NO"]
[{"$f":"'REPORTE PMI'!B2774","v":0},{"$f":"'REPORTE PMI'!E2774","v":0},{"$f":"'REPORTE PMI'!J2774","v":0},{"$f":"'REPORTE PMI'!G2774","v":0},null,null,null,{"$f":"'REPORTE PMI'!L2774","v":0},{"$f":"'REPORTE PMI'!M2774","v":0},0,null,null,0,null,null,"NO"]
[{"$f":"'REPORTE PMI'!B2775","v":0},{"$f":"'REPORTE PMI'!E2775","v":0},{"$f":"'REPORTE PMI'!J2775","v":0},{"$f":"'REPORTE PMI'!G2775","v":0},null,null,null,{"$f":"'REPORTE PMI'!L2775","v":0},{"$f":"'REPORTE PMI'!M2775","v":0},0,null,null,0,null,null,"NO"]
[{"$f":"'REPORTE PMI'!B2776","v":0},{"$f":"'REPORTE PMI'!E2776","v":0},{"$f":"'REPORTE PMI'!J2776","v":0},{"$f":"'REPORTE PMI'!G2776","v":0},null,null,null,{"$f":"'REPORTE PMI'!L2776","v":0},{"$f":"'REPORTE PMI'!M2776","v":0},0,null,null,0,null,null,"NO"]
[{"$f":"'REPORTE PMI'!B2777","v":0},{"$f":"'REPORTE PMI'!E2777","v":0},{"$f":"'REPORTE PMI'!J2777","v":0},{"$f":"'REPORTE PMI'!G2777","v":0},null,null,null,{"$f":"'REPORTE PMI'!L2777","v":0},{"$f":"'REPORTE PMI'!M2777","v":0},0,null,null,0,null,null,"NO"]
[{"$f":"'REPORTE PMI'!B2778","v":0},{"$f":"'REPORTE PMI'!E2778","v":0},{"$f":"'REPORTE PMI'!J2778","v":0},{"$f":"'REPORTE PMI'!G2778","v":0},null,null,null,{"$f":"'REPORTE PMI'!L2778","v":0},{"$f":"'REPORTE PMI'!M2778","v":0},0,null,null,0,null,null,"NO"]
[{"$f":"'REPORTE PMI'!B2779","v":0},{"$f":"'REPORTE PMI'!E2779","v":0},{"$f":"'REPORTE PMI'!J2779","v":0},{"$f":"'REPORTE PMI'!G2779","v":0},null,null,null,{"$f":"'REPORTE PMI'!L2779","v":0},{"$f":"'REPORTE PMI'!M2779","v":0},0,null,null,0,null,null,"NO"]
[{"$f":"'REPORTE PMI'!B2780","v":0},{"$f":"'REPORTE PMI'!E2780","v":0},{"$f":"'REPORTE PMI'!J2780","v":0},{"$f":"'REPORTE PMI'!G2780","v":0},null,null,null,{"$f":"'REPORTE PMI'!L2780","v":0},{"$f":"'REPORTE PMI'!M2780","v":0},0,null,null,0,null,null,"NO"]
[{"$f":"'REPORTE PMI'!B2781","v":0},{"$f":"'REPORTE PMI'!E2781","v":0},{"$f":"'REPORTE PMI'!J2781","v":0},{"$f":"'REPORTE PMI'!G2781","v":0},null,null,null,{"$f":"'REPORTE PMI'!L2781","v":0},{"$f":"'REPORTE PMI'!M2781","v":0},0,null,null,0,null,null,"NO"]
[{"$f":"'REPORTE PMI'!B2782","v":0},{"$f":"'REPORTE PMI'!E2782","v":0},{"$f":"'REPORTE PMI'!J2782","v":0},{"$f":"'REPORTE PMI'!G2782","v":0},null,null,null,{"$f":"'REPORTE PMI'!L2782","v":0},{"$f":"'REPORTE PMI'!M2782","v":0},0,null,null,0,null,null,"NO"]
[{"$f":"'REPORTE PMI'!B2783","v":0},{"$f":"'REPORTE PMI'!E2783","v":0},{"$f":"'REPORTE PMI'!J2783","v":0},{"$f":"'REPORTE PMI'!G2783","v":0},null,null,null,{"$f":"'REPORTE PMI'!L2783","v":0},{"$f":"'REPORTE PMI'!M2783","v":0},0,null,null,0,null,null,"NO"]
[{"$f":"'REPORTE PMI'!B2784","v":0},{"$f":"'REPORTE PMI'!E2784","v":0},{"$f":"'REPORTE PMI'!J2784","v":0},{"$f":"'REPORTE PMI'!G2784","v":0},null,null,null,{"$f":"'REPORTE PMI'!L2784","v":0},{"$f":"'REPORTE PMI'!M2784","v":0},0,null,null,0,null,null,"NO"]
[{"$f":"'REPORTE PMI'!B2785","v":0},{"$f":"'REPORTE PMI'!E2785","v":0},{"$f":"'REPORTE PMI'!J2785","v":0},{"$f":"'REPORTE PMI'!G2785","v":0},null,null,null,{"$f":"'REPORTE PMI'!L2785","v":0},{"$f":"'REPORTE PMI'!M2785","v":0},0,null,null,0,null,null,"NO"]
[{"$f":"'REPORTE PMI'!B2786","v":0},{"$f":"'REPORTE PMI'!E2786","v":0},{"$f":"'REPORTE PMI'!J2786","v":0},{"$f":"'REPORTE PMI'!G2786","v":0},null,null,null,{"$f":"'REPORTE PMI'!L2786","v":0},{"$f":"'REPORTE PMI'!M2786","v":0},0,null,null,0,null,null,"NO"]
[{"$f":"'REPORTE PMI'!B2787","v":0},{"$f":"'REPORTE PMI'!E2787","v":0},{"$f":"'REPORTE PMI'!J2787","v":0},{"$f":"'REPORTE PMI'!G2787","v":0},null,null,null,{"$f":"'REPORTE PMI'!L2787","v":0},{"$f":"'REPORTE PMI'!M2787","v":0},0,null,null,0,null,null,"NO"]
[{"$f":"'REPORTE PMI'!B2788","v":0},{"$f":"'REPORTE PMI'!E2788","v":0},{"$f":"'REPORTE PMI'!J2788","v":0},{"$f":"'REPORTE PMI'!G2788","v":0},null,null,null,{"$f":"'REPORTE PMI'!L2788","v":0},{"$f":"'REPORTE PMI'!M2788","v":0},0,null,null,0,null,null,"NO"]
[{"$f":"'REPORTE PMI'!B2789","v":0},{"$f":"'REPORTE PMI'!E2789","v":0},{"$f":"'REPORTE PMI'!J2789","v":0},{"$f":"'REPORTE PMI'!G2789","v":0},null,null,null,{"$f":"'REPORTE PMI'!L2789","v":0},{"$f":"'REPORTE PMI'!M2789","v":0},0,null,null,0,null,null,"NO"]
[{"$f":"'REPORTE PMI'!B2790","v":0},{"$f":"'REPORTE PMI'!E2790","v":0},{"$f":"'REPORTE PMI'!J2790","v":0},{"$f":"'REPORTE PMI'!G2790","v":0},null,null,null,{"$f":"'REPORTE PMI'!L2790","v":0},{"$f":"'REPORTE PMI'!M2790","v":0},0,null,null,0,null,null,"NO"]
[{"$f":"'REPORTE PMI'!B2791","v":0},{"$f":"'REPORTE PMI'!E2791","v":0},{"$f":"'REPORTE PMI'!J2791","v":0},{"$f":"'REPORTE PMI'!G2791","v":0},null,null,null,{"$f":"'REPORTE PMI'!L2791","v":0},{"$f":"'REPORTE PMI'!M2791","v":0},0,null,null,0,null,null,"NO"]
[{"$f":"'REPORTE PMI'!B2792","v":0},{"$f":"'REPORTE PMI'!E2792","v":0},{"$f":"'REPORTE PMI'!J2792","v":0},{"$f":"'REPORTE PMI'!G2792","v":0},null,null,null,{"$f":"'REPORTE PMI'!L2792","v":0},{"$f":"'REPORTE PMI'!M2792","v":0},0,null,null,0,null,null,"NO"]
[{"$f":"'REPORTE PMI'!B2793","v":0},{"$f":"'REPORTE PMI'!E2793","v":0},{"$f":"'REPORTE PMI'!J2793","v":0},{"$f":"'REPORTE PMI'!G2793","v":0},null,null,null,{"$f":"'REPORTE PMI'!L2793","v":0},{"$f":"'REPORTE PMI'!M2793","v":0},0,null,null,0,null,null,"NO"]
[{"$f":"'REPORTE PMI'!B2794","v":0},{"$f":"'REPORTE PMI'!E2794","v":0},{"$f":"'REPORTE PMI'!J2794","v":0},{"$f":"'REPORTE PMI'!G2794","v":0},null,null,null,{"$f":"'REPORTE PMI'!L2794","v":0},{"$f":"'REPORTE PMI'!M2794","v":0},0,null,null,0,null,null,"NO"]
[{"$f":"'REPORTE PMI'!B2795","v":0},{"$f":"'REPORTE PMI'!E2795","v":0},{"$f":"'REPORTE PMI'!J2795","v":0},{"$f":"'REPORTE PMI'!G2795","v":0},null,null,null,{"$f":"'REPORTE PMI'!L2795","v":0},{"$f":"'REPORTE PMI'!M2795","v":0},0,null,null,0,null,null,"NO"]
[{"$f":"'REPORTE PMI'!B2796","v":0},{"$f":"'REPORTE PMI'!E2796","v":0},{"$f":"'REPORTE PMI'!J2796","v":0},{"$f":"'REPORTE PMI'!G2796","v":0},null,null,null,{"$f":"'REPORTE PMI'!L2796","v":0},{"$f":"'REPORTE PMI'!M2796","v":0},0,null,null,0,null,null,"NO"]
[{"$f":"'REPORTE PMI'!B2797","v":0},{"$f":"'REPORTE PMI'!E2797","v":0},{"$f":"'REPORTE PMI'!J2797","v":0},{"$f":"'REPORTE PMI'!G2797","v":0},null,null,null,{"$f":"'REPORTE PMI'!L2797","v":0},{"$f":"'REPORTE PMI'!M2797","v":0},0,null,null,0,null,null,"NO"]
[{"$f":"'REPORTE PMI'!B2798","v":0},{"$f":"'REPORTE PMI'!E2798","v":0},{"$f":"'REPORTE PMI'!J2798","v":0},{"$f":"'REPORTE PMI'!G2798","v":0},null,null,null,{"$f":"'REPORTE PMI'!L2798","v":0},{"$f":"'REPORTE PMI'!M2798","v":0},0,null,null,0,null,null,"NO"]
[{"$f":"'REPORTE PMI'!B2799","v":0},{"$f":"'REPORTE PMI'!E2799","v":0},{"$f":"'REPORTE PMI'!J2799","v":0},{"$f":"'REPORTE PMI'!G2799","v":0},null,null,null,{"$f":"'REPORTE PMI'!L2799","v":0},{"$f":"'REPORTE PMI'!M2799","v":0},0,null,null,0,null,null,"NO"]
[{"$f":"'REPORTE PMI'!B2800","v":0},{"$f":"'REPORTE PMI'!E2800","v":0},{"$f":"'REPORTE PMI'!J2800","v":0},{"$f":"'REPORTE PMI'!G2800","v":0},null,null,null,{"$f":"'REPORTE PMI'!L2800","v":0},{"$f":"'REPORTE PMI'!M2800","v":0},0,null,null,0,null,null,"NO"]
[{"$f":"'REPORTE PMI'!B2801","v":0},{"$f":"'REPORTE PMI'!E2801","v":0},{"$f":"'REPORTE PMI'!J2801","v":0},{"$f":"'REPORTE PMI'!G2801","v":0},null,null,null,{"$f":"'REPORTE PMI'!L2801","v":0},{"$f":"'REPORTE PMI'!M2801","v":0},0,null,null,0,null,null,"NO"]
[{"$f":"'REPORTE PMI'!B2802","v":0},{"$f":"'REPORTE PMI'!E2802","v":0},{"$f":"'REPORTE PMI'!J2802","v":0},{"$f":"'REPORTE PMI'!G2802","v":0},null,null,null,{"$f":"'REPORTE PMI'!L2802","v":0},{"$f":"'REPORTE PMI'!M2802","v":0},0,null,null,0,null,null,"NO"]
[{"$f":"'REPORTE PMI'!B2803","v":0},{"$f":"'REPORTE PMI'!E2803","v":0},{"$f":"'REPORTE PMI'!J2803","v":0},{"$f":"'REPORTE PMI'!G2803","v":0},null,null,null,{"$f":"'REPORTE PMI'!L2803","v":0},{"$f":"'REPORTE PMI'!M2803","v":0},0,null,null,0,null,null,"NO"]
[{"$f":"'REPORTE PMI'!B2804","v":0},{"$f":"'REPORTE PMI'!E2804","v":0},{"$f":"'REPORTE PMI'!J2804","v":0},{"$f":"'REPORTE PMI'!G2804","v":0},null,null,null,{"$f":"'REPORTE PMI'!L2804","v":0},{"$f":"'REPORTE PMI'!M2804","v":0},0,null,null,0,null,null,"NO"]
[{"$f":"'REPORTE PMI'!B2805","v":0},{"$f":"'REPORTE PMI'!E2805","v":0},{"$f":"'REPORTE PMI'!J2805","v":0},{"$f":"'REPORTE PMI'!G2805","v":0},null,null,null,{"$f":"'REPORTE PMI'!L2805","v":0},{"$f":"'REPORTE PMI'!M2805","v":0},0,null,null,0,null,null,"NO"]
[{"$f":"'REPORTE PMI'!B2806","v":0},{"$f":"'REPORTE PMI'!E2806","v":0},{"$f":"'REPORTE PMI'!J2806","v":0},{"$f":"'REPORTE PMI'!G2806","v":0},null,null,null,{"$f":"'REPORTE PMI'!L2806","v":0},{"$f":"'REPORTE PMI'!M2806","v":0},0,null,null,0,null,null,"NO"]
[{"$f":"'REPORTE PMI'!B2807","v":0},{"$f":"'REPORTE PMI'!E2807","v":0},{"$f":"'REPORTE PMI'!J2807","v":0},{"$f":"'REPORTE PMI'!G2807","v":0},null,null,null,{"$f":"'REPORTE PMI'!L2807","v":0},{"$f":"'REPORTE PMI'!M2807","v":0},0,null,null,0,null,null,"NO"]
[{"$f":"'REPORTE PMI'!B2808","v":0},{"$f":"'REPORTE PMI'!E2808","v":0},{"$f":"'REPORTE PMI'!J2808","v":0},{"$f":"'REPORTE PMI'!G2808","v":0},null,null,null,{"$f":"'REPORTE PMI'!L2808","v":0},{"$f":"'REPORTE PMI'!M2808","v":0},0,null,null,0,null,null,"NO"]
[{"$f":"'REPORTE PMI'!B2809","v":0},{"$f":"'REPORTE PMI'!E2809","v":0},{"$f":"'REPORTE PMI'!J2809","v":0},{"$f":"'REPORTE PMI'!G2809","v":0},null,null,null,{"$f":"'REPORTE PMI'!L2809","v":0},{"$f":"'REPORTE PMI'!M2809","v":0},0,null,null,0,null,null,"NO"]
[{"$f":"'REPORTE PMI'!B2810","v":0},{"$f":"'REPORTE PMI'!E2810","v":0},{"$f":"'REPORTE PMI'!J2810","v":0},{"$f":"'REPORTE PMI'!G2810","v":0},null,null,null,{"$f":"'REPORTE PMI'!L2810","v":0},{"$f":"'REPORTE PMI'!M2810","v":0},0,null,null,0,null,null,"NO"]
[{"$f":"'REPORTE PMI'!B2811","v":0},{"$f":"'REPORTE PMI'!E2811","v":0},{"$f":"'REPORTE PMI'!J2811","v":0},{"$f":"'REPORTE PMI'!G2811","v":0},null,null,null,{"$f":"'REPORTE PMI'!L2811","v":0},{"$f":"'REPORTE PMI'!M2811","v":0},0,null,null,0,null,null,"NO"]
[{"$f":"'REPORTE PMI'!B2812","v":0},{"$f":"'REPORTE PMI'!E2812","v":0},{"$f":"'REPORTE PMI'!J2812","v":0},{"$f":"'REPORTE PMI'!G2812","v":0},null,null,null,{"$f":"'REPORTE PMI'!L2812","v":0},{"$f":"'REPORTE PMI'!M2812","v":0},0,null,null,0,null,null,"NO"]
[{"$f":"'REPORTE PMI'!B2813","v":0},{"$f":"'REPORTE PMI'!E2813","v":0},{"$f":"'REPORTE PMI'!J2813","v":0},{"$f":"'REPORTE PMI'!G2813","v":0},null,null,null,{"$f":"'REPORTE PMI'!L2813","v":0},{"$f":"'REPORTE PMI'!M2813","v":0},0,null,null,0,null,null,"NO"]
[{"$f":"'REPORTE PMI'!B2814","v":0},{"$f":"'REPORTE PMI'!E2814","v":0},{"$f":"'REPORTE PMI'!J2814","v":0},{"$f":"'REPORTE PMI'!G2814","v":0},null,null,null,{"$f":"'REPORTE PMI'!L2814","v":0},{"$f":"'REPORTE PMI'!M2814","v":0},0,null,null,0,null,null,"NO"]
[{"$f":"'REPORTE PMI'!B2815","v":0},{"$f":"'REPORTE PMI'!E2815","v":0},{"$f":"'REPORTE PMI'!J2815","v":0},{"$f":"'REPORTE PMI'!G2815","v":0},null,null,null,{"$f":"'REPORTE PMI'!L2815","v":0},{"$f":"'REPORTE PMI'!M2815","v":0},0,null,null,0,null,null,"NO"]
[{"$f":"'REPORTE PMI'!B2816","v":0},{"$f":"'REPORTE PMI'!E2816","v":0},{"$f":"'REPORTE PMI'!J2816","v":0},{"$f":"'REPORTE PMI'!G2816","v":0},null,null,null,{"$f":"'REPORTE PMI'!L2816","v":0},{"$f":"'REPORTE PMI'!M2816","v":0},0,null,null,0,null,null,"NO"]
[{"$f":"'REPORTE PMI'!B2817","v":0},{"$f":"'REPORTE PMI'!E2817","v":0},{"$f":"'REPORTE PMI'!J2817","v":0},{"$f":"'REPORTE PMI'!G2817","v":0},null,null,null,{"$f":"'REPORTE PMI'!L2817","v":0},{"$f":"'REPORTE PMI'!M2817","v":0},0,null,null,0,null,null,"NO"]
[{"$f":"'REPORTE PMI'!B2818","v":0},{"$f":"'REPORTE PMI'!E2818","v":0},{"$f":"'REPORTE PMI'!J2818","v":0},{"$f":"'REPORTE PMI'!G2818","v":0},null,null,null,{"$f":"'REPORTE PMI'!L2818","v":0},{"$f":"'REPORTE PMI'!M2818","v":0},0,null,null,0,null,null,"NO"]
[{"$f":"'REPORTE PMI'!B2819","v":0},{"$f":"'REPORTE PMI'!E2819","v":0},{"$f":"'REPORTE PMI'!J2819","v":0},{"$f":"'REPORTE PMI'!G2819","v":0},null,null,null,{"$f":"'REPORTE PMI'!L2819","v":0},{"$f":"'REPORTE PMI'!M2819","v":0},0,null,null,0,null,null,"NO"]
[{"$f":"'REPORTE PMI'!B2820","v":0},{"$f":"'REPORTE PMI'!E2820","v":0},{"$f":"'REPORTE PMI'!J2820","v":0},{"$f":"'REPORTE PMI'!G2820","v":0},null,null,null,{"$f":"'REPORTE PMI'!L2820","v":0},{"$f":"'REPORTE PMI'!M2820","v":0},{"$f":"IFERROR(I2829/H2829, 0)","v":0},null,null,{"$f":"H2829-I2829","v":0},null,null,{"$f":"IF(E2829=\"SI\",IF(J2829>0%,IF(K2829=\"SI\",IF(L2829=\"NO\",IF(N2829=\"SI\",IF(O2829=\"NO\",\"SI\",\"NO\"),\"NO\"),\"NO\"),\"NO\"),\"NO\"),\"NO\")","v":"NO"}]
[{"$f":"'REPORTE PMI'!B2821","v":0},{"$f":"'REPORTE PMI'!E2821","v":0},{"$f":"'REPORTE PMI'!J2821","v":0},{"$f":"'REPORTE PMI'!G2821","v":0},null,null,null,{"$f":"'REPORTE PMI'!L2821","v":0},{"$f":"'REPORTE PMI'!M2821","v":0},0,null,null,0,null,null,"NO"]
[{"$f":"'REPORTE PMI'!B2822","v":0},{"$f":"'REPORTE PMI'!E2822","v":0},{"$f":"'REPORTE PMI'!J2822","v":0},{"$f":"'REPORTE PMI'!G2822","v":0},null,null,null,{"$f":"'REPORTE PMI'!L2822","v":0},{"$f":"'REPORTE PMI'!M2822","v":0},0,null,null,0,null,null,"NO"]
[{"$f":"'REPORTE PMI'!B2823","v":0},{"$f":"'REPORTE PMI'!E2823","v":0},{"$f":"'REPORTE PMI'!J2823","v":0},{"$f":"'REPORTE PMI'!G2823","v":0},null,null,null,{"$f":"'REPORTE PMI'!L2823","v":0},{"$f":"'REPORTE PMI'!M2823","v":0},0,null,null,0,null,null,"NO"]
[{"$f":"'REPORTE PMI'!B2824","v":0},{"$f":"'REPORTE PMI'!E2824","v":0},{"$f":"'REPORTE PMI'!J2824","v":0},{"$f":"'REPORTE PMI'!G2824","v":0},null,null,null,{"$f":"'REPORTE PMI'!L2824","v":0},{"$f":"'REPORTE PMI'!M2824","v":0},0,null,null,0,null,null,"NO"]
[{"$f":"'REPORTE PMI'!B2825","v":0},{"$f":"'REPORTE PMI'!E2825","v":0},{"$f":"'REPORTE PMI'!J2825","v":0},{"$f":"'REPORTE PMI'!G2825","v":0},null,null,null,{"$f":"'REPORTE PMI'!L2825","v":0},{"$f":"'REPORTE PMI'!M2825","v":0},0,null,null,0,null,null,"NO"]
[{"$f":"'REPORTE PMI'!B2826","v":0},{"$f":"'REPORTE PMI'!E2826","v":0},{"$f":"'REPORTE PMI'!J2826","v":0},{"$f":"'REPORTE PMI'!G2826","v":0},null,null,null,{"$f":"'REPORTE PMI'!L2826","v":0},{"$f":"'REPORTE PMI'!M2826","v":0},0,null,null,0,null,null,"NO"]
[{"$f":"'REPORTE PMI'!B2827","v":0},{"$f":"'REPORTE PMI'!E2827","v":0},{"$f":"'REPORTE PMI'!J2827","v":0},{"$f":"'REPORTE PMI'!G2827","v":0},null,null,null,{"$f":"'REPORTE PMI'!L2827","v":0},{"$f":"'REPORTE PMI'!M2827","v":0},0,null,null,0,null,null,"NO"]
[{"$f":"'REPORTE PMI'!B2828","v":0},{"$f":"'REPORTE PMI'!E2828","v":0},{"$f":"'REPORTE PMI'!J2828","v":0},{"$f":"'REPORTE PMI'!G2828","v":0},null,null,null,{"$f":"'REPORTE PMI'!L2828","v":0},{"$f":"'REPORTE PMI'!M2828","v":0},0,null,null,0,null,null,"NO"]
[{"$f":"'REPORTE PMI'!B2829","v":0},{"$f":"'REPORTE PMI'!E2829","v":0},{"$f":"'REPORTE PMI'!J2829","v":0},{"$f":"'REPORTE PMI'!G2829","v":0},null,null,null,{"$f":"'REPORTE PMI'!L2829","v":0},{"$f":"'REPORTE PMI'!M2829","v":0},0,null,null,0,null,null,"NO"]
[{"$f":"'REPORTE PMI'!B2830","v":0},{"$f":"'REPORTE PMI'!E2830","v":0},{"$f":"'REPORTE PMI'!J2830","v":0},{"$f":"'REPORTE PMI'!G2830","v":0},null,null,null,{"$f":"'REPORTE PMI'!L2830","v":0},{"$f":"'REPORTE PMI'!M2830","v":0},0,null,null,0,null,null,"NO"]
[{"$f":"'REPORTE PMI'!B2831","v":0},{"$f":"'REPORTE PMI'!E2831","v":0},{"$f":"'REPORTE PMI'!J2831","v":0},{"$f":"'REPORTE PMI'!G2831","v":0},null,null,null,{"$f":"'REPORTE PMI'!L2831","v":0},{"$f":"'REPORTE PMI'!M2831","v":0},0,null,null,0,null,null,"NO"]
[{"$f":"'REPORTE PMI'!B2832","v":0},{"$f":"'REPORTE PMI'!E2832","v":0},{"$f":"'REPORTE PMI'!J2832","v":0},{"$f":"'REPORTE PMI'!G2832","v":0},null,null,null,{"$f":"'REPORTE PMI'!L2832","v":0},{"$f":"'REPORTE PMI'!M2832","v":0},0,null,null,0,null,null,"NO"]
[{"$f":"'REPORTE PMI'!B2833","v":0},{"$f":"'REPORTE PMI'!E2833","v":0},{"$f":"'REPORTE PMI'!J2833","v":0},{"$f":"'REPORTE PMI'!G2833","v":0},null,null,null,{"$f":"'REPORTE PMI'!L2833","v":0},{"$f":"'REPORTE PMI'!M2833","v":0},0,null,null,0,null,null,"NO"]
[{"$f":"'REPORTE PMI'!B2834","v":0},{"$f":"'REPORTE PMI'!E2834","v":0},{"$f":"'REPORTE PMI'!J2834","v":0},{"$f":"'REPORTE PMI'!G2834","v":0},null,null,null,{"$f":"'REPORTE PMI'!L2834","v":0},{"$f":"'REPORTE PMI'!M2834","v":0},0,null,null,0,null,null,"NO"]
[{"$f":"'REPORTE PMI'!B2835","v":0},{"$f":"'REPORTE PMI'!E2835","v":0},{"$f":"'REPORTE PMI'!J2835","v":0},{"$f":"'REPORTE PMI'!G2835","v":0},null,null,null,{"$f":"'REPORTE PMI'!L2835","v":0},{"$f":"'REPORTE PMI'!M2835","v":0},0,null,null,0,null,null,"NO"]
[{"$f":"'REPORTE PMI'!B2836","v":0},{"$f":"'REPORTE PMI'!E2836","v":0},{"$f":"'REPORTE PMI'!J2836","v":0},{"$f":"'REPORTE PMI'!G2836","v":0},null,null,null,{"$f":"'REPORTE PMI'!L2836","v":0},{"$f":"'REPORTE PMI'!M2836","v":0},0,null,null,0,null,null,"NO"]
[{"$f":"'REPORTE PMI'!B2837","v":0},{"$f":"'REPORTE PMI'!E2837","v":0},{"$f":"'REPORTE PMI'!J2837","v":0},{"$f":"'REPORTE PMI'!G2837","v":0},null,null,null,{"$f":"'REPORTE PMI'!L2837","v":0},{"$f":"'REPORTE PMI'!M2837","v":0},0,null,null,0,null,null,"NO"]
[{"$f":"'REPORTE PMI'!B2838","v":0},{"$f":"'REPORTE PMI'!E2838","v":0},{"$f":"'REPORTE PMI'!J2838","v":0},{"$f":"'REPORTE PMI'!G2838","v":0},null,null,null,{"$f":"'REPORTE PMI'!L2838","v":0},{"$f":"'REPORTE PMI'!M2838","v":0},0,null,null,0,null,null,"NO"]
[{"$f":"'REPORTE PMI'!B2839","v":0},{"$f":"'REPORTE PMI'!E2839","v":0},{"$f":"'REPORTE PMI'!J2839","v":0},{"$f":"'REPORTE PMI'!G2839","v":0},null,null,null,{"$f":"'REPORTE PMI'!L2839","v":0},{"$f":"'REPORTE PMI'!M2839","v":0},0,null,null,0,null,null,"NO"]
[{"$f":"'REPORTE PMI'!B2840","v":0},{"$f":"'REPORTE PMI'!E2840","v":0},{"$f":"'REPORTE PMI'!J2840","v":0},{"$f":"'REPORTE PMI'!G2840","v":0},null,null,null,{"$f":"'REPORTE PMI'!L2840","v":0},{"$f":"'REPORTE PMI'!M2840","v":0},0,null,null,0,null,null,"NO"]
[{"$f":"'REPORTE PMI'!B2841","v":0},{"$f":"'REPORTE PMI'!E2841","v":0},{"$f":"'REPORTE PMI'!J2841","v":0},{"$f":"'REPORTE PMI'!G2841","v":0},null,null,null,{"$f":"'REPORTE PMI'!L2841","v":0},{"$f":"'REPORTE PMI'!M2841","v":0},0,null,null,0,null,null,"NO"]
[{"$f":"'REPORTE PMI'!B2842","v":0},{"$f":"'REPORTE PMI'!E2842","v":0},{"$f":"'REPORTE PMI'!J2842","v":0},{"$f":"'REPORTE PMI'!G2842","v":0},null,null,null,{"$f":"'REPORTE PMI'!L2842","v":0},{"$f":"'REPORTE PMI'!M2842","v":0},0,null,null,0,null,null,"NO"]
[{"$f":"'REPORTE PMI'!B2843","v":0},{"$f":"'REPORTE PMI'!E2843","v":0},{"$f":"'REPORTE PMI'!J2843","v":0},{"$f":"'REPORTE PMI'!G2843","v":0},null,null,null,{"$f":"'REPORTE PMI'!L2843","v":0},{"$f":"'REPORTE PMI'!M2843","v":0},0,null,null,0,null,null,"NO"]
[{"$f":"'REPORTE PMI'!B2844","v":0},{"$f":"'REPORTE PMI'!E2844","v":0},{"$f":"'REPORTE PMI'!J2844","v":0},{"$f":"'REPORTE PMI'!G2844","v":0},null,null,null,{"$f":"'REPORTE PMI'!L2844","v":0},{"$f":"'REPORTE PMI'!M2844","v":0},0,null,null,0,null,null,"NO"]
[{"$f":"'REPORTE PMI'!B2845","v":0},{"$f":"'REPORTE PMI'!E2845","v":0},{"$f":"'REPORTE PMI'!J2845","v":0},{"$f":"'REPORTE PMI'!G2845","v":0},null,null,null,{"$f":"'REPORTE PMI'!L2845","v":0},{"$f":"'REPORTE PMI'!M2845","v":0},0,null,null,0,null,null,"NO"]
[{"$f":"'REPORTE PMI'!B2846","v":0},{"$f":"'REPORTE PMI'!E2846","v":0},{"$f":"'REPORTE PMI'!J2846","v":0},{"$f":"'REPORTE PMI'!G2846","v":0},null,null,null,{"$f":"'REPORTE PMI'!L2846","v":0},{"$f":"'REPORTE PMI'!M2846","v":0},0,null,null,0,null,null,"NO"]
[{"$f":"'REPORTE PMI'!B2847","v":0},{"$f":"'REPORTE PMI'!E2847","v":0},{"$f":"'REPORTE PMI'!J2847","v":0},{"$f":"'REPORTE PMI'!G2847","v":0},null,null,null,{"$f":"'REPORTE PMI'!L2847","v":0},{"$f":"'REPORTE PMI'!M2847","v":0},0,null,null,0,null,null,"NO"]
[{"$f":"'REPORTE PMI'!B2848","v":0},{"$f":"'REPORTE PMI'!E2848","v":0},{"$f":"'REPORTE PMI'!J2848","v":0},{"$f":"'REPORTE PMI'!G2848","v":0},null,null,null,{"$f":"'REPORTE PMI'!L2848","v":0},{"$f":"'REPORTE PMI'!M2848","v":0},0,null,null,0,null,null,"NO"]
[{"$f":"'REPORTE PMI'!B2849","v":0},{"$f":"'REPORTE PMI'!E2849","v":0},{"$f":"'REPORTE PMI'!J2849","v":0},{"$f":"'REPORTE PMI'!G2849","v":0},null,null,null,{"$f":"'REPORTE PMI'!L2849","v":0},{"$f":"'REPORTE PMI'!M2849","v":0},0,null,null,0,null,null,"NO"]
[{"$f":"'REPORTE PMI'!B2850","v":0},{"$f":"'REPORTE PMI'!E2850","v":0},{"$f":"'REPORTE PMI'!J2850","v":0},{"$f":"'REPORTE PMI'!G2850","v":0},null,null,null,{"$f":"'REPORTE PMI'!L2850","v":0},{"$f":"'REPORTE PMI'!M2850","v":0},0,null,null,0,null,null,"NO"]
[{"$f":"'REPORTE PMI'!B2851","v":0},{"$f":"'REPORTE PMI'!E2851","v":0},{"$f":"'REPORTE PMI'!J2851","v":0},{"$f":"'REPORTE PMI'!G2851","v":0},null,null,null,{"$f":"'REPORTE PMI'!L2851","v":0},{"$f":"'REPORTE PMI'!M2851","v":0},0,null,null,0,null,null,"NO"]
[{"$f":"'REPORTE PMI'!B2852","v":0},{"$f":"'REPORTE PMI'!E2852","v":0},{"$f":"'REPORTE PMI'!J2852","v":0},{"$f":"'REPORTE PMI'!G2852","v":0},null,null,null,{"$f":"'REPORTE PMI'!L2852","v":0},{"$f":"'REPORTE PMI'!M2852","v":0},0,null,null,0,null,null,"NO"]
[{"$f":"'REPORTE PMI'!B2853","v":0},{"$f":"'REPORTE PMI'!E2853","v":0},{"$f":"'REPORTE PMI'!J2853","v":0},{"$f":"'REPORTE PMI'!G2853","v":0},null,null,null,{"$f":"'REPORTE PMI'!L2853","v":0},{"$f":"'REPORTE PMI'!M2853","v":0},0,null,null,0,null,null,"NO"]
[{"$f":"'REPORTE PMI'!B2854","v":0},{"$f":"'REPORTE PMI'!E2854","v":0},{"$f":"'REPORTE PMI'!J2854","v":0},{"$f":"'REPORTE PMI'!G2854","v":0},null,null,null,{"$f":"'REPORTE PMI'!L2854","v":0},{"$f":"'REPORTE PMI'!M2854","v":0},0,null,null,0,null,null,"NO"]
[{"$f":"'REPORTE PMI'!B2855","v":0},{"$f":"'REPORTE PMI'!E2855","v":0},{"$f":"'REPORTE PMI'!J2855","v":0},{"$f":"'REPORTE PMI'!G2855","v":0},null,null,null,{"$f":"'REPORTE PMI'!L2855","v":0},{"$f":"'REPORTE PMI'!M2855","v":0},0,null,null,0,null,null,"NO"]
[{"$f":"'REPORTE PMI'!B2856","v":0},{"$f":"'REPORTE PMI'!E2856","v":0},{"$f":"'REPORTE PMI'!J2856","v":0},{"$f":"'REPORTE PMI'!G2856","v":0},null,null,null,{"$f":"'REPORTE PMI'!L2856","v":0},{"$f":"'REPORTE PMI'!M2856","v":0},0,null,null,0,null,null,"NO"]
[{"$f":"'REPORTE PMI'!B2857","v":0},{"$f":"'REPORTE PMI'!E2857","v":0},{"$f":"'REPORTE PMI'!J2857","v":0},{"$f":"'REPORTE PMI'!G2857","v":0},null,null,null,{"$f":"'REPORTE PMI'!L2857","v":0},{"$f":"'REPORTE PMI'!M2857","v":0},0,null,null,0,null,null,"NO"]
[{"$f":"'REPORTE PMI'!B2858","v":0},{"$f":"'REPORTE PMI'!E2858","v":0},{"$f":"'REPORTE PMI'!J2858","v":0},{"$f":"'REPORTE PMI'!G2858","v":0},null,null,null,{"$f":"'REPORTE PMI'!L2858","v":0},{"$f":"'REPORTE PMI'!M2858","v":0},0,null,null,0,null,null,"NO"]
[{"$f":"'REPORTE PMI'!B2859","v":0},{"$f":"'REPORTE PMI'!E2859","v":0},{"$f":"'REPORTE PMI'!J2859","v":0},{"$f":"'REPORTE PMI'!G2859","v":0},null,null,null,{"$f":"'REPORTE PMI'!L2859","v":0},{"$f":"'REPORTE PMI'!M2859","v":0},0,null,null,0,null,null,"NO"]
[{"$f":"'REPORTE PMI'!B2860","v":0},{"$f":"'REPORTE PMI'!E2860","v":0},{"$f":"'REPORTE PMI'!J2860","v":0},{"$f":"'REPORTE PMI'!G2860","v":0},null,null,null,{"$f":"'REPORTE PMI'!L2860","v":0},{"$f":"'REPORTE PMI'!M2860","v":0},0,null,null,0,null,null,"NO"]
[{"$f":"'REPORTE PMI'!B2861","v":0},{"$f":"'REPORTE PMI'!E2861","v":0},{"$f":"'REPORTE PMI'!J2861","v":0},{"$f":"'REPORTE PMI'!G2861","v":0},null,null,null,{"$f":"'REPORTE PMI'!L2861","v":0},{"$f":"'REPORTE PMI'!M2861","v":0},0,null,null,0,null,null,"NO"]
[{"$f":"'REPORTE PMI'!B2862","v":0},{"$f":"'REPORTE PMI'!E2862","v":0},{"$f":"'REPORTE PMI'!J2862","v":0},{"$f":"'REPORTE PMI'!G2862","v":0},null,null,null,{"$f":"'REPORTE PMI'!L2862","v":0},{"$f":"'REPORTE PMI'!M2862","v":0},0,null,null,0,null,null,"NO"]
[{"$f":"'REPORTE PMI'!B2863","v":0},{"$f":"'REPORTE PMI'!E2863","v":0},{"$f":"'REPORTE PMI'!J2863","v":0},{"$f":"'REPORTE PMI'!G2863","v":0},null,null,null,{"$f":"'REPORTE PMI'!L2863","v":0},{"$f":"'REPORTE PMI'!M2863","v":0},0,null,null,0,null,null,"NO"]
[{"$f":"'REPORTE PMI'!B2864","v":0},{"$f":"'REPORTE PMI'!E2864","v":0},{"$f":"'REPORTE PMI'!J2864","v":0},{"$f":"'REPORTE PMI'!G2864","v":0},null,null,null,{"$f":"'REPORTE PMI'!L2864","v":0},{"$f":"'REPORTE PMI'!M2864","v":0},0,null,null,0,null,null,"NO"]
[{"$f":"'REPORTE PMI'!B2865","v":0},{"$f":"'REPORTE PMI'!E2865","v":0},{"$f":"'REPORTE PMI'!J2865","v":0},{"$f":"'REPORTE PMI'!G2865","v":0},null,null,null,{"$f":"'REPORTE PMI'!L2865","v":0},{"$f":"'REPORTE PMI'!M2865","v":0},0,null,null,0,null,null,"NO"]
[{"$f":"'REPORTE PMI'!B2866","v":0},{"$f":"'REPORTE PMI'!E2866","v":0},{"$f":"'REPORTE PMI'!J2866","v":0},{"$f":"'REPORTE PMI'!G2866","v":0},null,null,null,{"$f":"'REPORTE PMI'!L2866","v":0},{"$f":"'REPORTE PMI'!M2866","v":0},0,null,null,0,null,null,"NO"]
[{"$f":"'REPORTE PMI'!B2867","v":0},{"$f":"'REPORTE PMI'!E2867","v":0},{"$f":"'REPORTE PMI'!J2867","v":0},{"$f":"'REPORTE PMI'!G2867","v":0},null,null,null,{"$f":"'REPORTE PMI'!L2867","v":0},{"$f":"'REPORTE PMI'!M2867","v":0},0,null,null,0,null,null,"NO"]
[{"$f":"'REPORTE PMI'!B2868","v":0},{"$f":"'REPORTE PMI'!E2868","v":0},{"$f":"'REPORTE PMI'!J2868","v":0},{"$f":"'REPORTE PMI'!G2868","v":0},null,null,null,{"$f":"'REPORTE PMI'!L2868","v":0},{"$f":"'REPORTE PMI'!M2868","v":0},0,null,null,0,null,null,"NO"]
[{"$f":"'REPORTE PMI'!B2869","v":0},{"$f":"'REPORTE PMI'!E2869","v":0},{"$f":"'REPORTE PMI'!J2869","v":0},{"$f":"'REPORTE PMI'!G2869","v":0},null,null,null,{"$f":"'REPORTE PMI'!L2869","v":0},{"$f":"'REPORTE PMI'!M2869","v":0},0,null,null,0,null,null,"NO"]
[{"$f":"'REPORTE PMI'!B2870","v":0},{"$f":"'REPORTE PMI'!E2870","v":0},{"$f":"'REPORTE PMI'!J2870","v":0},{"$f":"'REPORTE PMI'!G2870","v":0},null,null,null,{"$f":"'REPORTE PMI'!L2870","v":0},{"$f":"'REPORTE PMI'!M2870","v":0},0,null,null,0,null,null,"NO"]
[{"$f":"'REPORTE PMI'!B2871","v":0},{"$f":"'REPORTE PMI'!E2871","v":0},{"$f":"'REPORTE PMI'!J2871","v":0},{"$f":"'REPORTE PMI'!G2871","v":0},null,null,null,{"$f":"'REPORTE PMI'!L2871","v":0},{"$f":"'REPORTE PMI'!M2871","v":0},0,null,null,0,null,null,"NO"]
[{"$f":"'REPORTE PMI'!B2872","v":0},{"$f":"'REPORTE PMI'!E2872","v":0},{"$f":"'REPORTE PMI'!J2872","v":0},{"$f":"'REPORTE PMI'!G2872","v":0},null,null,null,{"$f":"'REPORTE PMI'!L2872","v":0},{"$f":"'REPORTE PMI'!M2872","v":0},0,null,null,0,null,null,"NO"]
[{"$f":"'REPORTE PMI'!B2873","v":0},{"$f":"'REPORTE PMI'!E2873","v":0},{"$f":"'REPORTE PMI'!J2873","v":0},{"$f":"'REPORTE PMI'!G2873","v":0},null,null,null,{"$f":"'REPORTE PMI'!L2873","v":0},{"$f":"'REPORTE PMI'!M2873","v":0},0,null,null,0,null,null,"NO"]
[{"$f":"'REPORTE PMI'!B2874","v":0},{"$f":"'REPORTE PMI'!E2874","v":0},{"$f":"'REPORTE PMI'!J2874","v":0},{"$f":"'REPORTE PMI'!G2874","v":0},null,null,null,{"$f":"'REPORTE PMI'!L2874","v":0},{"$f":"'REPORTE PMI'!M2874","v":0},0,null,null,0,null,null,"NO"]
[{"$f":"'REPORTE PMI'!B2875","v":0},{"$f":"'REPORTE PMI'!E2875","v":0},{"$f":"'REPORTE PMI'!J2875","v":0},{"$f":"'REPORTE PMI'!G2875","v":0},null,null,null,{"$f":"'REPORTE PMI'!L2875","v":0},{"$f":"'REPORTE PMI'!M2875","v":0},0,null,null,0,null,null,"NO"]
[{"$f":"'REPORTE PMI'!B2876","v":0},{"$f":"'REPORTE PMI'!E2876","v":0},{"$f":"'REPORTE PMI'!J2876","v":0},{"$f":"'REPORTE PMI'!G2876","v":0},null,null,null,{"$f":"'REPORTE PMI'!L2876","v":0},{"$f":"'REPORTE PMI'!M2876","v":0},0,null,null,0,null,null,"NO"]
[{"$f":"'REPORTE PMI'!B2877","v":0},{"$f":"'REPORTE PMI'!E2877","v":0},{"$f":"'REPORTE PMI'!J2877","v":0},{"$f":"'REPORTE PMI'!G2877","v":0},null,null,null,{"$f":"'REPORTE PMI'!L2877","v":0},{"$f":"'REPORTE PMI'!M2877","v":0},0,null,null,0,null,null,"NO"]
[{"$f":"'REPORTE PMI'!B2878","v":0},{"$f":"'REPORTE PMI'!E2878","v":0},{"$f":"'REPORTE PMI'!J2878","v":0},{"$f":"'REPORTE PMI'!G2878","v":0},null,null,null,{"$f":"'REPORTE PMI'!L2878","v":0},{"$f":"'REPORTE PMI'!M2878","v":0},0,null,null,0,null,null,"NO"]
[{"$f":"'REPORTE PMI'!B2879","v":0},{"$f":"'REPORTE PMI'!E2879","v":0},{"$f":"'REPORTE PMI'!J2879","v":0},{"$f":"'REPORTE PMI'!G2879","v":0},null,null,null,{"$f":"'REPORTE PMI'!L2879","v":0},{"$f":"'REPORTE PMI'!M2879","v":0},0,null,null,0,null,null,"NO"]
[{"$f":"'REPORTE PMI'!B2880","v":0},{"$f":"'REPORTE PMI'!E2880","v":0},{"$f":"'REPORTE PMI'!J2880","v":0},{"$f":"'REPORTE PMI'!G2880","v":0},null,null,null,{"$f":"'REPORTE PMI'!L2880","v":0},{"$f":"'REPORTE PMI'!M2880","v":0},0,null,null,0,null,null,"NO"]
[{"$f":"'REPORTE PMI'!B2881","v":0},{"$f":"'REPORTE PMI'!E2881","v":0},{"$f":"'REPORTE PMI'!J2881","v":0},{"$f":"'REPORTE PMI'!G2881","v":0},null,null,null,{"$f":"'REPORTE PMI'!L2881","v":0},{"$f":"'REPORTE PMI'!M2881","v":0},0,null,null,0,null,null,"NO"]
[{"$f":"'REPORTE PMI'!B2882","v":0},{"$f":"'REPORTE PMI'!E2882","v":0},{"$f":"'REPORTE PMI'!J2882","v":0},{"$f":"'REPORTE PMI'!G2882","v":0},null,null,null,{"$f":"'REPORTE PMI'!L2882","v":0},{"$f":"'REPORTE PMI'!M2882","v":0},0,null,null,0,null,null,"NO"]
[{"$f":"'REPORTE PMI'!B2883","v":0},{"$f":"'REPORTE PMI'!E2883","v":0},{"$f":"'REPORTE PMI'!J2883","v":0},{"$f":"'REPORTE PMI'!G2883","v":0},null,null,null,{"$f":"'REPORTE PMI'!L2883","v":0},{"$f":"'REPORTE PMI'!M2883","v":0},0,null,null,0,null,null,"NO"]
[{"$f":"'REPORTE PMI'!B2884","v":0},{"$f":"'REPORTE PMI'!E2884","v":0},{"$f":"'REPORTE PMI'!J2884","v":0},{"$f":"'REPORTE PMI'!G2884","v":0},null,null,null,{"$f":"'REPORTE PMI'!L2884","v":0},{"$f":"'REPORTE PMI'!M2884","v":0},{"$f":"IFERROR(I2893/H2893, 0)","v":0},null,null,{"$f":"H2893-I2893","v":0},null,null,{"$f":"IF(E2893=\"SI\",IF(J2893>0%,IF(K2893=\"SI\",IF(L2893=\"NO\",IF(N2893=\"SI\",IF(O2893=\"NO\",\"SI\",\"NO\"),\"NO\"),\"NO\"),\"NO\"),\"NO\"),\"NO\")","v":"NO"}]
[{"$f":"'REPORTE PMI'!B2885","v":0},{"$f":"'REPORTE PMI'!E2885","v":0},{"$f":"'REPORTE PMI'!J2885","v":0},{"$f":"'REPORTE PMI'!G2885","v":0},null,null,null,{"$f":"'REPORTE PMI'!L2885","v":0},{"$f":"'REPORTE PMI'!M2885","v":0},0,null,null,0,null,null,"NO"]
[{"$f":"'REPORTE PMI'!B2886","v":0},{"$f":"'REPORTE PMI'!E2886","v":0},{"$f":"'REPORTE PMI'!J2886","v":0},{"$f":"'REPORTE PMI'!G2886","v":0},null,null,null,{"$f":"'REPORTE PMI'!L2886","v":0},{"$f":"'REPORTE PMI'!M2886","v":0},0,null,null,0,null,null,"NO"]
[{"$f":"'REPORTE PMI'!B2887","v":0},{"$f":"'REPORTE PMI'!E2887","v":0},{"$f":"'REPORTE PMI'!J2887","v":0},{"$f":"'REPORTE PMI'!G2887","v":0},null,null,null,{"$f":"'REPORTE PMI'!L2887","v":0},{"$f":"'REPORTE PMI'!M2887","v":0},0,null,null,0,null,null,"NO"]
[{"$f":"'REPORTE PMI'!B2888","v":0},{"$f":"'REPORTE PMI'!E2888","v":0},{"$f":"'REPORTE PMI'!J2888","v":0},{"$f":"'REPORTE PMI'!G2888","v":0},null,null,null,{"$f":"'REPORTE PMI'!L2888","v":0},{"$f":"'REPORTE PMI'!M2888","v":0},0,null,null,0,null,null,"NO"]
[{"$f":"'REPORTE PMI'!B2889","v":0},{"$f":"'REPORTE PMI'!E2889","v":0},{"$f":"'REPORTE PMI'!J2889","v":0},{"$f":"'REPORTE PMI'!G2889","v":0},null,null,null,{"$f":"'REPORTE PMI'!L2889","v":0},{"$f":"'REPORTE PMI'!M2889","v":0},0,null,null,0,null,null,"NO"]
[{"$f":"'REPORTE PMI'!B2890","v":0},{"$f":"'REPORTE PMI'!E2890","v":0},{"$f":"'REPORTE PMI'!J2890","v":0},{"$f":"'REPORTE PMI'!G2890","v":0},null,null,null,{"$f":"'REPORTE PMI'!L2890","v":0},{"$f":"'REPORTE PMI'!M2890","v":0},0,null,null,0,null,null,"NO"]
[{"$f":"'REPORTE PMI'!B2891","v":0},{"$f":"'REPORTE PMI'!E2891","v":0},{"$f":"'REPORTE PMI'!J2891","v":0},{"$f":"'REPORTE PMI'!G2891","v":0},null,null,null,{"$f":"'REPORTE PMI'!L2891","v":0},{"$f":"'REPORTE PMI'!M2891","v":0},0,null,null,0,null,null,"NO"]
[{"$f":"'REPORTE PMI'!B2892","v":0},{"$f":"'REPORTE PMI'!E2892","v":0},{"$f":"'REPORTE PMI'!J2892","v":0},{"$f":"'REPORTE PMI'!G2892","v":0},null,null,null,{"$f":"'REPORTE PMI'!L2892","v":0},{"$f":"'REPORTE PMI'!M2892","v":0},0,null,null,0,null,null,"NO"]
[{"$f":"'REPORTE PMI'!B2893","v":0},{"$f":"'REPORTE PMI'!E2893","v":0},{"$f":"'REPORTE PMI'!J2893","v":0},{"$f":"'REPORTE PMI'!G2893","v":0},null,null,null,{"$f":"'REPORTE PMI'!L2893","v":0},{"$f":"'REPORTE PMI'!M2893","v":0},0,null,null,0,null,null,"NO"]
[{"$f":"'REPORTE PMI'!B2894","v":0},{"$f":"'REPORTE PMI'!E2894","v":0},{"$f":"'REPORTE PMI'!J2894","v":0},{"$f":"'REPORTE PMI'!G2894","v":0},null,null,null,{"$f":"'REPORTE PMI'!L2894","v":0},{"$f":"'REPORTE PMI'!M2894","v":0},0,null,null,0,null,null,"NO"]
[{"$f":"'REPORTE PMI'!B2895","v":0},{"$f":"'REPORTE PMI'!E2895","v":0},{"$f":"'REPORTE PMI'!J2895","v":0},{"$f":"'REPORTE PMI'!G2895","v":0},null,null,null,{"$f":"'REPORTE PMI'!L2895","v":0},{"$f":"'REPORTE PMI'!M2895","v":0},0,null,null,0,null,null,"NO"]
[{"$f":"'REPORTE PMI'!B2896","v":0},{"$f":"'REPORTE PMI'!E2896","v":0},{"$f":"'REPORTE PMI'!J2896","v":0},{"$f":"'REPORTE PMI'!G2896","v":0},null,null,null,{"$f":"'REPORTE PMI'!L2896","v":0},{"$f":"'REPORTE PMI'!M2896","v":0},0,null,null,0,null,null,"NO"]
[{"$f":"'REPORTE PMI'!B2897","v":0},{"$f":"'REPORTE PMI'!E2897","v":0},{"$f":"'REPORTE PMI'!J2897","v":0},{"$f":"'REPORTE PMI'!G2897","v":0},null,null,null,{"$f":"'REPORTE PMI'!L2897","v":0},{"$f":"'REPORTE PMI'!M2897","v":0},0,null,null,0,null,null,"NO"]
[{"$f":"'REPORTE PMI'!B2898","v":0},{"$f":"'REPORTE PMI'!E2898","v":0},{"$f":"'REPORTE PMI'!J2898","v":0},{"$f":"'REPORTE PMI'!G2898","v":0},null,null,null,{"$f":"'REPORTE PMI'!L2898","v":0},{"$f":"'REPORTE PMI'!M2898","v":0},0,null,null,0,null,null,"NO"]
[{"$f":"'REPORTE PMI'!B2899","v":0},{"$f":"'REPORTE PMI'!E2899","v":0},{"$f":"'REPORTE PMI'!J2899","v":0},{"$f":"'REPORTE PMI'!G2899","v":0},null,null,null,{"$f":"'REPORTE PMI'!L2899","v":0},{"$f":"'REPORTE PMI'!M2899","v":0},0,null,null,0,null,null,"NO"]
[{"$f":"'REPORTE PMI'!B2900","v":0},{"$f":"'REPORTE PMI'!E2900","v":0},{"$f":"'REPORTE PMI'!J2900","v":0},{"$f":"'REPORTE PMI'!G2900","v":0},null,null,null,{"$f":"'REPORTE PMI'!L2900","v":0},{"$f":"'REPORTE PMI'!M2900","v":0},0,null,null,0,null,null,"NO"]
[{"$f":"'REPORTE PMI'!B2901","v":0},{"$f":"'REPORTE PMI'!E2901","v":0},{"$f":"'REPORTE PMI'!J2901","v":0},{"$f":"'REPORTE PMI'!G2901","v":0},null,null,null,{"$f":"'REPORTE PMI'!L2901","v":0},{"$f":"'REPORTE PMI'!M2901","v":0},0,null,null,0,null,null,"NO"]
[{"$f":"'REPORTE PMI'!B2902","v":0},{"$f":"'REPORTE PMI'!E2902","v":0},{"$f":"'REPORTE PMI'!J2902","v":0},{"$f":"'REPORTE PMI'!G2902","v":0},null,null,null,{"$f":"'REPORTE PMI'!L2902","v":0},{"$f":"'REPORTE PMI'!M2902","v":0},0,null,null,0,null,null,"NO"]
[{"$f":"'REPORTE PMI'!B2903","v":0},{"$f":"'REPORTE PMI'!E2903","v":0},{"$f":"'REPORTE PMI'!J2903","v":0},{"$f":"'REPORTE PMI'!G2903","v":0},null,null,null,{"$f":"'REPORTE PMI'!L2903","v":0},{"$f":"'REPORTE PMI'!M2903","v":0},0,null,null,0,null,null,"NO"]
[{"$f":"'REPORTE PMI'!B2904","v":0},{"$f":"'REPORTE PMI'!E2904","v":0},{"$f":"'REPORTE PMI'!J2904","v":0},{"$f":"'REPORTE PMI'!G2904","v":0},null,null,null,{"$f":"'REPORTE PMI'!L2904","v":0},{"$f":"'REPORTE PMI'!M2904","v":0},0,null,null,0,null,null,"NO"]
[{"$f":"'REPORTE PMI'!B2905","v":0},{"$f":"'REPORTE PMI'!E2905","v":0},{"$f":"'REPORTE PMI'!J2905","v":0},{"$f":"'REPORTE PMI'!G2905","v":0},null,null,null,{"$f":"'REPORTE PMI'!L2905","v":0},{"$f":"'REPORTE PMI'!M2905","v":0},0,null,null,0,null,null,"NO"]
[{"$f":"'REPORTE PMI'!B2906","v":0},{"$f":"'REPORTE PMI'!E2906","v":0},{"$f":"'REPORTE PMI'!J2906","v":0},{"$f":"'REPORTE PMI'!G2906","v":0},null,null,null,{"$f":"'REPORTE PMI'!L2906","v":0},{"$f":"'REPORTE PMI'!M2906","v":0},0,null,null,0,null,null,"NO"]
[{"$f":"'REPORTE PMI'!B2907","v":0},{"$f":"'REPORTE PMI'!E2907","v":0},{"$f":"'REPORTE PMI'!J2907","v":0},{"$f":"'REPORTE PMI'!G2907","v":0},null,null,null,{"$f":"'REPORTE PMI'!L2907","v":0},{"$f":"'REPORTE PMI'!M2907","v":0},0,null,null,0,null,null,"NO"]
[{"$f":"'REPORTE PMI'!B2908","v":0},{"$f":"'REPORTE PMI'!E2908","v":0},{"$f":"'REPORTE PMI'!J2908","v":0},{"$f":"'REPORTE PMI'!G2908","v":0},null,null,null,{"$f":"'REPORTE PMI'!L2908","v":0},{"$f":"'REPORTE PMI'!M2908","v":0},0,null,null,0,null,null,"NO"]
[{"$f":"'REPORTE PMI'!B2909","v":0},{"$f":"'REPORTE PMI'!E2909","v":0},{"$f":"'REPORTE PMI'!J2909","v":0},{"$f":"'REPORTE PMI'!G2909","v":0},null,null,null,{"$f":"'REPORTE PMI'!L2909","v":0},{"$f":"'REPORTE PMI'!M2909","v":0},0,null,null,0,null,null,"NO"]
[{"$f":"'REPORTE PMI'!B2910","v":0},{"$f":"'REPORTE PMI'!E2910","v":0},{"$f":"'REPORTE PMI'!J2910","v":0},{"$f":"'REPORTE PMI'!G2910","v":0},null,null,null,{"$f":"'REPORTE PMI'!L2910","v":0},{"$f":"'REPORTE PMI'!M2910","v":0},0,null,null,0,null,null,"NO"]
[{"$f":"'REPORTE PMI'!B2911","v":0},{"$f":"'REPORTE PMI'!E2911","v":0},{"$f":"'REPORTE PMI'!J2911","v":0},{"$f":"'REPORTE PMI'!G2911","v":0},null,null,null,{"$f":"'REPORTE PMI'!L2911","v":0},{"$f":"'REPORTE PMI'!M2911","v":0},0,null,null,0,null,null,"NO"]
[{"$f":"'REPORTE PMI'!B2912","v":0},{"$f":"'REPORTE PMI'!E2912","v":0},{"$f":"'REPORTE PMI'!J2912","v":0},{"$f":"'REPORTE PMI'!G2912","v":0},null,null,null,{"$f":"'REPORTE PMI'!L2912","v":0},{"$f":"'REPORTE PMI'!M2912","v":0},0,null,null,0,null,null,"NO"]
[{"$f":"'REPORTE PMI'!B2913","v":0},{"$f":"'REPORTE PMI'!E2913","v":0},{"$f":"'REPORTE PMI'!J2913","v":0},{"$f":"'REPORTE PMI'!G2913","v":0},null,null,null,{"$f":"'REPORTE PMI'!L2913","v":0},{"$f":"'REPORTE PMI'!M2913","v":0},0,null,null,0,null,null,"NO"]
[{"$f":"'REPORTE PMI'!B2914","v":0},{"$f":"'REPORTE PMI'!E2914","v":0},{"$f":"'REPORTE PMI'!J2914","v":0},{"$f":"'REPORTE PMI'!G2914","v":0},null,null,null,{"$f":"'REPORTE PMI'!L2914","v":0},{"$f":"'REPORTE PMI'!M2914","v":0},0,null,null,0,null,null,"NO"]
[{"$f":"'REPORTE PMI'!B2915","v":0},{"$f":"'REPORTE PMI'!E2915","v":0},{"$f":"'REPORTE PMI'!J2915","v":0},{"$f":"'REPORTE PMI'!G2915","v":0},null,null,null,{"$f":"'REPORTE PMI'!L2915","v":0},{"$f":"'REPORTE PMI'!M2915","v":0},0,null,null,0,null,null,"NO"]
[{"$f":"'REPORTE PMI'!B2916","v":0},{"$f":"'REPORTE PMI'!E2916","v":0},{"$f":"'REPORTE PMI'!J2916","v":0},{"$f":"'REPORTE PMI'!G2916","v":0},null,null,null,{"$f":"'REPORTE PMI'!L2916","v":0},{"$f":"'REPORTE PMI'!M2916","v":0},0,null,null,0,null,null,"NO"]
[{"$f":"'REPORTE PMI'!B2917","v":0},{"$f":"'REPORTE PMI'!E2917","v":0},{"$f":"'REPORTE PMI'!J2917","v":0},{"$f":"'REPORTE PMI'!G2917","v":0},null,null,null,{"$f":"'REPORTE PMI'!L2917","v":0},{"$f":"'REPORTE PMI'!M2917","v":0},0,null,null,0,null,null,"NO"]
[{"$f":"'REPORTE PMI'!B2918","v":0},{"$f":"'REPORTE PMI'!E2918","v":0},{"$f":"'REPORTE PMI'!J2918","v":0},{"$f":"'REPORTE PMI'!G2918","v":0},null,null,null,{"$f":"'REPORTE PMI'!L2918","v":0},{"$f":"'REPORTE PMI'!M2918","v":0},0,null,null,0,null,null,"NO"]
[{"$f":"'REPORTE PMI'!B2919","v":0},{"$f":"'REPORTE PMI'!E2919","v":0},{"$f":"'REPORTE PMI'!J2919","v":0},{"$f":"'REPORTE PMI'!G2919","v":0},null,null,null,{"$f":"'REPORTE PMI'!L2919","v":0},{"$f":"'REPORTE PMI'!M2919","v":0},0,null,null,0,null,null,"NO"]
[{"$f":"'REPORTE PMI'!B2920","v":0},{"$f":"'REPORTE PMI'!E2920","v":0},{"$f":"'REPORTE PMI'!J2920","v":0},{"$f":"'REPORTE PMI'!G2920","v":0},null,null,null,{"$f":"'REPORTE PMI'!L2920","v":0},{"$f":"'REPORTE PMI'!M2920","v":0},0,null,null,0,null,null,"NO"]
[{"$f":"'REPORTE PMI'!B2921","v":0},{"$f":"'REPORTE PMI'!E2921","v":0},{"$f":"'REPORTE PMI'!J2921","v":0},{"$f":"'REPORTE PMI'!G2921","v":0},null,null,null,{"$f":"'REPORTE PMI'!L2921","v":0},{"$f":"'REPORTE PMI'!M2921","v":0},0,null,null,0,null,null,"NO"]
[{"$f":"'REPORTE PMI'!B2922","v":0},{"$f":"'REPORTE PMI'!E2922","v":0},{"$f":"'REPORTE PMI'!J2922","v":0},{"$f":"'REPORTE PMI'!G2922","v":0},null,null,null,{"$f":"'REPORTE PMI'!L2922","v":0},{"$f":"'REPORTE PMI'!M2922","v":0},0,null,null,0,null,null,"NO"]
[{"$f":"'REPORTE PMI'!B2923","v":0},{"$f":"'REPORTE PMI'!E2923","v":0},{"$f":"'REPORTE PMI'!J2923","v":0},{"$f":"'REPORTE PMI'!G2923","v":0},null,null,null,{"$f":"'REPORTE PMI'!L2923","v":0},{"$f":"'REPORTE PMI'!M2923","v":0},0,null,null,0,null,null,"NO"]
[{"$f":"'REPORTE PMI'!B2924","v":0},{"$f":"'REPORTE PMI'!E2924","v":0},{"$f":"'REPORTE PMI'!J2924","v":0},{"$f":"'REPORTE PMI'!G2924","v":0},null,null,null,{"$f":"'REPORTE PMI'!L2924","v":0},{"$f":"'REPORTE PMI'!M2924","v":0},0,null,null,0,null,null,"NO"]
[{"$f":"'REPORTE PMI'!B2925","v":0},{"$f":"'REPORTE PMI'!E2925","v":0},{"$f":"'REPORTE PMI'!J2925","v":0},{"$f":"'REPORTE PMI'!G2925","v":0},null,null,null,{"$f":"'REPORTE PMI'!L2925","v":0},{"$f":"'REPORTE PMI'!M2925","v":0},0,null,null,0,null,null,"NO"]
[{"$f":"'REPORTE PMI'!B2926","v":0},{"$f":"'REPORTE PMI'!E2926","v":0},{"$f":"'REPORTE PMI'!J2926","v":0},{"$f":"'REPORTE PMI'!G2926","v":0},null,null,null,{"$f":"'REPORTE PMI'!L2926","v":0},{"$f":"'REPORTE PMI'!M2926","v":0},0,null,null,0,null,null,"NO"]
[{"$f":"'REPORTE PMI'!B2927","v":0},{"$f":"'REPORTE PMI'!E2927","v":0},{"$f":"'REPORTE PMI'!J2927","v":0},{"$f":"'REPORTE PMI'!G2927","v":0},null,null,null,{"$f":"'REPORTE PMI'!L2927","v":0},{"$f":"'REPORTE PMI'!M2927","v":0},0,null,null,0,null,null,"NO"]
[{"$f":"'REPORTE PMI'!B2928","v":0},{"$f":"'REPORTE PMI'!E2928","v":0},{"$f":"'REPORTE PMI'!J2928","v":0},{"$f":"'REPORTE PMI'!G2928","v":0},null,null,null,{"$f":"'REPORTE PMI'!L2928","v":0},{"$f":"'REPORTE PMI'!M2928","v":0},0,null,null,0,null,null,"NO"]
[{"$f":"'REPORTE PMI'!B2929","v":0},{"$f":"'REPORTE PMI'!E2929","v":0},{"$f":"'REPORTE PMI'!J2929","v":0},{"$f":"'REPORTE PMI'!G2929","v":0},null,null,null,{"$f":"'REPORTE PMI'!L2929","v":0},{"$f":"'REPORTE PMI'!M2929","v":0},0,null,null,0,null,null,"NO"]
[{"$f":"'REPORTE PMI'!B2930","v":0},{"$f":"'REPORTE PMI'!E2930","v":0},{"$f":"'REPORTE PMI'!J2930","v":0},{"$f":"'REPORTE PMI'!G2930","v":0},null,null,null,{"$f":"'REPORTE PMI'!L2930","v":0},{"$f":"'REPORTE PMI'!M2930","v":0},0,null,null,0,null,null,"NO"]
[{"$f":"'REPORTE PMI'!B2931","v":0},{"$f":"'REPORTE PMI'!E2931","v":0},{"$f":"'REPORTE PMI'!J2931","v":0},{"$f":"'REPORTE PMI'!G2931","v":0},null,null,null,{"$f":"'REPORTE PMI'!L2931","v":0},{"$f":"'REPORTE PMI'!M2931","v":0},0,null,null,0,null,null,"NO"]
[{"$f":"'REPORTE PMI'!B2932","v":0},{"$f":"'REPORTE PMI'!E2932","v":0},{"$f":"'REPORTE PMI'!J2932","v":0},{"$f":"'REPORTE PMI'!G2932","v":0},null,null,null,{"$f":"'REPORTE PMI'!L2932","v":0},{"$f":"'REPORTE PMI'!M2932","v":0},0,null,null,0,null,null,"NO"]
[{"$f":"'REPORTE PMI'!B2933","v":0},{"$f":"'REPORTE PMI'!E2933","v":0},{"$f":"'REPORTE PMI'!J2933","v":0},{"$f":"'REPORTE PMI'!G2933","v":0},null,null,null,{"$f":"'REPORTE PMI'!L2933","v":0},{"$f":"'REPORTE PMI'!M2933","v":0},0,null,null,0,null,null,"NO"]
[{"$f":"'REPORTE PMI'!B2934","v":0},{"$f":"'REPORTE PMI'!E2934","v":0},{"$f":"'REPORTE PMI'!J2934","v":0},{"$f":"'REPORTE PMI'!G2934","v":0},null,null,null,{"$f":"'REPORTE PMI'!L2934","v":0},{"$f":"'REPORTE PMI'!M2934","v":0},0,null,null,0,null,null,"NO"]
[{"$f":"'REPORTE PMI'!B2935","v":0},{"$f":"'REPORTE PMI'!E2935","v":0},{"$f":"'REPORTE PMI'!J2935","v":0},{"$f":"'REPORTE PMI'!G2935","v":0},null,null,null,{"$f":"'REPORTE PMI'!L2935","v":0},{"$f":"'REPORTE PMI'!M2935","v":0},0,null,null,0,null,null,"NO"]
[{"$f":"'REPORTE PMI'!B2936","v":0},{"$f":"'REPORTE PMI'!E2936","v":0},{"$f":"'REPORTE PMI'!J2936","v":0},{"$f":"'REPORTE PMI'!G2936","v":0},null,null,null,{"$f":"'REPORTE PMI'!L2936","v":0},{"$f":"'REPORTE PMI'!M2936","v":0},0,null,null,0,null,null,"NO"]
[{"$f":"'REPORTE PMI'!B2937","v":0},{"$f":"'REPORTE PMI'!E2937","v":0},{"$f":"'REPORTE PMI'!J2937","v":0},{"$f":"'REPORTE PMI'!G2937","v":0},null,null,null,{"$f":"'REPORTE PMI'!L2937","v":0},{"$f":"'REPORTE PMI'!M2937","v":0},0,null,null,0,null,null,"NO"]
[{"$f":"'REPORTE PMI'!B2938","v":0},{"$f":"'REPORTE PMI'!E2938","v":0},{"$f":"'REPORTE PMI'!J2938","v":0},{"$f":"'REPORTE PMI'!G2938","v":0},null,null,null,{"$f":"'REPORTE PMI'!L2938","v":0},{"$f":"'REPORTE PMI'!M2938","v":0},0,null,null,0,null,null,"NO"]
[{"$f":"'REPORTE PMI'!B2939","v":0},{"$f":"'REPORTE PMI'!E2939","v":0},{"$f":"'REPORTE PMI'!J2939","v":0},{"$f":"'REPORTE PMI'!G2939","v":0},null,null,null,{"$f":"'REPORTE PMI'!L2939","v":0},{"$f":"'REPORTE PMI'!M2939","v":0},0,null,null,0,null,null,"NO"]
[{"$f":"'REPORTE PMI'!B2940","v":0},{"$f":"'REPORTE PMI'!E2940","v":0},{"$f":"'REPORTE PMI'!J2940","v":0},{"$f":"'REPORTE PMI'!G2940","v":0},null,null,null,{"$f":"'REPORTE PMI'!L2940","v":0},{"$f":"'REPORTE PMI'!M2940","v":0},0,null,null,0,null,null,"NO"]
[{"$f":"'REPORTE PMI'!B2941","v":0},{"$f":"'REPORTE PMI'!E2941","v":0},{"$f":"'REPORTE PMI'!J2941","v":0},{"$f":"'REPORTE PMI'!G2941","v":0},null,null,null,{"$f":"'REPORTE PMI'!L2941","v":0},{"$f":"'REPORTE PMI'!M2941","v":0},0,null,null,0,null,null,"NO"]
[{"$f":"'REPORTE PMI'!B2942","v":0},{"$f":"'REPORTE PMI'!E2942","v":0},{"$f":"'REPORTE PMI'!J2942","v":0},{"$f":"'REPORTE PMI'!G2942","v":0},null,null,null,{"$f":"'REPORTE PMI'!L2942","v":0},{"$f":"'REPORTE PMI'!M2942","v":0},0,null,null,0,null,null,"NO"]
[{"$f":"'REPORTE PMI'!B2943","v":0},{"$f":"'REPORTE PMI'!E2943","v":0},{"$f":"'REPORTE PMI'!J2943","v":0},{"$f":"'REPORTE PMI'!G2943","v":0},null,null,null,{"$f":"'REPORTE PMI'!L2943","v":0},{"$f":"'REPORTE PMI'!M2943","v":0},0,null,null,0,null,null,"NO"]
[{"$f":"'REPORTE PMI'!B2944","v":0},{"$f":"'REPORTE PMI'!E2944","v":0},{"$f":"'REPORTE PMI'!J2944","v":0},{"$f":"'REPORTE PMI'!G2944","v":0},null,null,null,{"$f":"'REPORTE PMI'!L2944","v":0},{"$f":"'REPORTE PMI'!M2944","v":0},0,null,null,0,null,null,"NO"]
[{"$f":"'REPORTE PMI'!B2945","v":0},{"$f":"'REPORTE PMI'!E2945","v":0},{"$f":"'REPORTE PMI'!J2945","v":0},{"$f":"'REPORTE PMI'!G2945","v":0},null,null,null,{"$f":"'REPORTE PMI'!L2945","v":0},{"$f":"'REPORTE PMI'!M2945","v":0},0,null,null,0,null,null,"NO"]
[{"$f":"'REPORTE PMI'!B2946","v":0},{"$f":"'REPORTE PMI'!E2946","v":0},{"$f":"'REPORTE PMI'!J2946","v":0},{"$f":"'REPORTE PMI'!G2946","v":0},null,null,null,{"$f":"'REPORTE PMI'!L2946","v":0},{"$f":"'REPORTE PMI'!M2946","v":0},0,null,null,0,null,null,"NO"]
[{"$f":"'REPORTE PMI'!B2947","v":0},{"$f":"'REPORTE PMI'!E2947","v":0},{"$f":"'REPORTE PMI'!J2947","v":0},{"$f":"'REPORTE PMI'!G2947","v":0},null,null,null,{"$f":"'REPORTE PMI'!L2947","v":0},{"$f":"'REPORTE PMI'!M2947","v":0},0,null,null,0,null,null,"NO"]
[{"$f":"'REPORTE PMI'!B2948","v":0},{"$f":"'REPORTE PMI'!E2948","v":0},{"$f":"'REPORTE PMI'!J2948","v":0},{"$f":"'REPORTE PMI'!G2948","v":0},null,null,null,{"$f":"'REPORTE PMI'!L2948","v":0},{"$f":"'REPORTE PMI'!M2948","v":0},{"$f":"IFERROR(I2957/H2957, 0)","v":0},null,null,{"$f":"H2957-I2957","v":0},null,null,{"$f":"IF(E2957=\"SI\",IF(J2957>0%,IF(K2957=\"SI\",IF(L2957=\"NO\",IF(N2957=\"SI\",IF(O2957=\"NO\",\"SI\",\"NO\"),\"NO\"),\"NO\"),\"NO\"),\"NO\"),\"NO\")","v":"NO"}]
[{"$f":"'REPORTE PMI'!B2949","v":0},{"$f":"'REPORTE PMI'!E2949","v":0},{"$f":"'REPORTE PMI'!J2949","v":0},{"$f":"'REPORTE PMI'!G2949","v":0},null,null,null,{"$f":"'REPORTE PMI'!L2949","v":0},{"$f":"'REPORTE PMI'!M2949","v":0},0,null,null,0,null,null,"NO"]
[{"$f":"'REPORTE PMI'!B2950","v":0},{"$f":"'REPORTE PMI'!E2950","v":0},{"$f":"'REPORTE PMI'!J2950","v":0},{"$f":"'REPORTE PMI'!G2950","v":0},null,null,null,{"$f":"'REPORTE PMI'!L2950","v":0},{"$f":"'REPORTE PMI'!M2950","v":0},0,null,null,0,null,null,"NO"]
[{"$f":"'REPORTE PMI'!B2951","v":0},{"$f":"'REPORTE PMI'!E2951","v":0},{"$f":"'REPORTE PMI'!J2951","v":0},{"$f":"'REPORTE PMI'!G2951","v":0},null,null,null,{"$f":"'REPORTE PMI'!L2951","v":0},{"$f":"'REPORTE PMI'!M2951","v":0},0,null,null,0,null,null,"NO"]
[{"$f":"'REPORTE PMI'!B2952","v":0},{"$f":"'REPORTE PMI'!E2952","v":0},{"$f":"'REPORTE PMI'!J2952","v":0},{"$f":"'REPORTE PMI'!G2952","v":0},null,null,null,{"$f":"'REPORTE PMI'!L2952","v":0},{"$f":"'REPORTE PMI'!M2952","v":0},0,null,null,0,null,null,"NO"]
[{"$f":"'REPORTE PMI'!B2953","v":0},{"$f":"'REPORTE PMI'!E2953","v":0},{"$f":"'REPORTE PMI'!J2953","v":0},{"$f":"'REPORTE PMI'!G2953","v":0},null,null,null,{"$f":"'REPORTE PMI'!L2953","v":0},{"$f":"'REPORTE PMI'!M2953","v":0},0,null,null,0,null,null,"NO"]
[{"$f":"'REPORTE PMI'!B2954","v":0},{"$f":"'REPORTE PMI'!E2954","v":0},{"$f":"'REPORTE PMI'!J2954","v":0},{"$f":"'REPORTE PMI'!G2954","v":0},null,null,null,{"$f":"'REPORTE PMI'!L2954","v":0},{"$f":"'REPORTE PMI'!M2954","v":0},0,null,null,0,null,null,"NO"]
[{"$f":"'REPORTE PMI'!B2955","v":0},{"$f":"'REPORTE PMI'!E2955","v":0},{"$f":"'REPORTE PMI'!J2955","v":0},{"$f":"'REPORTE PMI'!G2955","v":0},null,null,null,{"$f":"'REPORTE PMI'!L2955","v":0},{"$f":"'REPORTE PMI'!M2955","v":0},0,null,null,0,null,null,"NO"]
[{"$f":"'REPORTE PMI'!B2956","v":0},{"$f":"'REPORTE PMI'!E2956","v":0},{"$f":"'REPORTE PMI'!J2956","v":0},{"$f":"'REPORTE PMI'!G2956","v":0},null,null,null,{"$f":"'REPORTE PMI'!L2956","v":0},{"$f":"'REPORTE PMI'!M2956","v":0},0,null,null,0,null,null,"NO"]
[{"$f":"'REPORTE PMI'!B2957","v":0},{"$f":"'REPORTE PMI'!E2957","v":0},{"$f":"'REPORTE PMI'!J2957","v":0},{"$f":"'REPORTE PMI'!G2957","v":0},null,null,null,{"$f":"'REPORTE PMI'!L2957","v":0},{"$f":"'REPORTE PMI'!M2957","v":0},0,null,null,0,null,null,"NO"]
[{"$f":"'REPORTE PMI'!B2958","v":0},{"$f":"'REPORTE PMI'!E2958","v":0},{"$f":"'REPORTE PMI'!J2958","v":0},{"$f":"'REPORTE PMI'!G2958","v":0},null,null,null,{"$f":"'REPORTE PMI'!L2958","v":0},{"$f":"'REPORTE PMI'!M2958","v":0},0,null,null,0,null,null,"NO"]
[{"$f":"'REPORTE PMI'!B2959","v":0},{"$f":"'REPORTE PMI'!E2959","v":0},{"$f":"'REPORTE PMI'!J2959","v":0},{"$f":"'REPORTE PMI'!G2959","v":0},null,null,null,{"$f":"'REPORTE PMI'!L2959","v":0},{"$f":"'REPORTE PMI'!M2959","v":0},0,null,null,0,null,null,"NO"]
[{"$f":"'REPORTE PMI'!B2960","v":0},{"$f":"'REPORTE PMI'!E2960","v":0},{"$f":"'REPORTE PMI'!J2960","v":0},{"$f":"'REPORTE PMI'!G2960","v":0},null,null,null,{"$f":"'REPORTE PMI'!L2960","v":0},{"$f":"'REPORTE PMI'!M2960","v":0},0,null,null,0,null,null,"NO"]
[{"$f":"'REPORTE PMI'!B2961","v":0},{"$f":"'REPORTE PMI'!E2961","v":0},{"$f":"'REPORTE PMI'!J2961","v":0},{"$f":"'REPORTE PMI'!G2961","v":0},null,null,null,{"$f":"'REPORTE PMI'!L2961","v":0},{"$f":"'REPORTE PMI'!M2961","v":0},0,null,null,0,null,null,"NO"]
[{"$f":"'REPORTE PMI'!B2962","v":0},{"$f":"'REPORTE PMI'!E2962","v":0},{"$f":"'REPORTE PMI'!J2962","v":0},{"$f":"'REPORTE PMI'!G2962","v":0},null,null,null,{"$f":"'REPORTE PMI'!L2962","v":0},{"$f":"'REPORTE PMI'!M2962","v":0},0,null,null,0,null,null,"NO"]
[{"$f":"'REPORTE PMI'!B2963","v":0},{"$f":"'REPORTE PMI'!E2963","v":0},{"$f":"'REPORTE PMI'!J2963","v":0},{"$f":"'REPORTE PMI'!G2963","v":0},null,null,null,{"$f":"'REPORTE PMI'!L2963","v":0},{"$f":"'REPORTE PMI'!M2963","v":0},0,null,null,0,null,null,"NO"]
[{"$f":"'REPORTE PMI'!B2964","v":0},{"$f":"'REPORTE PMI'!E2964","v":0},{"$f":"'REPORTE PMI'!J2964","v":0},{"$f":"'REPORTE PMI'!G2964","v":0},null,null,null,{"$f":"'REPORTE PMI'!L2964","v":0},{"$f":"'REPORTE PMI'!M2964","v":0},0,null,null,0,null,null,"NO"]
[{"$f":"'REPORTE PMI'!B2965","v":0},{"$f":"'REPORTE PMI'!E2965","v":0},{"$f":"'REPORTE PMI'!J2965","v":0},{"$f":"'REPORTE PMI'!G2965","v":0},null,null,null,{"$f":"'REPORTE PMI'!L2965","v":0},{"$f":"'REPORTE PMI'!M2965","v":0},0,null,null,0,null,null,"NO"]
[{"$f":"'REPORTE PMI'!B2966","v":0},{"$f":"'REPORTE PMI'!E2966","v":0},{"$f":"'REPORTE PMI'!J2966","v":0},{"$f":"'REPORTE PMI'!G2966","v":0},null,null,null,{"$f":"'REPORTE PMI'!L2966","v":0},{"$f":"'REPORTE PMI'!M2966","v":0},0,null,null,0,null,null,"NO"]
[{"$f":"'REPORTE PMI'!B2967","v":0},{"$f":"'REPORTE PMI'!E2967","v":0},{"$f":"'REPORTE PMI'!J2967","v":0},{"$f":"'REPORTE PMI'!G2967","v":0},null,null,null,{"$f":"'REPORTE PMI'!L2967","v":0},{"$f":"'REPORTE PMI'!M2967","v":0},0,null,null,0,null,null,"NO"]
[{"$f":"'REPORTE PMI'!B2968","v":0},{"$f":"'REPORTE PMI'!E2968","v":0},{"$f":"'REPORTE PMI'!J2968","v":0},{"$f":"'REPORTE PMI'!G2968","v":0},null,null,null,{"$f":"'REPORTE PMI'!L2968","v":0},{"$f":"'REPORTE PMI'!M2968","v":0},0,null,null,0,null,null,"NO"]
[{"$f":"'REPORTE PMI'!B2969","v":0},{"$f":"'REPORTE PMI'!E2969","v":0},{"$f":"'REPORTE PMI'!J2969","v":0},{"$f":"'REPORTE PMI'!G2969","v":0},null,null,null,{"$f":"'REPORTE PMI'!L2969","v":0},{"$f":"'REPORTE PMI'!M2969","v":0},0,null,null,0,null,null,"NO"]
[{"$f":"'REPORTE PMI'!B2970","v":0},{"$f":"'REPORTE PMI'!E2970","v":0},{"$f":"'REPORTE PMI'!J2970","v":0},{"$f":"'REPORTE PMI'!G2970","v":0},null,null,null,{"$f":"'REPORTE PMI'!L2970","v":0},{"$f":"'REPORTE PMI'!M2970","v":0},0,null,null,0,null,null,"NO"]
[{"$f":"'REPORTE PMI'!B2971","v":0},{"$f":"'REPORTE PMI'!E2971","v":0},{"$f":"'REPORTE PMI'!J2971","v":0},{"$f":"'REPORTE PMI'!G2971","v":0},null,null,null,{"$f":"'REPORTE PMI'!L2971","v":0},{"$f":"'REPORTE PMI'!M2971","v":0},0,null,null,0,null,null,"NO"]
[{"$f":"'REPORTE PMI'!B2972","v":0},{"$f":"'REPORTE PMI'!E2972","v":0},{"$f":"'REPORTE PMI'!J2972","v":0},{"$f":"'REPORTE PMI'!G2972","v":0},null,null,null,{"$f":"'REPORTE PMI'!L2972","v":0},{"$f":"'REPORTE PMI'!M2972","v":0},0,null,null,0,null,null,"NO"]
[{"$f":"'REPORTE PMI'!B2973","v":0},{"$f":"'REPORTE PMI'!E2973","v":0},{"$f":"'REPORTE PMI'!J2973","v":0},{"$f":"'REPORTE PMI'!G2973","v":0},null,null,null,{"$f":"'REPORTE PMI'!L2973","v":0},{"$f":"'REPORTE PMI'!M2973","v":0},0,null,null,0,null,null,"NO"]
[{"$f":"'REPORTE PMI'!B2974","v":0},{"$f":"'REPORTE PMI'!E2974","v":0},{"$f":"'REPORTE PMI'!J2974","v":0},{"$f":"'REPORTE PMI'!G2974","v":0},null,null,null,{"$f":"'REPORTE PMI'!L2974","v":0},{"$f":"'REPORTE PMI'!M2974","v":0},0,null,null,0,null,null,"NO"]
[{"$f":"'REPORTE PMI'!B2975","v":0},{"$f":"'REPORTE PMI'!E2975","v":0},{"$f":"'REPORTE PMI'!J2975","v":0},{"$f":"'REPORTE PMI'!G2975","v":0},null,null,null,{"$f":"'REPORTE PMI'!L2975","v":0},{"$f":"'REPORTE PMI'!M2975","v":0},0,null,null,0,null,null,"NO"]
[{"$f":"'REPORTE PMI'!B2976","v":0},{"$f":"'REPORTE PMI'!E2976","v":0},{"$f":"'REPORTE PMI'!J2976","v":0},{"$f":"'REPORTE PMI'!G2976","v":0},null,null,null,{"$f":"'REPORTE PMI'!L2976","v":0},{"$f":"'REPORTE PMI'!M2976","v":0},0,null,null,0,null,null,"NO"]
[{"$f":"'REPORTE PMI'!B2977","v":0},{"$f":"'REPORTE PMI'!E2977","v":0},{"$f":"'REPORTE PMI'!J2977","v":0},{"$f":"'REPORTE PMI'!G2977","v":0},null,null,null,{"$f":"'REPORTE PMI'!L2977","v":0},{"$f":"'REPORTE PMI'!M2977","v":0},0,null,null,0,null,null,"NO"]
[{"$f":"'REPORTE PMI'!B2978","v":0},{"$f":"'REPORTE PMI'!E2978","v":0},{"$f":"'REPORTE PMI'!J2978","v":0},{"$f":"'REPORTE PMI'!G2978","v":0},null,null,null,{"$f":"'REPORTE PMI'!L2978","v":0},{"$f":"'REPORTE PMI'!M2978","v":0},0,null,null,0,null,null,"NO"]
[{"$f":"'REPORTE PMI'!B2979","v":0},{"$f":"'REPORTE PMI'!E2979","v":0},{"$f":"'REPORTE PMI'!J2979","v":0},{"$f":"'REPORTE PMI'!G2979","v":0},null,null,null,{"$f":"'REPORTE PMI'!L2979","v":0},{"$f":"'REPORTE PMI'!M2979","v":0},0,null,null,0,null,null,"NO"]
[{"$f":"'REPORTE PMI'!B2980","v":0},{"$f":"'REPORTE PMI'!E2980","v":0},{"$f":"'REPORTE PMI'!J2980","v":0},{"$f":"'REPORTE PMI'!G2980","v":0},null,null,null,{"$f":"'REPORTE PMI'!L2980","v":0},{"$f":"'REPORTE PMI'!M2980","v":0},0,null,null,0,null,null,"NO"]
[{"$f":"'REPORTE PMI'!B2981","v":0},{"$f":"'REPORTE PMI'!E2981","v":0},{"$f":"'REPORTE PMI'!J2981","v":0},{"$f":"'REPORTE PMI'!G2981","v":0},null,null,null,{"$f":"'REPORTE PMI'!L2981","v":0},{"$f":"'REPORTE PMI'!M2981","v":0},0,null,null,0,null,null,"NO"]
[{"$f":"'REPORTE PMI'!B2982","v":0},{"$f":"'REPORTE PMI'!E2982","v":0},{"$f":"'REPORTE PMI'!J2982","v":0},{"$f":"'REPORTE PMI'!G2982","v":0},null,null,null,{"$f":"'REPORTE PMI'!L2982","v":0},{"$f":"'REPORTE PMI'!M2982","v":0},0,null,null,0,null,null,"NO"]
[{"$f":"'REPORTE PMI'!B2983","v":0},{"$f":"'REPORTE PMI'!E2983","v":0},{"$f":"'REPORTE PMI'!J2983","v":0},{"$f":"'REPORTE PMI'!G2983","v":0},null,null,null,{"$f":"'REPORTE PMI'!L2983","v":0},{"$f":"'REPORTE PMI'!M2983","v":0},0,null,null,0,null,null,"NO"]
[{"$f":"'REPORTE PMI'!B2984","v":0},{"$f":"'REPORTE PMI'!E2984","v":0},{"$f":"'REPORTE PMI'!J2984","v":0},{"$f":"'REPORTE PMI'!G2984","v":0},null,null,null,{"$f":"'REPORTE PMI'!L2984","v":0},{"$f":"'REPORTE PMI'!M2984","v":0},0,null,null,0,null,null,"NO"]
[{"$f":"'REPORTE PMI'!B2985","v":0},{"$f":"'REPORTE PMI'!E2985","v":0},{"$f":"'REPORTE PMI'!J2985","v":0},{"$f":"'REPORTE PMI'!G2985","v":0},null,null,null,{"$f":"'REPORTE PMI'!L2985","v":0},{"$f":"'REPORTE PMI'!M2985","v":0},0,null,null,0,null,null,"NO"]
[{"$f":"'REPORTE PMI'!B2986","v":0},{"$f":"'REPORTE PMI'!E2986","v":0},{"$f":"'REPORTE PMI'!J2986","v":0},{"$f":"'REPORTE PMI'!G2986","v":0},null,null,null,{"$f":"'REPORTE PMI'!L2986","v":0},{"$f":"'REPORTE PMI'!M2986","v":0},0,null,null,0,null,null,"NO"]
[{"$f":"'REPORTE PMI'!B2987","v":0},{"$f":"'REPORTE PMI'!E2987","v":0},{"$f":"'REPORTE PMI'!J2987","v":0},{"$f":"'REPORTE PMI'!G2987","v":0},null,null,null,{"$f":"'REPORTE PMI'!L2987","v":0},{"$f":"'REPORTE PMI'!M2987","v":0},0,null,null,0,null,null,"NO"]
[{"$f":"'REPORTE PMI'!B2988","v":0},{"$f":"'REPORTE PMI'!E2988","v":0},{"$f":"'REPORTE PMI'!J2988","v":0},{"$f":"'REPORTE PMI'!G2988","v":0},null,null,null,{"$f":"'REPORTE PMI'!L2988","v":0},{"$f":"'REPORTE PMI'!M2988","v":0},0,null,null,0,null,null,"NO"]
[{"$f":"'REPORTE PMI'!B2989","v":0},{"$f":"'REPORTE PMI'!E2989","v":0},{"$f":"'REPORTE PMI'!J2989","v":0},{"$f":"'REPORTE PMI'!G2989","v":0},null,null,null,{"$f":"'REPORTE PMI'!L2989","v":0},{"$f":"'REPORTE PMI'!M2989","v":0},0,null,null,0,null,null,"NO"]
[{"$f":"'REPORTE PMI'!B2990","v":0},{"$f":"'REPORTE PMI'!E2990","v":0},{"$f":"'REPORTE PMI'!J2990","v":0},{"$f":"'REPORTE PMI'!G2990","v":0},null,null,null,{"$f":"'REPORTE PMI'!L2990","v":0},{"$f":"'REPORTE PMI'!M2990","v":0},0,null,null,0,null,null,"NO"]
[{"$f":"'REPORTE PMI'!B2991","v":0},{"$f":"'REPORTE PMI'!E2991","v":0},{"$f":"'REPORTE PMI'!J2991","v":0},{"$f":"'REPORTE PMI'!G2991","v":0},null,null,null,{"$f":"'REPORTE PMI'!L2991","v":0},{"$f":"'REPORTE PMI'!M2991","v":0},0,null,null,0,null,null,"NO"]
[{"$f":"'REPORTE PMI'!B2992","v":0},{"$f":"'REPORTE PMI'!E2992","v":0},{"$f":"'REPORTE PMI'!J2992","v":0},{"$f":"'REPORTE PMI'!G2992","v":0},null,null,null,{"$f":"'REPORTE PMI'!L2992","v":0},{"$f":"'REPORTE PMI'!M2992","v":0},0,null,null,0,null,null,"NO"]
[{"$f":"'REPORTE PMI'!B2993","v":0},{"$f":"'REPORTE PMI'!E2993","v":0},{"$f":"'REPORTE PMI'!J2993","v":0},{"$f":"'REPORTE PMI'!G2993","v":0},null,null,null,{"$f":"'REPORTE PMI'!L2993","v":0},{"$f":"'REPORTE PMI'!M2993","v":0},0,null,null,0,null,null,"NO"]
[{"$f":"'REPORTE PMI'!B2994","v":0},{"$f":"'REPORTE PMI'!E2994","v":0},{"$f":"'REPORTE PMI'!J2994","v":0},{"$f":"'REPORTE PMI'!G2994","v":0},null,null,null,{"$f":"'REPORTE PMI'!L2994","v":0},{"$f":"'REPORTE PMI'!M2994","v":0},0,null,null,0,null,null,"NO"]